Workbook

Sheet 1. mell._ Önkormányzat összesen
D1: …/2018. (II…) önkormányzati rendelet 1. melléklete
A2: Cibakháza Nagyközség Önkormányzatának és intézményeinek bevételei és kiadásai előirányzat-csoportok, kiemelt előirányzatok szerint
A3: Kötelező, önként vállalt és államigazgatási feladat szerint
A5: Rovatrend | B5: Megnevezés | C5: 2018. évi eredeti előirányzat | D5: ebből
D6: Kötelező feladatok | E6: Önként vállalt feladatok | F6: Államigazgatási feladatok
A7: B1 | B7: Működési célú támogatások államháztartáson belülről | C7: ='2. mell._ Önkormányzat'!C7+'3. mell._ Közös Hivatal'!C7+'4. mell._ Nagyk. Könyvtár'!C7+'5. mell._ Műv.Ház.'!C7+'6. mell._Bölcsőde'!C7+'7. mell._Óvoda'!C7+'8. mell_KSZKI'!C7+'9.mell_Gond.Kp.'!C7 -> 437750490 | D7: ='2. mell._ Önkormányzat'!D7+'3. mell._ Közös Hivatal'!D7+'4. mell._ Nagyk. Könyvtár'!D7+'5. mell._ Műv.Ház.'!D7+'6. mell._Bölcsőde'!D7+'7. mell._Óvoda'!D7+'8. mell_KSZKI'!D7+'9.mell_Gond.Kp.'!D7 -> 362889090 | E7: ='2. mell._ Önkormányzat'!E7+'3. mell._ Közös Hivatal'!E7+'4. mell._ Nagyk. Könyvtár'!E7+'5. mell._ Műv.Ház.'!E7+'6. mell._Bölcsőde'!E7+'7. mell._Óvoda'!E7+'8. mell_KSZKI'!E7+'9.mell_Gond.Kp.'!E7 -> 15413000 | F7: ='2. mell._ Önkormányzat'!F7+'3. mell._ Közös Hivatal'!F7+'4. mell._ Nagyk. Könyvtár'!F7+'5. mell._ Műv.Ház.'!F7+'6. mell._Bölcsőde'!F7+'7. mell._Óvoda'!F7+'8. mell_KSZKI'!F7+'9.mell_Gond.Kp.'!F7 -> 59448400
B8: B11 Önkormányzatok működési támogatásai | C8: ='2. mell._ Önkormányzat'!C8+'3. mell._ Közös Hivatal'!C8+'4. mell._ Nagyk. Könyvtár'!C8+'5. mell._ Műv.Ház.'!C8+'6. mell._Bölcsőde'!C8+'7. mell._Óvoda'!C8+'8. mell_KSZKI'!C8+'9.mell_Gond.Kp.'!C8 -> 328338457 | D8: ='2. mell._ Önkormányzat'!D8+'3. mell._ Közös Hivatal'!D8+'4. mell._ Nagyk. Könyvtár'!D8+'5. mell._ Műv.Ház.'!D8+'6. mell._Bölcsőde'!D8+'7. mell._Óvoda'!D8+'8. mell_KSZKI'!D8+'9.mell_Gond.Kp.'!D8 -> 253477057 | E8: ='2. mell._ Önkormányzat'!E8+'3. mell._ Közös Hivatal'!E8+'4. mell._ Nagyk. Könyvtár'!E8+'5. mell._ Műv.Ház.'!E8+'6. mell._Bölcsőde'!E8+'7. mell._Óvoda'!E8+'8. mell_KSZKI'!E8+'9.mell_Gond.Kp.'!E8 -> 15413000 | F8: ='2. mell._ Önkormányzat'!F8+'3. mell._ Közös Hivatal'!F8+'4. mell._ Nagyk. Könyvtár'!F8+'5. mell._ Műv.Ház.'!F8+'6. mell._Bölcsőde'!F8+'7. mell._Óvoda'!F8+'8. mell_KSZKI'!F8+'9.mell_Gond.Kp.'!F8 -> 59448400
B9: B111 Helyi önkormányzatok működésének általános támogatása | C9: ='2. mell._ Önkormányzat'!C9+'3. mell._ Közös Hivatal'!C9+'4. mell._ Nagyk. Könyvtár'!C9+'5. mell._ Műv.Ház.'!C9+'6. mell._Bölcsőde'!C9+'7. mell._Óvoda'!C9+'8. mell_KSZKI'!C9+'9.mell_Gond.Kp.'!C9 -> 107231759 | D9: ='2. mell._ Önkormányzat'!D9+'3. mell._ Közös Hivatal'!D9+'4. mell._ Nagyk. Könyvtár'!D9+'5. mell._ Műv.Ház.'!D9+'6. mell._Bölcsőde'!D9+'7. mell._Óvoda'!D9+'8. mell_KSZKI'!D9+'9.mell_Gond.Kp.'!D9 -> 47783359 | E9: ='2. mell._ Önkormányzat'!E9+'3. mell._ Közös Hivatal'!E9+'4. mell._ Nagyk. Könyvtár'!E9+'5. mell._ Műv.Ház.'!E9+'6. mell._Bölcsőde'!E9+'7. mell._Óvoda'!E9+'8. mell_KSZKI'!E9+'9.mell_Gond.Kp.'!E9 -> 0 | F9: ='2. mell._ Önkormányzat'!F9+'3. mell._ Közös Hivatal'!F9+'4. mell._ Nagyk. Könyvtár'!F9+'5. mell._ Műv.Ház.'!F9+'6. mell._Bölcsőde'!F9+'7. mell._Óvoda'!F9+'8. mell_KSZKI'!F9+'9.mell_Gond.Kp.'!F9 -> 59448400
B10: Települési önkormányzatok működési támogatásai | C10: ='2. mell._ Önkormányzat'!C10+'3. mell._ Közös Hivatal'!C10+'4. mell._ Nagyk. Könyvtár'!C10+'5. mell._ Műv.Ház.'!C10+'6. mell._Bölcsőde'!C10+'7. mell._Óvoda'!C10+'8. mell_KSZKI'!C10+'9.mell_Gond.Kp.'!C10 -> 0 | D10: ='2. mell._ Önkormányzat'!D10+'3. mell._ Közös Hivatal'!D10+'4. mell._ Nagyk. Könyvtár'!D10+'5. mell._ Műv.Ház.'!D10+'6. mell._Bölcsőde'!D10+'7. mell._Óvoda'!D10+'8. mell_KSZKI'!D10+'9.mell_Gond.Kp.'!D10 -> 0 | E10: ='2. mell._ Önkormányzat'!E10+'3. mell._ Közös Hivatal'!E10+'4. mell._ Nagyk. Könyvtár'!E10+'5. mell._ Műv.Ház.'!E10+'6. mell._Bölcsőde'!E10+'7. mell._Óvoda'!E10+'8. mell_KSZKI'!E10+'9.mell_Gond.Kp.'!E10 -> 0 | F10: ='2. mell._ Önkormányzat'!F10+'3. mell._ Közös Hivatal'!F10+'4. mell._ Nagyk. Könyvtár'!F10+'5. mell._ Műv.Ház.'!F10+'6. mell._Bölcsőde'!F10+'7. mell._Óvoda'!F10+'8. mell_KSZKI'!F10+'9.mell_Gond.Kp.'!F10 -> 0
B11: Önkormányzati Hivatal működésének támogatása | C11: ='2. mell._ Önkormányzat'!C11+'3. mell._ Közös Hivatal'!C11+'4. mell._ Nagyk. Könyvtár'!C11+'5. mell._ Műv.Ház.'!C11+'6. mell._Bölcsőde'!C11+'7. mell._Óvoda'!C11+'8. mell_KSZKI'!C11+'9.mell_Gond.Kp.'!C11 -> 59448400 | D11: ='2. mell._ Önkormányzat'!D11+'3. mell._ Közös Hivatal'!D11+'4. mell._ Nagyk. Könyvtár'!D11+'5. mell._ Műv.Ház.'!D11+'6. mell._Bölcsőde'!D11+'7. mell._Óvoda'!D11+'8. mell_KSZKI'!D11+'9.mell_Gond.Kp.'!D11 -> 0 | E11: ='2. mell._ Önkormányzat'!E11+'3. mell._ Közös Hivatal'!E11+'4. mell._ Nagyk. Könyvtár'!E11+'5. mell._ Műv.Ház.'!E11+'6. mell._Bölcsőde'!E11+'7. mell._Óvoda'!E11+'8. mell_KSZKI'!E11+'9.mell_Gond.Kp.'!E11 -> 0 | F11: ='2. mell._ Önkormányzat'!F11+'3. mell._ Közös Hivatal'!F11+'4. mell._ Nagyk. Könyvtár'!F11+'5. mell._ Műv.Ház.'!F11+'6. mell._Bölcsőde'!F11+'7. mell._Óvoda'!F11+'8. mell_KSZKI'!F11+'9.mell_Gond.Kp.'!F11 -> 59448400
B12: Település-üzemeltetéshez kapcs. feladatellátás támogatása | C12: ='2. mell._ Önkormányzat'!C12+'3. mell._ Közös Hivatal'!C12+'4. mell._ Nagyk. Könyvtár'!C12+'5. mell._ Műv.Ház.'!C12+'6. mell._Bölcsőde'!C12+'7. mell._Óvoda'!C12+'8. mell_KSZKI'!C12+'9.mell_Gond.Kp.'!C12 -> 46492359 | D12: ='2. mell._ Önkormányzat'!D12+'3. mell._ Közös Hivatal'!D12+'4. mell._ Nagyk. Könyvtár'!D12+'5. mell._ Műv.Ház.'!D12+'6. mell._Bölcsőde'!D12+'7. mell._Óvoda'!D12+'8. mell_KSZKI'!D12+'9.mell_Gond.Kp.'!D12 -> 46492359 | E12: ='2. mell._ Önkormányzat'!E12+'3. mell._ Közös Hivatal'!E12+'4. mell._ Nagyk. Könyvtár'!E12+'5. mell._ Műv.Ház.'!E12+'6. mell._Bölcsőde'!E12+'7. mell._Óvoda'!E12+'8. mell_KSZKI'!E12+'9.mell_Gond.Kp.'!E12 -> 0 | F12: ='2. mell._ Önkormányzat'!F12+'3. mell._ Közös Hivatal'!F12+'4. mell._ Nagyk. Könyvtár'!F12+'5. mell._ Műv.Ház.'!F12+'6. mell._Bölcsőde'!F12+'7. mell._Óvoda'!F12+'8. mell_KSZKI'!F12+'9.mell_Gond.Kp.'!F12 -> 0
B13: Polgármesteri illetmény támogatása | C13: ='2. mell._ Önkormányzat'!C13+'3. mell._ Közös Hivatal'!C13+'4. mell._ Nagyk. Könyvtár'!C13+'5. mell._ Műv.Ház.'!C13+'6. mell._Bölcsőde'!C13+'7. mell._Óvoda'!C13+'8. mell_KSZKI'!C13+'9.mell_Gond.Kp.'!C13 -> 1041000 | D13: ='2. mell._ Önkormányzat'!D13+'3. mell._ Közös Hivatal'!D13+'4. mell._ Nagyk. Könyvtár'!D13+'5. mell._ Műv.Ház.'!D13+'6. mell._Bölcsőde'!D13+'7. mell._Óvoda'!D13+'8. mell_KSZKI'!D13+'9.mell_Gond.Kp.'!D13 -> 1041000 | E13: ='2. mell._ Önkormányzat'!E13+'3. mell._ Közös Hivatal'!E13+'4. mell._ Nagyk. Könyvtár'!E13+'5. mell._ Műv.Ház.'!E13+'6. mell._Bölcsőde'!E13+'7. mell._Óvoda'!E13+'8. mell_KSZKI'!E13+'9.mell_Gond.Kp.'!E13 -> 0 | F13: ='2. mell._ Önkormányzat'!F13+'3. mell._ Közös Hivatal'!F13+'4. mell._ Nagyk. Könyvtár'!F13+'5. mell._ Műv.Ház.'!F13+'6. mell._Bölcsőde'!F13+'7. mell._Óvoda'!F13+'8. mell_KSZKI'!F13+'9.mell_Gond.Kp.'!F13 -> 0
B14: Nem közművel összegyűjtött szennyvíz ártalmatlanítása | C14: ='2. mell._ Önkormányzat'!C14+'3. mell._ Közös Hivatal'!C14+'4. mell._ Nagyk. Könyvtár'!C14+'5. mell._ Műv.Ház.'!C14+'6. mell._Bölcsőde'!C14+'7. mell._Óvoda'!C14+'8. mell_KSZKI'!C14+'9.mell_Gond.Kp.'!C14 -> 250000 | D14: ='2. mell._ Önkormányzat'!D14+'3. mell._ Közös Hivatal'!D14+'4. mell._ Nagyk. Könyvtár'!D14+'5. mell._ Műv.Ház.'!D14+'6. mell._Bölcsőde'!D14+'7. mell._Óvoda'!D14+'8. mell_KSZKI'!D14+'9.mell_Gond.Kp.'!D14 -> 250000 | E14: ='2. mell._ Önkormányzat'!E14+'3. mell._ Közös Hivatal'!E14+'4. mell._ Nagyk. Könyvtár'!E14+'5. mell._ Műv.Ház.'!E14+'6. mell._Bölcsőde'!E14+'7. mell._Óvoda'!E14+'8. mell_KSZKI'!E14+'9.mell_Gond.Kp.'!E14 -> 0 | F14: ='2. mell._ Önkormányzat'!F14+'3. mell._ Közös Hivatal'!F14+'4. mell._ Nagyk. Könyvtár'!F14+'5. mell._ Műv.Ház.'!F14+'6. mell._Bölcsőde'!F14+'7. mell._Óvoda'!F14+'8. mell_KSZKI'!F14+'9.mell_Gond.Kp.'!F14 -> 0
B15: B112 Települési önkormányzatok egyes köznevelési fel. Támogatása | C15: ='2. mell._ Önkormányzat'!C15+'3. mell._ Közös Hivatal'!C15+'4. mell._ Nagyk. Könyvtár'!C15+'5. mell._ Műv.Ház.'!C15+'6. mell._Bölcsőde'!C15+'7. mell._Óvoda'!C15+'8. mell_KSZKI'!C15+'9.mell_Gond.Kp.'!C15 -> 65552000 | D15: ='2. mell._ Önkormányzat'!D15+'3. mell._ Közös Hivatal'!D15+'4. mell._ Nagyk. Könyvtár'!D15+'5. mell._ Műv.Ház.'!D15+'6. mell._Bölcsőde'!D15+'7. mell._Óvoda'!D15+'8. mell_KSZKI'!D15+'9.mell_Gond.Kp.'!D15 -> 65552000 | E15: ='2. mell._ Önkormányzat'!E15+'3. mell._ Közös Hivatal'!E15+'4. mell._ Nagyk. Könyvtár'!E15+'5. mell._ Műv.Ház.'!E15+'6. mell._Bölcsőde'!E15+'7. mell._Óvoda'!E15+'8. mell_KSZKI'!E15+'9.mell_Gond.Kp.'!E15 -> 0 | F15: ='2. mell._ Önkormányzat'!F15+'3. mell._ Közös Hivatal'!F15+'4. mell._ Nagyk. Könyvtár'!F15+'5. mell._ Műv.Ház.'!F15+'6. mell._Bölcsőde'!F15+'7. mell._Óvoda'!F15+'8. mell_KSZKI'!F15+'9.mell_Gond.Kp.'!F15 -> 0
B16: Óvodaped. És óvodaped. Munk. Közv. Segítők bértámogatása | C16: ='2. mell._ Önkormányzat'!C16+'3. mell._ Közös Hivatal'!C16+'4. mell._ Nagyk. Könyvtár'!C16+'5. mell._ Műv.Ház.'!C16+'6. mell._Bölcsőde'!C16+'7. mell._Óvoda'!C16+'8. mell_KSZKI'!C16+'9.mell_Gond.Kp.'!C16 -> 56089800 | D16: ='2. mell._ Önkormányzat'!D16+'3. mell._ Közös Hivatal'!D16+'4. mell._ Nagyk. Könyvtár'!D16+'5. mell._ Műv.Ház.'!D16+'6. mell._Bölcsőde'!D16+'7. mell._Óvoda'!D16+'8. mell_KSZKI'!D16+'9.mell_Gond.Kp.'!D16 -> 56089800 | E16: ='2. mell._ Önkormányzat'!E16+'3. mell._ Közös Hivatal'!E16+'4. mell._ Nagyk. Könyvtár'!E16+'5. mell._ Műv.Ház.'!E16+'6. mell._Bölcsőde'!E16+'7. mell._Óvoda'!E16+'8. mell_KSZKI'!E16+'9.mell_Gond.Kp.'!E16 -> 0 | F16: ='2. mell._ Önkormányzat'!F16+'3. mell._ Közös Hivatal'!F16+'4. mell._ Nagyk. Könyvtár'!F16+'5. mell._ Műv.Ház.'!F16+'6. mell._Bölcsőde'!F16+'7. mell._Óvoda'!F16+'8. mell_KSZKI'!F16+'9.mell_Gond.Kp.'!F16 -> 0
B17: Óvodaműködtetés támogatása | C17: ='2. mell._ Önkormányzat'!C17+'3. mell._ Közös Hivatal'!C17+'4. mell._ Nagyk. Könyvtár'!C17+'5. mell._ Műv.Ház.'!C17+'6. mell._Bölcsőde'!C17+'7. mell._Óvoda'!C17+'8. mell_KSZKI'!C17+'9.mell_Gond.Kp.'!C17 -> 8660200 | D17: ='2. mell._ Önkormányzat'!D17+'3. mell._ Közös Hivatal'!D17+'4. mell._ Nagyk. Könyvtár'!D17+'5. mell._ Műv.Ház.'!D17+'6. mell._Bölcsőde'!D17+'7. mell._Óvoda'!D17+'8. mell_KSZKI'!D17+'9.mell_Gond.Kp.'!D17 -> 8660200 | E17: ='2. mell._ Önkormányzat'!E17+'3. mell._ Közös Hivatal'!E17+'4. mell._ Nagyk. Könyvtár'!E17+'5. mell._ Műv.Ház.'!E17+'6. mell._Bölcsőde'!E17+'7. mell._Óvoda'!E17+'8. mell_KSZKI'!E17+'9.mell_Gond.Kp.'!E17 -> 0 | F17: ='2. mell._ Önkormányzat'!F17+'3. mell._ Közös Hivatal'!F17+'4. mell._ Nagyk. Könyvtár'!F17+'5. mell._ Műv.Ház.'!F17+'6. mell._Bölcsőde'!F17+'7. mell._Óvoda'!F17+'8. mell_KSZKI'!F17+'9.mell_Gond.Kp.'!F17 -> 0
B18: Kiegészítő támogatás az óvodapedagógusok min-ből adódó többletkiad.hoz | C18: ='2. mell._ Önkormányzat'!C18+'3. mell._ Közös Hivatal'!C18+'4. mell._ Nagyk. Könyvtár'!C18+'5. mell._ Műv.Ház.'!C18+'6. mell._Bölcsőde'!C18+'7. mell._Óvoda'!C18+'8. mell_KSZKI'!C18+'9.mell_Gond.Kp.'!C18 -> 802000 | D18: ='2. mell._ Önkormányzat'!D18+'3. mell._ Közös Hivatal'!D18+'4. mell._ Nagyk. Könyvtár'!D18+'5. mell._ Műv.Ház.'!D18+'6. mell._Bölcsőde'!D18+'7. mell._Óvoda'!D18+'8. mell_KSZKI'!D18+'9.mell_Gond.Kp.'!D18 -> 802000 | E18: ='2. mell._ Önkormányzat'!E18+'3. mell._ Közös Hivatal'!E18+'4. mell._ Nagyk. Könyvtár'!E18+'5. mell._ Műv.Ház.'!E18+'6. mell._Bölcsőde'!E18+'7. mell._Óvoda'!E18+'8. mell_KSZKI'!E18+'9.mell_Gond.Kp.'!E18 -> 0 | F18: ='2. mell._ Önkormányzat'!F18+'3. mell._ Közös Hivatal'!F18+'4. mell._ Nagyk. Könyvtár'!F18+'5. mell._ Műv.Ház.'!F18+'6. mell._Bölcsőde'!F18+'7. mell._Óvoda'!F18+'8. mell_KSZKI'!F18+'9.mell_Gond.Kp.'!F18 -> 0
B19: B113. Telep. önkorm.szociális, gyermekjóléti és gyermekétkeztetési feldatainak támogatása | C19: ='2. mell._ Önkormányzat'!C19+'3. mell._ Közös Hivatal'!C19+'4. mell._ Nagyk. Könyvtár'!C19+'5. mell._ Műv.Ház.'!C19+'6. mell._Bölcsőde'!C19+'7. mell._Óvoda'!C19+'8. mell_KSZKI'!C19+'9.mell_Gond.Kp.'!C19 -> 150613058 | D19: ='2. mell._ Önkormányzat'!D19+'3. mell._ Közös Hivatal'!D19+'4. mell._ Nagyk. Könyvtár'!D19+'5. mell._ Műv.Ház.'!D19+'6. mell._Bölcsőde'!D19+'7. mell._Óvoda'!D19+'8. mell_KSZKI'!D19+'9.mell_Gond.Kp.'!D19 -> 135200058 | E19: ='2. mell._ Önkormányzat'!E19+'3. mell._ Közös Hivatal'!E19+'4. mell._ Nagyk. Könyvtár'!E19+'5. mell._ Műv.Ház.'!E19+'6. mell._Bölcsőde'!E19+'7. mell._Óvoda'!E19+'8. mell_KSZKI'!E19+'9.mell_Gond.Kp.'!E19 -> 15413000 | F19: ='2. mell._ Önkormányzat'!F19+'3. mell._ Közös Hivatal'!F19+'4. mell._ Nagyk. Könyvtár'!F19+'5. mell._ Műv.Ház.'!F19+'6. mell._Bölcsőde'!F19+'7. mell._Óvoda'!F19+'8. mell_KSZKI'!F19+'9.mell_Gond.Kp.'!F19 -> 0
... B32: Közfoglalkoztatás támogatása | C32: ='2. mell._ Önkormányzat'!C32+'3. mell._ Közös Hivatal'!C32+'4. mell._ Nagyk. Könyvtár'!C32+'5. mell._ Műv.Ház.'!C32+'6. mell._Bölcsőde'!C32+'7. mell._Óvoda'!C32+'8. mell_KSZKI'!C32+'9.mell_Gond.Kp.'!C32 -> 93893633 | D32: ='2. mell._ Önkormányzat'!D32+'3. mell._ Közös Hivatal'!D32+'4. mell._ Nagyk. Könyvtár'!D32+'5. mell._ Műv.Ház.'!D32+'6. mell._Bölcsőde'!D32+'7. mell._Óvoda'!D32+'8. mell_KSZKI'!D32+'9.mell_Gond.Kp.'!D32 -> 93893633 | E32: ='2. mell._ Önkormányzat'!E32+'3. mell._ Közös Hivatal'!E32+'4. mell._ Nagyk. Könyvtár'!E32+'5. mell._ Műv.Ház.'!E32+'6. mell._Bölcsőde'!E32+'7. mell._Óvoda'!E32+'8. mell_KSZKI'!E32+'9.mell_Gond.Kp.'!E32 -> 0 | F32: ='2. mell._ Önkormányzat'!F32+'3. mell._ Közös Hivatal'!F32+'4. mell._ Nagyk. Könyvtár'!F32+'5. mell._ Műv.Ház.'!F32+'6. mell._Bölcsőde'!F32+'7. mell._Óvoda'!F32+'8. mell_KSZKI'!F32+'9.mell_Gond.Kp.'!F32 -> 0
A33: B2 | B33: Felhalmozási célú támogatások áht. belülről | C33: ='2. mell._ Önkormányzat'!C33+'3. mell._ Közös Hivatal'!C33+'4. mell._ Nagyk. Könyvtár'!C33+'5. mell._ Műv.Ház.'!C33+'6. mell._Bölcsőde'!C33+'7. mell._Óvoda'!C33+'8. mell_KSZKI'!C33+'9.mell_Gond.Kp.'!C33 -> 0 | D33: ='2. mell._ Önkormányzat'!D33+'3. mell._ Közös Hivatal'!D33+'4. mell._ Nagyk. Könyvtár'!D33+'5. mell._ Műv.Ház.'!D33+'6. mell._Bölcsőde'!D33+'7. mell._Óvoda'!D33+'8. mell_KSZKI'!D33+'9.mell_Gond.Kp.'!D33 -> 0 | E33: ='2. mell._ Önkormányzat'!E33+'3. mell._ Közös Hivatal'!E33+'4. mell._ Nagyk. Könyvtár'!E33+'5. mell._ Műv.Ház.'!E33+'6. mell._Bölcsőde'!E33+'7. mell._Óvoda'!E33+'8. mell_KSZKI'!E33+'9.mell_Gond.Kp.'!E33 -> 0 | F33: ='2. mell._ Önkormányzat'!F33+'3. mell._ Közös Hivatal'!F33+'4. mell._ Nagyk. Könyvtár'!F33+'5. mell._ Műv.Ház.'!F33+'6. mell._Bölcsőde'!F33+'7. mell._Óvoda'!F33+'8. mell_KSZKI'!F33+'9.mell_Gond.Kp.'!F33 -> 0
A34: B3 | B34: Közhatalmi bevételek | C34: ='2. mell._ Önkormányzat'!C34+'3. mell._ Közös Hivatal'!C34+'4. mell._ Nagyk. Könyvtár'!C34+'5. mell._ Műv.Ház.'!C34+'6. mell._Bölcsőde'!C34+'7. mell._Óvoda'!C34+'8. mell_KSZKI'!C34+'9.mell_Gond.Kp.'!C34 -> 103000000 | D34: ='2. mell._ Önkormányzat'!D34+'3. mell._ Közös Hivatal'!D34+'4. mell._ Nagyk. Könyvtár'!D34+'5. mell._ Műv.Ház.'!D34+'6. mell._Bölcsőde'!D34+'7. mell._Óvoda'!D34+'8. mell_KSZKI'!D34+'9.mell_Gond.Kp.'!D34 -> 103000000 | E34: ='2. mell._ Önkormányzat'!E34+'3. mell._ Közös Hivatal'!E34+'4. mell._ Nagyk. Könyvtár'!E34+'5. mell._ Műv.Ház.'!E34+'6. mell._Bölcsőde'!E34+'7. mell._Óvoda'!E34+'8. mell_KSZKI'!E34+'9.mell_Gond.Kp.'!E34 -> 0 | F34: ='2. mell._ Önkormányzat'!F34+'3. mell._ Közös Hivatal'!F34+'4. mell._ Nagyk. Könyvtár'!F34+'5. mell._ Műv.Ház.'!F34+'6. mell._Bölcsőde'!F34+'7. mell._Óvoda'!F34+'8. mell_KSZKI'!F34+'9.mell_Gond.Kp.'!F34 -> 0
B35: B34. Vagyoni típusú adók | C35: ='2. mell._ Önkormányzat'!C35+'3. mell._ Közös Hivatal'!C35+'4. mell._ Nagyk. Könyvtár'!C35+'5. mell._ Műv.Ház.'!C35+'6. mell._Bölcsőde'!C35+'7. mell._Óvoda'!C35+'8. mell_KSZKI'!C35+'9.mell_Gond.Kp.'!C35 -> 27000000 | D35: ='2. mell._ Önkormányzat'!D35+'3. mell._ Közös Hivatal'!D35+'4. mell._ Nagyk. Könyvtár'!D35+'5. mell._ Műv.Ház.'!D35+'6. mell._Bölcsőde'!D35+'7. mell._Óvoda'!D35+'8. mell_KSZKI'!D35+'9.mell_Gond.Kp.'!D35 -> 27000000 | E35: ='2. mell._ Önkormányzat'!E35+'3. mell._ Közös Hivatal'!E35+'4. mell._ Nagyk. Könyvtár'!E35+'5. mell._ Műv.Ház.'!E35+'6. mell._Bölcsőde'!E35+'7. mell._Óvoda'!E35+'8. mell_KSZKI'!E35+'9.mell_Gond.Kp.'!E35 -> 0 | F35: ='2. mell._ Önkormányzat'!F35+'3. mell._ Közös Hivatal'!F35+'4. mell._ Nagyk. Könyvtár'!F35+'5. mell._ Műv.Ház.'!F35+'6. mell._Bölcsőde'!F35+'7. mell._Óvoda'!F35+'8. mell_KSZKI'!F35+'9.mell_Gond.Kp.'!F35 -> 0
B36: építményadó | C36: ='2. mell._ Önkormányzat'!C36+'3. mell._ Közös Hivatal'!C36+'4. mell._ Nagyk. Könyvtár'!C36+'5. mell._ Műv.Ház.'!C36+'6. mell._Bölcsőde'!C36+'7. mell._Óvoda'!C36+'8. mell_KSZKI'!C36+'9.mell_Gond.Kp.'!C36 -> 11500000 | D36: ='2. mell._ Önkormányzat'!D36+'3. mell._ Közös Hivatal'!D36+'4. mell._ Nagyk. Könyvtár'!D36+'5. mell._ Műv.Ház.'!D36+'6. mell._Bölcsőde'!D36+'7. mell._Óvoda'!D36+'8. mell_KSZKI'!D36+'9.mell_Gond.Kp.'!D36 -> 11500000 | E36: ='2. mell._ Önkormányzat'!E36+'3. mell._ Közös Hivatal'!E36+'4. mell._ Nagyk. Könyvtár'!E36+'5. mell._ Műv.Ház.'!E36+'6. mell._Bölcsőde'!E36+'7. mell._Óvoda'!E36+'8. mell_KSZKI'!E36+'9.mell_Gond.Kp.'!E36 -> 0 | F36: ='2. mell._ Önkormányzat'!F36+'3. mell._ Közös Hivatal'!F36+'4. mell._ Nagyk. Könyvtár'!F36+'5. mell._ Műv.Ház.'!F36+'6. mell._Bölcsőde'!F36+'7. mell._Óvoda'!F36+'8. mell_KSZKI'!F36+'9.mell_Gond.Kp.'!F36 -> 0
B37: magánszemélyek kommunális adója | C37: ='2. mell._ Önkormányzat'!C37+'3. mell._ Közös Hivatal'!C37+'4. mell._ Nagyk. Könyvtár'!C37+'5. mell._ Műv.Ház.'!C37+'6. mell._Bölcsőde'!C37+'7. mell._Óvoda'!C37+'8. mell_KSZKI'!C37+'9.mell_Gond.Kp.'!C37 -> 15500000 | D37: ='2. mell._ Önkormányzat'!D37+'3. mell._ Közös Hivatal'!D37+'4. mell._ Nagyk. Könyvtár'!D37+'5. mell._ Műv.Ház.'!D37+'6. mell._Bölcsőde'!D37+'7. mell._Óvoda'!D37+'8. mell_KSZKI'!D37+'9.mell_Gond.Kp.'!D37 -> 15500000 | E37: ='2. mell._ Önkormányzat'!E37+'3. mell._ Közös Hivatal'!E37+'4. mell._ Nagyk. Könyvtár'!E37+'5. mell._ Műv.Ház.'!E37+'6. mell._Bölcsőde'!E37+'7. mell._Óvoda'!E37+'8. mell_KSZKI'!E37+'9.mell_Gond.Kp.'!E37 -> 0 | F37: ='2. mell._ Önkormányzat'!F37+'3. mell._ Közös Hivatal'!F37+'4. mell._ Nagyk. Könyvtár'!F37+'5. mell._ Műv.Ház.'!F37+'6. mell._Bölcsőde'!F37+'7. mell._Óvoda'!F37+'8. mell_KSZKI'!F37+'9.mell_Gond.Kp.'!F37 -> 0
B38: B35. Termékek és szolgáltatások adói | C38: ='2. mell._ Önkormányzat'!C38+'3. mell._ Közös Hivatal'!C38+'4. mell._ Nagyk. Könyvtár'!C38+'5. mell._ Műv.Ház.'!C38+'6. mell._Bölcsőde'!C38+'7. mell._Óvoda'!C38+'8. mell_KSZKI'!C38+'9.mell_Gond.Kp.'!C38 -> 75000000 | D38: ='2. mell._ Önkormányzat'!D38+'3. mell._ Közös Hivatal'!D38+'4. mell._ Nagyk. Könyvtár'!D38+'5. mell._ Műv.Ház.'!D38+'6. mell._Bölcsőde'!D38+'7. mell._Óvoda'!D38+'8. mell_KSZKI'!D38+'9.mell_Gond.Kp.'!D38 -> 75000000 | E38: ='2. mell._ Önkormányzat'!E38+'3. mell._ Közös Hivatal'!E38+'4. mell._ Nagyk. Könyvtár'!E38+'5. mell._ Műv.Ház.'!E38+'6. mell._Bölcsőde'!E38+'7. mell._Óvoda'!E38+'8. mell_KSZKI'!E38+'9.mell_Gond.Kp.'!E38 -> 0 | F38: ='2. mell._ Önkormányzat'!F38+'3. mell._ Közös Hivatal'!F38+'4. mell._ Nagyk. Könyvtár'!F38+'5. mell._ Műv.Ház.'!F38+'6. mell._Bölcsőde'!F38+'7. mell._Óvoda'!F38+'8. mell_KSZKI'!F38+'9.mell_Gond.Kp.'!F38 -> 0
B39: iparűzési adó | C39: ='2. mell._ Önkormányzat'!C39+'3. mell._ Közös Hivatal'!C39+'4. mell._ Nagyk. Könyvtár'!C39+'5. mell._ Műv.Ház.'!C39+'6. mell._Bölcsőde'!C39+'7. mell._Óvoda'!C39+'8. mell_KSZKI'!C39+'9.mell_Gond.Kp.'!C39 -> 70000000 | D39: ='2. mell._ Önkormányzat'!D39+'3. mell._ Közös Hivatal'!D39+'4. mell._ Nagyk. Könyvtár'!D39+'5. mell._ Műv.Ház.'!D39+'6. mell._Bölcsőde'!D39+'7. mell._Óvoda'!D39+'8. mell_KSZKI'!D39+'9.mell_Gond.Kp.'!D39 -> 70000000 | E39: ='2. mell._ Önkormányzat'!E39+'3. mell._ Közös Hivatal'!E39+'4. mell._ Nagyk. Könyvtár'!E39+'5. mell._ Műv.Ház.'!E39+'6. mell._Bölcsőde'!E39+'7. mell._Óvoda'!E39+'8. mell_KSZKI'!E39+'9.mell_Gond.Kp.'!E39 -> 0 | F39: ='2. mell._ Önkormányzat'!F39+'3. mell._ Közös Hivatal'!F39+'4. mell._ Nagyk. Könyvtár'!F39+'5. mell._ Műv.Ház.'!F39+'6. mell._Bölcsőde'!F39+'7. mell._Óvoda'!F39+'8. mell_KSZKI'!F39+'9.mell_Gond.Kp.'!F39 -> 0
B40: gépjárműadó | C40: ='2. mell._ Önkormányzat'!C40+'3. mell._ Közös Hivatal'!C40+'4. mell._ Nagyk. Könyvtár'!C40+'5. mell._ Műv.Ház.'!C40+'6. mell._Bölcsőde'!C40+'7. mell._Óvoda'!C40+'8. mell_KSZKI'!C40+'9.mell_Gond.Kp.'!C40 -> 5000000 | D40: ='2. mell._ Önkormányzat'!D40+'3. mell._ Közös Hivatal'!D40+'4. mell._ Nagyk. Könyvtár'!D40+'5. mell._ Műv.Ház.'!D40+'6. mell._Bölcsőde'!D40+'7. mell._Óvoda'!D40+'8. mell_KSZKI'!D40+'9.mell_Gond.Kp.'!D40 -> 5000000 | E40: ='2. mell._ Önkormányzat'!E40+'3. mell._ Közös Hivatal'!E40+'4. mell._ Nagyk. Könyvtár'!E40+'5. mell._ Műv.Ház.'!E40+'6. mell._Bölcsőde'!E40+'7. mell._Óvoda'!E40+'8. mell_KSZKI'!E40+'9.mell_Gond.Kp.'!E40 -> 0 | F40: ='2. mell._ Önkormányzat'!F40+'3. mell._ Közös Hivatal'!F40+'4. mell._ Nagyk. Könyvtár'!F40+'5. mell._ Műv.Ház.'!F40+'6. mell._Bölcsőde'!F40+'7. mell._Óvoda'!F40+'8. mell_KSZKI'!F40+'9.mell_Gond.Kp.'!F40 -> 0
B41: B36. Egyéb közhatalmi bevételek | C41: ='2. mell._ Önkormányzat'!C41+'3. mell._ Közös Hivatal'!C41+'4. mell._ Nagyk. Könyvtár'!C41+'5. mell._ Műv.Ház.'!C41+'6. mell._Bölcsőde'!C41+'7. mell._Óvoda'!C41+'8. mell_KSZKI'!C41+'9.mell_Gond.Kp.'!C41 -> 1000000 | D41: ='2. mell._ Önkormányzat'!D41+'3. mell._ Közös Hivatal'!D41+'4. mell._ Nagyk. Könyvtár'!D41+'5. mell._ Műv.Ház.'!D41+'6. mell._Bölcsőde'!D41+'7. mell._Óvoda'!D41+'8. mell_KSZKI'!D41+'9.mell_Gond.Kp.'!D41 -> 1000000 | E41: ='2. mell._ Önkormányzat'!E41+'3. mell._ Közös Hivatal'!E41+'4. mell._ Nagyk. Könyvtár'!E41+'5. mell._ Műv.Ház.'!E41+'6. mell._Bölcsőde'!E41+'7. mell._Óvoda'!E41+'8. mell_KSZKI'!E41+'9.mell_Gond.Kp.'!E41 -> 0 | F41: ='2. mell._ Önkormányzat'!F41+'3. mell._ Közös Hivatal'!F41+'4. mell._ Nagyk. Könyvtár'!F41+'5. mell._ Műv.Ház.'!F41+'6. mell._Bölcsőde'!F41+'7. mell._Óvoda'!F41+'8. mell_KSZKI'!F41+'9.mell_Gond.Kp.'!F41 -> 0
B42: pótlékok, bírságok,igazg. szolg.díjak | C42: ='2. mell._ Önkormányzat'!C42+'3. mell._ Közös Hivatal'!C42+'4. mell._ Nagyk. Könyvtár'!C42+'5. mell._ Műv.Ház.'!C42+'6. mell._Bölcsőde'!C42+'7. mell._Óvoda'!C42+'8. mell_KSZKI'!C42+'9.mell_Gond.Kp.'!C42 -> 500000 | D42: ='2. mell._ Önkormányzat'!D42+'3. mell._ Közös Hivatal'!D42+'4. mell._ Nagyk. Könyvtár'!D42+'5. mell._ Műv.Ház.'!D42+'6. mell._Bölcsőde'!D42+'7. mell._Óvoda'!D42+'8. mell_KSZKI'!D42+'9.mell_Gond.Kp.'!D42 -> 500000 | E42: ='2. mell._ Önkormányzat'!E42+'3. mell._ Közös Hivatal'!E42+'4. mell._ Nagyk. Könyvtár'!E42+'5. mell._ Műv.Ház.'!E42+'6. mell._Bölcsőde'!E42+'7. mell._Óvoda'!E42+'8. mell_KSZKI'!E42+'9.mell_Gond.Kp.'!E42 -> 0 | F42: ='2. mell._ Önkormányzat'!F42+'3. mell._ Közös Hivatal'!F42+'4. mell._ Nagyk. Könyvtár'!F42+'5. mell._ Műv.Ház.'!F42+'6. mell._Bölcsőde'!F42+'7. mell._Óvoda'!F42+'8. mell_KSZKI'!F42+'9.mell_Gond.Kp.'!F42 -> 0
B43: talajterhelési díj | C43: ='2. mell._ Önkormányzat'!C43+'3. mell._ Közös Hivatal'!C43+'4. mell._ Nagyk. Könyvtár'!C43+'5. mell._ Műv.Ház.'!C43+'6. mell._Bölcsőde'!C43+'7. mell._Óvoda'!C43+'8. mell_KSZKI'!C43+'9.mell_Gond.Kp.'!C43 -> 500000 | D43: ='2. mell._ Önkormányzat'!D43+'3. mell._ Közös Hivatal'!D43+'4. mell._ Nagyk. Könyvtár'!D43+'5. mell._ Műv.Ház.'!D43+'6. mell._Bölcsőde'!D43+'7. mell._Óvoda'!D43+'8. mell_KSZKI'!D43+'9.mell_Gond.Kp.'!D43 -> 500000 | E43: ='2. mell._ Önkormányzat'!E43+'3. mell._ Közös Hivatal'!E43+'4. mell._ Nagyk. Könyvtár'!E43+'5. mell._ Műv.Ház.'!E43+'6. mell._Bölcsőde'!E43+'7. mell._Óvoda'!E43+'8. mell_KSZKI'!E43+'9.mell_Gond.Kp.'!E43 -> 0 | F43: ='2. mell._ Önkormányzat'!F43+'3. mell._ Közös Hivatal'!F43+'4. mell._ Nagyk. Könyvtár'!F43+'5. mell._ Műv.Ház.'!F43+'6. mell._Bölcsőde'!F43+'7. mell._Óvoda'!F43+'8. mell_KSZKI'!F43+'9.mell_Gond.Kp.'!F43 -> 0
A44: B4 | B44: Működési bevételek | C44: ='2. mell._ Önkormányzat'!C44+'3. mell._ Közös Hivatal'!C44+'4. mell._ Nagyk. Könyvtár'!C44+'5. mell._ Műv.Ház.'!C44+'6. mell._Bölcsőde'!C44+'7. mell._Óvoda'!C44+'8. mell_KSZKI'!C44+'9.mell_Gond.Kp.'!C44 -> 57055700 | D44: ='2. mell._ Önkormányzat'!D44+'3. mell._ Közös Hivatal'!D44+'4. mell._ Nagyk. Könyvtár'!D44+'5. mell._ Műv.Ház.'!D44+'6. mell._Bölcsőde'!D44+'7. mell._Óvoda'!D44+'8. mell_KSZKI'!D44+'9.mell_Gond.Kp.'!D44 -> 40555700 | E44: ='2. mell._ Önkormányzat'!E44+'3. mell._ Közös Hivatal'!E44+'4. mell._ Nagyk. Könyvtár'!E44+'5. mell._ Műv.Ház.'!E44+'6. mell._Bölcsőde'!E44+'7. mell._Óvoda'!E44+'8. mell_KSZKI'!E44+'9.mell_Gond.Kp.'!E44 -> 16000000 | F44: ='2. mell._ Önkormányzat'!F44+'3. mell._ Közös Hivatal'!F44+'4. mell._ Nagyk. Könyvtár'!F44+'5. mell._ Műv.Ház.'!F44+'6. mell._Bölcsőde'!F44+'7. mell._Óvoda'!F44+'8. mell_KSZKI'!F44+'9.mell_Gond.Kp.'!F44 -> 0
B45: B401.Készletértékesítés ellentértéke | C45: ='2. mell._ Önkormányzat'!C45+'3. mell._ Közös Hivatal'!C45+'4. mell._ Nagyk. Könyvtár'!C45+'5. mell._ Műv.Ház.'!C45+'6. mell._Bölcsőde'!C45+'7. mell._Óvoda'!C45+'8. mell_KSZKI'!C45+'9.mell_Gond.Kp.'!C45 -> 0 | D45: ='2. mell._ Önkormányzat'!D45+'3. mell._ Közös Hivatal'!D45+'4. mell._ Nagyk. Könyvtár'!D45+'5. mell._ Műv.Ház.'!D45+'6. mell._Bölcsőde'!D45+'7. mell._Óvoda'!D45+'8. mell_KSZKI'!D45+'9.mell_Gond.Kp.'!D45 -> 0 | E45: ='2. mell._ Önkormányzat'!E45+'3. mell._ Közös Hivatal'!E45+'4. mell._ Nagyk. Könyvtár'!E45+'5. mell._ Műv.Ház.'!E45+'6. mell._Bölcsőde'!E45+'7. mell._Óvoda'!E45+'8. mell_KSZKI'!E45+'9.mell_Gond.Kp.'!E45 -> 0 | F45: ='2. mell._ Önkormányzat'!F45+'3. mell._ Közös Hivatal'!F45+'4. mell._ Nagyk. Könyvtár'!F45+'5. mell._ Műv.Ház.'!F45+'6. mell._Bölcsőde'!F45+'7. mell._Óvoda'!F45+'8. mell_KSZKI'!F45+'9.mell_Gond.Kp.'!F45 -> 0
B46: B402. Szolgátatások ellenértéke | C46: ='2. mell._ Önkormányzat'!C46+'3. mell._ Közös Hivatal'!C46+'4. mell._ Nagyk. Könyvtár'!C46+'5. mell._ Műv.Ház.'!C46+'6. mell._Bölcsőde'!C46+'7. mell._Óvoda'!C46+'8. mell_KSZKI'!C46+'9.mell_Gond.Kp.'!C46 -> 9876850.4 | D46: ='2. mell._ Önkormányzat'!D46+'3. mell._ Közös Hivatal'!D46+'4. mell._ Nagyk. Könyvtár'!D46+'5. mell._ Műv.Ház.'!D46+'6. mell._Bölcsőde'!D46+'7. mell._Óvoda'!D46+'8. mell_KSZKI'!D46+'9.mell_Gond.Kp.'!D46 -> 9876850 | E46: ='2. mell._ Önkormányzat'!E46+'3. mell._ Közös Hivatal'!E46+'4. mell._ Nagyk. Könyvtár'!E46+'5. mell._ Műv.Ház.'!E46+'6. mell._Bölcsőde'!E46+'7. mell._Óvoda'!E46+'8. mell_KSZKI'!E46+'9.mell_Gond.Kp.'!E46 -> 0 | F46: ='2. mell._ Önkormányzat'!F46+'3. mell._ Közös Hivatal'!F46+'4. mell._ Nagyk. Könyvtár'!F46+'5. mell._ Műv.Ház.'!F46+'6. mell._Bölcsőde'!F46+'7. mell._Óvoda'!F46+'8. mell_KSZKI'!F46+'9.mell_Gond.Kp.'!F46 -> 0
B47: B404. Tulajdonosi bevételek | C47: ='2. mell._ Önkormányzat'!C47+'3. mell._ Közös Hivatal'!C47+'4. mell._ Nagyk. Könyvtár'!C47+'5. mell._ Műv.Ház.'!C47+'6. mell._Bölcsőde'!C47+'7. mell._Óvoda'!C47+'8. mell_KSZKI'!C47+'9.mell_Gond.Kp.'!C47 -> 6738600 | D47: ='2. mell._ Önkormányzat'!D47+'3. mell._ Közös Hivatal'!D47+'4. mell._ Nagyk. Könyvtár'!D47+'5. mell._ Műv.Ház.'!D47+'6. mell._Bölcsőde'!D47+'7. mell._Óvoda'!D47+'8. mell_KSZKI'!D47+'9.mell_Gond.Kp.'!D47 -> 6738600 | E47: ='2. mell._ Önkormányzat'!E47+'3. mell._ Közös Hivatal'!E47+'4. mell._ Nagyk. Könyvtár'!E47+'5. mell._ Műv.Ház.'!E47+'6. mell._Bölcsőde'!E47+'7. mell._Óvoda'!E47+'8. mell_KSZKI'!E47+'9.mell_Gond.Kp.'!E47 -> 0 | F47: ='2. mell._ Önkormányzat'!F47+'3. mell._ Közös Hivatal'!F47+'4. mell._ Nagyk. Könyvtár'!F47+'5. mell._ Műv.Ház.'!F47+'6. mell._Bölcsőde'!F47+'7. mell._Óvoda'!F47+'8. mell_KSZKI'!F47+'9.mell_Gond.Kp.'!F47 -> 0
B48: B405. Ellátási díj | C48: ='2. mell._ Önkormányzat'!C48+'3. mell._ Közös Hivatal'!C48+'4. mell._ Nagyk. Könyvtár'!C48+'5. mell._ Műv.Ház.'!C48+'6. mell._Bölcsőde'!C48+'7. mell._Óvoda'!C48+'8. mell_KSZKI'!C48+'9.mell_Gond.Kp.'!C48 -> 35690945 | D48: ='2. mell._ Önkormányzat'!D48+'3. mell._ Közös Hivatal'!D48+'4. mell._ Nagyk. Könyvtár'!D48+'5. mell._ Műv.Ház.'!D48+'6. mell._Bölcsőde'!D48+'7. mell._Óvoda'!D48+'8. mell_KSZKI'!D48+'9.mell_Gond.Kp.'!D48 -> 19690945 | E48: ='2. mell._ Önkormányzat'!E48+'3. mell._ Közös Hivatal'!E48+'4. mell._ Nagyk. Könyvtár'!E48+'5. mell._ Műv.Ház.'!E48+'6. mell._Bölcsőde'!E48+'7. mell._Óvoda'!E48+'8. mell_KSZKI'!E48+'9.mell_Gond.Kp.'!E48 -> 16000000 | F48: ='2. mell._ Önkormányzat'!F48+'3. mell._ Közös Hivatal'!F48+'4. mell._ Nagyk. Könyvtár'!F48+'5. mell._ Műv.Ház.'!F48+'6. mell._Bölcsőde'!F48+'7. mell._Óvoda'!F48+'8. mell_KSZKI'!F48+'9.mell_Gond.Kp.'!F48 -> 0
B49: B406. Kiszámlázott áltanos forgalmi adó | C49: ='2. mell._ Önkormányzat'!C49+'3. mell._ Közös Hivatal'!C49+'4. mell._ Nagyk. Könyvtár'!C49+'5. mell._ Műv.Ház.'!C49+'6. mell._Bölcsőde'!C49+'7. mell._Óvoda'!C49+'8. mell_KSZKI'!C49+'9.mell_Gond.Kp.'!C49 -> 4749304.7 | D49: ='2. mell._ Önkormányzat'!D49+'3. mell._ Közös Hivatal'!D49+'4. mell._ Nagyk. Könyvtár'!D49+'5. mell._ Műv.Ház.'!D49+'6. mell._Bölcsőde'!D49+'7. mell._Óvoda'!D49+'8. mell_KSZKI'!D49+'9.mell_Gond.Kp.'!D49 -> 4749305 | E49: ='2. mell._ Önkormányzat'!E49+'3. mell._ Közös Hivatal'!E49+'4. mell._ Nagyk. Könyvtár'!E49+'5. mell._ Műv.Ház.'!E49+'6. mell._Bölcsőde'!E49+'7. mell._Óvoda'!E49+'8. mell_KSZKI'!E49+'9.mell_Gond.Kp.'!E49 -> 0 | F49: ='2. mell._ Önkormányzat'!F49+'3. mell._ Közös Hivatal'!F49+'4. mell._ Nagyk. Könyvtár'!F49+'5. mell._ Műv.Ház.'!F49+'6. mell._Bölcsőde'!F49+'7. mell._Óvoda'!F49+'8. mell_KSZKI'!F49+'9.mell_Gond.Kp.'!F49 -> 0
A50: B5 | B50: Felhalmozási bevételek | C50: ='2. mell._ Önkormányzat'!C50+'3. mell._ Közös Hivatal'!C50+'4. mell._ Nagyk. Könyvtár'!C50+'5. mell._ Műv.Ház.'!C50+'6. mell._Bölcsőde'!C50+'7. mell._Óvoda'!C50+'8. mell_KSZKI'!C50+'9.mell_Gond.Kp.'!C50 -> 635000 | D50: ='2. mell._ Önkormányzat'!D50+'3. mell._ Közös Hivatal'!D50+'4. mell._ Nagyk. Könyvtár'!D50+'5. mell._ Műv.Ház.'!D50+'6. mell._Bölcsőde'!D50+'7. mell._Óvoda'!D50+'8. mell_KSZKI'!D50+'9.mell_Gond.Kp.'!D50 -> 635000 | E50: ='2. mell._ Önkormányzat'!E50+'3. mell._ Közös Hivatal'!E50+'4. mell._ Nagyk. Könyvtár'!E50+'5. mell._ Műv.Ház.'!E50+'6. mell._Bölcsőde'!E50+'7. mell._Óvoda'!E50+'8. mell_KSZKI'!E50+'9.mell_Gond.Kp.'!E50 -> 0 | F50: ='2. mell._ Önkormányzat'!F50+'3. mell._ Közös Hivatal'!F50+'4. mell._ Nagyk. Könyvtár'!F50+'5. mell._ Műv.Ház.'!F50+'6. mell._Bölcsőde'!F50+'7. mell._Óvoda'!F50+'8. mell_KSZKI'!F50+'9.mell_Gond.Kp.'!F50 -> 0
A51: B6 | B51: Működési célú átvett pénzeszközök | C51: ='2. mell._ Önkormányzat'!C51+'3. mell._ Közös Hivatal'!C51+'4. mell._ Nagyk. Könyvtár'!C51+'5. mell._ Műv.Ház.'!C51+'6. mell._Bölcsőde'!C51+'7. mell._Óvoda'!C51+'8. mell_KSZKI'!C51+'9.mell_Gond.Kp.'!C51 -> 600000 | D51: ='2. mell._ Önkormányzat'!D51+'3. mell._ Közös Hivatal'!D51+'4. mell._ Nagyk. Könyvtár'!D51+'5. mell._ Műv.Ház.'!D51+'6. mell._Bölcsőde'!D51+'7. mell._Óvoda'!D51+'8. mell_KSZKI'!D51+'9.mell_Gond.Kp.'!D51 -> 600000 | E51: ='2. mell._ Önkormányzat'!E51+'3. mell._ Közös Hivatal'!E51+'4. mell._ Nagyk. Könyvtár'!E51+'5. mell._ Műv.Ház.'!E51+'6. mell._Bölcsőde'!E51+'7. mell._Óvoda'!E51+'8. mell_KSZKI'!E51+'9.mell_Gond.Kp.'!E51 -> 0 | F51: ='2. mell._ Önkormányzat'!F51+'3. mell._ Közös Hivatal'!F51+'4. mell._ Nagyk. Könyvtár'!F51+'5. mell._ Műv.Ház.'!F51+'6. mell._Bölcsőde'!F51+'7. mell._Óvoda'!F51+'8. mell_KSZKI'!F51+'9.mell_Gond.Kp.'!F51 -> 0
A52: B7 | B52: Felhalmozási célú átvett pénzeszközök | C52: ='2. mell._ Önkormányzat'!C52+'3. mell._ Közös Hivatal'!C52+'4. mell._ Nagyk. Könyvtár'!C52+'5. mell._ Műv.Ház.'!C52+'6. mell._Bölcsőde'!C52+'7. mell._Óvoda'!C52+'8. mell_KSZKI'!C52+'9.mell_Gond.Kp.'!C52 -> 8724000 | D52: ='2. mell._ Önkormányzat'!D52+'3. mell._ Közös Hivatal'!D52+'4. mell._ Nagyk. Könyvtár'!D52+'5. mell._ Műv.Ház.'!D52+'6. mell._Bölcsőde'!D52+'7. mell._Óvoda'!D52+'8. mell_KSZKI'!D52+'9.mell_Gond.Kp.'!D52 -> 8724000 | E52: ='2. mell._ Önkormányzat'!E52+'3. mell._ Közös Hivatal'!E52+'4. mell._ Nagyk. Könyvtár'!E52+'5. mell._ Műv.Ház.'!E52+'6. mell._Bölcsőde'!E52+'7. mell._Óvoda'!E52+'8. mell_KSZKI'!E52+'9.mell_Gond.Kp.'!E52 -> 0 | F52: ='2. mell._ Önkormányzat'!F52+'3. mell._ Közös Hivatal'!F52+'4. mell._ Nagyk. Könyvtár'!F52+'5. mell._ Műv.Ház.'!F52+'6. mell._Bölcsőde'!F52+'7. mell._Óvoda'!F52+'8. mell_KSZKI'!F52+'9.mell_Gond.Kp.'!F52 -> 0
A53: KÖLTSÉGVETÉSI BEVÉTELEK ÖSSZESEN | C53: ='2. mell._ Önkormányzat'!C53+'3. mell._ Közös Hivatal'!C53+'4. mell._ Nagyk. Könyvtár'!C53+'5. mell._ Műv.Ház.'!C53+'6. mell._Bölcsőde'!C53+'7. mell._Óvoda'!C53+'8. mell_KSZKI'!C53+'9.mell_Gond.Kp.'!C53 -> 6.0776519e+08 | D53: ='2. mell._ Önkormányzat'!D53+'3. mell._ Közös Hivatal'!D53+'4. mell._ Nagyk. Könyvtár'!D53+'5. mell._ Műv.Ház.'!D53+'6. mell._Bölcsőde'!D53+'7. mell._Óvoda'!D53+'8. mell_KSZKI'!D53+'9.mell_Gond.Kp.'!D53 -> 516903790 | E53: ='2. mell._ Önkormányzat'!E53+'3. mell._ Közös Hivatal'!E53+'4. mell._ Nagyk. Könyvtár'!E53+'5. mell._ Műv.Ház.'!E53+'6. mell._Bölcsőde'!E53+'7. mell._Óvoda'!E53+'8. mell_KSZKI'!E53+'9.mell_Gond.Kp.'!E53 -> 31413000 | F53: ='2. mell._ Önkormányzat'!F53+'3. mell._ Közös Hivatal'!F53+'4. mell._ Nagyk. Könyvtár'!F53+'5. mell._ Műv.Ház.'!F53+'6. mell._Bölcsőde'!F53+'7. mell._Óvoda'!F53+'8. mell_KSZKI'!F53+'9.mell_Gond.Kp.'!F53 -> 59448400
...

Sheet 2. mell._ Önkormányzat
D1: …/2018. (II…) önkormányzati rendelet 2. melléklete
A2: Cibakháza Nagyközség Önkormányzat bevételei és kiadásai előirányzat-csoportok, kiemelt előirányzatok szerint
A3: Kötelező, önként vállalt és államigazgatási feladat szerint
A5: Rovatrend | B5: Megnevezés | C5: 2018. évi eredeti előirányzat | D5: ebből
D6: Kötelező feladatok | E6: Önként vállalt feladatok | F6: Államigazgatási feladatok
A7: B1 | B7: Működési célú támogatások államháztartáson belülről | C7: =C8+C29+C30 -> 437750490 | D7: =D8+D29+D30 -> 362889090 | E7: =E8+E29+E30 -> 15413000 | F7: =F8+F29+F30 -> 59448400
B8: B11 Önkormányzatok működési támogatásai | C8: =C9+C15+C19+C26+C28 -> 328338457 | D8: =D9+D15+D19+D26+D28 -> 253477057 | E8: =E9+E15+E19+E26+E28 -> 15413000 | F8: =F9+F15+F19+F26+F28 -> 59448400
B9: B111 Helyi önkormányzatok működésének általános támogatása | C9: =SUM(C11:C14) -> 107231759 | D9: =SUM(D11:D14) -> 47783359 | E9: =SUM(E11:E14) -> 0 | F9: =SUM(F11:F14) -> 59448400
B10: Települési önkormányzatok működési támogatásai
B11: Önkormányzati Hivatal működésének támogatása | C11: 59448400 | F11: 59448400
B12: Település-üzemeltetéshez kapcs. feladatellátás támogatása | C12: 46492359 | D12: 46492359
B13: Polgármesteri illetmény támogatása | C13: 1041000 | D13: 1041000
B14: Nem közművel összegyűjtött szennyvíz ártalmatlanítása | C14: 250000 | D14: 250000
B15: B112 Települési önkormányzatok egyes köznevelési fel. Támogatása | C15: =SUM(C16:C18) -> 65552000 | D15: =SUM(D16:D18) -> 65552000 | E15: =SUM(E16:E18) -> 0 | F15: =SUM(F16:F18) -> 0
B16: Óvodaped. És óvodaped. Munk. Közv. Segítők bértámogatása | C16: 56089800 | D16: 56089800
B17: Óvodaműködtetés támogatása | C17: 8660200 | D17: 8660200
B18: Kiegészítő támogatás az óvodapedagógusok min-ből adódó többletkiad.hoz | C18: 802000 | D18: 802000
B19: B113. Telep. önkorm.szociális, gyermekjóléti és gyermekétkeztetési feldatainak támogatása | C19: =SUM(C20:C25) -> 150613058 | D19: =SUM(D20:D25) -> 135200058 | E19: =SUM(E20:E25) -> 15413000 | F19: =SUM(F20:F25) -> 0
B20: Települési önkormányzatok szociális fela.egyéb támogatása | C20: 38081000 | D20: 38081000
B21: Egyes szociális és gyermekjóléti feladatok támogatása | C21: 24739880 | D21: 24739880
B22: Idős személyek részére nyújtott szociális szakosított ellátás | C22: 15413000 | E22: 15413000
B23: Intézményi gyermekétkeztetés támogatása | C23: 39850598 | D23: 39850598
B24: Rászoruló gyermekek szünidei étkeztetésének támogatása | C24: 7121580 | D24: 7121580
B25: Bölcsőde, mini bölcsőde támogatása | C25: 25407000 | D25: 25407000
B26: B114. Települési önkormányzatok kulturális feladatainak támogatása | C26: =SUM(C27) -> 4941640 | D26: =SUM(D27) -> 4941640 | E26: =SUM(E27) -> 0 | F26: =SUM(F27) -> 0
B27: Könyvtári, közművelődési és múzeumi feladatok támogatása | C27: 4941640 | D27: 4941640
B28: B115. Működési célú költségvetési támogatások és kiegészítő támogatások
B29: B14.Működési célú visszatér.tám.visszatérülése áht-n belül
B30: B16. Egyéb működési célú támogatások bevételei áht-n belülről | C30: 109412033 | D30: =SUM(D31:D32) -> 109412033
B31: OEP támogatás | C31: 15518400 | D31: 15518400
B32: Közfoglalkoztatás támogatása | C32: 93893633 | D32: 93893633
A33: B2 | B33: Felhalmozási célú támogatások áht. belülről
A34: B3 | B34: Közhatalmi bevételek | C34: =C35+C38+C41 -> 103000000 | D34: =D35+D38+D41 -> 103000000
B35: B34. Vagyoni típusú adók | C35: =SUM(C36:C37) -> 27000000 | D35: =SUM(D36:D37) -> 27000000
B36: építményadó | C36: 11500000 | D36: =C36 -> 11500000
B37: magánszemélyek kommunális adója | C37: 15500000 | D37: =C37 -> 15500000
B38: B35. Termékek és szolgáltatások adói | C38: =SUM(C39:C40) -> 75000000 | D38: =SUM(D39:D40) -> 75000000
B39: iparűzési adó | C39: 70000000 | D39: =C39 -> 70000000
B40: gépjárműadó | C40: 5000000 | D40: =C40 -> 5000000
B41: B36. Egyéb közhatalmi bevételek | C41: =SUM(C42:C43) -> 1000000 | D41: =SUM(D42:D43) -> 1000000
...

Sheet 3. mell._ Közös Hivatal
D1: …/2018. (II…) önkormányzati rendelet 3. melléklete
A2: Cibakházi Közös Önkormányzati Hivatal bevételei és kiadásai előirányzat-csoportok, kiemelt előirányzatok szerint
A3: Kötelező, önként vállalt és államigazgatási feladat szerint
A5: Rovatrend | B5: Megnevezés | C5: 2018. évi eredeti előirányzat | D5: ebből
D6: Kötelező feladatok | E6: Önként vállalt feladatok | F6: Államigazgatási feladatok
A7: B1 | B7: Működési célú támogatások államháztartáson belülről | C7: =C8+C29+C30 -> 0 | D7: =D8+D29+D30 -> 0 | E7: =E8+E29+E30 -> 0 | F7: =F8+F29+F30 -> 0
B8: B11 Önkormányzatok működési támogatásai | C8: =C9+C15+C19+C26+C28 -> 0 | D8: =D9+D15+D19+D26+D28 -> 0 | E8: =E9+E15+E19+E26+E28 -> 0 | F8: =F9+F15+F19+F26+F28 -> 0
B9: B111 Helyi önkormányzatok működésének általános támogatása | C9: =SUM(C11:C12) -> 0 | D9: =SUM(D11:D12) -> 0 | E9: =SUM(E11:E12) -> 0 | F9: =SUM(F11:F12) -> 0
B10: Települési önkormányzatok működési támogatásai
B11: Önkormányzati Hivatal működésének támogatása
B12: Település-üzemeltetéshez kapcs. feladatellátás támogatása
B13: Polgármesteri illetmény támogatása
B14: Nem közművel összegyűjtött szennyvíz ártalmatlanítása
B15: B112 Települési önkormányzatok egyes köznevelési fel. Támogatása
B16: Óvodaped. És óvodaped. Munk. Közv. Segítők bértámogatása
B17: Óvodaműködtetés támogatása
B18: Kiegészítő támogatás az óvodapedagógusok min-ből adódó többletkiad.hoz
B19: B113. Telep. önkorm.szociális, gyermekjóléti és gyermekétkeztetési feldatainak támogatása
B20: Települési önkormányzatok szociális fela.egyéb támogatása
B21: Egyes szociális és gyermekjóléti feladatok támogatása
... B32: Közfoglalkoztatás támogatása
A33: B2 | B33: Felhalmozási célú támogatások áht. belülről
A34: B3 | B34: Közhatalmi bevételek | C34: =C35+C38+C41 -> 0
B35: B34. Vagyoni típusú adók | C35: =SUM(C36:C37) -> 0
B36: építményadó
B37: magánszemélyek kommunális adója
B38: B35. Termékek és szolgáltatások adói | C38: =SUM(C39:C40) -> 0
B39: iparűzési adó
B40: gépjárműadó
B41: B36. Egyéb közhatalmi bevételek | C41: =SUM(C42:C43) -> 0
B42: pótlékok, bírságok,igazg. szolg.díjak
B43: talajterhelési díj
A44: B4 | B44: Működési bevételek | C44: =SUM(C45:C49) -> 0
B45: B401.Készletértékesítés ellentértéke
B46: B402. Szolgátatások ellenértéke
B47: B404. Tulajdonosi bevételek
B48: B405. Ellátási díj
B49: B406. Kiszámlázott áltanos forgalmi adó
A50: B5 | B50: Felhalmozási bevételek
A51: B6 | B51: Működési célú átvett pénzeszközök
...

Sheet 4. mell._ Nagyk. Könyvtár
D1: …/2018. (II…) önkormányzati rendelet 4. melléklete
A2: Nagyközségi Önkormányzati Könyvtár bevételei és kiadásai előirányzat-csoportok, kiemelt előirányzatok szerint
A3: Kötelező, önként vállalt és államigazgatási feladat szerint
A5: Rovatrend | B5: Megnevezés | C5: 2018. évi eredeti előirányzat | D5: ebből
D6: Kötelező feladatok | E6: Önként vállalt feladatok | F6: Államigazgatási feladatok
A7: B1 | B7: Működési célú támogatások államháztartáson belülről | C7: =C8+C29+C30 -> 0
B8: B11 Önkormányzatok működési támogatásai | C8: =C9+C15+C19+C26+C28 -> 0
B9: B111 Helyi önkormányzatok működésének általános támogatása
B10: Települési önkormányzatok működési támogatásai
B11: Önkormányzati Hivatal működésének támogatása
B12: Település-üzemeltetéshez kapcs. feladatellátás támogatása
B15: B112 Települési önkormányzatok egyes köznevelési fel. Támogatása
B16: Óvodaped. És óvodaped. Munk. Közv. Segítők bértámogatása
B17: Óvodaműködtetés támogatása
B18: Kiegészítő támogatás az óvodapedagógusok min-ből adódó többletkiad.hoz
B19: B113. Telep. önkorm.szociális, gyermekjóléti és gyermekétkeztetési feldatainak támogatása
B20: Települési önkormányzatok szociális fela.egyéb támogatása
B21: Egyes szociális és gyermekjóléti feladatok támogatása
B22: Idős személyek részére nyújtott szociális szakosított ellátás
... B32: Közfoglalkoztatás támogatása
A33: B2 | B33: Felhalmozási célú támogatások áht. belülről
A34: B3 | B34: Közhatalmi bevételek | C34: =C35+C38+C41 -> 0
B35: B34. Vagyoni típusú adók | C35: =SUM(C36:C37) -> 0
B36: építményadó
B37: magánszemélyek kommunális adója
B38: B35. Termékek és szolgáltatások adói | C38: =SUM(C39:C40) -> 0
B39: iparűzési adó
B40: gépjárműadó
B41: B36. Egyéb közhatalmi bevételek | C41: =SUM(C42:C43) -> 0
B42: pótlékok, bírságok,igazg. szolg.díjak
B43: talajterhelési díj
A44: B4 | B44: Működési bevételek | C44: =SUM(C45:C49) -> 500000
B45: B401.Készletértékesítés ellentértéke
B46: B402. Szolgátatások ellenértéke | C46: 500000 | D46: 500000
B47: B404. Tulajdonosi bevételek
B48: B405. Ellátási díj
B49: B406. Kiszámlázott áltanos forgalmi adó
A50: B5 | B50: Felhalmozási bevételek
A51: B6 | B51: Működési célú átvett pénzeszközök
A52: B7 | B52: Felhalmozási célú átvett pénzeszközök
...

Sheet 5. mell._ Műv.Ház.
D1: …/2018. (II…) önkormányzati rendelet 5. melléklete
A2: Cibakháza Nagyközségi Művelődési Ház bevételei és kiadásai előirányzat-csoportok, kiemelt előirányzatok szerint
A3: Kötelező, önként vállalt és államigazgatási feladat szerint
A5: Rovatrend | B5: Megnevezés | C5: 2018. évi eredeti előirányzat | D5: ebből
D6: Kötelező feladatok | E6: Önként vállalt feladatok | F6: Államigazgatási feladatok
A7: B1 | B7: Működési célú támogatások államháztartáson belülről | C7: =C8+C29+C30 -> 0
B8: B11 Önkormányzatok működési támogatásai | C8: =C9+C15+C19+C26+C28 -> 0
B9: B111 Helyi önkormányzatok működésének általános támogatása
B10: Települési önkormányzatok működési támogatásai
B11: Önkormányzati Hivatal működésének támogatása
B12: Település-üzemeltetéshez kapcs. feladatellátás támogatása
B15: B112 Települési önkormányzatok egyes köznevelési fel. Támogatása
B16: Óvodaped. És óvodaped. Munk. Közv. Segítők bértámogatása
B17: Óvodaműködtetés támogatása
B18: Kiegészítő támogatás az óvodapedagógusok min-ből adódó többletkiad.hoz
B19: B113. Telep. önkorm.szociális, gyermekjóléti és gyermekétkeztetési feldatainak támogatása
B20: Települési önkormányzatok szociális fela.egyéb támogatása
B21: Egyes szociális és gyermekjóléti feladatok támogatása
B22: Idős személyek részére nyújtott szociális szakosított ellátás
... B32: Közfoglalkoztatás támogatása
A33: B2 | B33: Felhalmozási célú támogatások áht. belülről
A34: B3 | B34: Közhatalmi bevételek | C34: =C35+C38+C41 -> 0
B35: B34. Vagyoni típusú adók | C35: =SUM(C36:C37) -> 0
B36: építményadó
B37: magánszemélyek kommunális adója
B38: B35. Termékek és szolgáltatások adói | C38: =SUM(C39:C40) -> 0
B39: iparűzési adó
B40: gépjárműadó
B41: B36. Egyéb közhatalmi bevételek | C41: =SUM(C42:C43) -> 0
B42: pótlékok, bírságok,igazg. szolg.díjak
B43: talajterhelési díj
A44: B4 | B44: Működési bevételek | C44: =SUM(C45:C49) -> 2000000 | D44: =SUM(D45:D49) -> 2000000
B45: B401.Készletértékesítés ellentértéke
B46: B402. Szolgátatások ellenértéke | C46: 2000000 | D46: 2000000
B47: B404. Tulajdonosi bevételek
B48: B405. Ellátási díj
B49: B406. Kiszámlázott áltanos forgalmi adó
A50: B5 | B50: Felhalmozási bevételek
A51: B6 | B51: Működési célú átvett pénzeszközök
A52: B7 | B52: Felhalmozási célú átvett pénzeszközök
...

Sheet 6. mell._Bölcsőde
D1: …/2018. (II…) önkormányzati rendelet 6. melléklete
A2: Nagyközségi Önkormányzati Bölcsőde bevételei és kiadásai előirányzat-csoportok, kiemelt előirányzatok szerint
A3: Kötelező, önként vállalt és államigazgatási feladat szerint
A5: Rovatrend | B5: Megnevezés | C5: 2018. évi eredeti előirányzat | D5: ebből
D6: Kötelező feladatok | E6: Önként vállalt feladatok | F6: Államigazgatási feladatok
A7: B1 | B7: Működési célú támogatások államháztartáson belülről | C7: =C8+C29+C30 -> 0
B8: B11 Önkormányzatok működési támogatásai | C8: =C9+C15+C19+C26+C28 -> 0
B9: B111 Helyi önkormányzatok működésének általános támogatása
B10: Települési önkormányzatok működési támogatásai
B11: Önkormányzati Hivatal működésének támogatása
B12: Település-üzemeltetéshez kapcs. feladatellátás támogatása
B15: B112 Települési önkormányzatok egyes köznevelési fel. Támogatása
B16: Óvodaped. És óvodaped. Munk. Közv. Segítők bértámogatása
B17: Óvodaműködtetés támogatása
B18: Kiegészítő támogatás az óvodapedagógusok min-ből adódó többletkiad.hoz
B19: B113. Telep. önkorm.szociális, gyermekjóléti és gyermekétkeztetési feldatainak támogatása
B20: Települési önkormányzatok szociális fela.egyéb támogatása
B21: Egyes szociális és gyermekjóléti feladatok támogatása
B22: Idős személyek részére nyújtott szociális szakosított ellátás
... B32: Közfoglalkoztatás támogatása
A33: B2 | B33: Felhalmozási célú támogatások áht. belülről
A34: B3 | B34: Közhatalmi bevételek | C34: =C35+C38+C41 -> 0
B35: B34. Vagyoni típusú adók | C35: =SUM(C36:C37) -> 0
B36: építményadó
B37: magánszemélyek kommunális adója
B38: B35. Termékek és szolgáltatások adói | C38: =SUM(C39:C40) -> 0
B39: iparűzési adó
B40: gépjárműadó
B41: B36. Egyéb közhatalmi bevételek | C41: =SUM(C42:C43) -> 0
B42: pótlékok, bírságok,igazg. szolg.díjak
B43: talajterhelési díj
A44: B4 | B44: Működési bevételek | C44: =SUM(C45:C49) -> 0
B45: B401.Készletértékesítés ellentértéke
B46: B402. Szolgátatások ellenértéke
B47: B404. Tulajdonosi bevételek
B48: B405. Ellátási díj
B49: B406. Kiszámlázott áltanos forgalmi adó
A50: B5 | B50: Felhalmozási bevételek
A51: B6 | B51: Működési célú átvett pénzeszközök
A52: B7 | B52: Felhalmozási célú átvett pénzeszközök
...

Sheet 7. mell._Óvoda
D1: …/2018. (II…) önkormányzati rendelet 7. melléklete
A2: Cibakházi Napsugár Óvoda bevételei és kiadásai előirányzat-csoportok, kiemelt előirányzatok szerint
A3: Kötelező, önként vállalt és államigazgatási feladat szerint
A5: Rovatrend | B5: Megnevezés | C5: 2018. évi eredeti előirányzat | D5: ebből
D6: Kötelező feladatok | E6: Önként vállalt feladatok | F6: Államigazgatási feladatok
A7: B1 | B7: Működési célú támogatások államháztartáson belülről | C7: =C8+C29+C30 -> 0
B8: B11 Önkormányzatok működési támogatásai | C8: =C9+C15+C19+C26+C28 -> 0
B9: B111 Helyi önkormányzatok működésének általános támogatása
B10: Települési önkormányzatok működési támogatásai
B11: Önkormányzati Hivatal működésének támogatása
B12: Település-üzemeltetéshez kapcs. feladatellátás támogatása
B15: B112 Települési önkormányzatok egyes köznevelési fel. Támogatása
B16: Óvodaped. És óvodaped. Munk. Közv. Segítők bértámogatása
B17: Óvodaműködtetés támogatása
B18: Kiegészítő támogatás az óvodapedagógusok min-ből adódó többletkiad.hoz
B19: B113. Telep. önkorm.szociális, gyermekjóléti és gyermekétkeztetési feldatainak támogatása
B20: Települési önkormányzatok szociális fela.egyéb támogatása
B21: Egyes szociális és gyermekjóléti feladatok támogatása
B22: Idős személyek részére nyújtott szociális szakosított ellátás
... B32: Közfoglalkoztatás támogatása
A33: B2 | B33: Felhalmozási célú támogatások áht. belülről
A34: B3 | B34: Közhatalmi bevételek | C34: =C35+C38+C41 -> 0
B35: B34. Vagyoni típusú adók | C35: =SUM(C36:C37) -> 0
B36: építményadó
B37: magánszemélyek kommunális adója
B38: B35. Termékek és szolgáltatások adói | C38: =SUM(C39:C40) -> 0
B39: iparűzési adó
B40: gépjárműadó
B41: B36. Egyéb közhatalmi bevételek | C41: =SUM(C42:C43) -> 0
B42: pótlékok, bírságok,igazg. szolg.díjak
B43: talajterhelési díj
A44: B4 | B44: Működési bevételek | C44: =SUM(C45:C49) -> 0
B45: B401.Készletértékesítés ellentértéke
B46: B402. Szolgátatások ellenértéke
B47: B404. Tulajdonosi bevételek
B48: B405. Ellátási díj
B49: B406. Kiszámlázott áltanos forgalmi adó
A50: B5 | B50: Felhalmozási bevételek
A51: B6 | B51: Működési célú átvett pénzeszközök
A52: B7 | B52: Felhalmozási célú átvett pénzeszközök
...

Sheet 8. mell_KSZKI
D1: …/2018. (II…) önkormányzati rendelet 8. melléklete
A2: Kommunális Szolgáltató és Közfoglalkoztatási Intézmény bevételei és kiadásai előirányzat-csoportok, kiemelt előirányzatok szerint
A3: Kötelező, önként vállalt és államigazgatási feladat szerint
A5: Rovatrend | B5: Megnevezés | C5: 2018. évi eredeti előirányzat | D5: ebből
D6: Kötelező feladatok | E6: Önként vállalt feladatok | F6: Államigazgatási feladatok
A7: B1 | B7: Működési célú támogatások államháztartáson belülről | C7: =C8+C29+C30 -> 0
B8: B11 Önkormányzatok működési támogatásai | C8: =C9+C15+C19+C26+C28 -> 0
B9: B111 Helyi önkormányzatok működésének általános támogatása
B10: Települési önkormányzatok működési támogatásai
B11: Önkormányzati Hivatal működésének támogatása
B12: Település-üzemeltetéshez kapcs. feladatellátás támogatása
B15: B112 Települési önkormányzatok egyes köznevelési fel. Támogatása
B16: Óvodaped. És óvodaped. Munk. Közv. Segítők bértámogatása
B17: Óvodaműködtetés támogatása
B18: Kiegészítő támogatás az óvodapedagógusok min-ből adódó többletkiad.hoz
B19: B113. Telep. önkorm.szociális, gyermekjóléti és gyermekétkeztetési feldatainak támogatása
B20: Települési önkormányzatok szociális fela.egyéb támogatása
B21: Egyes szociális és gyermekjóléti feladatok támogatása
B22: Idős személyek részére nyújtott szociális szakosított ellátás
... B32: Közfoglalkoztatás támogatása
A33: B2 | B33: Felhalmozási célú támogatások áht. belülről
A34: B3 | B34: Közhatalmi bevételek | C34: =C35+C38+C41 -> 0
B35: B34. Vagyoni típusú adók | C35: =SUM(C36:C37) -> 0
B36: építményadó
B37: magánszemélyek kommunális adója
B38: B35. Termékek és szolgáltatások adói | C38: =SUM(C39:C40) -> 0
B39: iparűzési adó
B40: gépjárműadó
B41: B36. Egyéb közhatalmi bevételek | C41: =SUM(C42:C43) -> 0
B42: pótlékok, bírságok,igazg. szolg.díjak
B43: talajterhelési díj
A44: B4 | B44: Működési bevételek | C44: =SUM(C45:C49) -> 21828500 | D44: =SUM(D45:D49) -> 21828500
B45: B401.Készletértékesítés ellentértéke
B46: B402. Szolgátatások ellenértéke | C46: =7235000/1.27 -> 5696850.4 | D46: 5696850
B47: B404. Tulajdonosi bevételek
B48: B405. Ellátási díj | C48: =14593500/1.27 -> 11490945 | D48: 11490945
B49: B406. Kiszámlázott áltanos forgalmi adó | C49: =(5696850+11490945)*0.27 -> 4640704.7 | D49: 4640705
A50: B5 | B50: Felhalmozási bevételek
A51: B6 | B51: Működési célú átvett pénzeszközök
A52: B7 | B52: Felhalmozási célú átvett pénzeszközök
...

Sheet 9.mell_Gond.Kp.
D1: …/2018. (II…) önkormányzati rendelet 9. melléklete
A2: Nagyközségi Szociális Gondozási Központ bevételei és kiadásai előirányzat-csoportok, kiemelt előirányzatok szerint
A3: Kötelező, önként vállalt és államigazgatási feladat szerint
A5: Rovatrend | B5: Megnevezés | C5: 2018. évi eredeti előirányzat | D5: ebből
D6: Kötelező feladatok | E6: Önként vállalt feladatok | F6: Államigazgatási feladatok
A7: B1 | B7: Működési célú támogatások államháztartáson belülről | C7: =C8+C29+C30 -> 0
B8: B11 Önkormányzatok működési támogatásai | C8: =C9+C15+C19+C26+C28 -> 0
B9: B111 Helyi önkormányzatok működésének általános támogatása
B10: Települési önkormányzatok működési támogatásai
B11: Önkormányzati Hivatal működésének támogatása
B12: Település-üzemeltetéshez kapcs. feladatellátás támogatása
B15: B112 Települési önkormányzatok egyes köznevelési fel. Támogatása
B16: Óvodaped. És óvodaped. Munk. Közv. Segítők bértámogatása
B17: Óvodaműködtetés támogatása
B18: Kiegészítő támogatás az óvodapedagógusok min-ből adódó többletkiad.hoz
B19: B113. Telep. önkorm.szociális, gyermekjóléti és gyermekétkeztetési feldatainak támogatása
B20: Települési önkormányzatok szociális fela.egyéb támogatása
B21: Egyes szociális és gyermekjóléti feladatok támogatása
B22: Idős személyek részére nyújtott szociális szakosított ellátás
... B32: Közfoglalkoztatás támogatása
A33: B2 | B33: Felhalmozási célú támogatások áht. belülről
A34: B3 | B34: Közhatalmi bevételek | C34: =C35+C38+C41 -> 0
B35: B34. Vagyoni típusú adók | C35: =SUM(C36:C37) -> 0
B36: építményadó
B37: magánszemélyek kommunális adója
B38: B35. Termékek és szolgáltatások adói | C38: =SUM(C39:C40) -> 0
B39: iparűzési adó
B40: gépjárműadó
B41: B36. Egyéb közhatalmi bevételek | C41: =SUM(C42:C43) -> 0
B42: pótlékok, bírságok,igazg. szolg.díjak
B43: talajterhelési díj
A44: B4 | B44: Működési bevételek | C44: =SUM(C45:C49) -> 24200000 | D44: =SUM(D45:D49) -> 8200000 | E44: =SUM(E45:E49) -> 16000000
B45: B401.Készletértékesítés ellentértéke
B46: B402. Szolgátatások ellenértéke
B47: B404. Tulajdonosi bevételek
B48: B405. Ellátási díj | C48: 24200000 | D48: 8200000 | E48: 16000000
B49: B406. Kiszámlázott áltanos forgalmi adó
A50: B5 | B50: Felhalmozási bevételek
A51: B6 | B51: Működési célú átvett pénzeszközök
A52: B7 | B52: Felhalmozási célú átvett pénzeszközök
...

Sheet 10.mell_Összevont mérleg
E2: …/2018. (II…) önkormányzati rendelet 10. melléklete
A4: Az önkormányzat költségvetésének összevont mérlege
A5: 2018. év
A6: Ft
B7: Bevételek | C7: 2018. évi terv | E7: Kiadások | F7: 2018. évi terv
B9: A | C9: B | E9: C | F9: D
A10: 1. | B10: Általános működési és ágazati támogatás | C10: ='1. mell._ Önkormányzat összesen'!C8 -> 328338457 | D10: 1. | E10: Személyi juttatások | F10: ='1. mell._ Önkormányzat összesen'!C66 -> 348031827
A11: 2. | B11: Működési célú támogatások államháztartáson belülről | C11: ='1. mell._ Önkormányzat összesen'!C30 -> 109412033 | D11: 2. | E11: Munkaadót terhelő járulékok és szociális hozzájárulási adó | F11: ='1. mell._ Önkormányzat összesen'!C67 -> 63371208
A12: 3. | B12: Felhalmozási célú támogatások államháztartáson belülről | C12: 0 | D12: 3. | E12: Dologi kiadások | F12: ='1. mell._ Önkormányzat összesen'!C68 -> 186478531
A13: 4. | B13: Termékek és szolgáltatások adói, közhatalmi bevételek | C13: ='1. mell._ Önkormányzat összesen'!C34 -> 103000000 | D13: 4. | E13: Ellátottak pénzbeli juttatásai | F13: ='1. mell._ Önkormányzat összesen'!C69 -> 20253000
A14: 5. | B14: Működési bevételek | C14: ='1. mell._ Önkormányzat összesen'!C44 -> 57055700 | D14: 5. | E14: Egyéb működési célú kiadások | F14: ='1. mell._ Önkormányzat összesen'!C74-10714186 -> 9598000
A15: 6. | D15: 6. | E15: Egyéb felhalmozási célú kiadás
A16: 7. | B16: Felhalmozási bevételek | C16: ='1. mell._ Önkormányzat összesen'!C50 -> 635000 | D16: 7. | E16: Beruházások | F16: ='1. mell._ Önkormányzat összesen'!C75 -> 263829424
A17: 8. | B17: Működési célú átvett pénzeszközök | C17: ='1. mell._ Önkormányzat összesen'!C51 -> 600000 | D17: 8. | E17: Felújítások | F17: ='1. mell._ Önkormányzat összesen'!C76 -> 1295000
A18: 9. | B18: Felmalmozási célú átvett pénzeszközök | C18: ='1. mell._ Önkormányzat összesen'!C52 -> 8724000 | D18: 9. | E18: Tartalékok | F18: 10714186
A19: 10. | B19: Bevételek összesen | C19: =SUM(C9:C18) -> 6.0776519e+08 | D19: 10. | E19: Kiadások összesen | F19: =SUM(F10:F18) -> 903571176
A20: 11. | B20: Fejlesztési célú hitel felvétel | D20: 11. | E20: Elszámolás központi költségvetéssel | F20: 12218519
A21: 12. | B21: Előző évi költségvetési maradvány igénybevétele, intézményi támogatás | C21: ='1. mell._ Önkormányzat összesen'!C54 -> 642088967 | D21: 12. | F21: ='1. mell._ Önkormányzat összesen'!C82 -> 334064462
A22: 13. | B22: Finanszírozási bevételek összesen | C22: =C21 -> 642088967 | D22: 13. | E22: Finanszírozási kiadások összesen | F22: =SUM(F20:F21) -> 346282981
A23: 14. | D23: 14.
A24: 15. | D24: 15.
A25: 16. | B25: BEVÉTELEK ÖSSZESEN | C25: =C19+C22 -> 1.2498542e+09 | D25: 16. | E25: KIADÁSOK ÖSSZESEN | F25: =F19+F22 -> 1249854157

Sheet 11.mell_Műk.mérleg
E2: …/2018. (II…) önkormányzati rendelet 11. melléklete
A4: Az önkormányzat működési és felhalmozási bevételeinek és
A5: kiadásainak mérlegszerű bemutatása
A6: 2018.év
F7: Ezer Ft
B8: Bevételek | C8: 2018. évi terv | E8: Kiadások | F8: 2018. évi terv
B9: A | C9: B | E9: C | F9: D
A10: 1. | B10: Önkormányzatok működési támogatása | C10: ='10.mell_Összevont mérleg'!C10 -> 328338457 | D10: 1. | E10: Személyi juttatások | F10: ='10.mell_Összevont mérleg'!F10 -> 348031827
A11: 2. | B11: Működési célú támogatások államháztartáson belülről | C11: ='10.mell_Összevont mérleg'!C11 -> 109412033 | D11: 2. | E11: Munkaadókat terhelő járulékok és Szociális Hozzájárulási Adó | F11: ='10.mell_Összevont mérleg'!F11 -> 63371208
A12: 3. | B12: Közhatalmi bevételek | C12: ='10.mell_Összevont mérleg'!C13 -> 103000000 | D12: 3. | E12: Dologi kiadások | F12: ='10.mell_Összevont mérleg'!F12 -> 186478531
A13: 4. | B13: Működési bevételek | C13: ='10.mell_Összevont mérleg'!C14 -> 57055700 | D13: 4.
A14: 5. | B14: Működési célú átvett pénzeszközök | C14: ='10.mell_Összevont mérleg'!C17 -> 600000 | D14: 5. | E14: Ellátottak pénzbeli juttatásai | F14: ='10.mell_Összevont mérleg'!F13 -> 20253000
A15: 6. | B15: Működési célú bevételek összesen | C15: =SUM(C10:C14) -> 5.9840619e+08 | D15: 6. | E15: Egyéb működési célú támogatások | F15: ='10.mell_Összevont mérleg'!F14 -> 9598000
A16: 7. | B16: Hitelfelvétel ( működési célú likvid hitel ) | D16: 7. | E16: Tartalékok (általános és cél tartalék) | F16: ='10.mell_Összevont mérleg'!F18 -> 10714186
A17: 8. | B17: Előző évi költségvetési maradvány igénybevétele ( működési ) | C17: =984729733-598406190 -> 386323543 | D17: 8. | E17: Egyéb működési és felhalmozási kiadások (6+7) | F17: =F15+F16 -> 20312186
A18: 9. | D18: 9. | E18: Kiadások összesen | F18: =F10+F11+F12+F14+F17 -> 638446752
A19: 10. | D19: 10. | E19: Elszámolás központi költségvetéssel | F19: ='10.mell_Összevont mérleg'!F20 -> 12218519
A20: 11. | D20: 11. | F20: ='10.mell_Összevont mérleg'!F21 -> 334064462
A21: 12. | B21: Finanszírozási bevételek összesen | C21: =SUM(C17:C20) -> 386323543 | D21: 12. | E21: Finanszírozási kiadások összesen | F21: =SUM(F19:F20) -> 346282981
A22: 13. | D22: 13.
A23: 14. | B23: MŰKÖDÉSI CÉLÚ BEVÉTELEK ÖSSZESEN | C23: =C15+C21 -> 9.8472973e+08 | D23: 14. | E23: MŰKÖDÉSI CÉLÚ KIADÁSOK ÖSSZESEN | F23: =F18+F21 -> 984729733

Sheet 12.mell. Felhalm.mérleg
E2: …/2018. (II…) önkormányzati rendelet 12. melléklete
A4: Az önkormányzat működési és felhalmozási bevételek és
A5: kiadások előirányzata mérlegszerű bemutatása
A6: 2018. év
F7: Ezer Ft
B8: Bevételek | C8: 2018. évi terv | E8: Kiadások | F8: 2018. évi terv
B10: A | C10: B | E10: C | F10: D
A11: 15. | B11: Felhalmozási célú önkormányzati támogatás | D11: 15. | E11: Felújítási, beruházási kiadások ÁFÁ-val együtt | F11: ='10.mell_Összevont mérleg'!F17 -> 1295000
A12: 16. | B12: Felhalmozási bevételek | C12: ='10.mell_Összevont mérleg'!C16 -> 635000 | D12: 16. | E12: Immateriális javak vásárlása
A13: 17. | B13: Felhalmozási célú átvett pénzeszköz | C13: ='10.mell_Összevont mérleg'!C18 -> 8724000 | D13: 17. | E13: Ingatlanok vásárlása, létesítése
A14: 18. | B14: Egyéb felhalmozási célú átvett pénzeszköz | D14: 18. | E14: Tárgyi eszközök beszerzése
A15: 19. | B15: Átvett pénzeszközök összesen | C15: =SUM(C12:C14) -> 9359000 | D15: 19. | E15: Beruházási kiadások ÁFÁ-val | F15: ='10.mell_Összevont mérleg'!F16 -> 263829424
A16: 20. | B16: Felhalmozási célú áfa vissztérítés | D16: 20. | E16: Egyéb felhalmozási célú támogatások átadása államháztartáson belülre
A17: 21. | B17: Felhalmozási bevételek összesen: | C17: =SUM(C15) -> 9359000 | D17: 21. | E17: Egyéb felhalmozási célú támogatások átadása államháztartáson kivülre
A18: 22. | B18: Előző évi költségvetési maradvány igénybevétele ( felhalmozási ) | C18: =265124424-9359000 -> 255765424 | D18: 22. | E18: Felhalmozási céltartalék
A19: 23. | B19: Fejlesztési célú hitel igénybevétele | D19: 23. | E19: Egyéb felhalmozási célú kiadások összesen
A20: 24. | B20: Finanszírozási bevételek összesen | C20: =SUM(C18:C19) -> 255765424 | D20: 24. | E20: Felhalmozási kiadások összesen | F20: =F11+F15 -> 265124424
A21: 25. | D21: 25. | E21: Hosszúlejáratú hitelek törlesztése
A22: 26. | D22: 26. | E22: Finanszírozási kiadások összesen
