Workbook

Sheet 1. mell._ Önkormányzat összesen
D1: …/2018. (II…) önkormányzati rendelet 1. melléklete
A2: Cibakháza Nagyközség Önkormányzatának és intézményeinek bevételei és kiadásai előirányzat-csoportok, kiemelt előirányzatok szerint
A3: Kötelező, önként vállalt és államigazgatási feladat szerint
A5: Rovatrend | B5: Megnevezés | C5: 2018. évi eredeti előirányzat | D5: ebből
D6: Kötelező feladatok | E6: Önként vállalt feladatok | F6: Államigazgatási feladatok
A7: B1 | B7: Működési célú támogatások államháztartáson belülről | C7: ='2. mell._ Önkormányzat'!C7+'3. mell._ Közös Hivatal'!C7+'4. mell._ Nagyk. Könyvtár'!C7+'5. mell._ Műv.Ház.'!C7+'6. mell._Bölcsőde'!C7+'7. mell._Óvoda'!C7+'8. mell_KSZKI'!C7+'9.mell_Gond.Kp.'!C7 -> 437750490 | D7: ='2. mell._ Önkormányzat'!D7+'3. mell._ Közös Hivatal'!D7+'4. mell._ Nagyk. Könyvtár'!D7+'5. mell._ Műv.Ház.'!D7+'6. mell._Bölcsőde'!D7+'7. mell._Óvoda'!D7+'8. mell_KSZKI'!D7+'9.mell_Gond.Kp.'!D7 -> 362889090 | E7: ='2. mell._ Önkormányzat'!E7+'3. mell._ Közös Hivatal'!E7+'4. mell._ Nagyk. Könyvtár'!E7+'5. mell._ Műv.Ház.'!E7+'6. mell._Bölcsőde'!E7+'7. mell._Óvoda'!E7+'8. mell_KSZKI'!E7+'9.mell_Gond.Kp.'!E7 -> 15413000 | F7: ='2. mell._ Önkormányzat'!F7+'3. mell._ Közös Hivatal'!F7+'4. mell._ Nagyk. Könyvtár'!F7+'5. mell._ Műv.Ház.'!F7+'6. mell._Bölcsőde'!F7+'7. mell._Óvoda'!F7+'8. mell_KSZKI'!F7+'9.mell_Gond.Kp.'!F7 -> 59448400
B8: B11 Önkormányzatok működési támogatásai | C8: ='2. mell._ Önkormányzat'!C8+'3. mell._ Közös Hivatal'!C8+'4. mell._ Nagyk. Könyvtár'!C8+'5. mell._ Műv.Ház.'!C8+'6. mell._Bölcsőde'!C8+'7. mell._Óvoda'!C8+'8. mell_KSZKI'!C8+'9.mell_Gond.Kp.'!C8 -> 328338457 | D8: ='2. mell._ Önkormányzat'!D8+'3. mell._ Közös Hivatal'!D8+'4. mell._ Nagyk. Könyvtár'!D8+'5. mell._ Műv.Ház.'!D8+'6. mell._Bölcsőde'!D8+'7. mell._Óvoda'!D8+'8. mell_KSZKI'!D8+'9.mell_Gond.Kp.'!D8 -> 253477057 | E8: ='2. mell._ Önkormányzat'!E8+'3. mell._ Közös Hivatal'!E8+'4. mell._ Nagyk. Könyvtár'!E8+'5. mell._ Műv.Ház.'!E8+'6. mell._Bölcsőde'!E8+'7. mell._Óvoda'!E8+'8. mell_KSZKI'!E8+'9.mell_Gond.Kp.'!E8 -> 15413000 | F8: ='2. mell._ Önkormányzat'!F8+'3. mell._ Közös Hivatal'!F8+'4. mell._ Nagyk. Könyvtár'!F8+'5. mell._ Műv.Ház.'!F8+'6. mell._Bölcsőde'!F8+'7. mell._Óvoda'!F8+'8. mell_KSZKI'!F8+'9.mell_Gond.Kp.'!F8 -> 59448400
B9: B111 Helyi önkormányzatok működésének általános támogatása | C9: ='2. mell._ Önkormányzat'!C9+'3. mell._ Közös Hivatal'!C9+'4. mell._ Nagyk. Könyvtár'!C9+'5. mell._ Műv.Ház.'!C9+'6. mell._Bölcsőde'!C9+'7. mell._Óvoda'!C9+'8. mell_KSZKI'!C9+'9.mell_Gond.Kp.'!C9 -> 107231759 | D9: ='2. mell._ Önkormányzat'!D9+'3. mell._ Közös Hivatal'!D9+'4. mell._ Nagyk. Könyvtár'!D9+'5. mell._ Műv.Ház.'!D9+'6. mell._Bölcsőde'!D9+'7. mell._Óvoda'!D9+'8. mell_KSZKI'!D9+'9.mell_Gond.Kp.'!D9 -> 47783359 | E9: ='2. mell._ Önkormányzat'!E9+'3. mell._ Közös Hivatal'!E9+'4. mell._ Nagyk. Könyvtár'!E9+'5. mell._ Műv.Ház.'!E9+'6. mell._Bölcsőde'!E9+'7. mell._Óvoda'!E9+'8. mell_KSZKI'!E9+'9.mell_Gond.Kp.'!E9 -> 0 | F9: ='2. mell._ Önkormányzat'!F9+'3. mell._ Közös Hivatal'!F9+'4. mell._ Nagyk. Könyvtár'!F9+'5. mell._ Műv.Ház.'!F9+'6. mell._Bölcsőde'!F9+'7. mell._Óvoda'!F9+'8. mell_KSZKI'!F9+'9.mell_Gond.Kp.'!F9 -> 59448400
B10: Települési önkormányzatok működési támogatásai | C10: ='2. mell._ Önkormányzat'!C10+'3. mell._ Közös Hivatal'!C10+'4. mell._ Nagyk. Könyvtár'!C10+'5. mell._ Műv.Ház.'!C10+'6. mell._Bölcsőde'!C10+'7. mell._Óvoda'!C10+'8. mell_KSZKI'!C10+'9.mell_Gond.Kp.'!C10 -> 0 | D10: ='2. mell._ Önkormányzat'!D10+'3. mell._ Közös Hivatal'!D10+'4. mell._ Nagyk. Könyvtár'!D10+'5. mell._ Műv.Ház.'!D10+'6. mell._Bölcsőde'!D10+'7. mell._Óvoda'!D10+'8. mell_KSZKI'!D10+'9.mell_Gond.Kp.'!D10 -> 0 | E10: ='2. mell._ Önkormányzat'!E10+'3. mell._ Közös Hivatal'!E10+'4. mell._ Nagyk. Könyvtár'!E10+'5. mell._ Műv.Ház.'!E10+'6. mell._Bölcsőde'!E10+'7. mell._Óvoda'!E10+'8. mell_KSZKI'!E10+'9.mell_Gond.Kp.'!E10 -> 0 | F10: ='2. mell._ Önkormányzat'!F10+'3. mell._ Közös Hivatal'!F10+'4. mell._ Nagyk. Könyvtár'!F10+'5. mell._ Műv.Ház.'!F10+'6. mell._Bölcsőde'!F10+'7. mell._Óvoda'!F10+'8. mell_KSZKI'!F10+'9.mell_Gond.Kp.'!F10 -> 0
B11: Önkormányzati Hivatal működésének támogatása | C11: ='2. mell._ Önkormányzat'!C11+'3. mell._ Közös Hivatal'!C11+'4. mell._ Nagyk. Könyvtár'!C11+'5. mell._ Műv.Ház.'!C11+'6. mell._Bölcsőde'!C11+'7. mell._Óvoda'!C11+'8. mell_KSZKI'!C11+'9.mell_Gond.Kp.'!C11 -> 59448400 | D11: ='2. mell._ Önkormányzat'!D11+'3. mell._ Közös Hivatal'!D11+'4. mell._ Nagyk. Könyvtár'!D11+'5. mell._ Műv.Ház.'!D11+'6. mell._Bölcsőde'!D11+'7. mell._Óvoda'!D11+'8. mell_KSZKI'!D11+'9.mell_Gond.Kp.'!D11 -> 0 | E11: ='2. mell._ Önkormányzat'!E11+'3. mell._ Közös Hivatal'!E11+'4. mell._ Nagyk. Könyvtár'!E11+'5. mell._ Műv.Ház.'!E11+'6. mell._Bölcsőde'!E11+'7. mell._Óvoda'!E11+'8. mell_KSZKI'!E11+'9.mell_Gond.Kp.'!E11 -> 0 | F11: ='2. mell._ Önkormányzat'!F11+'3. mell._ Közös Hivatal'!F11+'4. mell._ Nagyk. Könyvtár'!F11+'5. mell._ Műv.Ház.'!F11+'6. mell._Bölcsőde'!F11+'7. mell._Óvoda'!F11+'8. mell_KSZKI'!F11+'9.mell_Gond.Kp.'!F11 -> 59448400
B12: Település-üzemeltetéshez kapcs. feladatellátás támogatása | C12: ='2. mell._ Önkormányzat'!C12+'3. mell._ Közös Hivatal'!C12+'4. mell._ Nagyk. Könyvtár'!C12+'5. mell._ Műv.Ház.'!C12+'6. mell._Bölcsőde'!C12+'7. mell._Óvoda'!C12+'8. mell_KSZKI'!C12+'9.mell_Gond.Kp.'!C12 -> 46492359 | D12: ='2. mell._ Önkormányzat'!D12+'3. mell._ Közös Hivatal'!D12+'4. mell._ Nagyk. Könyvtár'!D12+'5. mell._ Műv.Ház.'!D12+'6. mell._Bölcsőde'!D12+'7. mell._Óvoda'!D12+'8. mell_KSZKI'!D12+'9.mell_Gond.Kp.'!D12 -> 46492359 | E12: ='2. mell._ Önkormányzat'!E12+'3. mell._ Közös Hivatal'!E12+'4. mell._ Nagyk. Könyvtár'!E12+'5. mell._ Műv.Ház.'!E12+'6. mell._Bölcsőde'!E12+'7. mell._Óvoda'!E12+'8. mell_KSZKI'!E12+'9.mell_Gond.Kp.'!E12 -> 0 | F12: ='2. mell._ Önkormányzat'!F12+'3. mell._ Közös Hivatal'!F12+'4. mell._ Nagyk. Könyvtár'!F12+'5. mell._ Műv.Ház.'!F12+'6. mell._Bölcsőde'!F12+'7. mell._Óvoda'!F12+'8. mell_KSZKI'!F12+'9.mell_Gond.Kp.'!F12 -> 0
B13: Polgármesteri illetmény támogatása | C13: ='2. mell._ Önkormányzat'!C13+'3. mell._ Közös Hivatal'!C13+'4. mell._ Nagyk. Könyvtár'!C13+'5. mell._ Műv.Ház.'!C13+'6. mell._Bölcsőde'!C13+'7. mell._Óvoda'!C13+'8. mell_KSZKI'!C13+'9.mell_Gond.Kp.'!C13 -> 1041000 | D13: ='2. mell._ Önkormányzat'!D13+'3. mell._ Közös Hivatal'!D13+'4. mell._ Nagyk. Könyvtár'!D13+'5. mell._ Műv.Ház.'!D13+'6. mell._Bölcsőde'!D13+'7. mell._Óvoda'!D13+'8. mell_KSZKI'!D13+'9.mell_Gond.Kp.'!D13 -> 1041000 | E13: ='2. mell._ Önkormányzat'!E13+'3. mell._ Közös Hivatal'!E13+'4. mell._ Nagyk. Könyvtár'!E13+'5. mell._ Műv.Ház.'!E13+'6. mell._Bölcsőde'!E13+'7. mell._Óvoda'!E13+'8. mell_KSZKI'!E13+'9.mell_Gond.Kp.'!E13 -> 0 | F13: ='2. mell._ Önkormányzat'!F13+'3. mell._ Közös Hivatal'!F13+'4. mell._ Nagyk. Könyvtár'!F13+'5. mell._ Műv.Ház.'!F13+'6. mell._Bölcsőde'!F13+'7. mell._Óvoda'!F13+'8. mell_KSZKI'!F13+'9.mell_Gond.Kp.'!F13 -> 0
B14: Nem közművel összegyűjtött szennyvíz ártalmatlanítása | C14: ='2. mell._ Önkormányzat'!C14+'3. mell._ Közös Hivatal'!C14+'4. mell._ Nagyk. Könyvtár'!C14+'5. mell._ Műv.Ház.'!C14+'6. mell._Bölcsőde'!C14+'7. mell._Óvoda'!C14+'8. mell_KSZKI'!C14+'9.mell_Gond.Kp.'!C14 -> 250000 | D14: ='2. mell._ Önkormányzat'!D14+'3. mell._ Közös Hivatal'!D14+'4. mell._ Nagyk. Könyvtár'!D14+'5. mell._ Műv.Ház.'!D14+'6. mell._Bölcsőde'!D14+'7. mell._Óvoda'!D14+'8. mell_KSZKI'!D14+'9.mell_Gond.Kp.'!D14 -> 250000 | E14: ='2. mell._ Önkormányzat'!E14+'3. mell._ Közös Hivatal'!E14+'4. mell._ Nagyk. Könyvtár'!E14+'5. mell._ Műv.Ház.'!E14+'6. mell._Bölcsőde'!E14+'7. mell._Óvoda'!E14+'8. mell_KSZKI'!E14+'9.mell_Gond.Kp.'!E14 -> 0 | F14: ='2. mell._ Önkormányzat'!F14+'3. mell._ Közös Hivatal'!F14+'4. mell._ Nagyk. Könyvtár'!F14+'5. mell._ Műv.Ház.'!F14+'6. mell._Bölcsőde'!F14+'7. mell._Óvoda'!F14+'8. mell_KSZKI'!F14+'9.mell_Gond.Kp.'!F14 -> 0
B15: B112 Települési önkormányzatok egyes köznevelési fel. Támogatása | C15: ='2. mell._ Önkormányzat'!C15+'3. mell._ Közös Hivatal'!C15+'4. mell._ Nagyk. Könyvtár'!C15+'5. mell._ Műv.Ház.'!C15+'6. mell._Bölcsőde'!C15+'7. mell._Óvoda'!C15+'8. mell_KSZKI'!C15+'9.mell_Gond.Kp.'!C15 -> 65552000 | D15: ='2. mell._ Önkormányzat'!D15+'3. mell._ Közös Hivatal'!D15+'4. mell._ Nagyk. Könyvtár'!D15+'5. mell._ Műv.Ház.'!D15+'6. mell._Bölcsőde'!D15+'7. mell._Óvoda'!D15+'8. mell_KSZKI'!D15+'9.mell_Gond.Kp.'!D15 -> 65552000 | E15: ='2. mell._ Önkormányzat'!E15+'3. mell._ Közös Hivatal'!E15+'4. mell._ Nagyk. Könyvtár'!E15+'5. mell._ Műv.Ház.'!E15+'6. mell._Bölcsőde'!E15+'7. mell._Óvoda'!E15+'8. mell_KSZKI'!E15+'9.mell_Gond.Kp.'!E15 -> 0 | F15: ='2. mell._ Önkormányzat'!F15+'3. mell._ Közös Hivatal'!F15+'4. mell._ Nagyk. Könyvtár'!F15+'5. mell._ Műv.Ház.'!F15+'6. mell._Bölcsőde'!F15+'7. mell._Óvoda'!F15+'8. mell_KSZKI'!F15+'9.mell_Gond.Kp.'!F15 -> 0
B16: Óvodaped. És óvodaped. Munk. Közv. Segítők bértámogatása | C16: ='2. mell._ Önkormányzat'!C16+'3. mell._ Közös Hivatal'!C16+'4. mell._ Nagyk. Könyvtár'!C16+'5. mell._ Műv.Ház.'!C16+'6. mell._Bölcsőde'!C16+'7. mell._Óvoda'!C16+'8. mell_KSZKI'!C16+'9.mell_Gond.Kp.'!C16 -> 56089800 | D16: ='2. mell._ Önkormányzat'!D16+'3. mell._ Közös Hivatal'!D16+'4. mell._ Nagyk. Könyvtár'!D16+'5. mell._ Műv.Ház.'!D16+'6. mell._Bölcsőde'!D16+'7. mell._Óvoda'!D16+'8. mell_KSZKI'!D16+'9.mell_Gond.Kp.'!D16 -> 56089800 | E16: ='2. mell._ Önkormányzat'!E16+'3. mell._ Közös Hivatal'!E16+'4. mell._ Nagyk. Könyvtár'!E16+'5. mell._ Műv.Ház.'!E16+'6. mell._Bölcsőde'!E16+'7. mell._Óvoda'!E16+'8. mell_KSZKI'!E16+'9.mell_Gond.Kp.'!E16 -> 0 | F16: ='2. mell._ Önkormányzat'!F16+'3. mell._ Közös Hivatal'!F16+'4. mell._ Nagyk. Könyvtár'!F16+'5. mell._ Műv.Ház.'!F16+'6. mell._Bölcsőde'!F16+'7. mell._Óvoda'!F16+'8. mell_KSZKI'!F16+'9.mell_Gond.Kp.'!F16 -> 0
B17: Óvodaműködtetés támogatása | C17: ='2. mell._ Önkormányzat'!C17+'3. mell._ Közös Hivatal'!C17+'4. mell._ Nagyk. Könyvtár'!C17+'5. mell._ Műv.Ház.'!C17+'6. mell._Bölcsőde'!C17+'7. mell._Óvoda'!C17+'8. mell_KSZKI'!C17+'9.mell_Gond.Kp.'!C17 -> 8660200 | D17: ='2. mell._ Önkormányzat'!D17+'3. mell._ Közös Hivatal'!D17+'4. mell._ Nagyk. Könyvtár'!D17+'5. mell._ Műv.Ház.'!D17+'6. mell._Bölcsőde'!D17+'7. mell._Óvoda'!D17+'8. mell_KSZKI'!D17+'9.mell_Gond.Kp.'!D17 -> 8660200 | E17: ='2. mell._ Önkormányzat'!E17+'3. mell._ Közös Hivatal'!E17+'4. mell._ Nagyk. Könyvtár'!E17+'5. mell._ Műv.Ház.'!E17+'6. mell._Bölcsőde'!E17+'7. mell._Óvoda'!E17+'8. mell_KSZKI'!E17+'9.mell_Gond.Kp.'!E17 -> 0 | F17: ='2. mell._ Önkormányzat'!F17+'3. mell._ Közös Hivatal'!F17+'4. mell._ Nagyk. Könyvtár'!F17+'5. mell._ Műv.Ház.'!F17+'6. mell._Bölcsőde'!F17+'7. mell._Óvoda'!F17+'8. mell_KSZKI'!F17+'9.mell_Gond.Kp.'!F17 -> 0
B18: Kiegészítő támogatás az óvodapedagógusok min-ből adódó többletkiad.hoz | C18: ='2. mell._ Önkormányzat'!C18+'3. mell._ Közös Hivatal'!C18+'4. mell._ Nagyk. Könyvtár'!C18+'5. mell._ Műv.Ház.'!C18+'6. mell._Bölcsőde'!C18+'7. mell._Óvoda'!C18+'8. mell_KSZKI'!C18+'9.mell_Gond.Kp.'!C18 -> 802000 | D18: ='2. mell._ Önkormányzat'!D18+'3. mell._ Közös Hivatal'!D18+'4. mell._ Nagyk. Könyvtár'!D18+'5. mell._ Műv.Ház.'!D18+'6. mell._Bölcsőde'!D18+'7. mell._Óvoda'!D18+'8. mell_KSZKI'!D18+'9.mell_Gond.Kp.'!D18 -> 802000 | E18: ='2. mell._ Önkormányzat'!E18+'3. mell._ Közös Hivatal'!E18+'4. mell._ Nagyk. Könyvtár'!E18+'5. mell._ Műv.Ház.'!E18+'6. mell._Bölcsőde'!E18+'7. mell._Óvoda'!E18+'8. mell_KSZKI'!E18+'9.mell_Gond.Kp.'!E18 -> 0 | F18: ='2. mell._ Önkormányzat'!F18+'3. mell._ Közös Hivatal'!F18+'4. mell._ Nagyk. Könyvtár'!F18+'5. mell._ Műv.Ház.'!F18+'6. mell._Bölcsőde'!F18+'7. mell._Óvoda'!F18+'8. mell_KSZKI'!F18+'9.mell_Gond.Kp.'!F18 -> 0
B19: B113. Telep. önkorm.szociális, gyermekjóléti és gyermekétkeztetési feldatainak támogatása | C19: ='2. mell._ Önkormányzat'!C19+'3. mell._ Közös Hivatal'!C19+'4. mell._ Nagyk. Könyvtár'!C19+'5. mell._ Műv.Ház.'!C19+'6. mell._Bölcsőde'!C19+'7. mell._Óvoda'!C19+'8. mell_KSZKI'!C19+'9.mell_Gond.Kp.'!C19 -> 150613058 | D19: ='2. mell._ Önkormányzat'!D19+'3. mell._ Közös Hivatal'!D19+'4. mell._ Nagyk. Könyvtár'!D19+'5. mell._ Műv.Ház.'!D19+'6. mell._Bölcsőde'!D19+'7. mell._Óvoda'!D19+'8. mell_KSZKI'!D19+'9.mell_Gond.Kp.'!D19 -> 135200058 | E19: ='2. mell._ Önkormányzat'!E19+'3. mell._ Közös Hivatal'!E19+'4. mell._ Nagyk. Könyvtár'!E19+'5. mell._ Műv.Ház.'!E19+'6. mell._Bölcsőde'!E19+'7. mell._Óvoda'!E19+'8. mell_KSZKI'!E19+'9.mell_Gond.Kp.'!E19 -> 15413000 | F19: ='2. mell._ Önkormányzat'!F19+'3. mell._ Közös Hivatal'!F19+'4. mell._ Nagyk. Könyvtár'!F19+'5. mell._ Műv.Ház.'!F19+'6. mell._Bölcsőde'!F19+'7. mell._Óvoda'!F19+'8. mell_KSZKI'!F19+'9.mell_Gond.Kp.'!F19 -> 0
... B32: Közfoglalkoztatás támogatása | C32: ='2. mell._ Önkormányzat'!C32+'3. mell._ Közös Hivatal'!C32+'4. mell._ Nagyk. Könyvtár'!C32+'5. mell._ Műv.Ház.'!C32+'6. mell._Bölcsőde'!C32+'7. mell._Óvoda'!C32+'8. mell_KSZKI'!C32+'9.mell_Gond.Kp.'!C32 -> 93893633 | D32: ='2. mell._ Önkormányzat'!D32+'3. mell._ Közös Hivatal'!D32+'4. mell._ Nagyk. Könyvtár'!D32+'5. mell._ Műv.Ház.'!D32+'6. mell._Bölcsőde'!D32+'7. mell._Óvoda'!D32+'8. mell_KSZKI'!D32+'9.mell_Gond.Kp.'!D32 -> 93893633 | E32: ='2. mell._ Önkormányzat'!E32+'3. mell._ Közös Hivatal'!E32+'4. mell._ Nagyk. Könyvtár'!E32+'5. mell._ Műv.Ház.'!E32+'6. mell._Bölcsőde'!E32+'7. mell._Óvoda'!E32+'8. mell_KSZKI'!E32+'9.mell_Gond.Kp.'!E32 -> 0 | F32: ='2. mell._ Önkormányzat'!F32+'3. mell._ Közös Hivatal'!F32+'4. mell._ Nagyk. Könyvtár'!F32+'5. mell._ Műv.Ház.'!F32+'6. mell._Bölcsőde'!F32+'7. mell._Óvoda'!F32+'8. mell_KSZKI'!F32+'9.mell_Gond.Kp.'!F32 -> 0
A33: B2 | B33: Felhalmozási célú támogatások áht. belülről | C33: ='2. mell._ Önkormányzat'!C33+'3. mell._ Közös Hivatal'!C33+'4. mell._ Nagyk. Könyvtár'!C33+'5. mell._ Műv.Ház.'!C33+'6. mell._Bölcsőde'!C33+'7. mell._Óvoda'!C33+'8. mell_KSZKI'!C33+'9.mell_Gond.Kp.'!C33 -> 0 | D33: ='2. mell._ Önkormányzat'!D33+'3. mell._ Közös Hivatal'!D33+'4. mell._ Nagyk. Könyvtár'!D33+'5. mell._ Műv.Ház.'!D33+'6. mell._Bölcsőde'!D33+'7. mell._Óvoda'!D33+'8. mell_KSZKI'!D33+'9.mell_Gond.Kp.'!D33 -> 0 | E33: ='2. mell._ Önkormányzat'!E33+'3. mell._ Közös Hivatal'!E33+'4. mell._ Nagyk. Könyvtár'!E33+'5. mell._ Műv.Ház.'!E33+'6. mell._Bölcsőde'!E33+'7. mell._Óvoda'!E33+'8. mell_KSZKI'!E33+'9.mell_Gond.Kp.'!E33 -> 0 | F33: ='2. mell._ Önkormányzat'!F33+'3. mell._ Közös Hivatal'!F33+'4. mell._ Nagyk. Könyvtár'!F33+'5. mell._ Műv.Ház.'!F33+'6. mell._Bölcsőde'!F33+'7. mell._Óvoda'!F33+'8. mell_KSZKI'!F33+'9.mell_Gond.Kp.'!F33 -> 0
A34: B3 | B34: Közhatalmi bevételek | C34: ='2. mell._ Önkormányzat'!C34+'3. mell._ Közös Hivatal'!C34+'4. mell._ Nagyk. Könyvtár'!C34+'5. mell._ Műv.Ház.'!C34+'6. mell._Bölcsőde'!C34+'7. mell._Óvoda'!C34+'8. mell_KSZKI'!C34+'9.mell_Gond.Kp.'!C34 -> 103000000 | D34: ='2. mell._ Önkormányzat'!D34+'3. mell._ Közös Hivatal'!D34+'4. mell._ Nagyk. Könyvtár'!D34+'5. mell._ Műv.Ház.'!D34+'6. mell._Bölcsőde'!D34+'7. mell._Óvoda'!D34+'8. mell_KSZKI'!D34+'9.mell_Gond.Kp.'!D34 -> 103000000 | E34: ='2. mell._ Önkormányzat'!E34+'3. mell._ Közös Hivatal'!E34+'4. mell._ Nagyk. Könyvtár'!E34+'5. mell._ Műv.Ház.'!E34+'6. mell._Bölcsőde'!E34+'7. mell._Óvoda'!E34+'8. mell_KSZKI'!E34+'9.mell_Gond.Kp.'!E34 -> 0 | F34: ='2. mell._ Önkormányzat'!F34+'3. mell._ Közös Hivatal'!F34+'4. mell._ Nagyk. Könyvtár'!F34+'5. mell._ Műv.Ház.'!F34+'6. mell._Bölcsőde'!F34+'7. mell._Óvoda'!F34+'8. mell_KSZKI'!F34+'9.mell_Gond.Kp.'!F34 -> 0
B35: B34. Vagyoni típusú adók | C35: ='2. mell._ Önkormányzat'!C35+'3. mell._ Közös Hivatal'!C35+'4. mell._ Nagyk. Könyvtár'!C35+'5. mell._ Műv.Ház.'!C35+'6. mell._Bölcsőde'!C35+'7. mell._Óvoda'!C35+'8. mell_KSZKI'!C35+'9.mell_Gond.Kp.'!C35 -> 27000000 | D35: ='2. mell._ Önkormányzat'!D35+'3. mell._ Közös Hivatal'!D35+'4. mell._ Nagyk. Könyvtár'!D35+'5. mell._ Műv.Ház.'!D35+'6. mell._Bölcsőde'!D35+'7. mell._Óvoda'!D35+'8. mell_KSZKI'!D35+'9.mell_Gond.Kp.'!D35 -> 27000000 | E35: ='2. mell._ Önkormányzat'!E35+'3. mell._ Közös Hivatal'!E35+'4. mell._ Nagyk. Könyvtár'!E35+'5. mell._ Műv.Ház.'!E35+'6. mell._Bölcsőde'!E35+'7. mell._Óvoda'!E35+'8. mell_KSZKI'!E35+'9.mell_Gond.Kp.'!E35 -> 0 | F35: ='2. mell._ Önkormányzat'!F35+'3. mell._ Közös Hivatal'!F35+'4. mell._ Nagyk. Könyvtár'!F35+'5. mell._ Műv.Ház.'!F35+'6. mell._Bölcsőde'!F35+'7. mell._Óvoda'!F35+'8. mell_KSZKI'!F35+'9.mell_Gond.Kp.'!F35 -> 0
B36: építményadó | C36: ='2. mell._ Önkormányzat'!C36+'3. mell._ Közös Hivatal'!C36+'4. mell._ Nagyk. Könyvtár'!C36+'5. mell._ Műv.Ház.'!C36+'6. mell._Bölcsőde'!C36+'7. mell._Óvoda'!C36+'8. mell_KSZKI'!C36+'9.mell_Gond.Kp.'!C36 -> 11500000 | D36: ='2. mell._ Önkormányzat'!D36+'3. mell._ Közös Hivatal'!D36+'4. mell._ Nagyk. Könyvtár'!D36+'5. mell._ Műv.Ház.'!D36+'6. mell._Bölcsőde'!D36+'7. mell._Óvoda'!D36+'8. mell_KSZKI'!D36+'9.mell_Gond.Kp.'!D36 -> 11500000 | E36: ='2. mell._ Önkormányzat'!E36+'3. mell._ Közös Hivatal'!E36+'4. mell._ Nagyk. Könyvtár'!E36+'5. mell._ Műv.Ház.'!E36+'6. mell._Bölcsőde'!E36+'7. mell._Óvoda'!E36+'8. mell_KSZKI'!E36+'9.mell_Gond.Kp.'!E36 -> 0 | F36: ='2. mell._ Önkormányzat'!F36+'3. mell._ Közös Hivatal'!F36+'4. mell._ Nagyk. Könyvtár'!F36+'5. mell._ Műv.Ház.'!F36+'6. mell._Bölcsőde'!F36+'7. mell._Óvoda'!F36+'8. mell_KSZKI'!F36+'9.mell_Gond.Kp.'!F36 -> 0
B37: magánszemélyek kommunális adója | C37: ='2. mell._ Önkormányzat'!C37+'3. mell._ Közös Hivatal'!C37+'4. mell._ Nagyk. Könyvtár'!C37+'5. mell._ Műv.Ház.'!C37+'6. mell._Bölcsőde'!C37+'7. mell._Óvoda'!C37+'8. mell_KSZKI'!C37+'9.mell_Gond.Kp.'!C37 -> 15500000 | D37: ='2. mell._ Önkormányzat'!D37+'3. mell._ Közös Hivatal'!D37+'4. mell._ Nagyk. Könyvtár'!D37+'5. mell._ Műv.Ház.'!D37+'6. mell._Bölcsőde'!D37+'7. mell._Óvoda'!D37+'8. mell_KSZKI'!D37+'9.mell_Gond.Kp.'!D37 -> 15500000 | E37: ='2. mell._ Önkormányzat'!E37+'3. mell._ Közös Hivatal'!E37+'4. mell._ Nagyk. Könyvtár'!E37+'5. mell._ Műv.Ház.'!E37+'6. mell._Bölcsőde'!E37+'7. mell._Óvoda'!E37+'8. mell_KSZKI'!E37+'9.mell_Gond.Kp.'!E37 -> 0 | F37: ='2. mell._ Önkormányzat'!F37+'3. mell._ Közös Hivatal'!F37+'4. mell._ Nagyk. Könyvtár'!F37+'5. mell._ Műv.Ház.'!F37+'6. mell._Bölcsőde'!F37+'7. mell._Óvoda'!F37+'8. mell_KSZKI'!F37+'9.mell_Gond.Kp.'!F37 -> 0
B38: B35. Termékek és szolgáltatások adói | C38: ='2. mell._ Önkormányzat'!C38+'3. mell._ Közös Hivatal'!C38+'4. mell._ Nagyk. Könyvtár'!C38+'5. mell._ Műv.Ház.'!C38+'6. mell._Bölcsőde'!C38+'7. mell._Óvoda'!C38+'8. mell_KSZKI'!C38+'9.mell_Gond.Kp.'!C38 -> 75000000 | D38: ='2. mell._ Önkormányzat'!D38+'3. mell._ Közös Hivatal'!D38+'4. mell._ Nagyk. Könyvtár'!D38+'5. mell._ Műv.Ház.'!D38+'6. mell._Bölcsőde'!D38+'7. mell._Óvoda'!D38+'8. mell_KSZKI'!D38+'9.mell_Gond.Kp.'!D38 -> 75000000 | E38: ='2. mell._ Önkormányzat'!E38+'3. mell._ Közös Hivatal'!E38+'4. mell._ Nagyk. Könyvtár'!E38+'5. mell._ Műv.Ház.'!E38+'6. mell._Bölcsőde'!E38+'7. mell._Óvoda'!E38+'8. mell_KSZKI'!E38+'9.mell_Gond.Kp.'!E38 -> 0 | F38: ='2. mell._ Önkormányzat'!F38+'3. mell._ Közös Hivatal'!F38+'4. mell._ Nagyk. Könyvtár'!F38+'5. mell._ Műv.Ház.'!F38+'6. mell._Bölcsőde'!F38+'7. mell._Óvoda'!F38+'8. mell_KSZKI'!F38+'9.mell_Gond.Kp.'!F38 -> 0
B39: iparűzési adó | C39: ='2. mell._ Önkormányzat'!C39+'3. mell._ Közös Hivatal'!C39+'4. mell._ Nagyk. Könyvtár'!C39+'5. mell._ Műv.Ház.'!C39+'6. mell._Bölcsőde'!C39+'7. mell._Óvoda'!C39+'8. mell_KSZKI'!C39+'9.mell_Gond.Kp.'!C39 -> 70000000 | D39: ='2. mell._ Önkormányzat'!D39+'3. mell._ Közös Hivatal'!D39+'4. mell._ Nagyk. Könyvtár'!D39+'5. mell._ Műv.Ház.'!D39+'6. mell._Bölcsőde'!D39+'7. mell._Óvoda'!D39+'8. mell_KSZKI'!D39+'9.mell_Gond.Kp.'!D39 -> 70000000 | E39: ='2. mell._ Önkormányzat'!E39+'3. mell._ Közös Hivatal'!E39+'4. mell._ Nagyk. Könyvtár'!E39+'5. mell._ Műv.Ház.'!E39+'6. mell._Bölcsőde'!E39+'7. mell._Óvoda'!E39+'8. mell_KSZKI'!E39+'9.mell_Gond.Kp.'!E39 -> 0 | F39: ='2. mell._ Önkormányzat'!F39+'3. mell._ Közös Hivatal'!F39+'4. mell._ Nagyk. Könyvtár'!F39+'5. mell._ Műv.Ház.'!F39+'6. mell._Bölcsőde'!F39+'7. mell._Óvoda'!F39+'8. mell_KSZKI'!F39+'9.mell_Gond.Kp.'!F39 -> 0
B40: gépjárműadó | C40: ='2. mell._ Önkormányzat'!C40+'3. mell._ Közös Hivatal'!C40+'4. mell._ Nagyk. Könyvtár'!C40+'5. mell._ Műv.Ház.'!C40+'6. mell._Bölcsőde'!C40+'7. mell._Óvoda'!C40+'8. mell_KSZKI'!C40+'9.mell_Gond.Kp.'!C40 -> 5000000 | D40: ='2. mell._ Önkormányzat'!D40+'3. mell._ Közös Hivatal'!D40+'4. mell._ Nagyk. Könyvtár'!D40+'5. mell._ Műv.Ház.'!D40+'6. mell._Bölcsőde'!D40+'7. mell._Óvoda'!D40+'8. mell_KSZKI'!D40+'9.mell_Gond.Kp.'!D40 -> 5000000 | E40: ='2. mell._ Önkormányzat'!E40+'3. mell._ Közös Hivatal'!E40+'4. mell._ Nagyk. Könyvtár'!E40+'5. mell._ Műv.Ház.'!E40+'6. mell._Bölcsőde'!E40+'7. mell._Óvoda'!E40+'8. mell_KSZKI'!E40+'9.mell_Gond.Kp.'!E40 -> 0 | F40: ='2. mell._ Önkormányzat'!F40+'3. mell._ Közös Hivatal'!F40+'4. mell._ Nagyk. Könyvtár'!F40+'5. mell._ Műv.Ház.'!F40+'6. mell._Bölcsőde'!F40+'7. mell._Óvoda'!F40+'8. mell_KSZKI'!F40+'9.mell_Gond.Kp.'!F40 -> 0
B41: B36. Egyéb közhatalmi bevételek | C41: ='2. mell._ Önkormányzat'!C41+'3. mell._ Közös Hivatal'!C41+'4. mell._ Nagyk. Könyvtár'!C41+'5. mell._ Műv.Ház.'!C41+'6. mell._Bölcsőde'!C41+'7. mell._Óvoda'!C41+'8. mell_KSZKI'!C41+'9.mell_Gond.Kp.'!C41 -> 1000000 | D41: ='2. mell._ Önkormányzat'!D41+'3. mell._ Közös Hivatal'!D41+'4. mell._ Nagyk. Könyvtár'!D41+'5. mell._ Műv.Ház.'!D41+'6. mell._Bölcsőde'!D41+'7. mell._Óvoda'!D41+'8. mell_KSZKI'!D41+'9.mell_Gond.Kp.'!D41 -> 1000000 | E41: ='2. mell._ Önkormányzat'!E41+'3. mell._ Közös Hivatal'!E41+'4. mell._ Nagyk. Könyvtár'!E41+'5. mell._ Műv.Ház.'!E41+'6. mell._Bölcsőde'!E41+'7. mell._Óvoda'!E41+'8. mell_KSZKI'!E41+'9.mell_Gond.Kp.'!E41 -> 0 | F41: ='2. mell._ Önkormányzat'!F41+'3. mell._ Közös Hivatal'!F41+'4. mell._ Nagyk. Könyvtár'!F41+'5. mell._ Műv.Ház.'!F41+'6. mell._Bölcsőde'!F41+'7. mell._Óvoda'!F41+'8. mell_KSZKI'!F41+'9.mell_Gond.Kp.'!F41 -> 0
B42: pótlékok, bírságok,igazg. szolg.díjak | C42: ='2. mell._ Önkormányzat'!C42+'3. mell._ Közös Hivatal'!C42+'4. mell._ Nagyk. Könyvtár'!C42+'5. mell._ Műv.Ház.'!C42+'6. mell._Bölcsőde'!C42+'7. mell._Óvoda'!C42+'8. mell_KSZKI'!C42+'9.mell_Gond.Kp.'!C42 -> 500000 | D42: ='2. mell._ Önkormányzat'!D42+'3. mell._ Közös Hivatal'!D42+'4. mell._ Nagyk. Könyvtár'!D42+'5. mell._ Műv.Ház.'!D42+'6. mell._Bölcsőde'!D42+'7. mell._Óvoda'!D42+'8. mell_KSZKI'!D42+'9.mell_Gond.Kp.'!D42 -> 500000 | E42: ='2. mell._ Önkormányzat'!E42+'3. mell._ Közös Hivatal'!E42+'4. mell._ Nagyk. Könyvtár'!E42+'5. mell._ Műv.Ház.'!E42+'6. mell._Bölcsőde'!E42+'7. mell._Óvoda'!E42+'8. mell_KSZKI'!E42+'9.mell_Gond.Kp.'!E42 -> 0 | F42: ='2. mell._ Önkormányzat'!F42+'3. mell._ Közös Hivatal'!F42+'4. mell._ Nagyk. Könyvtár'!F42+'5. mell._ Műv.Ház.'!F42+'6. mell._Bölcsőde'!F42+'7. mell._Óvoda'!F42+'8. mell_KSZKI'!F42+'9.mell_Gond.Kp.'!F42 -> 0
B43: talajterhelési díj | C43: ='2. mell._ Önkormányzat'!C43+'3. mell._ Közös Hivatal'!C43+'4. mell._ Nagyk. Könyvtár'!C43+'5. mell._ Műv.Ház.'!C43+'6. mell._Bölcsőde'!C43+'7. mell._Óvoda'!C43+'8. mell_KSZKI'!C43+'9.mell_Gond.Kp.'!C43 -> 500000 | D43: ='2. mell._ Önkormányzat'!D43+'3. mell._ Közös Hivatal'!D43+'4. mell._ Nagyk. Könyvtár'!D43+'5. mell._ Műv.Ház.'!D43+'6. mell._Bölcsőde'!D43+'7. mell._Óvoda'!D43+'8. mell_KSZKI'!D43+'9.mell_Gond.Kp.'!D43 -> 500000 | E43: ='2. mell._ Önkormányzat'!E43+'3. mell._ Közös Hivatal'!E43+'4. mell._ Nagyk. Könyvtár'!E43+'5. mell._ Műv.Ház.'!E43+'6. mell._Bölcsőde'!E43+'7. mell._Óvoda'!E43+'8. mell_KSZKI'!E43+'9.mell_Gond.Kp.'!E43 -> 0 | F43: ='2. mell._ Önkormányzat'!F43+'3. mell._ Közös Hivatal'!F43+'4. mell._ Nagyk. Könyvtár'!F43+'5. mell._ Műv.Ház.'!F43+'6. mell._Bölcsőde'!F43+'7. mell._Óvoda'!F43+'8. mell_KSZKI'!F43+'9.mell_Gond.Kp.'!F43 -> 0
A44: B4 | B44: Működési bevételek | C44: ='2. mell._ Önkormányzat'!C44+'3. mell._ Közös Hivatal'!C44+'4. mell._ Nagyk. Könyvtár'!C44+'5. mell._ Műv.Ház.'!C44+'6. mell._Bölcsőde'!C44+'7. mell._Óvoda'!C44+'8. mell_KSZKI'!C44+'9.mell_Gond.Kp.'!C44 -> 57055700 | D44: ='2. mell._ Önkormányzat'!D44+'3. mell._ Közös Hivatal'!D44+'4. mell._ Nagyk. Könyvtár'!D44+'5. mell._ Műv.Ház.'!D44+'6. mell._Bölcsőde'!D44+'7. mell._Óvoda'!D44+'8. mell_KSZKI'!D44+'9.mell_Gond.Kp.'!D44 -> 40555700 | E44: ='2. mell._ Önkormányzat'!E44+'3. mell._ Közös Hivatal'!E44+'4. mell._ Nagyk. Könyvtár'!E44+'5. mell._ Műv.Ház.'!E44+'6. mell._Bölcsőde'!E44+'7. mell._Óvoda'!E44+'8. mell_KSZKI'!E44+'9.mell_Gond.Kp.'!E44 -> 16000000 | F44: ='2. mell._ Önkormányzat'!F44+'3. mell._ Közös Hivatal'!F44+'4. mell._ Nagyk. Könyvtár'!F44+'5. mell._ Műv.Ház.'!F44+'6. mell._Bölcsőde'!F44+'7. mell._Óvoda'!F44+'8. mell_KSZKI'!F44+'9.mell_Gond.Kp.'!F44 -> 0
B45: B401.Készletértékesítés ellentértéke | C45: ='2. mell._ Önkormányzat'!C45+'3. mell._ Közös Hivatal'!C45+'4. mell._ Nagyk. Könyvtár'!C45+'5. mell._ Műv.Ház.'!C45+'6. mell._Bölcsőde'!C45+'7. mell._Óvoda'!C45+'8. mell_KSZKI'!C45+'9.mell_Gond.Kp.'!C45 -> 0 | D45: ='2. mell._ Önkormányzat'!D45+'3. mell._ Közös Hivatal'!D45+'4. mell._ Nagyk. Könyvtár'!D45+'5. mell._ Műv.Ház.'!D45+'6. mell._Bölcsőde'!D45+'7. mell._Óvoda'!D45+'8. mell_KSZKI'!D45+'9.mell_Gond.Kp.'!D45 -> 0 | E45: ='2. mell._ Önkormányzat'!E45+'3. mell._ Közös Hivatal'!E45+'4. mell._ Nagyk. Könyvtár'!E45+'5. mell._ Műv.Ház.'!E45+'6. mell._Bölcsőde'!E45+'7. mell._Óvoda'!E45+'8. mell_KSZKI'!E45+'9.mell_Gond.Kp.'!E45 -> 0 | F45: ='2. mell._ Önkormányzat'!F45+'3. mell._ Közös Hivatal'!F45+'4. mell._ Nagyk. Könyvtár'!F45+'5. mell._ Műv.Ház.'!F45+'6. mell._Bölcsőde'!F45+'7. mell._Óvoda'!F45+'8. mell_KSZKI'!F45+'9.mell_Gond.Kp.'!F45 -> 0
B46: B402. Szolgátatások ellenértéke | C46: ='2. mell._ Önkormányzat'!C46+'3. mell._ Közös Hivatal'!C46+'4. mell._ Nagyk. Könyvtár'!C46+'5. mell._ Műv.Ház.'!C46+'6. mell._Bölcsőde'!C46+'7. mell._Óvoda'!C46+'8. mell_KSZKI'!C46+'9.mell_Gond.Kp.'!C46 -> 9876850.4 | D46: ='2. mell._ Önkormányzat'!D46+'3. mell._ Közös Hivatal'!D46+'4. mell._ Nagyk. Könyvtár'!D46+'5. mell._ Műv.Ház.'!D46+'6. mell._Bölcsőde'!D46+'7. mell._Óvoda'!D46+'8. mell_KSZKI'!D46+'9.mell_Gond.Kp.'!D46 -> 9876850 | E46: ='2. mell._ Önkormányzat'!E46+'3. mell._ Közös Hivatal'!E46+'4. mell._ Nagyk. Könyvtár'!E46+'5. mell._ Műv.Ház.'!E46+'6. mell._Bölcsőde'!E46+'7. mell._Óvoda'!E46+'8. mell_KSZKI'!E46+'9.mell_Gond.Kp.'!E46 -> 0 | F46: ='2. mell._ Önkormányzat'!F46+'3. mell._ Közös Hivatal'!F46+'4. mell._ Nagyk. Könyvtár'!F46+'5. mell._ Műv.Ház.'!F46+'6. mell._Bölcsőde'!F46+'7. mell._Óvoda'!F46+'8. mell_KSZKI'!F46+'9.mell_Gond.Kp.'!F46 -> 0
B47: B404. Tulajdonosi bevételek | C47: ='2. mell._ Önkormányzat'!C47+'3. mell._ Közös Hivatal'!C47+'4. mell._ Nagyk. Könyvtár'!C47+'5. mell._ Műv.Ház.'!C47+'6. mell._Bölcsőde'!C47+'7. mell._Óvoda'!C47+'8. mell_KSZKI'!C47+'9.mell_Gond.Kp.'!C47 -> 6738600 | D47: ='2. mell._ Önkormányzat'!D47+'3. mell._ Közös Hivatal'!D47+'4. mell._ Nagyk. Könyvtár'!D47+'5. mell._ Műv.Ház.'!D47+'6. mell._Bölcsőde'!D47+'7. mell._Óvoda'!D47+'8. mell_KSZKI'!D47+'9.mell_Gond.Kp.'!D47 -> 6738600 | E47: ='2. mell._ Önkormányzat'!E47+'3. mell._ Közös Hivatal'!E47+'4. mell._ Nagyk. Könyvtár'!E47+'5. mell._ Műv.Ház.'!E47+'6. mell._Bölcsőde'!E47+'7. mell._Óvoda'!E47+'8. mell_KSZKI'!E47+'9.mell_Gond.Kp.'!E47 -> 0 | F47: ='2. mell._ Önkormányzat'!F47+'3. mell._ Közös Hivatal'!F47+'4. mell._ Nagyk. Könyvtár'!F47+'5. mell._ Műv.Ház.'!F47+'6. mell._Bölcsőde'!F47+'7. mell._Óvoda'!F47+'8. mell_KSZKI'!F47+'9.mell_Gond.Kp.'!F47 -> 0
B48: B405. Ellátási díj | C48: ='2. mell._ Önkormányzat'!C48+'3. mell._ Közös Hivatal'!C48+'4. mell._ Nagyk. Könyvtár'!C48+'5. mell._ Műv.Ház.'!C48+'6. mell._Bölcsőde'!C48+'7. mell._Óvoda'!C48+'8. mell_KSZKI'!C48+'9.mell_Gond.Kp.'!C48 -> 35690945 | D48: ='2. mell._ Önkormányzat'!D48+'3. mell._ Közös Hivatal'!D48+'4. mell._ Nagyk. Könyvtár'!D48+'5. mell._ Műv.Ház.'!D48+'6. mell._Bölcsőde'!D48+'7. mell._Óvoda'!D48+'8. mell_KSZKI'!D48+'9.mell_Gond.Kp.'!D48 -> 19690945 | E48: ='2. mell._ Önkormányzat'!E48+'3. mell._ Közös Hivatal'!E48+'4. mell._ Nagyk. Könyvtár'!E48+'5. mell._ Műv.Ház.'!E48+'6. mell._Bölcsőde'!E48+'7. mell._Óvoda'!E48+'8. mell_KSZKI'!E48+'9.mell_Gond.Kp.'!E48 -> 16000000 | F48: ='2. mell._ Önkormányzat'!F48+'3. mell._ Közös Hivatal'!F48+'4. mell._ Nagyk. Könyvtár'!F48+'5. mell._ Műv.Ház.'!F48+'6. mell._Bölcsőde'!F48+'7. mell._Óvoda'!F48+'8. mell_KSZKI'!F48+'9.mell_Gond.Kp.'!F48 -> 0
B49: B406. Kiszámlázott áltanos forgalmi adó | C49: ='2. mell._ Önkormányzat'!C49+'3. mell._ Közös Hivatal'!C49+'4. mell._ Nagyk. Könyvtár'!C49+'5. mell._ Műv.Ház.'!C49+'6. mell._Bölcsőde'!C49+'7. mell._Óvoda'!C49+'8. mell_KSZKI'!C49+'9.mell_Gond.Kp.'!C49 -> 4749304.7 | D49: ='2. mell._ Önkormányzat'!D49+'3. mell._ Közös Hivatal'!D49+'4. mell._ Nagyk. Könyvtár'!D49+'5. mell._ Műv.Ház.'!D49+'6. mell._Bölcsőde'!D49+'7. mell._Óvoda'!D49+'8. mell_KSZKI'!D49+'9.mell_Gond.Kp.'!D49 -> 4749305 | E49: ='2. mell._ Önkormányzat'!E49+'3. mell._ Közös Hivatal'!E49+'4. mell._ Nagyk. Könyvtár'!E49+'5. mell._ Műv.Ház.'!E49+'6. mell._Bölcsőde'!E49+'7. mell._Óvoda'!E49+'8. mell_KSZKI'!E49+'9.mell_Gond.Kp.'!E49 -> 0 | F49: ='2. mell._ Önkormányzat'!F49+'3. mell._ Közös Hivatal'!F49+'4. mell._ Nagyk. Könyvtár'!F49+'5. mell._ Műv.Ház.'!F49+'6. mell._Bölcsőde'!F49+'7. mell._Óvoda'!F49+'8. mell_KSZKI'!F49+'9.mell_Gond.Kp.'!F49 -> 0
A50: B5 | B50: Felhalmozási bevételek | C50: ='2. mell._ Önkormányzat'!C50+'3. mell._ Közös Hivatal'!C50+'4. mell._ Nagyk. Könyvtár'!C50+'5. mell._ Műv.Ház.'!C50+'6. mell._Bölcsőde'!C50+'7. mell._Óvoda'!C50+'8. mell_KSZKI'!C50+'9.mell_Gond.Kp.'!C50 -> 635000 | D50: ='2. mell._ Önkormányzat'!D50+'3. mell._ Közös Hivatal'!D50+'4. mell._ Nagyk. Könyvtár'!D50+'5. mell._ Műv.Ház.'!D50+'6. mell._Bölcsőde'!D50+'7. mell._Óvoda'!D50+'8. mell_KSZKI'!D50+'9.mell_Gond.Kp.'!D50 -> 635000 | E50: ='2. mell._ Önkormányzat'!E50+'3. mell._ Közös Hivatal'!E50+'4. mell._ Nagyk. Könyvtár'!E50+'5. mell._ Műv.Ház.'!E50+'6. mell._Bölcsőde'!E50+'7. mell._Óvoda'!E50+'8. mell_KSZKI'!E50+'9.mell_Gond.Kp.'!E50 -> 0 | F50: ='2. mell._ Önkormányzat'!F50+'3. mell._ Közös Hivatal'!F50+'4. mell._ Nagyk. Könyvtár'!F50+'5. mell._ Műv.Ház.'!F50+'6. mell._Bölcsőde'!F50+'7. mell._Óvoda'!F50+'8. mell_KSZKI'!F50+'9.mell_Gond.Kp.'!F50 -> 0
A51: B6 | B51: Működési célú átvett pénzeszközök | C51: ='2. mell._ Önkormányzat'!C51+'3. mell._ Közös Hivatal'!C51+'4. mell._ Nagyk. Könyvtár'!C51+'5. mell._ Műv.Ház.'!C51+'6. mell._Bölcsőde'!C51+'7. mell._Óvoda'!C51+'8. mell_KSZKI'!C51+'9.mell_Gond.Kp.'!C51 -> 600000 | D51: ='2. mell._ Önkormányzat'!D51+'3. mell._ Közös Hivatal'!D51+'4. mell._ Nagyk. Könyvtár'!D51+'5. mell._ Műv.Ház.'!D51+'6. mell._Bölcsőde'!D51+'7. mell._Óvoda'!D51+'8. mell_KSZKI'!D51+'9.mell_Gond.Kp.'!D51 -> 600000 | E51: ='2. mell._ Önkormányzat'!E51+'3. mell._ Közös Hivatal'!E51+'4. mell._ Nagyk. Könyvtár'!E51+'5. mell._ Műv.Ház.'!E51+'6. mell._Bölcsőde'!E51+'7. mell._Óvoda'!E51+'8. mell_KSZKI'!E51+'9.mell_Gond.Kp.'!E51 -> 0 | F51: ='2. mell._ Önkormányzat'!F51+'3. mell._ Közös Hivatal'!F51+'4. mell._ Nagyk. Könyvtár'!F51+'5. mell._ Műv.Ház.'!F51+'6. mell._Bölcsőde'!F51+'7. mell._Óvoda'!F51+'8. mell_KSZKI'!F51+'9.mell_Gond.Kp.'!F51 -> 0
A52: B7 | B52: Felhalmozási célú átvett pénzeszközök | C52: ='2. mell._ Önkormányzat'!C52+'3. mell._ Közös Hivatal'!C52+'4. mell._ Nagyk. Könyvtár'!C52+'5. mell._ Műv.Ház.'!C52+'6. mell._Bölcsőde'!C52+'7. mell._Óvoda'!C52+'8. mell_KSZKI'!C52+'9.mell_Gond.Kp.'!C52 -> 8724000 | D52: ='2. mell._ Önkormányzat'!D52+'3. mell._ Közös Hivatal'!D52+'4. mell._ Nagyk. Könyvtár'!D52+'5. mell._ Műv.Ház.'!D52+'6. mell._Bölcsőde'!D52+'7. mell._Óvoda'!D52+'8. mell_KSZKI'!D52+'9.mell_Gond.Kp.'!D52 -> 8724000 | E52: ='2. mell._ Önkormányzat'!E52+'3. mell._ Közös Hivatal'!E52+'4. mell._ Nagyk. Könyvtár'!E52+'5. mell._ Műv.Ház.'!E52+'6. mell._Bölcsőde'!E52+'7. mell._Óvoda'!E52+'8. mell_KSZKI'!E52+'9.mell_Gond.Kp.'!E52 -> 0 | F52: ='2. mell._ Önkormányzat'!F52+'3. mell._ Közös Hivatal'!F52+'4. mell._ Nagyk. Könyvtár'!F52+'5. mell._ Műv.Ház.'!F52+'6. mell._Bölcsőde'!F52+'7. mell._Óvoda'!F52+'8. mell_KSZKI'!F52+'9.mell_Gond.Kp.'!F52 -> 0
A53: KÖLTSÉGVETÉSI BEVÉTELEK ÖSSZESEN | C53: ='2. mell._ Önkormányzat'!C53+'3. mell._ Közös Hivatal'!C53+'4. mell._ Nagyk. Könyvtár'!C53+'5. mell._ Műv.Ház.'!C53+'6. mell._Bölcsőde'!C53+'7. mell._Óvoda'!C53+'8. mell_KSZKI'!C53+'9.mell_Gond.Kp.'!C53 -> 6.0776519e+08 | D53: ='2. mell._ Önkormányzat'!D53+'3. mell._ Közös Hivatal'!D53+'4. mell._ Nagyk. Könyvtár'!D53+'5. mell._ Műv.Ház.'!D53+'6. mell._Bölcsőde'!D53+'7. mell._Óvoda'!D53+'8. mell_KSZKI'!D53+'9.mell_Gond.Kp.'!D53 -> 516903790 | E53: ='2. mell._ Önkormányzat'!E53+'3. mell._ Közös Hivatal'!E53+'4. mell._ Nagyk. Könyvtár'!E53+'5. mell._ Műv.Ház.'!E53+'6. mell._Bölcsőde'!E53+'7. mell._Óvoda'!E53+'8. mell_KSZKI'!E53+'9.mell_Gond.Kp.'!E53 -> 31413000 | F53: ='2. mell._ Önkormányzat'!F53+'3. mell._ Közös Hivatal'!F53+'4. mell._ Nagyk. Könyvtár'!F53+'5. mell._ Műv.Ház.'!F53+'6. mell._Bölcsőde'!F53+'7. mell._Óvoda'!F53+'8. mell_KSZKI'!F53+'9.mell_Gond.Kp.'!F53 -> 59448400
A54: B8 | B54: Finanszírozási bevételek | C54: ='2. mell._ Önkormányzat'!C54+'3. mell._ Közös Hivatal'!C54+'4. mell._ Nagyk. Könyvtár'!C54+'5. mell._ Műv.Ház.'!C54+'6. mell._Bölcsőde'!C54+'7. mell._Óvoda'!C54+'8. mell_KSZKI'!C54+'9.mell_Gond.Kp.'!C54 -> 642088967 | D54: ='2. mell._ Önkormányzat'!D54+'3. mell._ Közös Hivatal'!D54+'4. mell._ Nagyk. Könyvtár'!D54+'5. mell._ Műv.Ház.'!D54+'6. mell._Bölcsőde'!D54+'7. mell._Óvoda'!D54+'8. mell_KSZKI'!D54+'9.mell_Gond.Kp.'!D54 -> 531690583 | E54: ='2. mell._ Önkormányzat'!E54+'3. mell._ Közös Hivatal'!E54+'4. mell._ Nagyk. Könyvtár'!E54+'5. mell._ Műv.Ház.'!E54+'6. mell._Bölcsőde'!E54+'7. mell._Óvoda'!E54+'8. mell_KSZKI'!E54+'9.mell_Gond.Kp.'!E54 -> 28361649 | F54: ='2. mell._ Önkormányzat'!F54+'3. mell._ Közös Hivatal'!F54+'4. mell._ Nagyk. Könyvtár'!F54+'5. mell._ Műv.Ház.'!F54+'6. mell._Bölcsőde'!F54+'7. mell._Óvoda'!F54+'8. mell_KSZKI'!F54+'9.mell_Gond.Kp.'!F54 -> 82036735
B55: B813 Maradvány igénybevétele | C55: ='2. mell._ Önkormányzat'!C55+'3. mell._ Közös Hivatal'!C55+'4. mell._ Nagyk. Könyvtár'!C55+'5. mell._ Műv.Ház.'!C55+'6. mell._Bölcsőde'!C55+'7. mell._Óvoda'!C55+'8. mell_KSZKI'!C55+'9.mell_Gond.Kp.'!C55 -> 308024505 | D55: ='2. mell._ Önkormányzat'!D55+'3. mell._ Közös Hivatal'!D55+'4. mell._ Nagyk. Könyvtár'!D55+'5. mell._ Műv.Ház.'!D55+'6. mell._Bölcsőde'!D55+'7. mell._Óvoda'!D55+'8. mell_KSZKI'!D55+'9.mell_Gond.Kp.'!D55 -> 308024505 | E55: ='2. mell._ Önkormányzat'!E55+'3. mell._ Közös Hivatal'!E55+'4. mell._ Nagyk. Könyvtár'!E55+'5. mell._ Műv.Ház.'!E55+'6. mell._Bölcsőde'!E55+'7. mell._Óvoda'!E55+'8. mell_KSZKI'!E55+'9.mell_Gond.Kp.'!E55 -> 0 | F55: ='2. mell._ Önkormányzat'!F55+'3. mell._ Közös Hivatal'!F55+'4. mell._ Nagyk. Könyvtár'!F55+'5. mell._ Műv.Ház.'!F55+'6. mell._Bölcsőde'!F55+'7. mell._Óvoda'!F55+'8. mell_KSZKI'!F55+'9.mell_Gond.Kp.'!F55 -> 0
B56: TOP pályázatok | C56: ='2. mell._ Önkormányzat'!C56+'3. mell._ Közös Hivatal'!C56+'4. mell._ Nagyk. Könyvtár'!C56+'5. mell._ Műv.Ház.'!C56+'6. mell._Bölcsőde'!C56+'7. mell._Óvoda'!C56+'8. mell_KSZKI'!C56+'9.mell_Gond.Kp.'!C56 -> 237870094 | D56: ='2. mell._ Önkormányzat'!D56+'3. mell._ Közös Hivatal'!D56+'4. mell._ Nagyk. Könyvtár'!D56+'5. mell._ Műv.Ház.'!D56+'6. mell._Bölcsőde'!D56+'7. mell._Óvoda'!D56+'8. mell_KSZKI'!D56+'9.mell_Gond.Kp.'!D56 -> 237870094 | E56: ='2. mell._ Önkormányzat'!E56+'3. mell._ Közös Hivatal'!E56+'4. mell._ Nagyk. Könyvtár'!E56+'5. mell._ Műv.Ház.'!E56+'6. mell._Bölcsőde'!E56+'7. mell._Óvoda'!E56+'8. mell_KSZKI'!E56+'9.mell_Gond.Kp.'!E56 -> 0 | F56: ='2. mell._ Önkormányzat'!F56+'3. mell._ Közös Hivatal'!F56+'4. mell._ Nagyk. Könyvtár'!F56+'5. mell._ Műv.Ház.'!F56+'6. mell._Bölcsőde'!F56+'7. mell._Óvoda'!F56+'8. mell_KSZKI'!F56+'9.mell_Gond.Kp.'!F56 -> 0
B57: Szociális tüzifa pályázat | C57: ='2. mell._ Önkormányzat'!C57+'3. mell._ Közös Hivatal'!C57+'4. mell._ Nagyk. Könyvtár'!C57+'5. mell._ Műv.Ház.'!C57+'6. mell._Bölcsőde'!C57+'7. mell._Óvoda'!C57+'8. mell_KSZKI'!C57+'9.mell_Gond.Kp.'!C57 -> 5456000 | D57: ='2. mell._ Önkormányzat'!D57+'3. mell._ Közös Hivatal'!D57+'4. mell._ Nagyk. Könyvtár'!D57+'5. mell._ Műv.Ház.'!D57+'6. mell._Bölcsőde'!D57+'7. mell._Óvoda'!D57+'8. mell_KSZKI'!D57+'9.mell_Gond.Kp.'!D57 -> 5456000 | E57: ='2. mell._ Önkormányzat'!E57+'3. mell._ Közös Hivatal'!E57+'4. mell._ Nagyk. Könyvtár'!E57+'5. mell._ Műv.Ház.'!E57+'6. mell._Bölcsőde'!E57+'7. mell._Óvoda'!E57+'8. mell_KSZKI'!E57+'9.mell_Gond.Kp.'!E57 -> 0 | F57: ='2. mell._ Önkormányzat'!F57+'3. mell._ Közös Hivatal'!F57+'4. mell._ Nagyk. Könyvtár'!F57+'5. mell._ Műv.Ház.'!F57+'6. mell._Bölcsőde'!F57+'7. mell._Óvoda'!F57+'8. mell_KSZKI'!F57+'9.mell_Gond.Kp.'!F57 -> 0
B58: Önkormányzati étkeztetés pályázat | C58: ='2. mell._ Önkormányzat'!C58+'3. mell._ Közös Hivatal'!C58+'4. mell._ Nagyk. Könyvtár'!C58+'5. mell._ Műv.Ház.'!C58+'6. mell._Bölcsőde'!C58+'7. mell._Óvoda'!C58+'8. mell_KSZKI'!C58+'9.mell_Gond.Kp.'!C58 -> 9781480 | D58: ='2. mell._ Önkormányzat'!D58+'3. mell._ Közös Hivatal'!D58+'4. mell._ Nagyk. Könyvtár'!D58+'5. mell._ Műv.Ház.'!D58+'6. mell._Bölcsőde'!D58+'7. mell._Óvoda'!D58+'8. mell_KSZKI'!D58+'9.mell_Gond.Kp.'!D58 -> 9781480 | E58: ='2. mell._ Önkormányzat'!E58+'3. mell._ Közös Hivatal'!E58+'4. mell._ Nagyk. Könyvtár'!E58+'5. mell._ Műv.Ház.'!E58+'6. mell._Bölcsőde'!E58+'7. mell._Óvoda'!E58+'8. mell_KSZKI'!E58+'9.mell_Gond.Kp.'!E58 -> 0 | F58: ='2. mell._ Önkormányzat'!F58+'3. mell._ Közös Hivatal'!F58+'4. mell._ Nagyk. Könyvtár'!F58+'5. mell._ Műv.Ház.'!F58+'6. mell._Bölcsőde'!F58+'7. mell._Óvoda'!F58+'8. mell_KSZKI'!F58+'9.mell_Gond.Kp.'!F58 -> 0
C59: ='2. mell._ Önkormányzat'!C59+'3. mell._ Közös Hivatal'!C59+'4. mell._ Nagyk. Könyvtár'!C59+'5. mell._ Műv.Ház.'!C59+'6. mell._Bölcsőde'!C59+'7. mell._Óvoda'!C59+'8. mell_KSZKI'!C59+'9.mell_Gond.Kp.'!C59 -> 5994600 | D59: ='2. mell._ Önkormányzat'!D59+'3. mell._ Közös Hivatal'!D59+'4. mell._ Nagyk. Könyvtár'!D59+'5. mell._ Műv.Ház.'!D59+'6. mell._Bölcsőde'!D59+'7. mell._Óvoda'!D59+'8. mell_KSZKI'!D59+'9.mell_Gond.Kp.'!D59 -> 5994600 | E59: ='2. mell._ Önkormányzat'!E59+'3. mell._ Közös Hivatal'!E59+'4. mell._ Nagyk. Könyvtár'!E59+'5. mell._ Műv.Ház.'!E59+'6. mell._Bölcsőde'!E59+'7. mell._Óvoda'!E59+'8. mell_KSZKI'!E59+'9.mell_Gond.Kp.'!E59 -> 0 | F59: ='2. mell._ Önkormányzat'!F59+'3. mell._ Közös Hivatal'!F59+'4. mell._ Nagyk. Könyvtár'!F59+'5. mell._ Műv.Ház.'!F59+'6. mell._Bölcsőde'!F59+'7. mell._Óvoda'!F59+'8. mell_KSZKI'!F59+'9.mell_Gond.Kp.'!F59 -> 0
C60: ='2. mell._ Önkormányzat'!C60+'3. mell._ Közös Hivatal'!C60+'4. mell._ Nagyk. Könyvtár'!C60+'5. mell._ Műv.Ház.'!C60+'6. mell._Bölcsőde'!C60+'7. mell._Óvoda'!C60+'8. mell_KSZKI'!C60+'9.mell_Gond.Kp.'!C60 -> 2556400 | D60: ='2. mell._ Önkormányzat'!D60+'3. mell._ Közös Hivatal'!D60+'4. mell._ Nagyk. Könyvtár'!D60+'5. mell._ Műv.Ház.'!D60+'6. mell._Bölcsőde'!D60+'7. mell._Óvoda'!D60+'8. mell_KSZKI'!D60+'9.mell_Gond.Kp.'!D60 -> 2556400 | E60: ='2. mell._ Önkormányzat'!E60+'3. mell._ Közös Hivatal'!E60+'4. mell._ Nagyk. Könyvtár'!E60+'5. mell._ Műv.Ház.'!E60+'6. mell._Bölcsőde'!E60+'7. mell._Óvoda'!E60+'8. mell_KSZKI'!E60+'9.mell_Gond.Kp.'!E60 -> 0 | F60: ='2. mell._ Önkormányzat'!F60+'3. mell._ Közös Hivatal'!F60+'4. mell._ Nagyk. Könyvtár'!F60+'5. mell._ Műv.Ház.'!F60+'6. mell._Bölcsőde'!F60+'7. mell._Óvoda'!F60+'8. mell_KSZKI'!F60+'9.mell_Gond.Kp.'!F60 -> 0
C61: ='2. mell._ Önkormányzat'!C61+'3. mell._ Közös Hivatal'!C61+'4. mell._ Nagyk. Könyvtár'!C61+'5. mell._ Műv.Ház.'!C61+'6. mell._Bölcsőde'!C61+'7. mell._Óvoda'!C61+'8. mell_KSZKI'!C61+'9.mell_Gond.Kp.'!C61 -> 46365931 | D61: ='2. mell._ Önkormányzat'!D61+'3. mell._ Közös Hivatal'!D61+'4. mell._ Nagyk. Könyvtár'!D61+'5. mell._ Műv.Ház.'!D61+'6. mell._Bölcsőde'!D61+'7. mell._Óvoda'!D61+'8. mell_KSZKI'!D61+'9.mell_Gond.Kp.'!D61 -> 46365931 | E61: ='2. mell._ Önkormányzat'!E61+'3. mell._ Közös Hivatal'!E61+'4. mell._ Nagyk. Könyvtár'!E61+'5. mell._ Műv.Ház.'!E61+'6. mell._Bölcsőde'!E61+'7. mell._Óvoda'!E61+'8. mell_KSZKI'!E61+'9.mell_Gond.Kp.'!E61 -> 0 | F61: ='2. mell._ Önkormányzat'!F61+'3. mell._ Közös Hivatal'!F61+'4. mell._ Nagyk. Könyvtár'!F61+'5. mell._ Műv.Ház.'!F61+'6. mell._Bölcsőde'!F61+'7. mell._Óvoda'!F61+'8. mell_KSZKI'!F61+'9.mell_Gond.Kp.'!F61 -> 0
B62: B814 Államháztartáson belüli megelőlegezés visszafizetése | C62: ='2. mell._ Önkormányzat'!C62+'3. mell._ Közös Hivatal'!C62+'4. mell._ Nagyk. Könyvtár'!C62+'5. mell._ Műv.Ház.'!C62+'6. mell._Bölcsőde'!C62+'7. mell._Óvoda'!C62+'8. mell_KSZKI'!C62+'9.mell_Gond.Kp.'!C62 -> 0 | D62: ='2. mell._ Önkormányzat'!D62+'3. mell._ Közös Hivatal'!D62+'4. mell._ Nagyk. Könyvtár'!D62+'5. mell._ Műv.Ház.'!D62+'6. mell._Bölcsőde'!D62+'7. mell._Óvoda'!D62+'8. mell_KSZKI'!D62+'9.mell_Gond.Kp.'!D62 -> 0 | E62: ='2. mell._ Önkormányzat'!E62+'3. mell._ Közös Hivatal'!E62+'4. mell._ Nagyk. Könyvtár'!E62+'5. mell._ Műv.Ház.'!E62+'6. mell._Bölcsőde'!E62+'7. mell._Óvoda'!E62+'8. mell_KSZKI'!E62+'9.mell_Gond.Kp.'!E62 -> 0 | F62: ='2. mell._ Önkormányzat'!F62+'3. mell._ Közös Hivatal'!F62+'4. mell._ Nagyk. Könyvtár'!F62+'5. mell._ Műv.Ház.'!F62+'6. mell._Bölcsőde'!F62+'7. mell._Óvoda'!F62+'8. mell_KSZKI'!F62+'9.mell_Gond.Kp.'!F62 -> 0
A63: BEVÉTELEK ÖSSZESEN | C63: ='2. mell._ Önkormányzat'!C63+'3. mell._ Közös Hivatal'!C63+'4. mell._ Nagyk. Könyvtár'!C63+'5. mell._ Műv.Ház.'!C63+'6. mell._Bölcsőde'!C63+'7. mell._Óvoda'!C63+'8. mell_KSZKI'!C63+'9.mell_Gond.Kp.'!C63 -> 1.2498542e+09 | D63: ='2. mell._ Önkormányzat'!D63+'3. mell._ Közös Hivatal'!D63+'4. mell._ Nagyk. Könyvtár'!D63+'5. mell._ Műv.Ház.'!D63+'6. mell._Bölcsőde'!D63+'7. mell._Óvoda'!D63+'8. mell_KSZKI'!D63+'9.mell_Gond.Kp.'!D63 -> 1048594373 | E63: ='2. mell._ Önkormányzat'!E63+'3. mell._ Közös Hivatal'!E63+'4. mell._ Nagyk. Könyvtár'!E63+'5. mell._ Műv.Ház.'!E63+'6. mell._Bölcsőde'!E63+'7. mell._Óvoda'!E63+'8. mell_KSZKI'!E63+'9.mell_Gond.Kp.'!E63 -> 59774649 | F63: ='2. mell._ Önkormányzat'!F63+'3. mell._ Közös Hivatal'!F63+'4. mell._ Nagyk. Könyvtár'!F63+'5. mell._ Műv.Ház.'!F63+'6. mell._Bölcsőde'!F63+'7. mell._Óvoda'!F63+'8. mell_KSZKI'!F63+'9.mell_Gond.Kp.'!F63 -> 141485135
D64: =D63/C63 -> 0.83897339 | E64: =E63/C63 -> 0.047825299 | F64: =F63/C63 -> 0.11320132
A66: K1 | B66: Személyi juttatatások | C66: ='2. mell._ Önkormányzat'!C66+'3. mell._ Közös Hivatal'!C66+'4. mell._ Nagyk. Könyvtár'!C66+'5. mell._ Műv.Ház.'!C66+'6. mell._Bölcsőde'!C66+'7. mell._Óvoda'!C66+'8. mell_KSZKI'!C66+'9.mell_Gond.Kp.'!C66 -> 348031827 | D66: ='2. mell._ Önkormányzat'!D66+'3. mell._ Közös Hivatal'!D66+'4. mell._ Nagyk. Könyvtár'!D66+'5. mell._ Műv.Ház.'!D66+'6. mell._Bölcsőde'!D66+'7. mell._Óvoda'!D66+'8. mell_KSZKI'!D66+'9.mell_Gond.Kp.'!D66 -> 261577776 | E66: ='2. mell._ Önkormányzat'!E66+'3. mell._ Közös Hivatal'!E66+'4. mell._ Nagyk. Könyvtár'!E66+'5. mell._ Műv.Ház.'!E66+'6. mell._Bölcsőde'!E66+'7. mell._Óvoda'!E66+'8. mell_KSZKI'!E66+'9.mell_Gond.Kp.'!E66 -> 28763500 | F66: ='2. mell._ Önkormányzat'!F66+'3. mell._ Közös Hivatal'!F66+'4. mell._ Nagyk. Könyvtár'!F66+'5. mell._ Műv.Ház.'!F66+'6. mell._Bölcsőde'!F66+'7. mell._Óvoda'!F66+'8. mell_KSZKI'!F66+'9.mell_Gond.Kp.'!F66 -> 57690551
A67: K2 | B67: Munkaadót terhelő járulék | C67: ='2. mell._ Önkormányzat'!C67+'3. mell._ Közös Hivatal'!C67+'4. mell._ Nagyk. Könyvtár'!C67+'5. mell._ Műv.Ház.'!C67+'6. mell._Bölcsőde'!C67+'7. mell._Óvoda'!C67+'8. mell_KSZKI'!C67+'9.mell_Gond.Kp.'!C67 -> 63371208 | D67: ='2. mell._ Önkormányzat'!D67+'3. mell._ Közös Hivatal'!D67+'4. mell._ Nagyk. Könyvtár'!D67+'5. mell._ Műv.Ház.'!D67+'6. mell._Bölcsőde'!D67+'7. mell._Óvoda'!D67+'8. mell_KSZKI'!D67+'9.mell_Gond.Kp.'!D67 -> 45382604 | E67: ='2. mell._ Önkormányzat'!E67+'3. mell._ Közös Hivatal'!E67+'4. mell._ Nagyk. Könyvtár'!E67+'5. mell._ Műv.Ház.'!E67+'6. mell._Bölcsőde'!E67+'7. mell._Óvoda'!E67+'8. mell_KSZKI'!E67+'9.mell_Gond.Kp.'!E67 -> 5667140 | F67: ='2. mell._ Önkormányzat'!F67+'3. mell._ Közös Hivatal'!F67+'4. mell._ Nagyk. Könyvtár'!F67+'5. mell._ Műv.Ház.'!F67+'6. mell._Bölcsőde'!F67+'7. mell._Óvoda'!F67+'8. mell_KSZKI'!F67+'9.mell_Gond.Kp.'!F67 -> 12321464
A68: K3 | B68: Dologi kiadások | C68: ='2. mell._ Önkormányzat'!C68+'3. mell._ Közös Hivatal'!C68+'4. mell._ Nagyk. Könyvtár'!C68+'5. mell._ Műv.Ház.'!C68+'6. mell._Bölcsőde'!C68+'7. mell._Óvoda'!C68+'8. mell_KSZKI'!C68+'9.mell_Gond.Kp.'!C68 -> 186478531 | D68: ='2. mell._ Önkormányzat'!D68+'3. mell._ Közös Hivatal'!D68+'4. mell._ Nagyk. Könyvtár'!D68+'5. mell._ Műv.Ház.'!D68+'6. mell._Bölcsőde'!D68+'7. mell._Óvoda'!D68+'8. mell_KSZKI'!D68+'9.mell_Gond.Kp.'!D68 -> 162893692 | E68: ='2. mell._ Önkormányzat'!E68+'3. mell._ Közös Hivatal'!E68+'4. mell._ Nagyk. Könyvtár'!E68+'5. mell._ Műv.Ház.'!E68+'6. mell._Bölcsőde'!E68+'7. mell._Óvoda'!E68+'8. mell_KSZKI'!E68+'9.mell_Gond.Kp.'!E68 -> 11636319 | F68: ='2. mell._ Önkormányzat'!F68+'3. mell._ Közös Hivatal'!F68+'4. mell._ Nagyk. Könyvtár'!F68+'5. mell._ Műv.Ház.'!F68+'6. mell._Bölcsőde'!F68+'7. mell._Óvoda'!F68+'8. mell_KSZKI'!F68+'9.mell_Gond.Kp.'!F68 -> 11948520
A69: K4 | B69: Ellátottak pénzbeli juttatásai | C69: ='2. mell._ Önkormányzat'!C69+'3. mell._ Közös Hivatal'!C69+'4. mell._ Nagyk. Könyvtár'!C69+'5. mell._ Műv.Ház.'!C69+'6. mell._Bölcsőde'!C69+'7. mell._Óvoda'!C69+'8. mell_KSZKI'!C69+'9.mell_Gond.Kp.'!C69 -> 20253000 | D69: ='2. mell._ Önkormányzat'!D69+'3. mell._ Közös Hivatal'!D69+'4. mell._ Nagyk. Könyvtár'!D69+'5. mell._ Műv.Ház.'!D69+'6. mell._Bölcsőde'!D69+'7. mell._Óvoda'!D69+'8. mell_KSZKI'!D69+'9.mell_Gond.Kp.'!D69 -> 20253000 | E69: ='2. mell._ Önkormányzat'!E69+'3. mell._ Közös Hivatal'!E69+'4. mell._ Nagyk. Könyvtár'!E69+'5. mell._ Műv.Ház.'!E69+'6. mell._Bölcsőde'!E69+'7. mell._Óvoda'!E69+'8. mell_KSZKI'!E69+'9.mell_Gond.Kp.'!E69 -> 0 | F69: ='2. mell._ Önkormányzat'!F69+'3. mell._ Közös Hivatal'!F69+'4. mell._ Nagyk. Könyvtár'!F69+'5. mell._ Műv.Ház.'!F69+'6. mell._Bölcsőde'!F69+'7. mell._Óvoda'!F69+'8. mell_KSZKI'!F69+'9.mell_Gond.Kp.'!F69 -> 0
B70: Bursa támogatás | C70: ='2. mell._ Önkormányzat'!C70+'3. mell._ Közös Hivatal'!C70+'4. mell._ Nagyk. Könyvtár'!C70+'5. mell._ Műv.Ház.'!C70+'6. mell._Bölcsőde'!C70+'7. mell._Óvoda'!C70+'8. mell_KSZKI'!C70+'9.mell_Gond.Kp.'!C70 -> 0 | D70: ='2. mell._ Önkormányzat'!D70+'3. mell._ Közös Hivatal'!D70+'4. mell._ Nagyk. Könyvtár'!D70+'5. mell._ Műv.Ház.'!D70+'6. mell._Bölcsőde'!D70+'7. mell._Óvoda'!D70+'8. mell_KSZKI'!D70+'9.mell_Gond.Kp.'!D70 -> 0 | E70: ='2. mell._ Önkormányzat'!E70+'3. mell._ Közös Hivatal'!E70+'4. mell._ Nagyk. Könyvtár'!E70+'5. mell._ Műv.Ház.'!E70+'6. mell._Bölcsőde'!E70+'7. mell._Óvoda'!E70+'8. mell_KSZKI'!E70+'9.mell_Gond.Kp.'!E70 -> 0 | F70: ='2. mell._ Önkormányzat'!F70+'3. mell._ Közös Hivatal'!F70+'4. mell._ Nagyk. Könyvtár'!F70+'5. mell._ Műv.Ház.'!F70+'6. mell._Bölcsőde'!F70+'7. mell._Óvoda'!F70+'8. mell_KSZKI'!F70+'9.mell_Gond.Kp.'!F70 -> 0
B71: AJTP | C71: ='2. mell._ Önkormányzat'!C71+'3. mell._ Közös Hivatal'!C71+'4. mell._ Nagyk. Könyvtár'!C71+'5. mell._ Műv.Ház.'!C71+'6. mell._Bölcsőde'!C71+'7. mell._Óvoda'!C71+'8. mell_KSZKI'!C71+'9.mell_Gond.Kp.'!C71 -> 0 | D71: ='2. mell._ Önkormányzat'!D71+'3. mell._ Közös Hivatal'!D71+'4. mell._ Nagyk. Könyvtár'!D71+'5. mell._ Műv.Ház.'!D71+'6. mell._Bölcsőde'!D71+'7. mell._Óvoda'!D71+'8. mell_KSZKI'!D71+'9.mell_Gond.Kp.'!D71 -> 0 | E71: ='2. mell._ Önkormányzat'!E71+'3. mell._ Közös Hivatal'!E71+'4. mell._ Nagyk. Könyvtár'!E71+'5. mell._ Műv.Ház.'!E71+'6. mell._Bölcsőde'!E71+'7. mell._Óvoda'!E71+'8. mell_KSZKI'!E71+'9.mell_Gond.Kp.'!E71 -> 0 | F71: ='2. mell._ Önkormányzat'!F71+'3. mell._ Közös Hivatal'!F71+'4. mell._ Nagyk. Könyvtár'!F71+'5. mell._ Műv.Ház.'!F71+'6. mell._Bölcsőde'!F71+'7. mell._Óvoda'!F71+'8. mell_KSZKI'!F71+'9.mell_Gond.Kp.'!F71 -> 0
B72: köztemetés | C72: ='2. mell._ Önkormányzat'!C72+'3. mell._ Közös Hivatal'!C72+'4. mell._ Nagyk. Könyvtár'!C72+'5. mell._ Műv.Ház.'!C72+'6. mell._Bölcsőde'!C72+'7. mell._Óvoda'!C72+'8. mell_KSZKI'!C72+'9.mell_Gond.Kp.'!C72 -> 0 | D72: ='2. mell._ Önkormányzat'!D72+'3. mell._ Közös Hivatal'!D72+'4. mell._ Nagyk. Könyvtár'!D72+'5. mell._ Műv.Ház.'!D72+'6. mell._Bölcsőde'!D72+'7. mell._Óvoda'!D72+'8. mell_KSZKI'!D72+'9.mell_Gond.Kp.'!D72 -> 0 | E72: ='2. mell._ Önkormányzat'!E72+'3. mell._ Közös Hivatal'!E72+'4. mell._ Nagyk. Könyvtár'!E72+'5. mell._ Műv.Ház.'!E72+'6. mell._Bölcsőde'!E72+'7. mell._Óvoda'!E72+'8. mell_KSZKI'!E72+'9.mell_Gond.Kp.'!E72 -> 0 | F72: ='2. mell._ Önkormányzat'!F72+'3. mell._ Közös Hivatal'!F72+'4. mell._ Nagyk. Könyvtár'!F72+'5. mell._ Műv.Ház.'!F72+'6. mell._Bölcsőde'!F72+'7. mell._Óvoda'!F72+'8. mell_KSZKI'!F72+'9.mell_Gond.Kp.'!F72 -> 0
B73: települési támogatás | C73: ='2. mell._ Önkormányzat'!C73+'3. mell._ Közös Hivatal'!C73+'4. mell._ Nagyk. Könyvtár'!C73+'5. mell._ Műv.Ház.'!C73+'6. mell._Bölcsőde'!C73+'7. mell._Óvoda'!C73+'8. mell_KSZKI'!C73+'9.mell_Gond.Kp.'!C73 -> 0 | D73: ='2. mell._ Önkormányzat'!D73+'3. mell._ Közös Hivatal'!D73+'4. mell._ Nagyk. Könyvtár'!D73+'5. mell._ Műv.Ház.'!D73+'6. mell._Bölcsőde'!D73+'7. mell._Óvoda'!D73+'8. mell_KSZKI'!D73+'9.mell_Gond.Kp.'!D73 -> 0 | E73: ='2. mell._ Önkormányzat'!E73+'3. mell._ Közös Hivatal'!E73+'4. mell._ Nagyk. Könyvtár'!E73+'5. mell._ Műv.Ház.'!E73+'6. mell._Bölcsőde'!E73+'7. mell._Óvoda'!E73+'8. mell_KSZKI'!E73+'9.mell_Gond.Kp.'!E73 -> 0 | F73: ='2. mell._ Önkormányzat'!F73+'3. mell._ Közös Hivatal'!F73+'4. mell._ Nagyk. Könyvtár'!F73+'5. mell._ Műv.Ház.'!F73+'6. mell._Bölcsőde'!F73+'7. mell._Óvoda'!F73+'8. mell_KSZKI'!F73+'9.mell_Gond.Kp.'!F73 -> 0
A74: K5 | B74: Egyéb működési célú kiadások | C74: ='2. mell._ Önkormányzat'!C74+'3. mell._ Közös Hivatal'!C74+'4. mell._ Nagyk. Könyvtár'!C74+'5. mell._ Műv.Ház.'!C74+'6. mell._Bölcsőde'!C74+'7. mell._Óvoda'!C74+'8. mell_KSZKI'!C74+'9.mell_Gond.Kp.'!C74 -> 20312186 | D74: ='2. mell._ Önkormányzat'!D74+'3. mell._ Közös Hivatal'!D74+'4. mell._ Nagyk. Könyvtár'!D74+'5. mell._ Műv.Ház.'!D74+'6. mell._Bölcsőde'!D74+'7. mell._Óvoda'!D74+'8. mell_KSZKI'!D74+'9.mell_Gond.Kp.'!D74 -> 0 | E74: ='2. mell._ Önkormányzat'!E74+'3. mell._ Közös Hivatal'!E74+'4. mell._ Nagyk. Könyvtár'!E74+'5. mell._ Műv.Ház.'!E74+'6. mell._Bölcsőde'!E74+'7. mell._Óvoda'!E74+'8. mell_KSZKI'!E74+'9.mell_Gond.Kp.'!E74 -> 20312186 | F74: ='2. mell._ Önkormányzat'!F74+'3. mell._ Közös Hivatal'!F74+'4. mell._ Nagyk. Könyvtár'!F74+'5. mell._ Műv.Ház.'!F74+'6. mell._Bölcsőde'!F74+'7. mell._Óvoda'!F74+'8. mell_KSZKI'!F74+'9.mell_Gond.Kp.'!F74 -> 0
A75: K6 | B75: Beruházások | C75: ='2. mell._ Önkormányzat'!C75+'3. mell._ Közös Hivatal'!C75+'4. mell._ Nagyk. Könyvtár'!C75+'5. mell._ Műv.Ház.'!C75+'6. mell._Bölcsőde'!C75+'7. mell._Óvoda'!C75+'8. mell_KSZKI'!C75+'9.mell_Gond.Kp.'!C75 -> 263829424 | D75: ='2. mell._ Önkormányzat'!D75+'3. mell._ Közös Hivatal'!D75+'4. mell._ Nagyk. Könyvtár'!D75+'5. mell._ Műv.Ház.'!D75+'6. mell._Bölcsőde'!D75+'7. mell._Óvoda'!D75+'8. mell_KSZKI'!D75+'9.mell_Gond.Kp.'!D75 -> 263753224 | E75: ='2. mell._ Önkormányzat'!E75+'3. mell._ Közös Hivatal'!E75+'4. mell._ Nagyk. Könyvtár'!E75+'5. mell._ Műv.Ház.'!E75+'6. mell._Bölcsőde'!E75+'7. mell._Óvoda'!E75+'8. mell_KSZKI'!E75+'9.mell_Gond.Kp.'!E75 -> 0 | F75: ='2. mell._ Önkormányzat'!F75+'3. mell._ Közös Hivatal'!F75+'4. mell._ Nagyk. Könyvtár'!F75+'5. mell._ Műv.Ház.'!F75+'6. mell._Bölcsőde'!F75+'7. mell._Óvoda'!F75+'8. mell_KSZKI'!F75+'9.mell_Gond.Kp.'!F75 -> 76200
A76: K7 | B76: Felújítások | C76: ='2. mell._ Önkormányzat'!C76+'3. mell._ Közös Hivatal'!C76+'4. mell._ Nagyk. Könyvtár'!C76+'5. mell._ Műv.Ház.'!C76+'6. mell._Bölcsőde'!C76+'7. mell._Óvoda'!C76+'8. mell_KSZKI'!C76+'9.mell_Gond.Kp.'!C76 -> 1295000 | D76: ='2. mell._ Önkormányzat'!D76+'3. mell._ Közös Hivatal'!D76+'4. mell._ Nagyk. Könyvtár'!D76+'5. mell._ Műv.Ház.'!D76+'6. mell._Bölcsőde'!D76+'7. mell._Óvoda'!D76+'8. mell_KSZKI'!D76+'9.mell_Gond.Kp.'!D76 -> 1295000 | E76: ='2. mell._ Önkormányzat'!E76+'3. mell._ Közös Hivatal'!E76+'4. mell._ Nagyk. Könyvtár'!E76+'5. mell._ Műv.Ház.'!E76+'6. mell._Bölcsőde'!E76+'7. mell._Óvoda'!E76+'8. mell_KSZKI'!E76+'9.mell_Gond.Kp.'!E76 -> 0 | F76: ='2. mell._ Önkormányzat'!F76+'3. mell._ Közös Hivatal'!F76+'4. mell._ Nagyk. Könyvtár'!F76+'5. mell._ Műv.Ház.'!F76+'6. mell._Bölcsőde'!F76+'7. mell._Óvoda'!F76+'8. mell_KSZKI'!F76+'9.mell_Gond.Kp.'!F76 -> 0
A77: K8 | B77: Egyéb felhalmozási kiadások | C77: ='2. mell._ Önkormányzat'!C77+'3. mell._ Közös Hivatal'!C77+'4. mell._ Nagyk. Könyvtár'!C77+'5. mell._ Műv.Ház.'!C77+'6. mell._Bölcsőde'!C77+'7. mell._Óvoda'!C77+'8. mell_KSZKI'!C77+'9.mell_Gond.Kp.'!C77 -> 0 | D77: ='2. mell._ Önkormányzat'!D77+'3. mell._ Közös Hivatal'!D77+'4. mell._ Nagyk. Könyvtár'!D77+'5. mell._ Műv.Ház.'!D77+'6. mell._Bölcsőde'!D77+'7. mell._Óvoda'!D77+'8. mell_KSZKI'!D77+'9.mell_Gond.Kp.'!D77 -> 0 | E77: ='2. mell._ Önkormányzat'!E77+'3. mell._ Közös Hivatal'!E77+'4. mell._ Nagyk. Könyvtár'!E77+'5. mell._ Műv.Ház.'!E77+'6. mell._Bölcsőde'!E77+'7. mell._Óvoda'!E77+'8. mell_KSZKI'!E77+'9.mell_Gond.Kp.'!E77 -> 0 | F77: ='2. mell._ Önkormányzat'!F77+'3. mell._ Közös Hivatal'!F77+'4. mell._ Nagyk. Könyvtár'!F77+'5. mell._ Műv.Ház.'!F77+'6. mell._Bölcsőde'!F77+'7. mell._Óvoda'!F77+'8. mell_KSZKI'!F77+'9.mell_Gond.Kp.'!F77 -> 0
A78: KÖLTSÉGVETÉSI KIADÁSOK ÖSSZESEN | C78: ='2. mell._ Önkormányzat'!C78+'3. mell._ Közös Hivatal'!C78+'4. mell._ Nagyk. Könyvtár'!C78+'5. mell._ Műv.Ház.'!C78+'6. mell._Bölcsőde'!C78+'7. mell._Óvoda'!C78+'8. mell_KSZKI'!C78+'9.mell_Gond.Kp.'!C78 -> 903571176 | D78: ='2. mell._ Önkormányzat'!D78+'3. mell._ Közös Hivatal'!D78+'4. mell._ Nagyk. Könyvtár'!D78+'5. mell._ Műv.Ház.'!D78+'6. mell._Bölcsőde'!D78+'7. mell._Óvoda'!D78+'8. mell_KSZKI'!D78+'9.mell_Gond.Kp.'!D78 -> 755155296 | E78: ='2. mell._ Önkormányzat'!E78+'3. mell._ Közös Hivatal'!E78+'4. mell._ Nagyk. Könyvtár'!E78+'5. mell._ Műv.Ház.'!E78+'6. mell._Bölcsőde'!E78+'7. mell._Óvoda'!E78+'8. mell_KSZKI'!E78+'9.mell_Gond.Kp.'!E78 -> 66379145 | F78: ='2. mell._ Önkormányzat'!F78+'3. mell._ Közös Hivatal'!F78+'4. mell._ Nagyk. Könyvtár'!F78+'5. mell._ Műv.Ház.'!F78+'6. mell._Bölcsőde'!F78+'7. mell._Óvoda'!F78+'8. mell_KSZKI'!F78+'9.mell_Gond.Kp.'!F78 -> 82036735
A80: K9 | B80: Finanszírozási kiadások | C80: ='2. mell._ Önkormányzat'!C80+'3. mell._ Közös Hivatal'!C80+'4. mell._ Nagyk. Könyvtár'!C80+'5. mell._ Műv.Ház.'!C80+'6. mell._Bölcsőde'!C80+'7. mell._Óvoda'!C80+'8. mell_KSZKI'!C80+'9.mell_Gond.Kp.'!C80 -> 346282981 | D80: ='2. mell._ Önkormányzat'!D80+'3. mell._ Közös Hivatal'!D80+'4. mell._ Nagyk. Könyvtár'!D80+'5. mell._ Műv.Ház.'!D80+'6. mell._Bölcsőde'!D80+'7. mell._Óvoda'!D80+'8. mell_KSZKI'!D80+'9.mell_Gond.Kp.'!D80 -> 317921332 | E80: ='2. mell._ Önkormányzat'!E80+'3. mell._ Közös Hivatal'!E80+'4. mell._ Nagyk. Könyvtár'!E80+'5. mell._ Műv.Ház.'!E80+'6. mell._Bölcsőde'!E80+'7. mell._Óvoda'!E80+'8. mell_KSZKI'!E80+'9.mell_Gond.Kp.'!E80 -> 28361649 | F80: ='2. mell._ Önkormányzat'!F80+'3. mell._ Közös Hivatal'!F80+'4. mell._ Nagyk. Könyvtár'!F80+'5. mell._ Műv.Ház.'!F80+'6. mell._Bölcsőde'!F80+'7. mell._Óvoda'!F80+'8. mell_KSZKI'!F80+'9.mell_Gond.Kp.'!F80 -> 0
B81: K914 Államháztartási megelőlegezések visszafizetése | C81: ='2. mell._ Önkormányzat'!C81+'3. mell._ Közös Hivatal'!C81+'4. mell._ Nagyk. Könyvtár'!C81+'5. mell._ Műv.Ház.'!C81+'6. mell._Bölcsőde'!C81+'7. mell._Óvoda'!C81+'8. mell_KSZKI'!C81+'9.mell_Gond.Kp.'!C81 -> 12218519 | D81: ='2. mell._ Önkormányzat'!D81+'3. mell._ Közös Hivatal'!D81+'4. mell._ Nagyk. Könyvtár'!D81+'5. mell._ Műv.Ház.'!D81+'6. mell._Bölcsőde'!D81+'7. mell._Óvoda'!D81+'8. mell_KSZKI'!D81+'9.mell_Gond.Kp.'!D81 -> 12218519 | E81: ='2. mell._ Önkormányzat'!E81+'3. mell._ Közös Hivatal'!E81+'4. mell._ Nagyk. Könyvtár'!E81+'5. mell._ Műv.Ház.'!E81+'6. mell._Bölcsőde'!E81+'7. mell._Óvoda'!E81+'8. mell_KSZKI'!E81+'9.mell_Gond.Kp.'!E81 -> 0 | F81: ='2. mell._ Önkormányzat'!F81+'3. mell._ Közös Hivatal'!F81+'4. mell._ Nagyk. Könyvtár'!F81+'5. mell._ Műv.Ház.'!F81+'6. mell._Bölcsőde'!F81+'7. mell._Óvoda'!F81+'8. mell_KSZKI'!F81+'9.mell_Gond.Kp.'!F81 -> 0
B82: K915 Központi irányító szervi támogatások folyósítása | C82: ='2. mell._ Önkormányzat'!C82+'3. mell._ Közös Hivatal'!C82+'4. mell._ Nagyk. Könyvtár'!C82+'5. mell._ Műv.Ház.'!C82+'6. mell._Bölcsőde'!C82+'7. mell._Óvoda'!C82+'8. mell_KSZKI'!C82+'9.mell_Gond.Kp.'!C82 -> 334064462 | D82: ='2. mell._ Önkormányzat'!D82+'3. mell._ Közös Hivatal'!D82+'4. mell._ Nagyk. Könyvtár'!D82+'5. mell._ Műv.Ház.'!D82+'6. mell._Bölcsőde'!D82+'7. mell._Óvoda'!D82+'8. mell_KSZKI'!D82+'9.mell_Gond.Kp.'!D82 -> 305702813 | E82: ='2. mell._ Önkormányzat'!E82+'3. mell._ Közös Hivatal'!E82+'4. mell._ Nagyk. Könyvtár'!E82+'5. mell._ Műv.Ház.'!E82+'6. mell._Bölcsőde'!E82+'7. mell._Óvoda'!E82+'8. mell_KSZKI'!E82+'9.mell_Gond.Kp.'!E82 -> 28361649 | F82: ='2. mell._ Önkormányzat'!F82+'3. mell._ Közös Hivatal'!F82+'4. mell._ Nagyk. Könyvtár'!F82+'5. mell._ Műv.Ház.'!F82+'6. mell._Bölcsőde'!F82+'7. mell._Óvoda'!F82+'8. mell_KSZKI'!F82+'9.mell_Gond.Kp.'!F82 -> 0
C83: ='2. mell._ Önkormányzat'!C83+'3. mell._ Közös Hivatal'!C83+'4. mell._ Nagyk. Könyvtár'!C83+'5. mell._ Műv.Ház.'!C83+'6. mell._Bölcsőde'!C83+'7. mell._Óvoda'!C83+'8. mell_KSZKI'!C83+'9.mell_Gond.Kp.'!C83 -> 0 | D83: ='2. mell._ Önkormányzat'!D83+'3. mell._ Közös Hivatal'!D83+'4. mell._ Nagyk. Könyvtár'!D83+'5. mell._ Műv.Ház.'!D83+'6. mell._Bölcsőde'!D83+'7. mell._Óvoda'!D83+'8. mell_KSZKI'!D83+'9.mell_Gond.Kp.'!D83 -> 0 | E83: ='2. mell._ Önkormányzat'!E83+'3. mell._ Közös Hivatal'!E83+'4. mell._ Nagyk. Könyvtár'!E83+'5. mell._ Műv.Ház.'!E83+'6. mell._Bölcsőde'!E83+'7. mell._Óvoda'!E83+'8. mell_KSZKI'!E83+'9.mell_Gond.Kp.'!E83 -> 0 | F83: ='2. mell._ Önkormányzat'!F83+'3. mell._ Közös Hivatal'!F83+'4. mell._ Nagyk. Könyvtár'!F83+'5. mell._ Műv.Ház.'!F83+'6. mell._Bölcsőde'!F83+'7. mell._Óvoda'!F83+'8. mell_KSZKI'!F83+'9.mell_Gond.Kp.'!F83 -> 0
A84: KIADÁSOK ÖSSZESEN | C84: ='2. mell._ Önkormányzat'!C84+'3. mell._ Közös Hivatal'!C84+'4. mell._ Nagyk. Könyvtár'!C84+'5. mell._ Műv.Ház.'!C84+'6. mell._Bölcsőde'!C84+'7. mell._Óvoda'!C84+'8. mell_KSZKI'!C84+'9.mell_Gond.Kp.'!C84 -> 1249854157 | D84: ='2. mell._ Önkormányzat'!D84+'3. mell._ Közös Hivatal'!D84+'4. mell._ Nagyk. Könyvtár'!D84+'5. mell._ Műv.Ház.'!D84+'6. mell._Bölcsőde'!D84+'7. mell._Óvoda'!D84+'8. mell_KSZKI'!D84+'9.mell_Gond.Kp.'!D84 -> 1073076628 | E84: ='2. mell._ Önkormányzat'!E84+'3. mell._ Közös Hivatal'!E84+'4. mell._ Nagyk. Könyvtár'!E84+'5. mell._ Műv.Ház.'!E84+'6. mell._Bölcsőde'!E84+'7. mell._Óvoda'!E84+'8. mell_KSZKI'!E84+'9.mell_Gond.Kp.'!E84 -> 94740794 | F84: ='2. mell._ Önkormányzat'!F84+'3. mell._ Közös Hivatal'!F84+'4. mell._ Nagyk. Könyvtár'!F84+'5. mell._ Műv.Ház.'!F84+'6. mell._Bölcsőde'!F84+'7. mell._Óvoda'!F84+'8. mell_KSZKI'!F84+'9.mell_Gond.Kp.'!F84 -> 82036735
A85: Költségvetési bevételek és kiadások egyenlege | C85: ='2. mell._ Önkormányzat'!C85+'3. mell._ Közös Hivatal'!C85+'4. mell._ Nagyk. Könyvtár'!C85+'5. mell._ Műv.Ház.'!C85+'6. mell._Bölcsőde'!C85+'7. mell._Óvoda'!C85+'8. mell_KSZKI'!C85+'9.mell_Gond.Kp.'!C85 -> -2.9580599e+08 | D85: ='2. mell._ Önkormányzat'!D85+'3. mell._ Közös Hivatal'!D85+'4. mell._ Nagyk. Könyvtár'!D85+'5. mell._ Műv.Ház.'!D85+'6. mell._Bölcsőde'!D85+'7. mell._Óvoda'!D85+'8. mell_KSZKI'!D85+'9.mell_Gond.Kp.'!D85 -> -223666078 | E85: ='2. mell._ Önkormányzat'!E85+'3. mell._ Közös Hivatal'!E85+'4. mell._ Nagyk. Könyvtár'!E85+'5. mell._ Műv.Ház.'!E85+'6. mell._Bölcsőde'!E85+'7. mell._Óvoda'!E85+'8. mell_KSZKI'!E85+'9.mell_Gond.Kp.'!E85 -> -28361649 | F85: ='2. mell._ Önkormányzat'!F85+'3. mell._ Közös Hivatal'!F85+'4. mell._ Nagyk. Könyvtár'!F85+'5. mell._ Műv.Ház.'!F85+'6. mell._Bölcsőde'!F85+'7. mell._Óvoda'!F85+'8. mell_KSZKI'!F85+'9.mell_Gond.Kp.'!F85 -> -82036735
A86: Bevételek és Kiadások egyenlege | C86: ='2. mell._ Önkormányzat'!C86+'3. mell._ Közös Hivatal'!C86+'4. mell._ Nagyk. Könyvtár'!C86+'5. mell._ Műv.Ház.'!C86+'6. mell._Bölcsőde'!C86+'7. mell._Óvoda'!C86+'8. mell_KSZKI'!C86+'9.mell_Gond.Kp.'!C86 -> -0.074409455 | D86: ='2. mell._ Önkormányzat'!D86+'3. mell._ Közös Hivatal'!D86+'4. mell._ Nagyk. Könyvtár'!D86+'5. mell._ Műv.Ház.'!D86+'6. mell._Bölcsőde'!D86+'7. mell._Óvoda'!D86+'8. mell_KSZKI'!D86+'9.mell_Gond.Kp.'!D86 -> 0 | E86: ='2. mell._ Önkormányzat'!E86+'3. mell._ Közös Hivatal'!E86+'4. mell._ Nagyk. Könyvtár'!E86+'5. mell._ Műv.Ház.'!E86+'6. mell._Bölcsőde'!E86+'7. mell._Óvoda'!E86+'8. mell_KSZKI'!E86+'9.mell_Gond.Kp.'!E86 -> 0 | F86: ='2. mell._ Önkormányzat'!F86+'3. mell._ Közös Hivatal'!F86+'4. mell._ Nagyk. Könyvtár'!F86+'5. mell._ Műv.Ház.'!F86+'6. mell._Bölcsőde'!F86+'7. mell._Óvoda'!F86+'8. mell_KSZKI'!F86+'9.mell_Gond.Kp.'!F86 -> 0
C87: =D84/C84 -> 0.85856147 | D87: =E84/C84 -> 0.075801479 | E87: =F84/C84 -> 0.065637046

Sheet 2. mell._ Önkormányzat
D1: …/2018. (II…) önkormányzati rendelet 2. melléklete
A2: Cibakháza Nagyközség Önkormányzat bevételei és kiadásai előirányzat-csoportok, kiemelt előirányzatok szerint
A3: Kötelező, önként vállalt és államigazgatási feladat szerint
A5: Rovatrend | B5: Megnevezés | C5: 2018. évi eredeti előirányzat | D5: ebből
D6: Kötelező feladatok | E6: Önként vállalt feladatok | F6: Államigazgatási feladatok
A7: B1 | B7: Működési célú támogatások államháztartáson belülről | C7: =C8+C29+C30 -> 437750490 | D7: =D8+D29+D30 -> 362889090 | E7: =E8+E29+E30 -> 15413000 | F7: =F8+F29+F30 -> 59448400
B8: B11 Önkormányzatok működési támogatásai | C8: =C9+C15+C19+C26+C28 -> 328338457 | D8: =D9+D15+D19+D26+D28 -> 253477057 | E8: =E9+E15+E19+E26+E28 -> 15413000 | F8: =F9+F15+F19+F26+F28 -> 59448400
B9: B111 Helyi önkormányzatok működésének általános támogatása | C9: =SUM(C11:C14) -> 107231759 | D9: =SUM(D11:D14) -> 47783359 | E9: =SUM(E11:E14) -> 0 | F9: =SUM(F11:F14) -> 59448400
B10: Települési önkormányzatok működési támogatásai
B11: Önkormányzati Hivatal működésének támogatása | C11: 59448400 | F11: 59448400
B12: Település-üzemeltetéshez kapcs. feladatellátás támogatása | C12: 46492359 | D12: 46492359
B13: Polgármesteri illetmény támogatása | C13: 1041000 | D13: 1041000
B14: Nem közművel összegyűjtött szennyvíz ártalmatlanítása | C14: 250000 | D14: 250000
B15: B112 Települési önkormányzatok egyes köznevelési fel. Támogatása | C15: =SUM(C16:C18) -> 65552000 | D15: =SUM(D16:D18) -> 65552000 | E15: =SUM(E16:E18) -> 0 | F15: =SUM(F16:F18) -> 0
B16: Óvodaped. És óvodaped. Munk. Közv. Segítők bértámogatása | C16: 56089800 | D16: 56089800
B17: Óvodaműködtetés támogatása | C17: 8660200 | D17: 8660200
B18: Kiegészítő támogatás az óvodapedagógusok min-ből adódó többletkiad.hoz | C18: 802000 | D18: 802000
B19: B113. Telep. önkorm.szociális, gyermekjóléti és gyermekétkeztetési feldatainak támogatása | C19: =SUM(C20:C25) -> 150613058 | D19: =SUM(D20:D25) -> 135200058 | E19: =SUM(E20:E25) -> 15413000 | F19: =SUM(F20:F25) -> 0
B20: Települési önkormányzatok szociális fela.egyéb támogatása | C20: 38081000 | D20: 38081000
B21: Egyes szociális és gyermekjóléti feladatok támogatása | C21: 24739880 | D21: 24739880
B22: Idős személyek részére nyújtott szociális szakosított ellátás | C22: 15413000 | E22: 15413000
B23: Intézményi gyermekétkeztetés támogatása | C23: 39850598 | D23: 39850598
B24: Rászoruló gyermekek szünidei étkeztetésének támogatása | C24: 7121580 | D24: 7121580
B25: Bölcsőde, mini bölcsőde támogatása | C25: 25407000 | D25: 25407000
B26: B114. Települési önkormányzatok kulturális feladatainak támogatása | C26: =SUM(C27) -> 4941640 | D26: =SUM(D27) -> 4941640 | E26: =SUM(E27) -> 0 | F26: =SUM(F27) -> 0
B27: Könyvtári, közművelődési és múzeumi feladatok támogatása | C27: 4941640 | D27: 4941640
B28: B115. Működési célú költségvetési támogatások és kiegészítő támogatások
B29: B14.Működési célú visszatér.tám.visszatérülése áht-n belül
B30: B16. Egyéb működési célú támogatások bevételei áht-n belülről | C30: 109412033 | D30: =SUM(D31:D32) -> 109412033
B31: OEP támogatás | C31: 15518400 | D31: 15518400
B32: Közfoglalkoztatás támogatása | C32: 93893633 | D32: 93893633
A33: B2 | B33: Felhalmozási célú támogatások áht. belülről
A34: B3 | B34: Közhatalmi bevételek | C34: =C35+C38+C41 -> 103000000 | D34: =D35+D38+D41 -> 103000000
B35: B34. Vagyoni típusú adók | C35: =SUM(C36:C37) -> 27000000 | D35: =SUM(D36:D37) -> 27000000
B36: építményadó | C36: 11500000 | D36: =C36 -> 11500000
B37: magánszemélyek kommunális adója | C37: 15500000 | D37: =C37 -> 15500000
B38: B35. Termékek és szolgáltatások adói | C38: =SUM(C39:C40) -> 75000000 | D38: =SUM(D39:D40) -> 75000000
B39: iparűzési adó | C39: 70000000 | D39: =C39 -> 70000000
B40: gépjárműadó | C40: 5000000 | D40: =C40 -> 5000000
B41: B36. Egyéb közhatalmi bevételek | C41: =SUM(C42:C43) -> 1000000 | D41: =SUM(D42:D43) -> 1000000
B42: pótlékok, bírságok,igazg. szolg.díjak | C42: 500000 | D42: =C42 -> 500000
B43: talajterhelési díj | C43: 500000 | D43: =C43 -> 500000
A44: B4 | B44: Működési bevételek | C44: =SUM(C45:C49) -> 8527200 | D44: =SUM(D45:D49) -> 8527200
B45: B401.Készletértékesítés ellentértéke
B46: B402. Szolgátatások ellenértéke | C46: =180000+300000+1200000 -> 1680000 | D46: =C46 -> 1680000
B47: B404. Tulajdonosi bevételek | C47: =4038600+2700000 -> 6738600 | D47: =C47 -> 6738600
B48: B405. Ellátási díj | D48: =C48 -> 0
B49: B406. Kiszámlázott áltanos forgalmi adó | C49: =48600+60000 -> 108600 | D49: =C49 -> 108600
A50: B5 | B50: Felhalmozási bevételek | C50: 635000 | D50: 635000
A51: B6 | B51: Működési célú átvett pénzeszközök | C51: 600000 | D51: 600000
A52: B7 | B52: Felhalmozási célú átvett pénzeszközök | C52: 8724000 | D52: 8724000
A53: KÖLTSÉGVETÉSI BEVÉTELEK ÖSSZESEN | C53: =C7+C33+C34+C44+C50+C51+C52 -> 559236690 | D53: =D7+D33+D34+D44+D50+D51+D52 -> 484375290 | E53: =E7+E33+E34+E44+E50+E51+E52 -> 15413000 | F53: =F7+F33+F34+F44+F50+F51+F52 -> 59448400
A54: B8 | B54: Finanszírozási bevételek | C54: =C55+C62 -> 308024505 | D54: =D55+D62 -> 308024505 | E54: =E55+E62 -> 0 | F54: =F55+F62 -> 0
B55: B813 Maradvány igénybevétele | C55: =SUM(C56:C61) -> 308024505 | D55: =SUM(D56:D61) -> 308024505 | E55: =SUM(E56:E61) -> 0 | F55: =SUM(F56:F61) -> 0
B56: TOP pályázatok | C56: 237870094 | D56: =C56 -> 237870094
B57: Szociális tüzifa pályázat | C57: 5456000 | D57: =C57 -> 5456000
B58: Önkormányzati étkeztetés pályázat | C58: 9781480 | D58: =C58 -> 9781480
B59: Tanyafejlesztési program | C59: 5994600 | D59: =C59 -> 5994600
B60: ASP pályázat | C60: 2556400 | D60: =C60 -> 2556400
B61: Szabad pénzmaradvány | C61: =308024505-261658574 -> 46365931 | D61: =C61 -> 46365931
B62: B814 Államháztartáson belüli megelőlegezés visszafizetése
A63: BEVÉTELEK ÖSSZESEN | C63: =C53+C54 -> 867261195 | D63: =D53+D54 -> 792399795 | E63: =E53+E54 -> 15413000 | F63: =F53+F54 -> 59448400
A66: K1 | B66: Személyi juttatatások | C66: 111115581 | D66: =C66-E66 -> 109693581 | E66: 1422000
A67: K2 | B67: Munkaadót terhelő járulék | C67: 15756717 | D67: =C67-E67 -> 15473407 | E67: 283310
A68: K3 | B68: Dologi kiadások | C68: 90805506 | D68: 90805506
A69: K4 | B69: Ellátottak pénzbeli juttatásai | C69: 20253000 | D69: 20253000
B70: Bursa támogatás
B71: AJTP
B72: köztemetés
B73: települési támogatás
A74: K5 | B74: Egyéb működési célú kiadások | C74: 20312186 | E74: 20312186
A75: K6 | B75: Beruházások | C75: 262735224 | D75: 262735224
A76: K7 | B76: Felújítások
A77: K8 | B77: Egyéb felhalmozási kiadások
A78: KÖLTSÉGVETÉSI KIADÁSOK ÖSSZESEN | C78: =SUM(C66+C67+C68+C69+C74+C75+C76+C77) -> 520978214 | D78: =SUM(D66+D67+D68+D69+D74+D75+D76+D77) -> 498960718 | E78: =SUM(E66+E67+E68+E69+E74+E75+E76+E77) -> 22017496
A80: K9 | B80: Finanszírozási kiadások | C80: =SUM(C81:C82) -> 346282981 | D80: =SUM(D81:D82) -> 317921332 | E80: =SUM(E81:E82) -> 28361649
B81: K914 Államháztartási megelőlegezések visszafizetése | C81: 12218519 | D81: 12218519
B82: K915 Központi irányító szervi támogatások folyósítása | C82: 334064462 | D82: =C82-E82 -> 305702813 | E82: ='9.mell_Gond.Kp.'!E54 -> 28361649
A84: KIADÁSOK ÖSSZESEN | C84: =C78+C80 -> 867261195 | D84: =D78+D80 -> 816882050 | E84: =E78+E80 -> 50379145
A85: Költségvetési bevételek és kiadások egyenlege | C85: =C53-C78 -> 38258476
A86: Bevételek és Kiadások egyenlege | C86: =C63-C84 -> 0

Sheet 3. mell._ Közös Hivatal
D1: …/2018. (II…) önkormányzati rendelet 3. melléklete
A2: Cibakházi Közös Önkormányzati Hivatal bevételei és kiadásai előirányzat-csoportok, kiemelt előirányzatok szerint
A3: Kötelező, önként vállalt és államigazgatási feladat szerint
A5: Rovatrend | B5: Megnevezés | C5: 2018. évi eredeti előirányzat | D5: ebből
D6: Kötelező feladatok | E6: Önként vállalt feladatok | F6: Államigazgatási feladatok
A7: B1 | B7: Működési célú támogatások államháztartáson belülről | C7: =C8+C29+C30 -> 0 | D7: =D8+D29+D30 -> 0 | E7: =E8+E29+E30 -> 0 | F7: =F8+F29+F30 -> 0
B8: B11 Önkormányzatok működési támogatásai | C8: =C9+C15+C19+C26+C28 -> 0 | D8: =D9+D15+D19+D26+D28 -> 0 | E8: =E9+E15+E19+E26+E28 -> 0 | F8: =F9+F15+F19+F26+F28 -> 0
B9: B111 Helyi önkormányzatok működésének általános támogatása | C9: =SUM(C11:C12) -> 0 | D9: =SUM(D11:D12) -> 0 | E9: =SUM(E11:E12) -> 0 | F9: =SUM(F11:F12) -> 0
B10: Települési önkormányzatok működési támogatásai
B11: Önkormányzati Hivatal működésének támogatása
B12: Település-üzemeltetéshez kapcs. feladatellátás támogatása
B13: Polgármesteri illetmény támogatása
B14: Nem közművel összegyűjtött szennyvíz ártalmatlanítása
B15: B112 Települési önkormányzatok egyes köznevelési fel. Támogatása
B16: Óvodaped. És óvodaped. Munk. Közv. Segítők bértámogatása
B17: Óvodaműködtetés támogatása
B18: Kiegészítő támogatás az óvodapedagógusok min-ből adódó többletkiad.hoz
B19: B113. Telep. önkorm.szociális, gyermekjóléti és gyermekétkeztetési feldatainak támogatása
B20: Települési önkormányzatok szociális fela.egyéb támogatása
B21: Egyes szociális és gyermekjóléti feladatok támogatása
... B32: Közfoglalkoztatás támogatása
A33: B2 | B33: Felhalmozási célú támogatások áht. belülről
A34: B3 | B34: Közhatalmi bevételek | C34: =C35+C38+C41 -> 0
B35: B34. Vagyoni típusú adók | C35: =SUM(C36:C37) -> 0
B36: építményadó
B37: magánszemélyek kommunális adója
B38: B35. Termékek és szolgáltatások adói | C38: =SUM(C39:C40) -> 0
B39: iparűzési adó
B40: gépjárműadó
B41: B36. Egyéb közhatalmi bevételek | C41: =SUM(C42:C43) -> 0
B42: pótlékok, bírságok,igazg. szolg.díjak
B43: talajterhelési díj
A44: B4 | B44: Működési bevételek | C44: =SUM(C45:C49) -> 0
B45: B401.Készletértékesítés ellentértéke
B46: B402. Szolgátatások ellenértéke
B47: B404. Tulajdonosi bevételek
B48: B405. Ellátási díj
B49: B406. Kiszámlázott áltanos forgalmi adó
A50: B5 | B50: Felhalmozási bevételek
A51: B6 | B51: Működési célú átvett pénzeszközök
A52: B7 | B52: Felhalmozási célú átvett pénzeszközök
A53: KÖLTSÉGVETÉSI BEVÉTELEK ÖSSZESEN | C53: =C7+C33+C34+C44+C50+C51+C52 -> 0
A54: B8 | B54: Finanszírozási bevételek | C54: 82036735 | F54: 82036735
B55: B813 Maradvány igénybevétele | C55: =SUM(C56:C58) -> 0
B56: TOP pályázatok
B57: Szociális tüzifa pályázat
B58: Önkormányzati étkeztetés pályázat
B62: B814 Államháztartáson belüli megelőlegezés visszafizetése
A63: BEVÉTELEK ÖSSZESEN | C63: =C53+C54 -> 82036735 | D63: =D53+D54 -> 0 | E63: =E53+E54 -> 0 | F63: =F53+F54 -> 82036735
A66: K1 | B66: Személyi juttatatások | C66: 57690551 | F66: 57690551
A67: K2 | B67: Munkaadót terhelő járulék | C67: 12321464 | F67: 12321464
A68: K3 | B68: Dologi kiadások | C68: 11948520 | F68: 11948520
A69: K4 | B69: Ellátottak pénzbeli juttatásai
B70: Bursa támogatás
B71: AJTP
B72: köztemetés
B73: települési támogatás
A74: K5 | B74: Egyéb működési célú kiadások
A75: K6 | B75: Beruházások | C75: 76200 | F75: 76200
A76: K7 | B76: Felújítások
A77: K8 | B77: Egyéb felhalmozási kiadások
A78: KÖLTSÉGVETÉSI KIADÁSOK ÖSSZESEN | C78: =C66+C67+C68+C75 -> 82036735 | F78: 82036735
A80: K9 | B80: Finanszírozási kiadások | C80: =SUM(C81:C82) -> 0
B81: K914 Államháztartási megelőlegezések visszafizetése
B82: K915 Központi irányító szervi támogatások folyósítása
A84: KIADÁSOK ÖSSZESEN | C84: =C78+C80 -> 82036735 | D84: =D78+D80 -> 0 | E84: =E78+E80 -> 0 | F84: =F78+F80 -> 82036735
A85: Költségvetési bevételek és kiadások egyenlege | C85: =C53-C78 -> -82036735 | D85: =D53-D78 -> 0 | E85: =E53-E78 -> 0 | F85: =F53-F78 -> -82036735
A86: Bevételek és Kiadások egyenlege | C86: =C63-C84 -> 0 | D86: =D63-D84 -> 0 | E86: =E63-E84 -> 0 | F86: =F63-F84 -> 0

Sheet 4. mell._ Nagyk. Könyvtár
D1: …/2018. (II…) önkormányzati rendelet 4. melléklete
A2: Nagyközségi Önkormányzati Könyvtár bevételei és kiadásai előirányzat-csoportok, kiemelt előirányzatok szerint
A3: Kötelező, önként vállalt és államigazgatási feladat szerint
A5: Rovatrend | B5: Megnevezés | C5: 2018. évi eredeti előirányzat | D5: ebből
D6: Kötelező feladatok | E6: Önként vállalt feladatok | F6: Államigazgatási feladatok
A7: B1 | B7: Működési célú támogatások államháztartáson belülről | C7: =C8+C29+C30 -> 0
B8: B11 Önkormányzatok működési támogatásai | C8: =C9+C15+C19+C26+C28 -> 0
B9: B111 Helyi önkormányzatok működésének általános támogatása
B10: Települési önkormányzatok működési támogatásai
B11: Önkormányzati Hivatal működésének támogatása
B12: Település-üzemeltetéshez kapcs. feladatellátás támogatása
B15: B112 Települési önkormányzatok egyes köznevelési fel. Támogatása
B16: Óvodaped. És óvodaped. Munk. Közv. Segítők bértámogatása
B17: Óvodaműködtetés támogatása
B18: Kiegészítő támogatás az óvodapedagógusok min-ből adódó többletkiad.hoz
B19: B113. Telep. önkorm.szociális, gyermekjóléti és gyermekétkeztetési feldatainak támogatása
B20: Települési önkormányzatok szociális fela.egyéb támogatása
B21: Egyes szociális és gyermekjóléti feladatok támogatása
B22: Idős személyek részére nyújtott szociális szakosított ellátás
... B32: Közfoglalkoztatás támogatása
A33: B2 | B33: Felhalmozási célú támogatások áht. belülről
A34: B3 | B34: Közhatalmi bevételek | C34: =C35+C38+C41 -> 0
B35: B34. Vagyoni típusú adók | C35: =SUM(C36:C37) -> 0
B36: építményadó
B37: magánszemélyek kommunális adója
B38: B35. Termékek és szolgáltatások adói | C38: =SUM(C39:C40) -> 0
B39: iparűzési adó
B40: gépjárműadó
B41: B36. Egyéb közhatalmi bevételek | C41: =SUM(C42:C43) -> 0
B42: pótlékok, bírságok,igazg. szolg.díjak
B43: talajterhelési díj
A44: B4 | B44: Működési bevételek | C44: =SUM(C45:C49) -> 500000
B45: B401.Készletértékesítés ellentértéke
B46: B402. Szolgátatások ellenértéke | C46: 500000 | D46: 500000
B47: B404. Tulajdonosi bevételek
B48: B405. Ellátási díj
B49: B406. Kiszámlázott áltanos forgalmi adó
A50: B5 | B50: Felhalmozási bevételek
A51: B6 | B51: Működési célú átvett pénzeszközök
A52: B7 | B52: Felhalmozási célú átvett pénzeszközök
A53: KÖLTSÉGVETÉSI BEVÉTELEK ÖSSZESEN | C53: =C7+C33+C34+C44+C50+C51+C52 -> 500000 | D53: 500000
A54: B8 | B54: Finanszírozási bevételek | C54: 5112406 | D54: 5112406
B55: B813 Maradvány igénybevétele | C55: =SUM(C56:C58) -> 0
B56: TOP pályázatok
B57: Szociális tüzifa pályázat
B58: Önkormányzati étkeztetés pályázat
B62: B814 Államháztartáson belüli megelőlegezés visszafizetése
A63: BEVÉTELEK ÖSSZESEN | C63: =C53+C54 -> 5612406 | D63: =D53+D54 -> 5612406 | E63: =E53+E54 -> 0 | F63: =F53+F54 -> 0
A66: K1 | B66: Személyi juttatatások | C66: 3687300 | D66: 3687300
A67: K2 | B67: Munkaadót terhelő járulék | C67: 724956 | D67: 724956
A68: K3 | B68: Dologi kiadások | C68: 1200150 | D68: 1200150
A69: K4 | B69: Ellátottak pénzbeli juttatásai
B70: Bursa támogatás
B71: AJTP
B72: köztemetés
B73: települési támogatás
A74: K5 | B74: Egyéb működési célú kiadások
A75: K6 | B75: Beruházások
A76: K7 | B76: Felújítások
A77: K8 | B77: Egyéb felhalmozási kiadások
A78: KÖLTSÉGVETÉSI KIADÁSOK ÖSSZESEN | C78: =C66+C67+C68 -> 5612406 | D78: =D66+D67+D68 -> 5612406 | E78: =E66+E67+E68 -> 0 | F78: =F66+F67+F68 -> 0
A80: K9 | B80: Finanszírozási kiadások | C80: =SUM(C81:C82) -> 0
B81: K914 Államháztartási megelőlegezések visszafizetése
B82: K915 Központi irányító szervi támogatások folyósítása
A84: KIADÁSOK ÖSSZESEN | C84: =C78+C80 -> 5612406 | D84: =D78+D80 -> 5612406 | E84: =E78+E80 -> 0 | F84: =F78+F80 -> 0
A85: Költségvetési bevételek és kiadások egyenlege | C85: =C53-C78 -> -5112406 | D85: =D53-D78 -> -5112406 | E85: =E53-E78 -> 0 | F85: =F53-F78 -> 0
A86: Bevételek és Kiadások egyenlege | C86: =C63-C84 -> 0 | D86: =D63-D84 -> 0 | E86: =E63-E84 -> 0 | F86: =F63-F84 -> 0

Sheet 5. mell._ Műv.Ház.
D1: …/2018. (II…) önkormányzati rendelet 5. melléklete
A2: Cibakháza Nagyközségi Művelődési Ház bevételei és kiadásai előirányzat-csoportok, kiemelt előirányzatok szerint
A3: Kötelező, önként vállalt és államigazgatási feladat szerint
A5: Rovatrend | B5: Megnevezés | C5: 2018. évi eredeti előirányzat | D5: ebből
D6: Kötelező feladatok | E6: Önként vállalt feladatok | F6: Államigazgatási feladatok
A7: B1 | B7: Működési célú támogatások államháztartáson belülről | C7: =C8+C29+C30 -> 0
B8: B11 Önkormányzatok működési támogatásai | C8: =C9+C15+C19+C26+C28 -> 0
B9: B111 Helyi önkormányzatok működésének általános támogatása
B10: Települési önkormányzatok működési támogatásai
B11: Önkormányzati Hivatal működésének támogatása
B12: Település-üzemeltetéshez kapcs. feladatellátás támogatása
B15: B112 Települési önkormányzatok egyes köznevelési fel. Támogatása
B16: Óvodaped. És óvodaped. Munk. Közv. Segítők bértámogatása
B17: Óvodaműködtetés támogatása
B18: Kiegészítő támogatás az óvodapedagógusok min-ből adódó többletkiad.hoz
B19: B113. Telep. önkorm.szociális, gyermekjóléti és gyermekétkeztetési feldatainak támogatása
B20: Települési önkormányzatok szociális fela.egyéb támogatása
B21: Egyes szociális és gyermekjóléti feladatok támogatása
B22: Idős személyek részére nyújtott szociális szakosított ellátás
... B32: Közfoglalkoztatás támogatása
A33: B2 | B33: Felhalmozási célú támogatások áht. belülről
A34: B3 | B34: Közhatalmi bevételek | C34: =C35+C38+C41 -> 0
B35: B34. Vagyoni típusú adók | C35: =SUM(C36:C37) -> 0
B36: építményadó
B37: magánszemélyek kommunális adója
B38: B35. Termékek és szolgáltatások adói | C38: =SUM(C39:C40) -> 0
B39: iparűzési adó
B40: gépjárműadó
B41: B36. Egyéb közhatalmi bevételek | C41: =SUM(C42:C43) -> 0
B42: pótlékok, bírságok,igazg. szolg.díjak
B43: talajterhelési díj
A44: B4 | B44: Működési bevételek | C44: =SUM(C45:C49) -> 2000000 | D44: =SUM(D45:D49) -> 2000000
B45: B401.Készletértékesítés ellentértéke
B46: B402. Szolgátatások ellenértéke | C46: 2000000 | D46: 2000000
B47: B404. Tulajdonosi bevételek
B48: B405. Ellátási díj
B49: B406. Kiszámlázott áltanos forgalmi adó
A50: B5 | B50: Felhalmozási bevételek
A51: B6 | B51: Működési célú átvett pénzeszközök
A52: B7 | B52: Felhalmozási célú átvett pénzeszközök
A53: KÖLTSÉGVETÉSI BEVÉTELEK ÖSSZESEN | C53: =C7+C33+C34+C44+C50+C51+C52 -> 2000000 | D53: =D7+D33+D34+D44+D50+D51+D52 -> 2000000
A54: B8 | B54: Finanszírozási bevételek | C54: 15630610 | D54: 15630610
B55: B813 Maradvány igénybevétele | C55: =SUM(C56:C58) -> 0
B56: TOP pályázatok
B57: Szociális tüzifa pályázat
B58: Önkormányzati étkeztetés pályázat
B62: B814 Államháztartáson belüli megelőlegezés visszafizetése
A63: BEVÉTELEK ÖSSZESEN | C63: =C53+C54 -> 17630610 | D63: =D53+D54 -> 17630610
A66: K1 | B66: Személyi juttatatások | C66: 8114000 | D66: 8114000
A67: K2 | B67: Munkaadót terhelő járulék | C67: 1690660 | D67: 1690660
A68: K3 | B68: Dologi kiadások | C68: 7190950 | D68: 7190950
A69: K4 | B69: Ellátottak pénzbeli juttatásai
B70: Bursa támogatás
B71: AJTP
B72: köztemetés
B73: települési támogatás
A74: K5 | B74: Egyéb működési célú kiadások
A75: K6 | B75: Beruházások
A76: K7 | B76: Felújítások | C76: 635000 | D76: 635000
A77: K8 | B77: Egyéb felhalmozási kiadások
A78: KÖLTSÉGVETÉSI KIADÁSOK ÖSSZESEN | C78: =C66+C67+C68+C76 -> 17630610 | D78: =D66+D67+D68+D76 -> 17630610 | E78: =E66+E67+E68 -> 0 | F78: =F66+F67+F68 -> 0
A80: K9 | B80: Finanszírozási kiadások | C80: =SUM(C81:C82) -> 0
B81: K914 Államháztartási megelőlegezések visszafizetése
B82: K915 Központi irányító szervi támogatások folyósítása
A84: KIADÁSOK ÖSSZESEN | C84: =C78+C80 -> 17630610 | D84: =D78+D80 -> 17630610 | E84: =E78+E80 -> 0 | F84: =F78+F80 -> 0
A85: Költségvetési bevételek és kiadások egyenlege | C85: =C53-C78 -> -15630610 | D85: =D53-D78 -> -15630610 | E85: =E53-E78 -> 0 | F85: =F53-F78 -> 0
A86: Bevételek és Kiadások egyenlege | C86: =C63-C84 -> 0 | D86: =D63-D84 -> 0 | E86: =E63-E84 -> 0 | F86: =F63-F84 -> 0

Sheet 6. mell._Bölcsőde
D1: …/2018. (II…) önkormányzati rendelet 6. melléklete
A2: Nagyközségi Önkormányzati Bölcsőde bevételei és kiadásai előirányzat-csoportok, kiemelt előirányzatok szerint
A3: Kötelező, önként vállalt és államigazgatási feladat szerint
A5: Rovatrend | B5: Megnevezés | C5: 2018. évi eredeti előirányzat | D5: ebből
D6: Kötelező feladatok | E6: Önként vállalt feladatok | F6: Államigazgatási feladatok
A7: B1 | B7: Működési célú támogatások államháztartáson belülről | C7: =C8+C29+C30 -> 0
B8: B11 Önkormányzatok működési támogatásai | C8: =C9+C15+C19+C26+C28 -> 0
B9: B111 Helyi önkormányzatok működésének általános támogatása
B10: Települési önkormányzatok működési támogatásai
B11: Önkormányzati Hivatal működésének támogatása
B12: Település-üzemeltetéshez kapcs. feladatellátás támogatása
B15: B112 Települési önkormányzatok egyes köznevelési fel. Támogatása
B16: Óvodaped. És óvodaped. Munk. Közv. Segítők bértámogatása
B17: Óvodaműködtetés támogatása
B18: Kiegészítő támogatás az óvodapedagógusok min-ből adódó többletkiad.hoz
B19: B113. Telep. önkorm.szociális, gyermekjóléti és gyermekétkeztetési feldatainak támogatása
B20: Települési önkormányzatok szociális fela.egyéb támogatása
B21: Egyes szociális és gyermekjóléti feladatok támogatása
B22: Idős személyek részére nyújtott szociális szakosított ellátás
... B32: Közfoglalkoztatás támogatása
A33: B2 | B33: Felhalmozási célú támogatások áht. belülről
A34: B3 | B34: Közhatalmi bevételek | C34: =C35+C38+C41 -> 0
B35: B34. Vagyoni típusú adók | C35: =SUM(C36:C37) -> 0
B36: építményadó
B37: magánszemélyek kommunális adója
B38: B35. Termékek és szolgáltatások adói | C38: =SUM(C39:C40) -> 0
B39: iparűzési adó
B40: gépjárműadó
B41: B36. Egyéb közhatalmi bevételek | C41: =SUM(C42:C43) -> 0
B42: pótlékok, bírságok,igazg. szolg.díjak
B43: talajterhelési díj
A44: B4 | B44: Működési bevételek | C44: =SUM(C45:C49) -> 0
B45: B401.Készletértékesítés ellentértéke
B46: B402. Szolgátatások ellenértéke
B47: B404. Tulajdonosi bevételek
B48: B405. Ellátási díj
B49: B406. Kiszámlázott áltanos forgalmi adó
A50: B5 | B50: Felhalmozási bevételek
A51: B6 | B51: Működési célú átvett pénzeszközök
A52: B7 | B52: Felhalmozási célú átvett pénzeszközök
A53: KÖLTSÉGVETÉSI BEVÉTELEK ÖSSZESEN | C53: =C7+C33+C34+C44+C50+C51+C52 -> 0
A54: B8 | B54: Finanszírozási bevételek | C54: 32587210 | D54: 32587210
B55: B813 Maradvány igénybevétele | C55: =SUM(C56:C58) -> 0
B56: TOP pályázatok
B57: Szociális tüzifa pályázat
B58: Önkormányzati étkeztetés pályázat
B62: B814 Államháztartáson belüli megelőlegezés visszafizetése
A63: BEVÉTELEK ÖSSZESEN | C63: =C53+C54 -> 32587210 | D63: =D53+D54 -> 32587210
A66: K1 | B66: Személyi juttatatások | C66: 24610500 | D66: 24610500
A67: K2 | B67: Munkaadót terhelő járulék | C67: 4844610 | D67: 4844610
A68: K3 | B68: Dologi kiadások | C68: 3132100 | D68: 3132100
A69: K4 | B69: Ellátottak pénzbeli juttatásai
B70: Bursa támogatás
B71: AJTP
B72: köztemetés
B73: települési támogatás
A74: K5 | B74: Egyéb működési célú kiadások
A75: K6 | B75: Beruházások
A76: K7 | B76: Felújítások
A77: K8 | B77: Egyéb felhalmozási kiadások
A78: KÖLTSÉGVETÉSI KIADÁSOK ÖSSZESEN | C78: =C66+C67+C68 -> 32587210 | D78: =D66+D67+D68 -> 32587210
A80: K9 | B80: Finanszírozási kiadások | C80: =SUM(C81:C82) -> 0
B81: K914 Államháztartási megelőlegezések visszafizetése
B82: K915 Központi irányító szervi támogatások folyósítása
A84: KIADÁSOK ÖSSZESEN | C84: =C78+C80 -> 32587210 | D84: =D78+D80 -> 32587210 | E84: =E78+E80 -> 0 | F84: =F78+F80 -> 0
A85: Költségvetési bevételek és kiadások egyenlege | C85: =C53-C78 -> -32587210 | D85: =D53-D78 -> -32587210 | E85: =E53-E78 -> 0 | F85: =F53-F78 -> 0
A86: Bevételek és Kiadások egyenlege | C86: =C63-C84 -> 0 | D86: =D63-D84 -> 0 | E86: =E63-E84 -> 0 | F86: =F63-F84 -> 0

Sheet 7. mell._Óvoda
D1: …/2018. (II…) önkormányzati rendelet 7. melléklete
A2: Cibakházi Napsugár Óvoda bevételei és kiadásai előirányzat-csoportok, kiemelt előirányzatok szerint
A3: Kötelező, önként vállalt és államigazgatási feladat szerint
A5: Rovatrend | B5: Megnevezés | C5: 2018. évi eredeti előirányzat | D5: ebből
D6: Kötelező feladatok | E6: Önként vállalt feladatok | F6: Államigazgatási feladatok
A7: B1 | B7: Működési célú támogatások államháztartáson belülről | C7: =C8+C29+C30 -> 0
B8: B11 Önkormányzatok működési támogatásai | C8: =C9+C15+C19+C26+C28 -> 0
B9: B111 Helyi önkormányzatok működésének általános támogatása
B10: Települési önkormányzatok működési támogatásai
B11: Önkormányzati Hivatal működésének támogatása
B12: Település-üzemeltetéshez kapcs. feladatellátás támogatása
B15: B112 Települési önkormányzatok egyes köznevelési fel. Támogatása
B16: Óvodaped. És óvodaped. Munk. Közv. Segítők bértámogatása
B17: Óvodaműködtetés támogatása
B18: Kiegészítő támogatás az óvodapedagógusok min-ből adódó többletkiad.hoz
B19: B113. Telep. önkorm.szociális, gyermekjóléti és gyermekétkeztetési feldatainak támogatása
B20: Települési önkormányzatok szociális fela.egyéb támogatása
B21: Egyes szociális és gyermekjóléti feladatok támogatása
B22: Idős személyek részére nyújtott szociális szakosított ellátás
... B32: Közfoglalkoztatás támogatása
A33: B2 | B33: Felhalmozási célú támogatások áht. belülről
A34: B3 | B34: Közhatalmi bevételek | C34: =C35+C38+C41 -> 0
B35: B34. Vagyoni típusú adók | C35: =SUM(C36:C37) -> 0
B36: építményadó
B37: magánszemélyek kommunális adója
B38: B35. Termékek és szolgáltatások adói | C38: =SUM(C39:C40) -> 0
B39: iparűzési adó
B40: gépjárműadó
B41: B36. Egyéb közhatalmi bevételek | C41: =SUM(C42:C43) -> 0
B42: pótlékok, bírságok,igazg. szolg.díjak
B43: talajterhelési díj
A44: B4 | B44: Működési bevételek | C44: =SUM(C45:C49) -> 0
B45: B401.Készletértékesítés ellentértéke
B46: B402. Szolgátatások ellenértéke
B47: B404. Tulajdonosi bevételek
B48: B405. Ellátási díj
B49: B406. Kiszámlázott áltanos forgalmi adó
A50: B5 | B50: Felhalmozási bevételek
A51: B6 | B51: Működési célú átvett pénzeszközök
A52: B7 | B52: Felhalmozási célú átvett pénzeszközök
A53: KÖLTSÉGVETÉSI BEVÉTELEK ÖSSZESEN | C53: =C7+C33+C34+C44+C50+C51+C52 -> 0
A54: B8 | B54: Finanszírozási bevételek | C54: 75273000 | D54: 75273000
B55: B813 Maradvány igénybevétele | C55: =SUM(C56:C58) -> 0
B56: TOP pályázatok
B57: Szociális tüzifa pályázat
B58: Önkormányzati étkeztetés pályázat
B62: B814 Államháztartáson belüli megelőlegezés visszafizetése
A63: BEVÉTELEK ÖSSZESEN | C63: =C53+C54 -> 75273000 | D63: =D53+D54 -> 75273000
A66: K1 | B66: Személyi juttatatások | C66: 56737000 | D66: 56737000
A67: K2 | B67: Munkaadót terhelő járulék | C67: 10945000 | D67: 10945000
A68: K3 | B68: Dologi kiadások | C68: 6017000 | D68: 6017000
A69: K4 | B69: Ellátottak pénzbeli juttatásai
B70: Bursa támogatás
B71: AJTP
B72: köztemetés
B73: települési támogatás
A74: K5 | B74: Egyéb működési célú kiadások
A75: K6 | B75: Beruházások | C75: 914000 | D75: 914000
A76: K7 | B76: Felújítások | C76: 660000 | D76: 660000
A77: K8 | B77: Egyéb felhalmozási kiadások
A78: KÖLTSÉGVETÉSI KIADÁSOK ÖSSZESEN | C78: =C66+C67+C68+C75+C76 -> 75273000 | D78: =D66+D67+D68+D75+D76 -> 75273000
A80: K9 | B80: Finanszírozási kiadások | C80: =SUM(C81:C82) -> 0
B81: K914 Államháztartási megelőlegezések visszafizetése
B82: K915 Központi irányító szervi támogatások folyósítása
A84: KIADÁSOK ÖSSZESEN | C84: =C78+C80 -> 75273000 | D84: =D78+D80 -> 75273000 | E84: =E78+E80 -> 0 | F84: =F78+F80 -> 0
A85: Költségvetési bevételek és kiadások egyenlege | C85: =C53-C78 -> -75273000 | D85: =D53-D78 -> -75273000 | E85: =E53-E78 -> 0 | F85: =F53-F78 -> 0
A86: Bevételek és Kiadások egyenlege | C86: =C63-C84 -> 0 | D86: =D63-D84 -> 0 | E86: =E63-E84 -> 0 | F86: =F63-F84 -> 0

Sheet 8. mell_KSZKI
D1: …/2018. (II…) önkormányzati rendelet 8. melléklete
A2: Kommunális Szolgáltató és Közfoglalkoztatási Intézmény bevételei és kiadásai előirányzat-csoportok, kiemelt előirányzatok szerint
A3: Kötelező, önként vállalt és államigazgatási feladat szerint
A5: Rovatrend | B5: Megnevezés | C5: 2018. évi eredeti előirányzat | D5: ebből
D6: Kötelező feladatok | E6: Önként vállalt feladatok | F6: Államigazgatási feladatok
A7: B1 | B7: Működési célú támogatások államháztartáson belülről | C7: =C8+C29+C30 -> 0
B8: B11 Önkormányzatok működési támogatásai | C8: =C9+C15+C19+C26+C28 -> 0
B9: B111 Helyi önkormányzatok működésének általános támogatása
B10: Települési önkormányzatok működési támogatásai
B11: Önkormányzati Hivatal működésének támogatása
B12: Település-üzemeltetéshez kapcs. feladatellátás támogatása
B15: B112 Települési önkormányzatok egyes köznevelési fel. Támogatása
B16: Óvodaped. És óvodaped. Munk. Közv. Segítők bértámogatása
B17: Óvodaműködtetés támogatása
B18: Kiegészítő támogatás az óvodapedagógusok min-ből adódó többletkiad.hoz
B19: B113. Telep. önkorm.szociális, gyermekjóléti és gyermekétkeztetési feldatainak támogatása
B20: Települési önkormányzatok szociális fela.egyéb támogatása
B21: Egyes szociális és gyermekjóléti feladatok támogatása
B22: Idős személyek részére nyújtott szociális szakosított ellátás
... B32: Közfoglalkoztatás támogatása
A33: B2 | B33: Felhalmozási célú támogatások áht. belülről
A34: B3 | B34: Közhatalmi bevételek | C34: =C35+C38+C41 -> 0
B35: B34. Vagyoni típusú adók | C35: =SUM(C36:C37) -> 0
B36: építményadó
B37: magánszemélyek kommunális adója
B38: B35. Termékek és szolgáltatások adói | C38: =SUM(C39:C40) -> 0
B39: iparűzési adó
B40: gépjárműadó
B41: B36. Egyéb közhatalmi bevételek | C41: =SUM(C42:C43) -> 0
B42: pótlékok, bírságok,igazg. szolg.díjak
B43: talajterhelési díj
A44: B4 | B44: Működési bevételek | C44: =SUM(C45:C49) -> 21828500 | D44: =SUM(D45:D49) -> 21828500
B45: B401.Készletértékesítés ellentértéke
B46: B402. Szolgátatások ellenértéke | C46: =7235000/1.27 -> 5696850.4 | D46: 5696850
B47: B404. Tulajdonosi bevételek
B48: B405. Ellátási díj | C48: =14593500/1.27 -> 11490945 | D48: 11490945
B49: B406. Kiszámlázott áltanos forgalmi adó | C49: =(5696850+11490945)*0.27 -> 4640704.7 | D49: 4640705
A50: B5 | B50: Felhalmozási bevételek
A51: B6 | B51: Működési célú átvett pénzeszközök
A52: B7 | B52: Felhalmozási célú átvett pénzeszközök
A53: KÖLTSÉGVETÉSI BEVÉTELEK ÖSSZESEN | C53: =C7+C33+C34+C44+C50+C51+C52 -> 21828500 | D53: =D7+D33+D34+D44+D50+D51+D52 -> 21828500
A54: B8 | B54: Finanszírozási bevételek | C54: 75431352 | D54: 75431352
B55: B813 Maradvány igénybevétele | C55: =SUM(C56:C58) -> 0
B56: TOP pályázatok
B57: Szociális tüzifa pályázat
B58: Önkormányzati étkeztetés pályázat
B62: B814 Államháztartáson belüli megelőlegezés visszafizetése
A63: BEVÉTELEK ÖSSZESEN | C63: =C53+C54 -> 97259852 | D63: =D53+D54 -> 97259852
A66: K1 | B66: Személyi juttatatások | C66: 40594000 | D66: 40594000
A67: K2 | B67: Munkaadót terhelő járulék | C67: 8136752 | D67: 8136752
A68: K3 | B68: Dologi kiadások | C68: 48425100 | D68: 48425100
A69: K4 | B69: Ellátottak pénzbeli juttatásai
B70: Bursa támogatás
B71: AJTP
B72: köztemetés
B73: települési támogatás
A74: K5 | B74: Egyéb működési célú kiadások
A75: K6 | B75: Beruházások | C75: 104000 | D75: 104000
A76: K7 | B76: Felújítások
A77: K8 | B77: Egyéb felhalmozási kiadások
A78: KÖLTSÉGVETÉSI KIADÁSOK ÖSSZESEN | C78: =C66+C67+C68+C75 -> 97259852 | D78: =D66+D67+D68+D75 -> 97259852
A80: K9 | B80: Finanszírozási kiadások | C80: =SUM(C81:C82) -> 0
B81: K914 Államháztartási megelőlegezések visszafizetése
B82: K915 Központi irányító szervi támogatások folyósítása
A84: KIADÁSOK ÖSSZESEN | C84: =C78+C80 -> 97259852 | D84: =D78+D80 -> 97259852 | E84: =E78+E80 -> 0 | F84: =F78+F80 -> 0
A85: Költségvetési bevételek és kiadások egyenlege | C85: =C53-C78 -> -75431352 | D85: =D53-D78 -> -75431352 | E85: =E53-E78 -> 0 | F85: =F53-F78 -> 0
A86: Bevételek és Kiadások egyenlege | C86: =C63-C84 -> -0.074409455 | D86: =D63-D84 -> 0 | E86: =E63-E84 -> 0 | F86: =F63-F84 -> 0

Sheet 9.mell_Gond.Kp.
D1: …/2018. (II…) önkormányzati rendelet 9. melléklete
A2: Nagyközségi Szociális Gondozási Központ bevételei és kiadásai előirányzat-csoportok, kiemelt előirányzatok szerint
A3: Kötelező, önként vállalt és államigazgatási feladat szerint
A5: Rovatrend | B5: Megnevezés | C5: 2018. évi eredeti előirányzat | D5: ebből
D6: Kötelező feladatok | E6: Önként vállalt feladatok | F6: Államigazgatási feladatok
A7: B1 | B7: Működési célú támogatások államháztartáson belülről | C7: =C8+C29+C30 -> 0
B8: B11 Önkormányzatok működési támogatásai | C8: =C9+C15+C19+C26+C28 -> 0
B9: B111 Helyi önkormányzatok működésének általános támogatása
B10: Települési önkormányzatok működési támogatásai
B11: Önkormányzati Hivatal működésének támogatása
B12: Település-üzemeltetéshez kapcs. feladatellátás támogatása
B15: B112 Települési önkormányzatok egyes köznevelési fel. Támogatása
B16: Óvodaped. És óvodaped. Munk. Közv. Segítők bértámogatása
B17: Óvodaműködtetés támogatása
B18: Kiegészítő támogatás az óvodapedagógusok min-ből adódó többletkiad.hoz
B19: B113. Telep. önkorm.szociális, gyermekjóléti és gyermekétkeztetési feldatainak támogatása
B20: Települési önkormányzatok szociális fela.egyéb támogatása
B21: Egyes szociális és gyermekjóléti feladatok támogatása
B22: Idős személyek részére nyújtott szociális szakosított ellátás
... B32: Közfoglalkoztatás támogatása
A33: B2 | B33: Felhalmozási célú támogatások áht. belülről
A34: B3 | B34: Közhatalmi bevételek | C34: =C35+C38+C41 -> 0
B35: B34. Vagyoni típusú adók | C35: =SUM(C36:C37) -> 0
B36: építményadó
B37: magánszemélyek kommunális adója
B38: B35. Termékek és szolgáltatások adói | C38: =SUM(C39:C40) -> 0
B39: iparűzési adó
B40: gépjárműadó
B41: B36. Egyéb közhatalmi bevételek | C41: =SUM(C42:C43) -> 0
B42: pótlékok, bírságok,igazg. szolg.díjak
B43: talajterhelési díj
A44: B4 | B44: Működési bevételek | C44: =SUM(C45:C49) -> 24200000 | D44: =SUM(D45:D49) -> 8200000 | E44: =SUM(E45:E49) -> 16000000
B45: B401.Készletértékesítés ellentértéke
B46: B402. Szolgátatások ellenértéke
B47: B404. Tulajdonosi bevételek
B48: B405. Ellátási díj | C48: 24200000 | D48: 8200000 | E48: 16000000
B49: B406. Kiszámlázott áltanos forgalmi adó
A50: B5 | B50: Felhalmozási bevételek
A51: B6 | B51: Működési célú átvett pénzeszközök
A52: B7 | B52: Felhalmozási célú átvett pénzeszközök
A53: KÖLTSÉGVETÉSI BEVÉTELEK ÖSSZESEN | C53: =C7+C33+C34+C44+C50+C51+C52 -> 24200000 | D53: =D7+D33+D34+D44+D50+D51+D52 -> 8200000 | E53: =E7+E33+E34+E44+E50+E51+E52 -> 16000000
A54: B8 | B54: Finanszírozási bevételek | C54: 47993149 | D54: =C54-E54 -> 19631500 | E54: 28361649
B55: B813 Maradvány igénybevétele | C55: =SUM(C56:C58) -> 0
B56: TOP pályázatok
B57: Szociális tüzifa pályázat
B58: Önkormányzati étkeztetés pályázat
B62: B814 Államháztartáson belüli megelőlegezés visszafizetése
A63: BEVÉTELEK ÖSSZESEN | C63: =C53+C54 -> 72193149 | D63: =D53+D54 -> 27831500 | E63: =E53+E54 -> 44361649
A66: K1 | B66: Személyi juttatatások | C66: 45482895 | D66: =C66-E66 -> 18141395 | E66: 27341500
A67: K2 | B67: Munkaadót terhelő járulék | C67: 8951049 | D67: =C67-E67 -> 3567219 | E67: 5383830
A68: K3 | B68: Dologi kiadások | C68: 17759205 | D68: =C68-E68 -> 6122886 | E68: 11636319
A69: K4 | B69: Ellátottak pénzbeli juttatásai
B70: Bursa támogatás
B71: AJTP
B72: köztemetés
B73: települési támogatás
A74: K5 | B74: Egyéb működési célú kiadások
A75: K6 | B75: Beruházások
A76: K7 | B76: Felújítások
A77: K8 | B77: Egyéb felhalmozási kiadások
A78: KÖLTSÉGVETÉSI KIADÁSOK ÖSSZESEN | C78: =C66+C67+C68 -> 72193149 | D78: =D66+D67+D68 -> 27831500 | E78: =E66+E67+E68 -> 44361649
A80: K9 | B80: Finanszírozási kiadások | C80: =SUM(C81:C82) -> 0
B81: K914 Államháztartási megelőlegezések visszafizetése
B82: K915 Központi irányító szervi támogatások folyósítása
A84: KIADÁSOK ÖSSZESEN | C84: =C78+C80 -> 72193149 | D84: =D78+D80 -> 27831500 | E84: =E78+E80 -> 44361649 | F84: =F78+F80 -> 0
A85: Költségvetési bevételek és kiadások egyenlege | C85: =C53-C78 -> -47993149 | D85: =D53-D78 -> -19631500 | E85: =E53-E78 -> -28361649 | F85: =F53-F78 -> 0
A86: Bevételek és Kiadások egyenlege | C86: =C63-C84 -> 0 | D86: =D63-D84 -> 0 | E86: =E63-E84 -> 0 | F86: =F63-F84 -> 0

Sheet 10.mell_Összevont mérleg
E2: …/2018. (II…) önkormányzati rendelet 10. melléklete
A4: Az önkormányzat költségvetésének összevont mérlege
A5: 2018. év
A6: Ft
B7: Bevételek | C7: 2018. évi terv | E7: Kiadások | F7: 2018. évi terv
B9: A | C9: B | E9: C | F9: D
A10: 1. | B10: Általános működési és ágazati támogatás | C10: ='1. mell._ Önkormányzat összesen'!C8 -> 328338457 | D10: 1. | E10: Személyi juttatások | F10: ='1. mell._ Önkormányzat összesen'!C66 -> 348031827
A11: 2. | B11: Működési célú támogatások államháztartáson belülről | C11: ='1. mell._ Önkormányzat összesen'!C30 -> 109412033 | D11: 2. | E11: Munkaadót terhelő járulékok és szociális hozzájárulási adó | F11: ='1. mell._ Önkormányzat összesen'!C67 -> 63371208
A12: 3. | B12: Felhalmozási célú támogatások államháztartáson belülről | C12: 0 | D12: 3. | E12: Dologi kiadások | F12: ='1. mell._ Önkormányzat összesen'!C68 -> 186478531
A13: 4. | B13: Termékek és szolgáltatások adói, közhatalmi bevételek | C13: ='1. mell._ Önkormányzat összesen'!C34 -> 103000000 | D13: 4. | E13: Ellátottak pénzbeli juttatásai | F13: ='1. mell._ Önkormányzat összesen'!C69 -> 20253000
A14: 5. | B14: Működési bevételek | C14: ='1. mell._ Önkormányzat összesen'!C44 -> 57055700 | D14: 5. | E14: Egyéb működési célú kiadások | F14: ='1. mell._ Önkormányzat összesen'!C74-10714186 -> 9598000
A15: 6. | D15: 6. | E15: Egyéb felhalmozási célú kiadás
A16: 7. | B16: Felhalmozási bevételek | C16: ='1. mell._ Önkormányzat összesen'!C50 -> 635000 | D16: 7. | E16: Beruházások | F16: ='1. mell._ Önkormányzat összesen'!C75 -> 263829424
A17: 8. | B17: Működési célú átvett pénzeszközök | C17: ='1. mell._ Önkormányzat összesen'!C51 -> 600000 | D17: 8. | E17: Felújítások | F17: ='1. mell._ Önkormányzat összesen'!C76 -> 1295000
A18: 9. | B18: Felmalmozási célú átvett pénzeszközök | C18: ='1. mell._ Önkormányzat összesen'!C52 -> 8724000 | D18: 9. | E18: Tartalékok | F18: 10714186
A19: 10. | B19: Bevételek összesen | C19: =SUM(C9:C18) -> 6.0776519e+08 | D19: 10. | E19: Kiadások összesen | F19: =SUM(F10:F18) -> 903571176
A20: 11. | B20: Fejlesztési célú hitel felvétel | D20: 11. | E20: Elszámolás központi költségvetéssel | F20: 12218519
A21: 12. | B21: Előző évi költségvetési maradvány igénybevétele, intézményi támogatás | C21: ='1. mell._ Önkormányzat összesen'!C54 -> 642088967 | D21: 12. | F21: ='1. mell._ Önkormányzat összesen'!C82 -> 334064462
A22: 13. | B22: Finanszírozási bevételek összesen | C22: =C21 -> 642088967 | D22: 13. | E22: Finanszírozási kiadások összesen | F22: =SUM(F20:F21) -> 346282981
A23: 14. | D23: 14.
A24: 15. | D24: 15.
A25: 16. | B25: BEVÉTELEK ÖSSZESEN | C25: =C19+C22 -> 1.2498542e+09 | D25: 16. | E25: KIADÁSOK ÖSSZESEN | F25: =F19+F22 -> 1249854157

Sheet 11.mell_Műk.mérleg
E2: …/2018. (II…) önkormányzati rendelet 11. melléklete
A4: Az önkormányzat működési és felhalmozási bevételeinek és
A5: kiadásainak mérlegszerű bemutatása
A6: 2018.év
F7: Ezer Ft
B8: Bevételek | C8: 2018. évi terv | E8: Kiadások | F8: 2018. évi terv
B9: A | C9: B | E9: C | F9: D
A10: 1. | B10: Önkormányzatok működési támogatása | C10: ='10.mell_Összevont mérleg'!C10 -> 328338457 | D10: 1. | E10: Személyi juttatások | F10: ='10.mell_Összevont mérleg'!F10 -> 348031827
A11: 2. | B11: Működési célú támogatások államháztartáson belülről | C11: ='10.mell_Összevont mérleg'!C11 -> 109412033 | D11: 2. | E11: Munkaadókat terhelő járulékok és Szociális Hozzájárulási Adó | F11: ='10.mell_Összevont mérleg'!F11 -> 63371208
A12: 3. | B12: Közhatalmi bevételek | C12: ='10.mell_Összevont mérleg'!C13 -> 103000000 | D12: 3. | E12: Dologi kiadások | F12: ='10.mell_Összevont mérleg'!F12 -> 186478531
A13: 4. | B13: Működési bevételek | C13: ='10.mell_Összevont mérleg'!C14 -> 57055700 | D13: 4.
A14: 5. | B14: Működési célú átvett pénzeszközök | C14: ='10.mell_Összevont mérleg'!C17 -> 600000 | D14: 5. | E14: Ellátottak pénzbeli juttatásai | F14: ='10.mell_Összevont mérleg'!F13 -> 20253000
A15: 6. | B15: Működési célú bevételek összesen | C15: =SUM(C10:C14) -> 5.9840619e+08 | D15: 6. | E15: Egyéb működési célú támogatások | F15: ='10.mell_Összevont mérleg'!F14 -> 9598000
A16: 7. | B16: Hitelfelvétel ( működési célú likvid hitel ) | D16: 7. | E16: Tartalékok (általános és cél tartalék) | F16: ='10.mell_Összevont mérleg'!F18 -> 10714186
A17: 8. | B17: Előző évi költségvetési maradvány igénybevétele ( működési ) | C17: =984729733-598406190 -> 386323543 | D17: 8. | E17: Egyéb működési és felhalmozási kiadások (6+7) | F17: =F15+F16 -> 20312186
A18: 9. | D18: 9. | E18: Kiadások összesen | F18: =F10+F11+F12+F14+F17 -> 638446752
A19: 10. | D19: 10. | E19: Elszámolás központi költségvetéssel | F19: ='10.mell_Összevont mérleg'!F20 -> 12218519
A20: 11. | D20: 11. | F20: ='10.mell_Összevont mérleg'!F21 -> 334064462
A21: 12. | B21: Finanszírozási bevételek összesen | C21: =SUM(C17:C20) -> 386323543 | D21: 12. | E21: Finanszírozási kiadások összesen | F21: =SUM(F19:F20) -> 346282981
A22: 13. | D22: 13.
A23: 14. | B23: MŰKÖDÉSI CÉLÚ BEVÉTELEK ÖSSZESEN | C23: =C15+C21 -> 9.8472973e+08 | D23: 14. | E23: MŰKÖDÉSI CÉLÚ KIADÁSOK ÖSSZESEN | F23: =F18+F21 -> 984729733

Sheet 12.mell. Felhalm.mérleg
E2: …/2018. (II…) önkormányzati rendelet 12. melléklete
A4: Az önkormányzat működési és felhalmozási bevételek és
A5: kiadások előirányzata mérlegszerű bemutatása
A6: 2018. év
F7: Ezer Ft
B8: Bevételek | C8: 2018. évi terv | E8: Kiadások | F8: 2018. évi terv
B10: A | C10: B | E10: C | F10: D
A11: 15. | B11: Felhalmozási célú önkormányzati támogatás | D11: 15. | E11: Felújítási, beruházási kiadások ÁFÁ-val együtt | F11: ='10.mell_Összevont mérleg'!F17 -> 1295000
A12: 16. | B12: Felhalmozási bevételek | C12: ='10.mell_Összevont mérleg'!C16 -> 635000 | D12: 16. | E12: Immateriális javak vásárlása
A13: 17. | B13: Felhalmozási célú átvett pénzeszköz | C13: ='10.mell_Összevont mérleg'!C18 -> 8724000 | D13: 17. | E13: Ingatlanok vásárlása, létesítése
A14: 18. | B14: Egyéb felhalmozási célú átvett pénzeszköz | D14: 18. | E14: Tárgyi eszközök beszerzése
A15: 19. | B15: Átvett pénzeszközök összesen | C15: =SUM(C12:C14) -> 9359000 | D15: 19. | E15: Beruházási kiadások ÁFÁ-val | F15: ='10.mell_Összevont mérleg'!F16 -> 263829424
A16: 20. | B16: Felhalmozási célú áfa vissztérítés | D16: 20. | E16: Egyéb felhalmozási célú támogatások átadása államháztartáson belülre
A17: 21. | B17: Felhalmozási bevételek összesen: | C17: =SUM(C15) -> 9359000 | D17: 21. | E17: Egyéb felhalmozási célú támogatások átadása államháztartáson kivülre
A18: 22. | B18: Előző évi költségvetési maradvány igénybevétele ( felhalmozási ) | C18: =265124424-9359000 -> 255765424 | D18: 22. | E18: Felhalmozási céltartalék
A19: 23. | B19: Fejlesztési célú hitel igénybevétele | D19: 23. | E19: Egyéb felhalmozási célú kiadások összesen
A20: 24. | B20: Finanszírozási bevételek összesen | C20: =SUM(C18:C19) -> 255765424 | D20: 24. | E20: Felhalmozási kiadások összesen | F20: =F11+F15 -> 265124424
A21: 25. | D21: 25. | E21: Hosszúlejáratú hitelek törlesztése
A22: 26. | D22: 26. | E22: Finanszírozási kiadások összesen
A23: 27. | B23: FELHALMOZÁSI CÉLÚ BEVÉTELEK ÖSSZESEN | C23: =C15+C20 -> 265124424 | D23: 27. | E23: FELHALMOZÁSI CÉLÚ KIADÁSOK ÖSSZESEN | F23: =F20 -> 265124424
A24: 28. | B24: Költségvetési bevételek összesen: | C24: ='11.mell_Műk.mérleg'!C23+'12.mell. Felhalm.mérleg'!C23 -> 1.2498542e+09 | D24: 28. | E24: Költségvetési kiadások összesen: | F24: =F23+'11.mell_Műk.mérleg'!F23 -> 1249854157
A25: 29. | B25: Költségvetési működési hiány mértéke : | C25: 0 | D25: 29.
A26: 30. | B26: Költségvetési felhalmozási hiány mértéke : | C26: 0 | D26: 30.
A27: 31. | B27: Költségvetési hiány mértéke : | C27: 0 | D27: 31.

Sheet 13.mell_Eng.létszám
A4: Az önkormányzat irányítása alá tartozó szervezeti egységek
A5: engedélyezett létszáma
A6: 2018.év
B7: ENGEDÉLYEZETT LÉTSZÁM
A8: Szervezeti egységek megnevezése | B8: Álláshelyek száma | H8: Álláshelyek száma
B9: 2018. január 1. | H9: 2018. december 31.
B10: fõfogl. | D10: rész.f | F10: Mtv. | H10: fõfogl. | J10: rész.f | L10: Mtv
A12: Cibakházi Közös Önkormányzati Hivatal | B12: 14 | F12: 6 | H12: 14 | L12: 6
A13: Cibakházi Napsugár Óvoda | B13: 18 | H13: 18
A14: Bölcsőde | B14: 9 | H14: 9
A15: Könyvtár | B15: 2 | H15: 2
A16: Művelődési Ház | B16: 3 | H16: 3
A17: Kommunális Szolgáltató Közfoglalkoztatási Intézmény | B17: 18 | H17: 18
A18: Nagyközségi Gondozási Központ | B18: 18 | H18: 18
A19: Családsegító Szolgálat+Tanyagondnok | B19: 4 | H19: 4
A20: Védőnők | B20: 2 | H20: 2
A21: Fogászat | B21: 3 | H21: 3
A22: Összesen | B22: =SUM(B12:C21) -> 91 | D22: =SUM(D12:E21) -> 0 | F22: =SUM(F12:G21) -> 6 | H22: =SUM(H12:I21) -> 91 | J22: =SUM(J12:K21) -> 0 | L22: =SUM(L12:M21) -> 6

Sheet 14.mell. Ei.felh.ütemterv
B1: …/2018. (II…) önkormányzati rendelet 14. melléklete
B4: Az önkormányzat 2018. évi előirányzat – felhasználási ütemterve
B7: Ft
A8: Sor-szám | B8: Megnevezés | C8: január | D8: február | E8: március | F8: április | G8: május | H8: június | I8: július | J8: augusztus | K8: szeptember | L8: október | M8: november | N8: december | O8: Összesen
A9: 1. | B9: Bevételei előirányzatok
A10: 2. | B10: Önkormányzat működési támogatása | C10: =$O$10/12 -> 27361538 | D10: =$O$10/12 -> 27361538 | E10: =$O$10/12 -> 27361538 | F10: =$O$10/12 -> 27361538 | G10: =$O$10/12 -> 27361538 | H10: =$O$10/12 -> 27361538 | I10: =$O$10/12 -> 27361538 | J10: =$O$10/12 -> 27361538 | ... N10: =$O$10/12 -> 27361538 | O10: ='11.mell_Műk.mérleg'!C10 -> 328338457
A11: 3. | B11: Működési célú támogatások | C11: =$O$11/12 -> 9117669.4 | D11: =$O$11/12 -> 9117669.4 | E11: =$O$11/12 -> 9117669.4 | F11: =$O$11/12 -> 9117669.4 | G11: =$O$11/12 -> 9117669.4 | H11: =$O$11/12 -> 9117669.4 | I11: =$O$11/12 -> 9117669.4 | J11: =$O$11/12 -> 9117669.4 | ... N11: =$O$11/12 -> 9117669.4 | O11: ='11.mell_Műk.mérleg'!C11 -> 109412033
A12: 4. | B12: Felhalmozási célú támogatások | O12: 0
A13: 5. | B13: Közhatalmi bevételek | E13: 21000000 | F13: 8500000 | G13: 31000000 | H13: 2000000 | I13: 3000000 | K13: 22000000 | L13: 8000000 | N13: 7500000 | O13: 103000000
A14: 6. | B14: Működési bevételek | C14: =$O$14/12 -> 4754641.7 | D14: =$O$14/12 -> 4754641.7 | E14: =$O$14/12 -> 4754641.7 | F14: =$O$14/12 -> 4754641.7 | G14: =$O$14/12 -> 4754641.7 | H14: =$O$14/12 -> 4754641.7 | I14: =$O$14/12 -> 4754641.7 | J14: =$O$14/12 -> 4754641.7 | ... N14: =$O$14/12 -> 4754641.7 | O14: ='11.mell_Műk.mérleg'!C13 -> 57055700
A15: 7. | B15: Felhalmozási bevételek | F15: 635000 | O15: 635000
A16: 8. | B16: Működési célú átvett pénzeszközök | H16: 600000 | O16: ='10.mell_Összevont mérleg'!C17 -> 600000
A17: 9. | B17: Felhalmozási célú átvett pénzeszközök | E17: =8724000/4 -> 2181000 | H17: 2181000 | K17: 2181000 | N17: 2181000 | O17: 8724000
A18: 10. | B18: Hitel felvétel | O18: ='11.mell_Műk.mérleg'!C18 -> 0
A19: 11. | B19: Előző évi maradvány igénybevétele | C19: 39134280 | D19: 39134280 | E19: 172566280 | F19: 30470280 | G19: 60151704 | H19: 34824280 | I19: 36605280 | J19: 57605280 | K19: 18962466 | L19: 81605280 | M19: 40605280 | N19: 30424280 | O19: ='10.mell_Összevont mérleg'!C21 -> 642088967
A20: 12. | B20: Bevételek összesen ( 2+3...+11) | C20: =SUM(C9:C19) -> 80368129 | D20: =SUM(D10:D19) -> 80368129 | E20: =SUM(E10:E19) -> 2.3698113e+08 | F20: =SUM(F10:F19) -> 80839129 | G20: =SUM(G10:G19) -> 1.3238555e+08 | H20: =SUM(H10:H19) -> 80839129 | I20: =SUM(I10:I19) -> 80839129 | J20: =SUM(J10:J19) -> 98839129 | K20: =SUM(K10:K19) -> 84377315 | ... O20: =SUM(O10:O19) -> 1.2498542e+09
A21: 13. | B21: Kiadási előirányzatok
A22: 14. | B22: Személyi juttatások | C22: =$O$22/12 -> 29002652 | D22: =$O$22/12 -> 29002652 | E22: =$O$22/12 -> 29002652 | F22: =$O$22/12 -> 29002652 | G22: =$O$22/12 -> 29002652 | H22: =$O$22/12 -> 29002652 | I22: =$O$22/12 -> 29002652 | J22: =$O$22/12 -> 29002652 | ... N22: =$O$22/12 -> 29002652 | O22: ='10.mell_Összevont mérleg'!F10 -> 348031827
A23: 15. | B23: Munkaadókat terhelő járulékok szoc.hj.a. | C23: =$O$23/12 -> 5280934 | D23: =$O$23/12 -> 5280934 | E23: =$O$23/12 -> 5280934 | F23: =$O$23/12 -> 5280934 | G23: =$O$23/12 -> 5280934 | H23: =$O$23/12 -> 5280934 | I23: =$O$23/12 -> 5280934 | J23: =$O$23/12 -> 5280934 | ... N23: =$O$23/12 -> 5280934 | O23: ='10.mell_Összevont mérleg'!F11 -> 63371208
A24: 16. | B24: Dologi jellegű kiadások | C24: =$O$24/12 -> 15539878 | D24: =$O$24/12 -> 15539878 | E24: =$O$24/12 -> 15539878 | F24: =$O$24/12 -> 15539878 | G24: =$O$24/12 -> 15539878 | H24: =$O$24/12 -> 15539878 | I24: =$O$24/12 -> 15539878 | J24: =$O$24/12 -> 15539878 | ... N24: =$O$24/12 -> 15539878 | O24: ='10.mell_Összevont mérleg'!F12 -> 186478531
A25: 17. | B25: Ellátottak pénzbeli juttatásai | C25: =$O$25/12 -> 1687750 | D25: =$O$25/12 -> 1687750 | E25: =$O$25/12 -> 1687750 | F25: =$O$25/12 -> 1687750 | G25: =$O$25/12 -> 1687750 | H25: =$O$25/12 -> 1687750 | I25: =$O$25/12 -> 1687750 | J25: =$O$25/12 -> 1687750 | ... N25: =$O$25/12 -> 1687750 | O25: ='10.mell_Összevont mérleg'!F13 -> 20253000
A26: 18. | B26: Egyéb működési célú támogatások | E26: =471000*3 -> 1413000 | F26: 471000 | G26: =1422000+471000+500000+500000 -> 2893000 | H26: =471000 -> 471000 | I26: 471000 | J26: 471000 | K26: 495000 | L26: 471000 | M26: 1471000 | N26: 971000 | O26: ='10.mell_Összevont mérleg'!F14 -> 9598000
A27: 19. | B27: Beruházások | E27: 150000000 | G27: 45829424 | J27: 18000000 | L27: 50000000 | O27: ='10.mell_Összevont mérleg'!F16 -> 263829424
A28: 20. | B28: Felújítások | G28: 1295000 | O28: ='10.mell_Összevont mérleg'!F17 -> 1295000
A29: 21. | B29: Egyéb felhalmozási célú támogatások | O29: 0
A30: 22. | B30: Tartalékok | E30: 5200000 | G30: 2000000 | K30: 3514186 | O30: ='10.mell_Összevont mérleg'!F18 -> 10714186
A31: 23. | B31: Hitel törlesztés | G31: , | O31: 0
A32: 24. | B32: Finanszírozási kiadások | C32: =$O$32/12 -> 28856915 | D32: =$O$32/12 -> 28856915 | E32: =$O$32/12 -> 28856915 | F32: =$O$32/12 -> 28856915 | G32: =$O$32/12 -> 28856915 | H32: =$O$32/12 -> 28856915 | I32: =$O$32/12 -> 28856915 | J32: =$O$32/12 -> 28856915 | ... N32: =$O$32/12 -> 28856915 | O32: ='10.mell_Összevont mérleg'!F22 -> 346282981
A33: 25. | B33: Kiadások összesen ( 14+15+….24) | C33: =SUM(C22:C32) -> 80368129 | D33: =SUM(D22:D32) -> 80368129 | E33: =SUM(E22:E32) -> 2.3698113e+08 | F33: =SUM(F22:F32) -> 80839129 | G33: =SUM(G22:G32) -> 1.3238555e+08 | H33: =SUM(H22:H32) -> 80839129 | I33: =SUM(I22:I32) -> 80839129 | J33: =SUM(J22:J32) -> 98839129 | ... O33: =SUM(O22:O32) -> 1249854157
A34: 26. | B34: Egyenleg ( havi záró pénzállomány (12-27) | C34: =C20-C33 -> 0.24379921 | D34: =D20-D33 -> 0.24379921 | E34: =E20-E33 -> 0.24379921 | F34: =F20-F33 -> 0.24379921 | G34: =G20-G33 -> 0.24379921 | H34: =H20-H33 -> 0.24379921 | I34: =I20-I33 -> 0.24379921 | J34: =J20-J33 -> 0.24379921 | ... O34: =O20-O33 -> -0.074409485

Sheet 15. mell._Többéves kihat.köt.
F1: …/2018. (II…) önkormányzati rendelet 15. melléklete
A4: Az önkormányzat többéves kihatású kötelezettségei
A5: 2018. év
D8: Ft
A9: Sor-szám | B9: Kötelezettség jogcíme | C9: Tárgyévi terv | D9: 2019. év | E9: 2020. év | F9: 2021. év | G9: 2022. év | H9: 2023. év | I9: 2024. év | J9: Összesen
A10: 1 | B10: Működési célú hiteltörlesztés ( tőke + kamat) ( 2+3 )
A11: 1. | J11: 0
A12: 2. | J12: 0
A13: 3. | B13: Felhalmozási célú hiteltörlesztés ( tőke + kamat ) ( 1+…3) | C13: 0 | D13: 0 | E13: 0 | F13: 0 | G13: 0 | H13: 0 | I13: 0 | J13: 0
A14: 4. | J14: 0
A15: 5. | B15: Beruházás célonként | J15: 0
A16: 6. | J16: 0
A17: 7. | B17: Felújítás feladatonként | J17: 0
A18: 8. | B18: Egyéb kötelezettség | J18: 0
A19: 9. | J19: 0
A20: 10. | B20: Összesen: | C20: 0 | D20: 0 | E20: 0 | F20: 0 | G20: 0 | H20: 0 | I20: 0 | J20: 0

Sheet 16.mell._Adósságot keletk.ügyl.
A1: …/2018. (II…) önkormányzati rendelet 16. melléklete
A4: Az önkormányzat adósságot keletkeztető ügyleteiből eredő fizetési kötelezettségeinek,
A5: valamint a saját bevételeinek a futamidő végéig várható összegei
A6: 2018. év
B9: SAJÁT BEVÉTELEK | C9: 2018. évben tervezett saját bevételek
A10: sor szám | B10: Megnevezés | C10: 2018. év | D10: 2019. év | E10: 2020. év | F10: 2021. év
A11: 1. | B11: Helyi adóból származó bevétel | C11: ='1. mell._ Önkormányzat összesen'!C35+'1. mell._ Önkormányzat összesen'!C38 -> 102000000 | D11: 70000000 | E11: 80000000 | F11: 90000000
A12: 2. | B12: Az önkormányzati vagyon és az önkormányzatot megillető vagyoni értékű jog értékesítéséből és hasznosításából származó bevétel
A13: 3. | B13: Díjak, pótlékok, bírságok | C13: 1000000 | D13: 700000 | E13: 800000 | F13: 900000
A14: 4. | B14: Tárgyi eszközök, immateriális jószág értékesitéséből származó bevétel
A15: 5. | B15: Részvények, részesedések
A16: 6. | B16: Kötelezettségvállalással kapcsolatos megtérülés
A17: 7. | B17: Vállalat értékesítés, privatizáció bevétel
A18: 8. | B18: Saját bevétel összesen | C18: =SUM(C11:C17) -> 103000000 | D18: =SUM(D11:D17) -> 70700000 | E18: =SUM(E11:E17) -> 80800000 | F18: =SUM(F11:F17) -> 90900000
B22: ADÓSÁGOT KELETKEZTETŐ ÜGYLETEK
A23: sor szám | B23: Megnevezés
A24: 1. | B24: 0
A25: 2. | B25: 0
A27: 3. | B27: Összesen 0

Sheet 17. mell. Közvetett tám.
A1: …/2018. (II…) önkormányzati rendelet 17. melléklete
A4: Az önkormányzat 2018. évi közvetett támogatásai
F6: Ft
A7: Sor sz. | B7: Bevételi jogcím | C7: Kedvezmény nélkül elérhető bevétel | D7: Kedvezmények összege
D8: Adóelengedés | E8: Adókedvezmény | F8: Egyéb
A9: 1. | B9: Ellátottak térítési díja | C9: ='1. mell._ Önkormányzat összesen'!C48 -> 35690945 | D9: 0 | E9: 0 | F9: 0
A10: 2. | B10: Lakosági kölcsön lakásépítéshez és lakás vásárláshoz | C10: 0 | D10: 0 | E10: 0 | F10: 0
A11: 3. | B11: Helyiségek és eszközök hasznosítása | C11: 0 | D11: 0 | E11: 0 | F11: 0
A12: 4. | B12: Egyéb kedvezmény, kölcsön | C12: 0 | D12: 0 | E12: 0 | F12: 0
A13: 5. | B13: Helyi adók összesen | C13: =SUM(C14:C18) -> 103000000 | D13: 0 | E13: 0 | F13: 0
A14: Ebből: | B14: Magánszemélyek kommunális adója | C14: ='1. mell._ Önkormányzat összesen'!C37 -> 15500000 | D14: 0 | E14: 0 | F14: 0
B15: Építményadó | C15: 11500000 | D15: 0 | E15: 0 | F15: 0
B16: Egyéb adók | C16: 1000000 | D16: 0 | E16: 0 | F16: 0
B17: Iparűzési adó | C17: ='1. mell._ Önkormányzat összesen'!C39 -> 70000000 | D17: 0 | E17: 0 | F17: 0
A18: 6. | B18: Gépjárműadó | C18: ='1. mell._ Önkormányzat összesen'!C40 -> 5000000 | E18: 546000 | F18: 0
B19: ÖSSZESEN: | C19: =C9+C13 -> 1.3869094e+08 | D19: 0 | E19: =SUM(E9:E18) -> 546000 | F19: 0

Sheet 18.mell_Pályázatok
A1: …/2018. (II…) önkormányzati rendelet 18. melléklete
A4: Az önkormányzat felhalmozási kiadásainak részletezése
A5: 2018. év
C6: Ft
A7: 1. | B7: TOP 3.2.2 Kazánház építése | C7: 95200650
A8: 2. | B8: TOP 1.2.1 GÖDÖR beruházás | C8: 96389399
A9: 3. | B9: TOP 4.1.1 Orvosi rendelő felújítása | C9: 37912400
A10: 4. | B10: Önkormányzati étkeztetés fejlesztése | C10: 10296295
A11: 5. | B11: Tanyafejlesztési program-Kamera bővítés | C11: 3800000
A12: 6. | B12: Tanyafejlesztési program-tanyagondnoki szolgálat | C12: 2220000
A13: 7. | B13: Tanyafejlesztési program-Zártkerti revitalizáció | C13: 9991000
B14: Összesen | C14: =SUM(C7:C13) -> 255809744

Sheet 19.mell_EU projek
E1: …/2018. (II…) önkormányzati rendelet 19. melléklete
H2: Ft-ban
A3: Európai uniós támogatással megvalósuló fejlesztések,projektekhez történő hozzájárulások
A5: 2018. év

Sheet 20.mell. +3 év keret
C1: …/2018. (II…) önkormányzati rendelet 20. melléklete
A3: Az államháztartásról szóló 2011.évi CXCV.törvény 24.§ (4) bekezdés d) pontja alapján
A5: a költségvetési évet követő három év tervezett előirányzatainak keretszámai
F7: FT
A8: Sor- szám | B8: Bevételi jogcím | C8: 2018. | D8: 2019. | E8: 2020. | F8: 2021.
A9: A | B9: B | C9: C | D9: D | E9: E | F9: F
A10: 1. | B10: Működési célú támogatások államháztartáson belülről | C10: ='10.mell_Összevont mérleg'!C10+'10.mell_Összevont mérleg'!C11 -> 437750490 | D10: =C10*1.03 -> 4.50883e+08 | E10: =D10*1.03 -> 4.6440949e+08 | F10: =E10*1.03 -> 4.7834178e+08
A11: 2. | B11: Felhalmozási célú támogatások államháztartáson belülről | C11: 0 | D11: =C11*1.03 -> 0 | E11: =D11*1.03 -> 0 | F11: =E11*1.03 -> 0
A12: 3. | B12: Közhatalmi bevételek | C12: ='10.mell_Összevont mérleg'!C13 -> 103000000 | D12: =C12*1.03 -> 106090000 | E12: =D12*1.03 -> 109272700 | F12: =E12*1.03 -> 112550881
A13: 4. | B13: Működési bevételek | C13: ='10.mell_Összevont mérleg'!C14 -> 57055700 | D13: =C13*1.03 -> 58767371 | E13: =D13*1.03 -> 60530392 | F13: =E13*1.03 -> 62346304
A14: 5. | B14: Felhalmozási bevételek | C14: ='10.mell_Összevont mérleg'!C16 -> 635000 | D14: =C14*1.03 -> 654050 | E14: =D14*1.03 -> 673671.5 | F14: =E14*1.03 -> 693881.65
A15: 6. | B15: Működési célú átvett pénzeszközök | C15: ='10.mell_Összevont mérleg'!C17 -> 600000 | D15: =C15*1.03 -> 618000 | E15: =D15*1.03 -> 636540 | F15: =E15*1.03 -> 655636.2
A16: 7. | B16: Felhalmozási célú átvett pénzeszközök | C16: ='10.mell_Összevont mérleg'!C18 -> 8724000 | D16: =C16*1.03 -> 8985720 | E16: =D16*1.03 -> 9255291.6 | F16: =E16*1.03 -> 9532950.3
A17: 8. | B17: KÖLTSÉGVETÉSI BEVÉTELEK ÖSSZESEN: (1+…+8) | C17: =SUM(C10:C16) -> 6.0776519e+08 | D17: =C17*1.03 -> 6.2599815e+08 | E17: =D17*1.03 -> 6.4477809e+08 | F17: =E17*1.03 -> 6.6412143e+08
A18: 9. | B18: FINANSZÍROZÁSI BEVÉTELEK ÖSSZESEN: | C18: ='10.mell_Összevont mérleg'!C21 -> 642088967 | D18: =C18*1.03-'1. mell._ Önkormányzat összesen'!C55 -> 3.5332713e+08 | E18: =D18*1.03 -> 3.6392694e+08 | F18: =E18*1.03 -> 3.7484475e+08
A19: 10. | B19: KÖLTSÉGVETÉSI ÉS FINANSZÍROZÁSI BEVÉTELEK ÖSSZESEN: (8+9) | C19: =SUM(C17:C18) -> 1.2498542e+09 | D19: =SUM(D17:D18) -> 9.7932528e+08 | E19: =SUM(E17:E18) -> 1.008705e+09 | F19: =SUM(F17:F18) -> 1.0389662e+09
A21: KIADÁSOK
F22: FT
A23: Sor- szám | B23: Bevételi jogcím | C23: 2018. | D23: 2019. | E23: 2020. | F23: 2021.
A24: A | B24: B | C24: C | D24: D | E24: E | F24: F
A25: 1. | B25: Működési költségvetés kiadásai | C25: =SUM(C26:C29) -> 638446752 | D25: =C25*1.03 -> 6.5760015e+08 | E25: =D25*1.03 -> 6.7732816e+08 | F25: =E25*1.03 -> 6.97648e+08
A26: 1.1 | B26: Személyi juttatások összesen | C26: ='11.mell_Műk.mérleg'!F10 -> 348031827 | D26: =C26*1.03 -> 3.5847278e+08 | E26: =D26*1.03 -> 3.6922697e+08 | F26: =E26*1.03 -> 3.8030377e+08
A27: 1.2 | B27: Munkaadókat terhelő Járulékok és SZOHO | C27: ='11.mell_Műk.mérleg'!F11 -> 63371208 | D27: =C27*1.03 -> 65272344 | E27: =D27*1.03 -> 67230515 | F27: =E27*1.03 -> 69247430
A28: 1.3 | B28: Dologi Kiadások | C28: ='11.mell_Műk.mérleg'!F12+'10.mell_Összevont mérleg'!F13 -> 206731531 | D28: =C28*1.03 -> 2.1293348e+08 | E28: =D28*1.03 -> 2.1932148e+08 | F28: =E28*1.03 -> 2.2590113e+08
A29: 1.4 | B29: Egyéb működési célú kiadások | C29: ='10.mell_Összevont mérleg'!F14+'10.mell_Összevont mérleg'!F18 -> 20312186 | D29: =C29*1.03 -> 20921552 | E29: =D29*1.03 -> 21549198 | F29: =E29*1.03 -> 22195674
A30: 2. | B30: Felhalmozási költségvetés kiadásai (2.1.+2.2.+2.3.) | C30: =SUM(C31:C32) -> 265124424 | D30: =SUM(D31:D32) -> 11333850 | E30: =D30*1.03 -> 11673866 | F30: =E30*1.03 -> 12024081
A31: 2.1. | B31: Beruházások | C31: ='10.mell_Összevont mérleg'!F17 -> 1295000 | D31: =C31*1.03 -> 1333850 | E31: =D31*1.03 -> 1373865.5 | F31: =E31*1.03 -> 1415081.5
A32: 2.2. | B32: Felújítások | C32: ='10.mell_Összevont mérleg'!F16 -> 263829424 | D32: 10000000 | E32: =D32*1.03 -> 10300000 | F32: =E32*1.03 -> 10609000
A33: 2.3. | B33: Egyéb felhalmozási kiadások | C33: 0 | D33: =C33*1.03 -> 0 | E33: =D33*1.03 -> 0 | F33: =E33*1.03 -> 0
A34: 3. | B34: KÖLTSÉGVETÉSI KIADÁSOK ÖSSZESEN (1+2) | C34: =C25+C30 -> 903571176 | D34: =D25+D30 -> 6.68934e+08 | E34: =D34*1.03 -> 6.8900202e+08 | F34: =E34*1.03 -> 7.0967209e+08
A35: 4. | B35: FINANSZÍROZÁSI KIADÁSOK ÖSSZESEN: | C35: ='10.mell_Összevont mérleg'!F22 -> 346282981 | D35: =C35*1.03 -> 3.5667147e+08 | E35: =D35*1.03 -> 3.6737161e+08 | F35: =E35*1.03 -> 3.7839276e+08
A36: 5. | B36: KIADÁSOK ÖSSZESEN: (3.+4.) | C36: =C34+C35 -> 1249854157 | D36: =D34+D35 -> 1.0256055e+09 | E36: =E34+E35 -> 1.0563736e+09 | F36: =F34+F35 -> 1.0880648e+09
