Workbook

Sheet 1. melléklet
C1: 1. melléklet 5/2019. (V.7.) önkormányzati rendelethez
A3: SORKIKÁPOLNA Önkormányzat 2019. évi költségvetése
A4: Kiadások (Ft)
A6: SORKIKÁPOLNA ÖNKORMÁNYZATI ELŐIRÁNYZATOK | C6: EREDETI ELŐIRÁNYZAT | G6: I.n.év módosított előirányzat
A7: Rovat megnevezése | B7: Rovat-szám | C7: kötelező feladatok | D7: önként vállalt feladatok | E7: államigazgatási feladatok | F7: ÖSSZESEN | G7: kötelező feladatok | H7: önként vállalt feladatok | I7: államigazgatási feladatok | J7: ÖSSZESEN
A8: Törvény szerinti illetmények, munkabérek | B8: K1101 | C8: 3391560 | D8: 0 | E8: 0 | F8: =SUM(C8:E8) -> 3391560 | G8: 3391560 | H8: 0 | I8: 0 | J8: =SUM(G8:I8) -> 3391560
A9: Normatív jutalmak | B9: K1102 | C9: 90226 | D9: 0 | E9: 0 | F9: =SUM(C9:E9) -> 90226 | G9: 90226 | H9: 0 | I9: 0 | J9: =SUM(G9:I9) -> 90226
A10: Céljuttatás, projektprémium | B10: K1103 | C10: 0 | D10: 0 | E10: 0 | F10: =SUM(C10:E10) -> 0 | G10: 0 | H10: 0 | I10: 0 | J10: =SUM(G10:I10) -> 0
A11: Készenléti, ügyeleti, helyettesítési díj, túlóra, túlszolgálat | B11: K1104 | C11: 0 | D11: 0 | E11: 0 | F11: =SUM(C11:E11) -> 0 | G11: 0 | H11: 0 | I11: 0 | J11: =SUM(G11:I11) -> 0
A12: Végkielégítés | B12: K1105 | C12: 0 | D12: 0 | E12: 0 | F12: =SUM(C12:E12) -> 0 | G12: 0 | H12: 0 | I12: 0 | J12: =SUM(G12:I12) -> 0
A13: Jubileumi jutalom | B13: K1106 | C13: 0 | D13: 0 | E13: 0 | F13: =SUM(C13:E13) -> 0 | G13: 0 | H13: 0 | I13: 0 | J13: =SUM(G13:I13) -> 0
A14: Béren kívüli juttatások | B14: K1107 | C14: 100000 | D14: 0 | E14: 0 | F14: =SUM(C14:E14) -> 100000 | G14: 108000 | H14: 0 | I14: 0 | J14: =SUM(G14:I14) -> 108000
A15: Ruházati költségtérítés | B15: K1108 | C15: 0 | D15: 0 | E15: 0 | F15: =SUM(C15:E15) -> 0 | G15: 0 | H15: 0 | I15: 0 | J15: =SUM(G15:I15) -> 0
A16: Közlekedési költségtérítés | B16: K1109 | C16: 0 | D16: 0 | E16: 0 | F16: =SUM(C16:E16) -> 0 | G16: 0 | H16: 0 | I16: 0 | J16: =SUM(G16:I16) -> 0
A17: Egyéb költségtérítések | B17: K1110 | C17: 0 | D17: 0 | E17: 0 | F17: =SUM(C17:E17) -> 0 | G17: 0 | H17: 0 | I17: 0 | J17: =SUM(G17:I17) -> 0
A18: Lakhatási támogatások | B18: K1111 | C18: 0 | D18: 0 | E18: 0 | F18: =SUM(C18:E18) -> 0 | G18: 0 | H18: 0 | I18: 0 | J18: =SUM(G18:I18) -> 0
A19: Szociális támogatások | B19: K1112 | C19: 0 | D19: 0 | E19: 0 | F19: =SUM(C19:E19) -> 0 | G19: 0 | H19: 0 | I19: 0 | J19: =SUM(G19:I19) -> 0
A20: Foglalkoztatottak egyéb személyi juttatásai | B20: K1113 | C20: 0 | D20: 0 | E20: 0 | F20: =SUM(C20:E20) -> 0 | G20: 0 | H20: 0 | I20: 0 | J20: =SUM(G20:I20) -> 0
A21: Foglalkoztatottak személyi juttatásai | B21: K11 | C21: =SUM(C8:C20) -> 3581786 | D21: =SUM(D8:D20) -> 0 | E21: =SUM(E8:E20) -> 0 | F21: =SUM(C21:E21) -> 3581786 | G21: =SUM(G8:G20) -> 3589786 | H21: =SUM(H8:H20) -> 0 | I21: =SUM(I8:I20) -> 0 | J21: =SUM(G21:I21) -> 3589786
A22: Választott tisztségviselők juttatásai | B22: K121 | C22: 3062740 | D22: 0 | E22: 0 | F22: =SUM(C22:E22) -> 3062740 | G22: 3062740 | H22: 0 | I22: 0 | J22: =SUM(G22:I22) -> 3062740
A23: Munkavégzésre irányuló egyéb jogviszonyban nem saját foglalkoztatottnak fizetett juttatások | B23: K122 | C23: 2532000 | D23: 0 | E23: 0 | F23: =SUM(C23:E23) -> 2532000 | G23: 2892000 | H23: 0 | I23: 0 | J23: =SUM(G23:I23) -> 2892000
A24: Egyéb külső személyi juttatások | B24: K123 | C24: 450000 | D24: 0 | E24: 0 | F24: =SUM(C24:E24) -> 450000 | G24: 450000 | H24: 0 | I24: 0 | J24: =SUM(G24:I24) -> 450000
A25: Külső személyi juttatások | B25: K12 | C25: =SUM(C22:C24) -> 6044740 | D25: =SUM(D22:D24) -> 0 | E25: =SUM(E22:E24) -> 0 | F25: =SUM(C25:E25) -> 6044740 | G25: =SUM(G22:G24) -> 6404740 | H25: =SUM(H22:H24) -> 0 | I25: =SUM(I22:I24) -> 0 | J25: =SUM(G25:I25) -> 6404740
A26: Személyi juttatások | B26: K1 | C26: =C21+C25 -> 9626526 | D26: =D21+D25 -> 0 | E26: =E21+E25 -> 0 | F26: =SUM(C26:E26) -> 9626526 | G26: =G21+G25 -> 9994526 | H26: =H21+H25 -> 0 | I26: =I21+I25 -> 0 | J26: =SUM(G26:I26) -> 9994526
A27: Munkaadókat terhelő járulékok és szociális hozzájárulási adó | B27: K2 | C27: 1936792 | D27: 0 | E27: 0 | F27: =SUM(C27:E27) -> 1936792 | G27: 2006792 | H27: 0 | I27: 0 | J27: =SUM(G27:I27) -> 2006792
A28: Szakmai anyagok beszerzése | B28: K311 | C28: 14000 | D28: 0 | E28: 0 | F28: =SUM(C28:E28) -> 14000 | G28: 14000 | H28: 0 | I28: 0 | J28: =SUM(G28:I28) -> 14000
A29: Üzemeltetési anyagok beszerzése | B29: K312 | C29: 1210000 | D29: 0 | E29: 0 | F29: =SUM(C29:E29) -> 1210000 | G29: 1210000 | H29: 0 | I29: 0 | J29: =SUM(G29:I29) -> 1210000
A30: Árubeszerzés | B30: K313 | C30: 0 | D30: 0 | E30: 0 | F30: =SUM(C30:E30) -> 0 | G30: 0 | H30: 0 | I30: 0 | J30: =SUM(G30:I30) -> 0
A31: Készletbeszerzés | B31: K31 | C31: =SUM(C28:C30) -> 1224000 | D31: =SUM(D28:D30) -> 0 | E31: =SUM(E28:E30) -> 0 | F31: =SUM(C31:E31) -> 1224000 | G31: =SUM(G28:G30) -> 1224000 | H31: =SUM(H28:H30) -> 0 | I31: =SUM(I28:I30) -> 0 | J31: =SUM(G31:I31) -> 1224000
A32: Informatikai szolgáltatások igénybevétele | B32: K321 | C32: 228000 | D32: 0 | E32: 0 | F32: =SUM(C32:E32) -> 228000 | G32: 228000 | H32: 0 | I32: 0 | J32: =SUM(G32:I32) -> 228000
A33: Egyéb kommunikációs szolgáltatások | B33: K322 | C33: 190000 | D33: 0 | E33: 0 | F33: =SUM(C33:E33) -> 190000 | G33: 190000 | H33: 0 | I33: 0 | J33: =SUM(G33:I33) -> 190000
A34: Kommunikációs szolgáltatások | B34: K32 | C34: =SUM(C32:C33) -> 418000 | D34: =SUM(D32:D33) -> 0 | E34: =SUM(E32:E33) -> 0 | F34: =SUM(C34:E34) -> 418000 | G34: =SUM(G32:G33) -> 418000 | H34: =SUM(H32:H33) -> 0 | I34: =SUM(I32:I33) -> 0 | J34: =SUM(G34:I34) -> 418000
A35: Közüzemi díjak | B35: K331 | C35: 1993606 | D35: 0 | E35: 0 | F35: =SUM(C35:E35) -> 1993606 | G35: 1993606 | H35: 0 | I35: 0 | J35: =SUM(G35:I35) -> 1993606
A36: Vásárolt élelmezés | B36: K332 | C36: 0 | D36: 0 | E36: 0 | F36: =SUM(C36:E36) -> 0 | G36: 0 | H36: 0 | I36: 0 | J36: =SUM(G36:I36) -> 0
A37: Bérleti és lízing díjak | B37: K333 | C37: 0 | D37: 0 | E37: 0 | F37: =SUM(C37:E37) -> 0 | G37: 0 | H37: 0 | I37: 0 | J37: =SUM(G37:I37) -> 0
A38: Karbantartási, kisjavítási szolgáltatások | B38: K334 | C38: 705000 | D38: 0 | E38: 0 | F38: =SUM(C38:E38) -> 705000 | G38: 705000 | H38: 0 | I38: 0 | J38: =SUM(G38:I38) -> 705000
A39: Közvetített szolgáltatások | B39: K335 | C39: 0 | D39: 0 | E39: 0 | F39: =SUM(C39:E39) -> 0 | G39: 0 | H39: 0 | I39: 0 | J39: =SUM(G39:I39) -> 0
A40: Szakmai tevékenységet segítő szolgáltatások | B40: K336 | C40: 400000 | D40: 0 | E40: 0 | F40: =SUM(C40:E40) -> 400000 | G40: 400000 | H40: 0 | I40: 0 | J40: =SUM(G40:I40) -> 400000
A41: Egyéb szolgáltatások | B41: K337 | C41: 11759000 | D41: 0 | E41: 0 | F41: =SUM(C41:E41) -> 11759000 | G41: 7568000 | H41: 0 | I41: 0 | J41: =SUM(G41:I41) -> 7568000
A42: Szolgáltatási kiadások | B42: K33 | C42: =SUM(C35:C41) -> 14857606 | D42: =SUM(D35:D41) -> 0 | E42: =SUM(E35:E41) -> 0 | F42: =SUM(C42:E42) -> 14857606 | G42: =SUM(G35:G41) -> 10666606 | H42: =SUM(H35:H41) -> 0 | I42: =SUM(I35:I41) -> 0 | J42: =SUM(G42:I42) -> 10666606
A43: Kiküldetések kiadásai | B43: K341 | C43: 0 | D43: 0 | E43: 0 | F43: =SUM(C43:E43) -> 0 | G43: 27000 | H43: 0 | I43: 0 | J43: =SUM(G43:I43) -> 27000
A44: Reklám- és propagandakiadások | B44: K342 | C44: 0 | D44: 0 | E44: 0 | F44: =SUM(C44:E44) -> 0 | G44: 0 | H44: 0 | I44: 0 | J44: =SUM(G44:I44) -> 0
A45: Kiküldetések, reklám- és propagandakiadások | B45: K34 | C45: =SUM(C43:C44) -> 0 | D45: =SUM(D43:D44) -> 0 | E45: =SUM(E43:E44) -> 0 | F45: =SUM(C45:E45) -> 0 | G45: =SUM(G43:G44) -> 27000 | H45: =SUM(H43:H44) -> 0 | I45: =SUM(I43:I44) -> 0 | J45: =SUM(G45:I45) -> 27000
A46: Működési célú előzetesen felszámított általános forgalmi adó | B46: K351 | C46: 4371773 | D46: 0 | E46: 3000 | F46: =SUM(C46:E46) -> 4374773 | G46: 4371773 | H46: 0 | I46: 3000 | J46: =SUM(G46:I46) -> 4374773
A47: Fizetendő általános forgalmi adó | B47: K352 | C47: 0 | D47: 0 | E47: 0 | F47: =SUM(C47:E47) -> 0 | G47: 0 | H47: 0 | I47: 0 | J47: =SUM(G47:I47) -> 0
A48: Kamatkiadások | B48: K353 | C48: 0 | D48: 0 | E48: 0 | F48: =SUM(C48:E48) -> 0 | G48: 0 | H48: 0 | I48: 0 | J48: =SUM(G48:I48) -> 0
A49: Egyéb pénzügyi műveletek kiadásai | B49: K354 | C49: 0 | D49: 0 | E49: 0 | F49: =SUM(C49:E49) -> 0 | G49: 0 | H49: 0 | I49: 0 | J49: =SUM(G49:I49) -> 0
A50: Egyéb dologi kiadások | B50: K355 | C50: 20000 | D50: 0 | E50: 10000 | F50: =SUM(C50:E50) -> 30000 | G50: 20000 | H50: 0 | I50: 10000 | J50: =SUM(G50:I50) -> 30000
A51: Különféle befizetések és egyéb dologi kiadások | B51: K35 | C51: =SUM(C46:C50) -> 4391773 | D51: =SUM(D46:D50) -> 0 | E51: =SUM(E46:E50) -> 13000 | F51: =SUM(C51:E51) -> 4404773 | G51: =SUM(G46:G50) -> 4391773 | H51: =SUM(H46:H50) -> 0 | I51: =SUM(I46:I50) -> 13000 | J51: =SUM(G51:I51) -> 4404773
A52: Dologi kiadások | B52: K3 | C52: =C31+C34+C42+C45+C51 -> 20891379 | D52: =D31+D34+D42+D45+D51 -> 0 | E52: =E31+E34+E42+E45+E51 -> 13000 | F52: =SUM(C52:E52) -> 20904379 | G52: =G31+G34+G42+G45+G51 -> 16727379 | H52: =H31+H34+H42+H45+H51 -> 0 | I52: =I31+I34+I42+I45+I51 -> 13000 | J52: =SUM(G52:I52) -> 16740379
A53: Társadalombiztosítási ellátások | B53: K41 | C53: 0 | D53: 0 | E53: 0 | F53: =SUM(C53:E53) -> 0 | G53: 0 | H53: 0 | I53: 0 | J53: =SUM(G53:I53) -> 0
A54: Családi támogatások | B54: K42 | C54: 0 | D54: 0 | E54: 0 | F54: 0 | G54: 0 | H54: 0 | I54: 0 | J54: 0
A55: Pénzbeli kárpótlások, kártérítések | B55: K43 | C55: 0 | D55: 0 | E55: 0 | F55: =SUM(C55:E55) -> 0 | G55: 0 | H55: 0 | I55: 0 | J55: =SUM(G55:I55) -> 0
A56: Betegséggel kapcsolatos (nem társadalombiztosítási) ellátások | B56: K44 | C56: 0 | D56: 0 | E56: 0 | F56: =SUM(C56:E56) -> 0 | G56: 0 | H56: 0 | I56: 0 | J56: =SUM(G56:I56) -> 0
A57: Foglalkoztatással, munkanélküliséggel kapcsolatos ellátások | B57: K45 | C57: 0 | D57: 0 | E57: 0 | F57: =SUM(C57:E57) -> 0 | G57: 0 | H57: 0 | I57: 0 | J57: =SUM(G57:I57) -> 0
A58: Lakhatással kapcsolatos ellátások | B58: K46 | C58: 0 | D58: 0 | E58: 0 | F58: =SUM(C58:E58) -> 0 | G58: 0 | H58: 0 | I58: 0 | J58: =SUM(G58:I58) -> 0
A59: Intézményi ellátottak pénzbeli juttatásai | B59: K47 | D59: 0 | E59: 0 | F59: =SUM(C59:E59) -> 0 | H59: 0 | I59: 0 | J59: =SUM(G59:I59) -> 0
A60: Egyéb nem intézményi ellátások | B60: K48 | C60: 1438000 | D60: 0 | E60: 0 | F60: =SUM(C60:E60) -> 1438000 | G60: 1438000 | H60: 0 | I60: 0 | J60: =SUM(G60:I60) -> 1438000
A61: Ellátottak pénzbeli juttatásai | B61: K4 | C61: =SUM(C53:C60) -> 1438000 | D61: =SUM(D53:D60) -> 0 | E61: =SUM(E53:E60) -> 0 | F61: =SUM(C61:E61) -> 1438000 | G61: =SUM(G53:G60) -> 1438000 | H61: =SUM(H53:H60) -> 0 | I61: =SUM(I53:I60) -> 0 | J61: =SUM(G61:I61) -> 1438000
A62: Nemzetközi kötelezettségek | B62: K501 | C62: 0 | D62: 0 | E62: 0 | F62: =SUM(C62:E62) -> 0 | G62: 0 | H62: 0 | I62: 0 | J62: =SUM(G62:I62) -> 0
A63: Elvonások és befizetések | B63: K502 | C63: 0 | D63: 0 | E63: 0 | F63: =SUM(C63:E63) -> 0 | G63: 0 | H63: 0 | I63: 0 | J63: =SUM(G63:I63) -> 0
A64: Működési célú garancia- és kezességvállalásból származó kifizetés államháztartáson belülre | B64: K503 | C64: 0 | D64: 0 | E64: 0 | F64: =SUM(C64:E64) -> 0 | G64: 0 | H64: 0 | I64: 0 | J64: =SUM(G64:I64) -> 0
A65: Működési célú visszatérítendő támogatások, kölcsönök nyújtása államháztartáson belülre | B65: K504 | C65: 0 | D65: 0 | E65: 0 | F65: =SUM(C65:E65) -> 0 | G65: 0 | H65: 0 | I65: 0 | J65: =SUM(G65:I65) -> 0
A66: Működési célú visszatérítendő támogatások, kölcsönök törlesztése államháztartáson belülre | B66: K505 | C66: 0 | D66: 0 | E66: 0 | F66: =SUM(C66:E66) -> 0 | G66: 0 | H66: 0 | I66: 0 | J66: =SUM(G66:I66) -> 0
A67: Egyéb működési célú támogatások államháztartáson belülre | B67: K506 | C67: 2352145 | D67: 0 | E67: 0 | F67: =SUM(C67:E67) -> 2352145 | G67: 2352145 | H67: 0 | I67: 0 | J67: =SUM(G67:I67) -> 2352145
A68: Működési célú garancia- és kezességvállalásból származó kifizetés államháztartáson kívülre | B68: K507 | C68: 0 | D68: 0 | E68: 0 | F68: =SUM(C68:E68) -> 0 | G68: 0 | H68: 0 | I68: 0 | J68: =SUM(G68:I68) -> 0
A69: Működési célú visszatérítendő támogatások, kölcsönök nyújtása államháztartáson kívülre | B69: K508 | C69: 0 | D69: 0 | E69: 0 | F69: =SUM(C69:E69) -> 0 | G69: 0 | H69: 0 | I69: 0 | J69: =SUM(G69:I69) -> 0
A70: Árkiegészítések, ártámogatások | B70: K509 | C70: 0 | D70: 0 | E70: 0 | F70: =SUM(C70:E70) -> 0 | G70: 0 | H70: 0 | I70: 0 | J70: =SUM(G70:I70) -> 0
A71: Kamattámogatások | B71: K510 | C71: 0 | D71: 0 | E71: 0 | F71: =SUM(C71:E71) -> 0 | G71: 0 | H71: 0 | I71: 0 | J71: =SUM(G71:I71) -> 0
A72: Működési célú támogatások az Európai Uniónak | B72: K511 | C72: 0 | D72: 0 | E72: 0 | F72: =SUM(C72:E72) -> 0 | G72: 0 | H72: 0 | I72: 0 | J72: =SUM(G72:I72) -> 0
A73: Egyéb működési célú támogatások államháztartáson kívülre | B73: K512 | C73: 140000 | D73: 0 | E73: 0 | F73: =SUM(C73:E73) -> 140000 | G73: 140000 | H73: 0 | I73: 0 | J73: =SUM(G73:I73) -> 140000
A74: Tartalékok | B74: K513 | C74: 5333640 | D74: 0 | E74: 0 | F74: =SUM(C74:E74) -> 5333640 | G74: 4890508 | H74: 0 | I74: 0 | J74: =SUM(G74:I74) -> 4890508
A75: Egyéb működési célú kiadások | B75: K5 | C75: =SUM(C62:C74) -> 7825785 | D75: =SUM(D62:D74) -> 0 | E75: =SUM(E62:E74) -> 0 | F75: =SUM(C75:E75) -> 7825785 | G75: =SUM(G62:G74) -> 7382653 | H75: =SUM(H62:H74) -> 0 | I75: =SUM(I62:I74) -> 0 | J75: =SUM(G75:I75) -> 7382653
A76: Működési kiadások összesen | C76: =SUM(C26+C27+C52+C61+C75) -> 41718482 | D76: =SUM(D26+D27+D52+D61+D75) -> 0 | E76: =SUM(E26+E27+E52+E61+E75) -> 13000 | F76: =SUM(F26+F27+F52+F61+F75) -> 41731482 | G76: =SUM(G26+G27+G52+G61+G75) -> 37549350 | H76: =SUM(H26+H27+H52+H61+H75) -> 0 | I76: =SUM(I26+I27+I52+I61+I75) -> 13000 | J76: =SUM(J26+J27+J52+J61+J75) -> 37562350
A77: Immateriális javak beszerzése, létesítése | B77: K61 | C77: 0 | D77: 0 | E77: 0 | F77: =SUM(C77:E77) -> 0 | G77: 0 | H77: 0 | I77: 0 | J77: =SUM(G77:I77) -> 0
A78: Ingatlanok beszerzése, létesítése | B78: K62 | C78: 0 | D78: 0 | E78: 0 | F78: =SUM(C78:E78) -> 0 | G78: 0 | H78: 0 | I78: 0 | J78: =SUM(G78:I78) -> 0
A79: Informatikai eszközök beszerzése, létesítése | B79: K63 | C79: 0 | D79: 0 | E79: 0 | F79: =SUM(C79:E79) -> 0 | G79: 0 | H79: 0 | I79: 0 | J79: =SUM(G79:I79) -> 0
A80: Egyéb tárgyi eszközök beszerzése, létesítése | B80: K64 | C80: 60000 | D80: 0 | E80: 0 | F80: =SUM(C80:E80) -> 60000 | G80: 1760000 | H80: 0 | I80: 0 | J80: =SUM(G80:I80) -> 1760000
A81: Részesedések beszerzése | B81: K65 | C81: 0 | D81: 0 | E81: 0 | F81: =SUM(C81:E81) -> 0 | G81: 0 | H81: 0 | I81: 0 | J81: =SUM(G81:I81) -> 0
A82: Meglévő részesedések növeléséhez kapcsolódó kiadások | B82: K66 | C82: 0 | D82: 0 | E82: 0 | F82: =SUM(C82:E82) -> 0 | G82: 0 | H82: 0 | I82: 0 | J82: =SUM(G82:I82) -> 0
A83: Beruházási célú előzetesen felszámított általános forgalmi adó | B83: K67 | C83: 16000 | D83: 0 | E83: 0 | F83: =SUM(C83:E83) -> 16000 | G83: 475000 | H83: 0 | I83: 0 | J83: =SUM(G83:I83) -> 475000
A84: Beruházások | B84: K6 | C84: =SUM(C77:C83) -> 76000 | D84: =SUM(D77:D83) -> 0 | E84: =SUM(E77:E83) -> 0 | F84: =SUM(C84:E84) -> 76000 | G84: =SUM(G77:G83) -> 2235000 | H84: =SUM(H77:H83) -> 0 | I84: =SUM(I77:I83) -> 0 | J84: =SUM(G84:I84) -> 2235000
A85: Ingatlanok felújítása | B85: K71 | C85: 0 | D85: 0 | E85: 0 | F85: =SUM(C85:E85) -> 0 | G85: 1600000 | H85: 0 | I85: 0 | J85: =SUM(G85:I85) -> 1600000
A86: Informatikai eszközök felújítása | B86: K72 | C86: 0 | D86: 0 | E86: 0 | F86: =SUM(C86:E86) -> 0 | G86: 0 | H86: 0 | I86: 0 | J86: =SUM(G86:I86) -> 0
A87: Egyéb tárgyi eszközök felújítása | B87: K73 | C87: 0 | D87: 0 | E87: 0 | F87: =SUM(C87:E87) -> 0 | G87: 0 | H87: 0 | I87: 0 | J87: =SUM(G87:I87) -> 0
A88: Felújítási célú előzetesen felszámított általános forgalmi adó | B88: K74 | C88: 0 | D88: 0 | E88: 0 | F88: =SUM(C88:E88) -> 0 | G88: 432000 | H88: 0 | I88: 0 | J88: =SUM(G88:I88) -> 432000
A89: Felújítások | B89: K7 | C89: =SUM(C85:C88) -> 0 | D89: =SUM(D85:D88) -> 0 | E89: =SUM(E85:E88) -> 0 | F89: =SUM(C89:E89) -> 0 | G89: =SUM(G85:G88) -> 2032000 | H89: =SUM(H85:H88) -> 0 | I89: =SUM(I85:I88) -> 0 | J89: =SUM(G89:I89) -> 2032000
A90: Felhalmozási célú garancia- és kezességvállalásból származó kifizetés államháztartáson belülre | B90: K81 | C90: 0 | D90: 0 | E90: 0 | F90: =SUM(C90:E90) -> 0 | G90: 0 | H90: 0 | I90: 0 | J90: =SUM(G90:I90) -> 0
A91: Felhalmozási célú visszatérítendő támogatások, kölcsönök nyújtása államháztartáson belülre | B91: K82 | C91: 0 | D91: 0 | E91: 0 | F91: =SUM(C91:E91) -> 0 | G91: 0 | H91: 0 | I91: 0 | J91: =SUM(G91:I91) -> 0
A92: Felhalmozási célú visszatérítendő támogatások, kölcsönök törlesztése államháztartáson belülre | B92: K83 | C92: 0 | D92: 0 | E92: 0 | F92: =SUM(C92:E92) -> 0 | G92: 0 | H92: 0 | I92: 0 | J92: =SUM(G92:I92) -> 0
A93: Egyéb felhalmozási célú támogatások államháztartáson belülre | B93: K84 | C93: 0 | D93: 0 | E93: 0 | F93: =SUM(C93:E93) -> 0 | G93: 0 | H93: 0 | I93: 0 | J93: =SUM(G93:I93) -> 0
A94: Felhalmozási célú garancia- és kezességvállalásból származó kifizetés államháztartáson kívülre | B94: K85 | C94: 0 | D94: 0 | E94: 0 | F94: =SUM(C94:E94) -> 0 | G94: 0 | H94: 0 | I94: 0 | J94: =SUM(G94:I94) -> 0
A95: Felhalmozási célú visszatérítendő támogatások, kölcsönök nyújtása államháztartáson kívülre | B95: K86 | C95: 0 | D95: 0 | E95: 0 | F95: =SUM(C95:E95) -> 0 | G95: 0 | H95: 0 | I95: 0 | J95: =SUM(G95:I95) -> 0
A96: Lakástámogatás | B96: K87 | C96: 0 | D96: 0 | E96: 0 | F96: =SUM(C96:E96) -> 0 | G96: 0 | H96: 0 | I96: 0 | J96: =SUM(G96:I96) -> 0
A97: Felhalmozási célú támogatások az Európai Uniónak | B97: K88 | C97: 0 | D97: 0 | E97: 0 | F97: =SUM(C97:E97) -> 0 | G97: 0 | H97: 0 | I97: 0 | J97: =SUM(G97:I97) -> 0
A98: Egyéb felhalmozási célú támogatások államháztartáson kívülre | B98: K89 | C98: 0 | D98: 0 | E98: 0 | F98: =SUM(C98:E98) -> 0 | G98: 0 | H98: 0 | I98: 0 | J98: =SUM(G98:I98) -> 0
A99: Egyéb felhalmozási célú kiadások | B99: K8 | C99: =SUM(C90:C98) -> 0 | D99: =SUM(D90:D98) -> 0 | E99: =SUM(E90:E98) -> 0 | F99: =SUM(C99:E99) -> 0 | G99: =SUM(G90:G98) -> 0 | H99: =SUM(H90:H98) -> 0 | I99: =SUM(I90:I98) -> 0 | J99: =SUM(G99:I99) -> 0
A100: Felhalmozási kiadások összesen | C100: =SUM(C84+C89+C99) -> 76000 | D100: =SUM(D84+D89+D99) -> 0 | E100: =SUM(E84+E89+E99) -> 0 | F100: =SUM(F84+F89+F99) -> 76000 | G100: =SUM(G84+G89+G99) -> 4267000 | H100: =SUM(H84+H89+H99) -> 0 | I100: =SUM(I84+I89+I99) -> 0 | J100: =SUM(J84+J89+J99) -> 4267000
A101: Költségvetési kiadások | B101: K1-K8 | C101: =C26+C27+C52+C61+C75+C84+C89+C99 -> 41794482 | D101: =D26+D27+D52+D61+D75+D84+D89+D99 -> 0 | E101: =E26+E27+E52+E61+E75+E84+E89+E99 -> 13000 | F101: =F26+F27+F52+F61+F75+F84+F89+F99 -> 41807482 | G101: =G26+G27+G52+G61+G75+G84+G89+G99 -> 41816350 | H101: =H26+H27+H52+H61+H75+H84+H89+H99 -> 0 | I101: =I26+I27+I52+I61+I75+I84+I89+I99 -> 13000 | J101: =J26+J27+J52+J61+J75+J84+J89+J99 -> 41829350
A102: Hosszú lejáratú hitelek, kölcsönök törlesztése pénzügyi vállalkozásnak | B102: K9111 | C102: 0 | D102: 0 | E102: 0 | F102: =SUM(C102:E102) -> 0 | G102: 0 | H102: 0 | I102: 0 | J102: =SUM(G102:I102) -> 0
...

Sheet 2. melléklet
B1: 2. melléklet 5/2019. (V.7.) önkormányzati rendelethez
A3: SORKIKÁPOLNA Önkormányzat 2019. évi költségvetése
A4: Bevételek (Ft)
A6: SORKIKÁPOLNA ÖNKORMÁNYZATI ELŐIRÁNYZATOK | C6: EREDETI ELŐIRÁNYZAT | G6: I.n.év módosított előirányzat
A7: Rovat megnevezése | B7: Rovat- szám | C7: kötelező feladatok | D7: önként vállalt feladatok | E7: államigazgatási feladatok | F7: ÖSSZESEN | G7: kötelező feladatok | H7: önként vállalt feladatok | I7: államigazgatási feladatok | J7: ÖSSZESEN
A8: Helyi önkormányzatok működésének általános támogatása | B8: B111 | C8: 11635710 | D8: 0 | E8: 0 | F8: =SUM(C8:E8) -> 11635710 | G8: 11635710 | H8: 0 | I8: 0 | J8: =SUM(G8:I8) -> 11635710
A9: Települési önkormányzatok egyes köznevelési feladatainak támogatása | B9: B112 | C9: 0 | D9: 0 | E9: 0 | F9: =SUM(C9:E9) -> 0 | G9: 0 | H9: 0 | I9: 0 | J9: =SUM(G9:I9) -> 0
A10: Települési önkormányzatok szociális és gyermekjóléti feladatainak támogatása | B10: B113 | C10: 4538000 | D10: 0 | E10: 0 | F10: =SUM(C10:E10) -> 4538000 | G10: 4559868 | H10: 0 | I10: 0 | J10: =SUM(G10:I10) -> 4559868
A11: Települési önkormányzatok kulturális feladatainak támogatása | B11: B114 | C11: 1800000 | D11: 0 | E11: 0 | F11: =SUM(C11:E11) -> 1800000 | G11: 1800000 | H11: 0 | I11: 0 | J11: =SUM(G11:I11) -> 1800000
A12: Működési célú központosított előirányzatok | B12: B115 | C12: 0 | D12: 0 | E12: 0 | F12: =SUM(C12:E12) -> 0 | G12: 0 | H12: 0 | I12: 0 | J12: =SUM(G12:I12) -> 0
A13: Elszámolásból származó bevételek | B13: B116 | C13: 0 | D13: 0 | E13: 0 | F13: =SUM(C13:E13) -> 0 | G13: 0 | H13: 0 | I13: 0 | J13: =SUM(G13:I13) -> 0
A14: Önkormányzatok működési támogatásai | B14: B11 | C14: =SUM(C8:C13) -> 17973710 | D14: =SUM(D8:D13) -> 0 | E14: =SUM(E8:E13) -> 0 | F14: =SUM(C14:E14) -> 17973710 | G14: =SUM(G8:G13) -> 17995578 | H14: =SUM(H8:H13) -> 0 | I14: =SUM(I8:I13) -> 0 | J14: =SUM(G14:I14) -> 17995578
A15: Elvonások és befizetések bevételei | B15: B12 | C15: 0 | D15: 0 | E15: 0 | F15: =SUM(C15:E15) -> 0 | G15: 0 | H15: 0 | I15: 0 | J15: =SUM(G15:I15) -> 0
A16: Működési célú garancia- és kezességvállalásból származó megtérülések államháztartáson belülről | B16: B13 | C16: 0 | D16: 0 | E16: 0 | F16: =SUM(C16:E16) -> 0 | G16: 0 | H16: 0 | I16: 0 | J16: =SUM(G16:I16) -> 0
A17: Működési célú visszatérítendő támogatások, kölcsönök visszatérülése államháztartáson belülről | B17: B14 | C17: 0 | D17: 0 | E17: 0 | F17: =SUM(C17:E17) -> 0 | G17: 0 | H17: 0 | I17: 0 | J17: =SUM(G17:I17) -> 0
A18: Működési célú visszatérítendő támogatások, kölcsönök igénybevétele államháztartáson belülről | B18: B15 | C18: 0 | D18: 0 | E18: 0 | F18: =SUM(C18:E18) -> 0 | G18: 0 | H18: 0 | I18: 0 | J18: =SUM(G18:I18) -> 0
A19: Egyéb működési célú támogatások bevételei államháztartáson belülről | B19: B16 | C19: 0 | D19: 0 | E19: 0 | F19: =SUM(C19:E19) -> 0 | G19: 0 | H19: 0 | I19: 0 | J19: =SUM(G19:I19) -> 0
A20: Működési célú támogatások államháztartáson belülről | B20: B1 | C20: =SUM(C14:C19) -> 17973710 | D20: =SUM(D14:D19) -> 0 | E20: =SUM(E14:E19) -> 0 | F20: =SUM(C20:E20) -> 17973710 | G20: =SUM(G14:G19) -> 17995578 | H20: =SUM(H14:H19) -> 0 | I20: =SUM(I14:I19) -> 0 | J20: =SUM(G20:I20) -> 17995578
A21: Magánszemélyek jövedelemadói | B21: B311 | C21: 0 | D21: 0 | E21: 0 | F21: =SUM(C21:E21) -> 0 | G21: 0 | H21: 0 | I21: 0 | J21: =SUM(G21:I21) -> 0
A22: Társaságok jövedelemadói | B22: B312 | C22: 0 | D22: 0 | E22: 0 | F22: =SUM(C22:E22) -> 0 | G22: 0 | H22: 0 | I22: 0 | J22: =SUM(G22:I22) -> 0
A23: Jövedelemadók | B23: B31 | C23: =SUM(C21:C22) -> 0 | D23: =SUM(D21:D22) -> 0 | E23: =SUM(E21:E22) -> 0 | F23: =SUM(C23:E23) -> 0 | G23: =SUM(G21:G22) -> 0 | H23: =SUM(H21:H22) -> 0 | I23: =SUM(I21:I22) -> 0 | J23: =SUM(G23:I23) -> 0
A24: Szociális hozzájárulási adó és járulékok | B24: B32 | C24: 0 | D24: 0 | E24: 0 | F24: =SUM(C24:E24) -> 0 | G24: 0 | H24: 0 | I24: 0 | J24: =SUM(G24:I24) -> 0
A25: Bérhez és foglalkoztatáshoz kapcsolódó adók | B25: B33 | C25: 0 | D25: 0 | E25: 0 | F25: =SUM(C25:E25) -> 0 | G25: 0 | H25: 0 | I25: 0 | J25: =SUM(G25:I25) -> 0
A26: Vagyoni tipusú adók | B26: B34 | C26: 250000 | D26: 0 | E26: 0 | F26: =SUM(C26:E26) -> 250000 | G26: 250000 | H26: 0 | I26: 0 | J26: =SUM(G26:I26) -> 250000
A27: Értékesítési és forgalmi adók | B27: B351 | C27: 4000000 | D27: 0 | E27: 0 | F27: =SUM(C27:E27) -> 4000000 | G27: 4000000 | H27: 0 | I27: 0 | J27: =SUM(G27:I27) -> 4000000
A28: Fogyasztási adók | B28: B352 | C28: 0 | D28: 0 | E28: 0 | F28: =SUM(C28:E28) -> 0 | G28: 0 | H28: 0 | I28: 0 | J28: =SUM(G28:I28) -> 0
A29: Pénzügyi monopóliumok nyereségét terhelő adók | B29: B353 | C29: 0 | D29: 0 | E29: 0 | F29: =SUM(C29:E29) -> 0 | G29: 0 | H29: 0 | I29: 0 | J29: =SUM(G29:I29) -> 0
A30: Gépjárműadók | B30: B354 | C30: 500000 | D30: 0 | E30: 0 | F30: =SUM(C30:E30) -> 500000 | G30: 500000 | H30: 0 | I30: 0 | J30: =SUM(G30:I30) -> 500000
A31: Egyéb áruhasználati és szolgáltatási adók | B31: B355 | C31: 130000 | D31: 0 | E31: 0 | F31: =SUM(C31:E31) -> 130000 | G31: 130000 | H31: 0 | I31: 0 | J31: =SUM(G31:I31) -> 130000
A32: Termékek és szolgáltatások adói | B32: B35 | C32: =SUM(C27:C31) -> 4630000 | D32: =SUM(D27:D31) -> 0 | E32: =SUM(E27:E31) -> 0 | F32: =SUM(C32:E32) -> 4630000 | G32: =SUM(G27:G31) -> 4630000 | H32: =SUM(H27:H31) -> 0 | I32: =SUM(I27:I31) -> 0 | J32: =SUM(G32:I32) -> 4630000
A33: Egyéb közhatalmi bevételek | B33: B36 | C33: 30000 | D33: 0 | E33: 0 | F33: =SUM(C33:E33) -> 30000 | G33: 30000 | H33: 0 | I33: 0 | J33: =SUM(G33:I33) -> 30000
A34: Közhatalmi bevételek | B34: B3 | C34: =C23+C24+C25+C26+C32+C33 -> 4910000 | D34: =D23+D24+D25+D26+D32+D33 -> 0 | E34: =E23+E24+E25+E26+E32+E33 -> 0 | F34: =SUM(C34:E34) -> 4910000 | G34: =G23+G24+G25+G26+G32+G33 -> 4910000 | H34: =H23+H24+H25+H26+H32+H33 -> 0 | I34: =I23+I24+I25+I26+I32+I33 -> 0 | J34: =SUM(G34:I34) -> 4910000
A35: Áru- és készletértékesítés ellenértéke | B35: B401 | C35: 0 | D35: 0 | E35: 0 | F35: =SUM(C35:E35) -> 0 | G35: 0 | H35: 0 | I35: 0 | J35: =SUM(G35:I35) -> 0
A36: Szolgáltatások ellenértéke | B36: B402 | C36: 0 | D36: 0 | E36: 0 | F36: =SUM(C36:E36) -> 0 | G36: 0 | H36: 0 | I36: 0 | J36: =SUM(G36:I36) -> 0
A37: Közvetített szolgáltatások értéke | B37: B403 | D37: 0 | E37: 0 | F37: =SUM(C37:E37) -> 0 | H37: 0 | I37: 0 | J37: =SUM(G37:I37) -> 0
A38: Tulajdonosi bevételek | B38: B404 | C38: 120000 | D38: 0 | E38: 0 | F38: =SUM(C38:E38) -> 120000 | G38: 120000 | H38: 0 | I38: 0 | J38: =SUM(G38:I38) -> 120000
A39: Ellátási díjak | B39: B405 | C39: 0 | D39: 0 | E39: 0 | F39: =SUM(C39:E39) -> 0 | G39: 0 | H39: 0 | I39: 0 | J39: =SUM(G39:I39) -> 0
A40: Kiszámlázott általános forgalmi adó | B40: B406 | C40: 0 | D40: 0 | E40: 0 | F40: =SUM(C40:E40) -> 0 | G40: 0 | H40: 0 | I40: 0 | J40: =SUM(G40:I40) -> 0
A41: Általános forgalmi adó visszatérítése | B41: B407 | C41: 0 | D41: 0 | E41: 0 | F41: =SUM(C41:E41) -> 0 | G41: 0 | H41: 0 | I41: 0 | J41: =SUM(G41:I41) -> 0
A42: Kamatbevételek | B42: B408 | C42: 0 | D42: 0 | E42: 0 | F42: 0 | G42: 0 | H42: 0 | I42: 0 | J42: 0
A43: Egyéb pénzügyi műveletek bevételei | B43: B409 | C43: 0 | D43: 0 | E43: 0 | F43: =SUM(C43:E43) -> 0 | G43: 0 | H43: 0 | I43: 0 | J43: =SUM(G43:I43) -> 0
A44: Egyéb működési bevételek | B44: B411 | C44: 0 | D44: 0 | E44: 0 | F44: 0 | G44: 0 | H44: 0 | I44: 0 | J44: 0
A45: Működési bevételek | B45: B4 | C45: =SUM(C35:C44) -> 120000 | D45: =SUM(D35:D44) -> 0 | E45: =SUM(E35:E44) -> 0 | F45: =SUM(C45:E45) -> 120000 | G45: =SUM(G35:G44) -> 120000 | H45: =SUM(H35:H44) -> 0 | I45: =SUM(I35:I44) -> 0 | J45: =SUM(G45:I45) -> 120000
A46: Működési célú garancia- és kezességvállalásból származó megtérülések államháztartáson kívülről | B46: B61 | C46: 0 | D46: 0 | E46: 0 | F46: =SUM(C46:E46) -> 0 | G46: 0 | H46: 0 | I46: 0 | J46: =SUM(G46:I46) -> 0
A47: Működési célú visszatérítendő támogatások, kölcsönök visszatérülése államháztartáson kívülről | B47: B64 | C47: 0 | D47: 0 | E47: 0 | F47: 0 | G47: 0 | H47: 0 | I47: 0 | J47: 0
A48: Egyéb működési célú átvett pénzeszközök | B48: B65 | C48: 0 | D48: 0 | E48: 0 | F48: =SUM(C48:E48) -> 0 | G48: 0 | H48: 0 | I48: 0 | J48: =SUM(G48:I48) -> 0
A49: Működési célú átvett pénzeszközök | B49: B6 | C49: =SUM(C46:C48) -> 0 | D49: =SUM(D46:D48) -> 0 | E49: =SUM(E46:E48) -> 0 | F49: =SUM(C49:E49) -> 0 | G49: =SUM(G46:G48) -> 0 | H49: =SUM(H46:H48) -> 0 | I49: =SUM(I46:I48) -> 0 | J49: =SUM(G49:I49) -> 0
A50: Működési bevételek összesen | C50: =SUM(C20+C34+C45+C49) -> 23003710 | D50: =SUM(D20+D34+D45+D49) -> 0 | E50: =SUM(E20+E34+E45+E49) -> 0 | F50: =SUM(F20+F34+F45+F49) -> 23003710 | G50: =SUM(G20+G34+G45+G49) -> 23025578 | H50: =SUM(H20+H34+H45+H49) -> 0 | I50: =SUM(I20+I34+I45+I49) -> 0 | J50: =SUM(J20+J34+J45+J49) -> 23025578
A51: Felhalmozási célú önkormányzati támogatások | B51: B21 | C51: 0 | D51: 0 | E51: 0 | F51: =SUM(C51:E51) -> 0 | G51: 0 | H51: 0 | I51: 0 | J51: =SUM(G51:I51) -> 0
A52: Felhalmozási célú garancia- és kezességvállalásból származó megtérülések államháztartáson belülről | B52: B22 | C52: 0 | D52: 0 | E52: 0 | F52: =SUM(C52:E52) -> 0 | G52: 0 | H52: 0 | I52: 0 | J52: =SUM(G52:I52) -> 0
A53: Felhalmozási célú visszatérítendő támogatások, kölcsönök visszatérülése államháztartáson belülről | B53: B23 | C53: 0 | D53: 0 | E53: 0 | F53: =SUM(C53:E53) -> 0 | G53: 0 | H53: 0 | I53: 0 | J53: =SUM(G53:I53) -> 0
A54: Felhalmozási célú visszatérítendő támogatások, kölcsönök igénybevétele államháztartáson belülről | B54: B24 | C54: 0 | D54: 0 | E54: 0 | F54: =SUM(C54:E54) -> 0 | G54: 0 | H54: 0 | I54: 0 | J54: =SUM(G54:I54) -> 0
A55: Egyéb felhalmozási célú támogatások bevételei államháztartáson belülről | B55: B25 | C55: 0 | D55: 0 | E55: 0 | F55: =SUM(C55:E55) -> 0 | G55: 0 | H55: 0 | I55: 0 | J55: =SUM(G55:I55) -> 0
A56: Felhalmozási célú támogatások államháztartáson belülről | B56: B2 | C56: 0 | D56: =SUM(D51:D55) -> 0 | E56: =SUM(E51:E55) -> 0 | F56: =SUM(C56:E56) -> 0 | G56: 0 | H56: =SUM(H51:H55) -> 0 | I56: =SUM(I51:I55) -> 0 | J56: =SUM(G56:I56) -> 0
A57: Immateriális javak értékesítése | B57: B51 | C57: 0 | D57: 0 | E57: 0 | F57: =SUM(C57:E57) -> 0 | G57: 0 | H57: 0 | I57: 0 | J57: =SUM(G57:I57) -> 0
A58: Ingatlanok értékesítése | B58: B52 | C58: 0 | D58: 0 | E58: 0 | F58: =SUM(C58:E58) -> 0 | G58: 0 | H58: 0 | I58: 0 | J58: =SUM(G58:I58) -> 0
A59: Egyéb tárgyi eszközök értékesítése | B59: B53 | C59: 0 | D59: 0 | E59: 0 | F59: =SUM(C59:E59) -> 0 | G59: 0 | H59: 0 | I59: 0 | J59: =SUM(G59:I59) -> 0
A60: Részesedések értékesítése | B60: B54 | C60: 0 | D60: 0 | E60: 0 | F60: =SUM(C60:E60) -> 0 | G60: 0 | H60: 0 | I60: 0 | J60: =SUM(G60:I60) -> 0
A61: Részesedések megszűnéséhez kapcsolódó bevételek | B61: B55 | C61: 0 | D61: 0 | E61: 0 | F61: =SUM(C61:E61) -> 0 | G61: 0 | H61: 0 | I61: 0 | J61: =SUM(G61:I61) -> 0
A62: Felhalmozási bevételek | B62: B5 | C62: =SUM(C57:C61) -> 0 | D62: =SUM(D57:D61) -> 0 | E62: =SUM(E57:E61) -> 0 | F62: =SUM(C62:E62) -> 0 | G62: =SUM(G57:G61) -> 0 | H62: =SUM(H57:H61) -> 0 | I62: =SUM(I57:I61) -> 0 | J62: =SUM(G62:I62) -> 0
A63: Felhalmozási célú garancia- és kezességvállalásból származó megtérülések államháztartáson kívülről | B63: B71 | C63: 0 | D63: 0 | E63: 0 | F63: =SUM(C63:E63) -> 0 | G63: 0 | H63: 0 | I63: 0 | J63: =SUM(G63:I63) -> 0
A64: Felhalmozási célú visszatérítendő támogatások, kölcsönök visszatérülése államháztartáson kívülről | B64: B74 | C64: 0 | D64: 0 | E64: 0 | F64: =SUM(C64:E64) -> 0 | G64: 0 | H64: 0 | I64: 0 | J64: =SUM(G64:I64) -> 0
A65: Egyéb felhalmozási célú átvett pénzeszközök | B65: B75 | C65: 0 | D65: 0 | E65: 0 | F65: =SUM(C65:E65) -> 0 | G65: 0 | H65: 0 | I65: 0 | J65: =SUM(G65:I65) -> 0
A66: Felhalmozási célú átvett pénzeszközök | B66: B7 | C66: =SUM(C63:C65) -> 0 | D66: =SUM(D63:D65) -> 0 | E66: =SUM(E63:E65) -> 0 | F66: =SUM(C66:E66) -> 0 | G66: =SUM(G63:G65) -> 0 | H66: =SUM(H63:H65) -> 0 | I66: =SUM(I63:I65) -> 0 | J66: =SUM(G66:I66) -> 0
A67: Felhalmozási bevételek összesen | C67: =SUM(C56+C62+C66) -> 0 | D67: =SUM(D56+D62+D66) -> 0 | E67: =SUM(E56+E62+E66) -> 0 | F67: =SUM(F56+F62+F66) -> 0 | G67: =SUM(G56+G62+G66) -> 0 | H67: =SUM(H56+H62+H66) -> 0 | I67: =SUM(I56+I62+I66) -> 0 | J67: =SUM(J56+J62+J66) -> 0
A68: Költségvetési bevételek | B68: B1-B7 | C68: =C20+C34+C45+C49+C56+C62+C66 -> 23003710 | D68: =D20+D34+D45+D49+D56+D62+D66 -> 0 | E68: =E20+E34+E45+E49+E56+E62+E66 -> 0 | F68: =SUM(C68:E68) -> 23003710 | G68: =G20+G34+G45+G49+G56+G62+G66 -> 23025578 | H68: =H20+H34+H45+H49+H56+H62+H66 -> 0 | I68: =I20+I34+I45+I49+I56+I62+I66 -> 0 | J68: =SUM(G68:I68) -> 23025578
A69: Működési bevételek és működési kiadások egyenlege | C69: =C50-'1. melléklet'!C76 -> -18714772 | D69: =D50-'1. melléklet'!D76 -> 0 | E69: =E50-'1. melléklet'!E76 -> -13000 | F69: =F50-'1. melléklet'!F76 -> -18727772 | G69: =G50-'1. melléklet'!G76 -> -14523772 | H69: =H50-'1. melléklet'!H76 -> 0 | I69: =I50-'1. melléklet'!I76 -> -13000 | J69: =J50-'1. melléklet'!J76 -> -14536772
A70: Felhalmozási bevételek és a felhalmozási kiadások egyenlege | C70: =C67-'1. melléklet'!C100 -> -76000 | D70: =D67-'1. melléklet'!D100 -> 0 | E70: =E67-'1. melléklet'!E100 -> 0 | F70: =F67-'1. melléklet'!F100 -> -76000 | G70: =G67-'1. melléklet'!G100 -> -4267000 | H70: =H67-'1. melléklet'!H100 -> 0 | I70: =I67-'1. melléklet'!I100 -> 0 | J70: =J67-'1. melléklet'!J100 -> -4267000
A71: Hosszú lejáratú hitelek, kölcsönök felvétele | B71: B8111 | C71: 0 | D71: 0 | E71: 0 | F71: =SUM(C71:E71) -> 0 | G71: 0 | H71: 0 | I71: 0 | J71: =SUM(G71:I71) -> 0
A72: Likviditási célú hitelek, kölcsönök felvétele pénzügyi vállalkozástól | B72: B8112 | C72: 0 | D72: 0 | E72: 0 | F72: =SUM(C72:E72) -> 0 | G72: 0 | H72: 0 | I72: 0 | J72: =SUM(G72:I72) -> 0
A73: Rövid lejáratú hitelek, kölcsönök felvétele | B73: B8113 | C73: 0 | D73: 0 | E73: 0 | F73: =SUM(C73:E73) -> 0 | G73: 0 | H73: 0 | I73: 0 | J73: =SUM(G73:I73) -> 0
A74: Hitel-, kölcsönfelvétel államháztartáson kívülről | B74: B811 | C74: =SUM(C71:C73) -> 0 | D74: =SUM(D71:D73) -> 0 | E74: =SUM(E71:E73) -> 0 | F74: =SUM(C74:E74) -> 0 | G74: =SUM(G71:G73) -> 0 | H74: =SUM(H71:H73) -> 0 | I74: =SUM(I71:I73) -> 0 | J74: =SUM(G74:I74) -> 0
A75: Forgatási célú belföldi értékpapírok beváltása, értékesítése | B75: B8121 | C75: 0 | D75: 0 | E75: 0 | F75: =SUM(C75:E75) -> 0 | G75: 0 | H75: 0 | I75: 0 | J75: =SUM(G75:I75) -> 0
A76: Forgatási célú belföldi értékpapírok kibocsátása | B76: B8122 | C76: 0 | D76: 0 | E76: 0 | F76: =SUM(C76:E76) -> 0 | G76: 0 | H76: 0 | I76: 0 | J76: =SUM(G76:I76) -> 0
A77: Befektetési célú belföldi értékpapírok beváltása, értékesítése | B77: B8123 | C77: 0 | D77: 0 | E77: 0 | F77: =SUM(C77:E77) -> 0 | G77: 0 | H77: 0 | I77: 0 | J77: =SUM(G77:I77) -> 0
A78: Befektetési célú belföldi értékpapírok kibocsátása | B78: B8124 | C78: 0 | D78: 0 | E78: 0 | F78: =SUM(C78:E78) -> 0 | G78: 0 | H78: 0 | I78: 0 | J78: =SUM(G78:I78) -> 0
A79: Belföldi értékpapírok bevételei | B79: B812 | C79: =SUM(C75:C78) -> 0 | D79: =SUM(D75:D78) -> 0 | E79: =SUM(E75:E78) -> 0 | F79: =SUM(C79:E79) -> 0 | G79: =SUM(G75:G78) -> 0 | H79: =SUM(H75:H78) -> 0 | I79: =SUM(I75:I78) -> 0 | J79: =SUM(G79:I79) -> 0
A80: Előző év költségvetési maradványának igénybevétele MŰKÖDÉSRE | B80: B8131 | C80: 19522720 | D80: 0 | E80: 0 | F80: =SUM(C80:E80) -> 19522720 | G80: 19522720 | H80: 0 | I80: 0 | J80: =SUM(G80:I80) -> 19522720
A81: Előző év költségvetési maradványának igénybevétele FELHALMOZÁSRA | B81: B8131 | C81: 0 | D81: 0 | E81: 0 | F81: =SUM(C81:E81) -> 0 | G81: 0 | H81: 0 | I81: 0 | J81: =SUM(G81:I81) -> 0
A82: Előző év vállalkozási maradványának igénybevétele MŰKÖDÉSRE | B82: B8132 | C82: 0 | D82: 0 | E82: 0 | F82: =SUM(C82:E82) -> 0 | G82: 0 | H82: 0 | I82: 0 | J82: =SUM(G82:I82) -> 0
A83: Előző év vállalkozási maradványának igénybevétele FELHALMOZÁSRA | B83: B8132 | C83: 0 | D83: 0 | E83: 0 | F83: =SUM(C83:E83) -> 0 | G83: 0 | H83: 0 | I83: 0 | J83: =SUM(G83:I83) -> 0
A84: Maradvány igénybevétele | B84: B813 | C84: =SUM(C80:C83) -> 19522720 | D84: =SUM(D80:D83) -> 0 | E84: =SUM(E80:E83) -> 0 | F84: =SUM(C84:E84) -> 19522720 | G84: =SUM(G80:G83) -> 19522720 | H84: =SUM(H80:H83) -> 0 | I84: =SUM(I80:I83) -> 0 | J84: =SUM(G84:I84) -> 19522720
A85: Államháztartáson belüli megelőlegezések | B85: B814 | C85: 0 | D85: 0 | E85: 0 | F85: =SUM(C85:E85) -> 0 | G85: 0 | H85: 0 | I85: 0 | J85: =SUM(G85:I85) -> 0
A86: Államháztartáson belüli megelőlegezések törlesztése | B86: B815 | C86: 0 | D86: 0 | E86: 0 | F86: =SUM(C86:E86) -> 0 | G86: 0 | H86: 0 | I86: 0 | J86: =SUM(G86:I86) -> 0
A87: Központi, irányító szervi támogatás | B87: B816 | C87: 0 | D87: 0 | E87: 0 | F87: =SUM(C87:E87) -> 0 | G87: 0 | H87: 0 | I87: 0 | J87: =SUM(G87:I87) -> 0
A88: Betétek megszüntetése | B88: B817 | C88: 0 | D88: 0 | E88: 0 | F88: =SUM(C88:E88) -> 0 | G88: 0 | H88: 0 | I88: 0 | J88: =SUM(G88:I88) -> 0
A89: Központi költségvetés sajátos finanszírozási bevételei | B89: B818 | C89: 0 | D89: 0 | E89: 0 | F89: =SUM(C89:E89) -> 0 | G89: 0 | H89: 0 | I89: 0 | J89: =SUM(G89:I89) -> 0
A90: Belföldi finanszírozás bevételei | B90: B81 | C90: =C74+C79+C84+C85+C87+C86+C88+C89 -> 19522720 | D90: =D74+D79+D84+D85+D87+D86+D88+D89 -> 0 | E90: =E74+E79+E84+E85+E87+E86+E88+E89 -> 0 | F90: =SUM(C90:E90) -> 19522720 | G90: =G74+G79+G84+G85+G87+G86+G88+G89 -> 19522720 | H90: =H74+H79+H84+H85+H87+H86+H88+H89 -> 0 | I90: =I74+I79+I84+I85+I87+I86+I88+I89 -> 0 | J90: =SUM(G90:I90) -> 19522720
A91: Forgatási célú külföldi értékpapírok beváltása, értékesítése | B91: B821 | C91: 0 | D91: 0 | E91: 0 | F91: =SUM(C91:E91) -> 0 | G91: 0 | H91: 0 | I91: 0 | J91: =SUM(G91:I91) -> 0
A92: Befektetési célú külföldi értékpapírok beváltása, értékesítése | B92: B822 | C92: 0 | D92: 0 | E92: 0 | F92: =SUM(C92:E92) -> 0 | G92: 0 | H92: 0 | I92: 0 | J92: =SUM(G92:I92) -> 0
A93: Külföldi értékpapírok kibocsátása | B93: B823 | C93: 0 | D93: 0 | E93: 0 | F93: =SUM(C93:E93) -> 0 | G93: 0 | H93: 0 | I93: 0 | J93: =SUM(G93:I93) -> 0
A94: Külföldi hitelek, kölcsönök felvétele | B94: B824 | C94: 0 | D94: 0 | E94: 0 | F94: =SUM(C94:E94) -> 0 | G94: 0 | H94: 0 | I94: 0 | J94: =SUM(G94:I94) -> 0
A95: Külföldi finanszírozás bevételei | B95: B82 | C95: 0 | D95: 0 | E95: 0 | F95: =SUM(C95:E95) -> 0 | G95: 0 | H95: 0 | I95: 0 | J95: =SUM(G95:I95) -> 0
A96: Adóssághoz nem kapcsolódó származékos ügyletek bevételei | B96: B83 | C96: 0 | D96: 0 | E96: 0 | F96: =SUM(C96:E96) -> 0 | G96: 0 | H96: 0 | I96: 0 | J96: =SUM(G96:I96) -> 0
A97: Finanszírozási bevételek | B97: B8 | C97: =C90+C95+C96 -> 19522720 | D97: =D90+D95+D96 -> 0 | E97: =E90+E95+E96 -> 0 | F97: =SUM(C97:E97) -> 19522720 | G97: =G90+G95+G96 -> 19522720 | H97: =H90+H95+H96 -> 0 | I97: =I90+I95+I96 -> 0 | J97: =SUM(G97:I97) -> 19522720
A98: BEVÉTELEK ÖSSZESEN (B1-8) | C98: =C68+C97 -> 42526430 | D98: =D68+D97 -> 0 | E98: =E68+E97 -> 0 | F98: =SUM(C98:E98) -> 42526430 | G98: =G68+G97 -> 42548298 | H98: =H68+H97 -> 0 | I98: =I68+I97 -> 0 | J98: =SUM(G98:I98) -> 42548298

Sheet 3. melléklet
F1: 3. melléklet 5/2019. (V.7.) önkormányzati rendelethez
A3: SORKIKÁPOLNA Önkormányzat 2019. évi költségvetése
A4: Általános- és céltartalékok (Ft)
A7: Rovat megnevezése | B7: Rovat-szám | C7: ÖNKORMÁNYZATI ELŐIRÁNYZATOK | D7: KÖLTSÉGVETÉSI SZERV | E7: KÖLTSÉGVETÉSI SZERV | F7: KÖLTSÉGVETÉSI SZERV | G7: KÖLTSÉGVETÉSI SZERV | H7: MINDÖSSZESEN
A12: Általános tartalékok | B12: K513 | C12: =SUM('1. melléklet'!J74) -> 4890508 | H12: =SUM(C12:G12) -> 4890508
A17: Céltartalékok | B17: K513
