Workbook

Sheet 1. melléklet
C1: 1. melléklet 5/2019. (V.7.) önkormányzati rendelethez
A3: SORKIKÁPOLNA Önkormányzat 2019. évi költségvetése
A4: Kiadások (Ft)
A6: SORKIKÁPOLNA ÖNKORMÁNYZATI ELŐIRÁNYZATOK | C6: EREDETI ELŐIRÁNYZAT | G6: I.n.év módosított előirányzat
A7: Rovat megnevezése | B7: Rovat-szám | C7: kötelező feladatok | D7: önként vállalt feladatok | E7: államigazgatási feladatok | F7: ÖSSZESEN | G7: kötelező feladatok | H7: önként vállalt feladatok | I7: államigazgatási feladatok | J7: ÖSSZESEN
A8: Törvény szerinti illetmények, munkabérek | B8: K1101 | C8: 3391560 | D8: 0 | E8: 0 | F8: =SUM(C8:E8) -> 3391560 | G8: 3391560 | H8: 0 | I8: 0 | J8: =SUM(G8:I8) -> 3391560
A9: Normatív jutalmak | B9: K1102 | C9: 90226 | D9: 0 | E9: 0 | F9: =SUM(C9:E9) -> 90226 | G9: 90226 | H9: 0 | I9: 0 | J9: =SUM(G9:I9) -> 90226
A10: Céljuttatás, projektprémium | B10: K1103 | C10: 0 | D10: 0 | E10: 0 | F10: =SUM(C10:E10) -> 0 | G10: 0 | H10: 0 | I10: 0 | J10: =SUM(G10:I10) -> 0
A11: Készenléti, ügyeleti, helyettesítési díj, túlóra, túlszolgálat | B11: K1104 | C11: 0 | D11: 0 | E11: 0 | F11: =SUM(C11:E11) -> 0 | G11: 0 | H11: 0 | I11: 0 | J11: =SUM(G11:I11) -> 0
A12: Végkielégítés | B12: K1105 | C12: 0 | D12: 0 | E12: 0 | F12: =SUM(C12:E12) -> 0 | G12: 0 | H12: 0 | I12: 0 | J12: =SUM(G12:I12) -> 0
A13: Jubileumi jutalom | B13: K1106 | C13: 0 | D13: 0 | E13: 0 | F13: =SUM(C13:E13) -> 0 | G13: 0 | H13: 0 | I13: 0 | J13: =SUM(G13:I13) -> 0
A14: Béren kívüli juttatások | B14: K1107 | C14: 100000 | D14: 0 | E14: 0 | F14: =SUM(C14:E14) -> 100000 | G14: 108000 | H14: 0 | I14: 0 | J14: =SUM(G14:I14) -> 108000
A15: Ruházati költségtérítés | B15: K1108 | C15: 0 | D15: 0 | E15: 0 | F15: =SUM(C15:E15) -> 0 | G15: 0 | H15: 0 | I15: 0 | J15: =SUM(G15:I15) -> 0
A16: Közlekedési költségtérítés | B16: K1109 | C16: 0 | D16: 0 | E16: 0 | F16: =SUM(C16:E16) -> 0 | G16: 0 | H16: 0 | I16: 0 | J16: =SUM(G16:I16) -> 0
A17: Egyéb költségtérítések | B17: K1110 | C17: 0 | D17: 0 | E17: 0 | F17: =SUM(C17:E17) -> 0 | G17: 0 | H17: 0 | I17: 0 | J17: =SUM(G17:I17) -> 0
A18: Lakhatási támogatások | B18: K1111 | C18: 0 | D18: 0 | E18: 0 | F18: =SUM(C18:E18) -> 0 | G18: 0 | H18: 0 | I18: 0 | J18: =SUM(G18:I18) -> 0
A19: Szociális támogatások | B19: K1112 | C19: 0 | D19: 0 | E19: 0 | F19: =SUM(C19:E19) -> 0 | G19: 0 | H19: 0 | I19: 0 | J19: =SUM(G19:I19) -> 0
A20: Foglalkoztatottak egyéb személyi juttatásai | B20: K1113 | C20: 0 | D20: 0 | E20: 0 | F20: =SUM(C20:E20) -> 0 | G20: 0 | H20: 0 | I20: 0 | J20: =SUM(G20:I20) -> 0
A21: Foglalkoztatottak személyi juttatásai | B21: K11 | C21: =SUM(C8:C20) -> 3581786 | D21: =SUM(D8:D20) -> 0 | E21: =SUM(E8:E20) -> 0 | F21: =SUM(C21:E21) -> 3581786 | G21: =SUM(G8:G20) -> 3589786 | H21: =SUM(H8:H20) -> 0 | I21: =SUM(I8:I20) -> 0 | J21: =SUM(G21:I21) -> 3589786
A22: Választott tisztségviselők juttatásai | B22: K121 | C22: 3062740 | D22: 0 | E22: 0 | F22: =SUM(C22:E22) -> 3062740 | G22: 3062740 | H22: 0 | I22: 0 | J22: =SUM(G22:I22) -> 3062740
A23: Munkavégzésre irányuló egyéb jogviszonyban nem saját foglalkoztatottnak fizetett juttatások | B23: K122 | C23: 2532000 | D23: 0 | E23: 0 | F23: =SUM(C23:E23) -> 2532000 | G23: 2892000 | H23: 0 | I23: 0 | J23: =SUM(G23:I23) -> 2892000
A24: Egyéb külső személyi juttatások | B24: K123 | C24: 450000 | D24: 0 | E24: 0 | F24: =SUM(C24:E24) -> 450000 | G24: 450000 | H24: 0 | I24: 0 | J24: =SUM(G24:I24) -> 450000
A25: Külső személyi juttatások | B25: K12 | C25: =SUM(C22:C24) -> 6044740 | D25: =SUM(D22:D24) -> 0 | E25: =SUM(E22:E24) -> 0 | F25: =SUM(C25:E25) -> 6044740 | G25: =SUM(G22:G24) -> 6404740 | H25: =SUM(H22:H24) -> 0 | I25: =SUM(I22:I24) -> 0 | J25: =SUM(G25:I25) -> 6404740
A26: Személyi juttatások | B26: K1 | C26: =C21+C25 -> 9626526 | D26: =D21+D25 -> 0 | E26: =E21+E25 -> 0 | F26: =SUM(C26:E26) -> 9626526 | G26: =G21+G25 -> 9994526 | H26: =H21+H25 -> 0 | I26: =I21+I25 -> 0 | J26: =SUM(G26:I26) -> 9994526
A27: Munkaadókat terhelő járulékok és szociális hozzájárulási adó | B27: K2 | C27: 1936792 | D27: 0 | E27: 0 | F27: =SUM(C27:E27) -> 1936792 | G27: 2006792 | H27: 0 | I27: 0 | J27: =SUM(G27:I27) -> 2006792
A28: Szakmai anyagok beszerzése | B28: K311 | C28: 14000 | D28: 0 | E28: 0 | F28: =SUM(C28:E28) -> 14000 | G28: 14000 | H28: 0 | I28: 0 | J28: =SUM(G28:I28) -> 14000
A29: Üzemeltetési anyagok beszerzése | B29: K312 | C29: 1210000 | D29: 0 | E29: 0 | F29: =SUM(C29:E29) -> 1210000 | G29: 1210000 | H29: 0 | I29: 0 | J29: =SUM(G29:I29) -> 1210000
A30: Árubeszerzés | B30: K313 | C30: 0 | D30: 0 | E30: 0 | F30: =SUM(C30:E30) -> 0 | G30: 0 | H30: 0 | I30: 0 | J30: =SUM(G30:I30) -> 0
A31: Készletbeszerzés | B31: K31 | C31: =SUM(C28:C30) -> 1224000 | D31: =SUM(D28:D30) -> 0 | E31: =SUM(E28:E30) -> 0 | F31: =SUM(C31:E31) -> 1224000 | G31: =SUM(G28:G30) -> 1224000 | H31: =SUM(H28:H30) -> 0 | I31: =SUM(I28:I30) -> 0 | J31: =SUM(G31:I31) -> 1224000
A32: Informatikai szolgáltatások igénybevétele | B32: K321 | C32: 228000 | D32: 0 | E32: 0 | F32: =SUM(C32:E32) -> 228000 | G32: 228000 | H32: 0 | I32: 0 | J32: =SUM(G32:I32) -> 228000
A33: Egyéb kommunikációs szolgáltatások | B33: K322 | C33: 190000 | D33: 0 | E33: 0 | F33: =SUM(C33:E33) -> 190000 | G33: 190000 | H33: 0 | I33: 0 | J33: =SUM(G33:I33) -> 190000
A34: Kommunikációs szolgáltatások | B34: K32 | C34: =SUM(C32:C33) -> 418000 | D34: =SUM(D32:D33) -> 0 | E34: =SUM(E32:E33) -> 0 | F34: =SUM(C34:E34) -> 418000 | G34: =SUM(G32:G33) -> 418000 | H34: =SUM(H32:H33) -> 0 | I34: =SUM(I32:I33) -> 0 | J34: =SUM(G34:I34) -> 418000
A35: Közüzemi díjak | B35: K331 | C35: 1993606 | D35: 0 | E35: 0 | F35: =SUM(C35:E35) -> 1993606 | G35: 1993606 | H35: 0 | I35: 0 | J35: =SUM(G35:I35) -> 1993606
A36: Vásárolt élelmezés | B36: K332 | C36: 0 | D36: 0 | E36: 0 | F36: =SUM(C36:E36) -> 0 | G36: 0 | H36: 0 | I36: 0 | J36: =SUM(G36:I36) -> 0
A37: Bérleti és lízing díjak | B37: K333 | C37: 0 | D37: 0 | E37: 0 | F37: =SUM(C37:E37) -> 0 | G37: 0 | H37: 0 | I37: 0 | J37: =SUM(G37:I37) -> 0
A38: Karbantartási, kisjavítási szolgáltatások | B38: K334 | C38: 705000 | D38: 0 | E38: 0 | F38: =SUM(C38:E38) -> 705000 | G38: 705000 | H38: 0 | I38: 0 | J38: =SUM(G38:I38) -> 705000
A39: Közvetített szolgáltatások | B39: K335 | C39: 0 | D39: 0 | E39: 0 | F39: =SUM(C39:E39) -> 0 | G39: 0 | H39: 0 | I39: 0 | J39: =SUM(G39:I39) -> 0
A40: Szakmai tevékenységet segítő szolgáltatások | B40: K336 | C40: 400000 | D40: 0 | E40: 0 | F40: =SUM(C40:E40) -> 400000 | G40: 400000 | H40: 0 | I40: 0 | J40: =SUM(G40:I40) -> 400000
A41: Egyéb szolgáltatások | B41: K337 | C41: 11759000 | D41: 0 | E41: 0 | F41: =SUM(C41:E41) -> 11759000 | G41: 7568000 | H41: 0 | I41: 0 | J41: =SUM(G41:I41) -> 7568000
A42: Szolgáltatási kiadások | B42: K33 | C42: =SUM(C35:C41) -> 14857606 | D42: =SUM(D35:D41) -> 0 | E42: =SUM(E35:E41) -> 0 | F42: =SUM(C42:E42) -> 14857606 | G42: =SUM(G35:G41) -> 10666606 | H42: =SUM(H35:H41) -> 0 | I42: =SUM(I35:I41) -> 0 | J42: =SUM(G42:I42) -> 10666606
...

Sheet 2. melléklet
B1: 2. melléklet 5/2019. (V.7.) önkormányzati rendelethez
A3: SORKIKÁPOLNA Önkormányzat 2019. évi költségvetése
A4: Bevételek (Ft)
A6: SORKIKÁPOLNA ÖNKORMÁNYZATI ELŐIRÁNYZATOK | C6: EREDETI ELŐIRÁNYZAT | G6: I.n.év módosított előirányzat
A7: Rovat megnevezése | B7: Rovat- szám | C7: kötelező feladatok | D7: önként vállalt feladatok | E7: államigazgatási feladatok | F7: ÖSSZESEN | G7: kötelező feladatok | H7: önként vállalt feladatok | I7: államigazgatási feladatok | J7: ÖSSZESEN
A8: Helyi önkormányzatok működésének általános támogatása | B8: B111 | C8: 11635710 | D8: 0 | E8: 0 | F8: =SUM(C8:E8) -> 11635710 | G8: 11635710 | H8: 0 | I8: 0 | J8: =SUM(G8:I8) -> 11635710
A9: Települési önkormányzatok egyes köznevelési feladatainak támogatása | B9: B112 | C9: 0 | D9: 0 | E9: 0 | F9: =SUM(C9:E9) -> 0 | G9: 0 | H9: 0 | I9: 0 | J9: =SUM(G9:I9) -> 0
A10: Települési önkormányzatok szociális és gyermekjóléti feladatainak támogatása | B10: B113 | C10: 4538000 | D10: 0 | E10: 0 | F10: =SUM(C10:E10) -> 4538000 | G10: 4559868 | H10: 0 | I10: 0 | J10: =SUM(G10:I10) -> 4559868
A11: Települési önkormányzatok kulturális feladatainak támogatása | B11: B114 | C11: 1800000 | D11: 0 | E11: 0 | F11: =SUM(C11:E11) -> 1800000 | G11: 1800000 | H11: 0 | I11: 0 | J11: =SUM(G11:I11) -> 1800000
A12: Működési célú központosított előirányzatok | B12: B115 | C12: 0 | D12: 0 | E12: 0 | F12: =SUM(C12:E12) -> 0 | G12: 0 | H12: 0 | I12: 0 | J12: =SUM(G12:I12) -> 0
A13: Elszámolásból származó bevételek | B13: B116 | C13: 0 | D13: 0 | E13: 0 | F13: =SUM(C13:E13) -> 0 | G13: 0 | H13: 0 | I13: 0 | J13: =SUM(G13:I13) -> 0
A14: Önkormányzatok működési támogatásai | B14: B11 | C14: =SUM(C8:C13) -> 17973710 | D14: =SUM(D8:D13) -> 0 | E14: =SUM(E8:E13) -> 0 | F14: =SUM(C14:E14) -> 17973710 | G14: =SUM(G8:G13) -> 17995578 | H14: =SUM(H8:H13) -> 0 | I14: =SUM(I8:I13) -> 0 | J14: =SUM(G14:I14) -> 17995578
A15: Elvonások és befizetések bevételei | B15: B12 | C15: 0 | D15: 0 | E15: 0 | F15: =SUM(C15:E15) -> 0 | G15: 0 | H15: 0 | I15: 0 | J15: =SUM(G15:I15) -> 0
A16: Működési célú garancia- és kezességvállalásból származó megtérülések államháztartáson belülről | B16: B13 | C16: 0 | D16: 0 | E16: 0 | F16: =SUM(C16:E16) -> 0 | G16: 0 | H16: 0 | I16: 0 | J16: =SUM(G16:I16) -> 0
A17: Működési célú visszatérítendő támogatások, kölcsönök visszatérülése államháztartáson belülről | B17: B14 | C17: 0 | D17: 0 | E17: 0 | F17: =SUM(C17:E17) -> 0 | G17: 0 | H17: 0 | I17: 0 | J17: =SUM(G17:I17) -> 0
A18: Működési célú visszatérítendő támogatások, kölcsönök igénybevétele államháztartáson belülről | B18: B15 | C18: 0 | D18: 0 | E18: 0 | F18: =SUM(C18:E18) -> 0 | G18: 0 | H18: 0 | I18: 0 | J18: =SUM(G18:I18) -> 0
A19: Egyéb működési célú támogatások bevételei államháztartáson belülről | B19: B16 | C19: 0 | D19: 0 | E19: 0 | F19: =SUM(C19:E19) -> 0 | G19: 0 | H19: 0 | I19: 0 | J19: =SUM(G19:I19) -> 0
A20: Működési célú támogatások államháztartáson belülről | B20: B1 | C20: =SUM(C14:C19) -> 17973710 | D20: =SUM(D14:D19) -> 0 | E20: =SUM(E14:E19) -> 0 | F20: =SUM(C20:E20) -> 17973710 | G20: =SUM(G14:G19) -> 17995578 | H20: =SUM(H14:H19) -> 0 | I20: =SUM(I14:I19) -> 0 | J20: =SUM(G20:I20) -> 17995578
A21: Magánszemélyek jövedelemadói | B21: B311 | C21: 0 | D21: 0 | E21: 0 | F21: =SUM(C21:E21) -> 0 | G21: 0 | H21: 0 | I21: 0 | J21: =SUM(G21:I21) -> 0
A22: Társaságok jövedelemadói | B22: B312 | C22: 0 | D22: 0 | E22: 0 | F22: =SUM(C22:E22) -> 0 | G22: 0 | H22: 0 | I22: 0 | J22: =SUM(G22:I22) -> 0
A23: Jövedelemadók | B23: B31 | C23: =SUM(C21:C22) -> 0 | D23: =SUM(D21:D22) -> 0 | E23: =SUM(E21:E22) -> 0 | F23: =SUM(C23:E23) -> 0 | G23: =SUM(G21:G22) -> 0 | H23: =SUM(H21:H22) -> 0 | I23: =SUM(I21:I22) -> 0 | J23: =SUM(G23:I23) -> 0
A24: Szociális hozzájárulási adó és járulékok | B24: B32 | C24: 0 | D24: 0 | E24: 0 | F24: =SUM(C24:E24) -> 0 | G24: 0 | H24: 0 | I24: 0 | J24: =SUM(G24:I24) -> 0
A25: Bérhez és foglalkoztatáshoz kapcsolódó adók | B25: B33 | C25: 0 | D25: 0 | E25: 0 | F25: =SUM(C25:E25) -> 0 | G25: 0 | H25: 0 | I25: 0 | J25: =SUM(G25:I25) -> 0
A26: Vagyoni tipusú adók | B26: B34 | C26: 250000 | D26: 0 | E26: 0 | F26: =SUM(C26:E26) -> 250000 | G26: 250000 | H26: 0 | I26: 0 | J26: =SUM(G26:I26) -> 250000
A27: Értékesítési és forgalmi adók | B27: B351 | C27: 4000000 | D27: 0 | E27: 0 | F27: =SUM(C27:E27) -> 4000000 | G27: 4000000 | H27: 0 | I27: 0 | J27: =SUM(G27:I27) -> 4000000
A28: Fogyasztási adók | B28: B352 | C28: 0 | D28: 0 | E28: 0 | F28: =SUM(C28:E28) -> 0 | G28: 0 | H28: 0 | I28: 0 | J28: =SUM(G28:I28) -> 0
A29: Pénzügyi monopóliumok nyereségét terhelő adók | B29: B353 | C29: 0 | D29: 0 | E29: 0 | F29: =SUM(C29:E29) -> 0 | G29: 0 | H29: 0 | I29: 0 | J29: =SUM(G29:I29) -> 0
A30: Gépjárműadók | B30: B354 | C30: 500000 | D30: 0 | E30: 0 | F30: =SUM(C30:E30) -> 500000 | G30: 500000 | H30: 0 | I30: 0 | J30: =SUM(G30:I30) -> 500000
A31: Egyéb áruhasználati és szolgáltatási adók | B31: B355 | C31: 130000 | D31: 0 | E31: 0 | F31: =SUM(C31:E31) -> 130000 | G31: 130000 | H31: 0 | I31: 0 | J31: =SUM(G31:I31) -> 130000
A32: Termékek és szolgáltatások adói | B32: B35 | C32: =SUM(C27:C31) -> 4630000 | D32: =SUM(D27:D31) -> 0 | E32: =SUM(E27:E31) -> 0 | F32: =SUM(C32:E32) -> 4630000 | G32: =SUM(G27:G31) -> 4630000 | H32: =SUM(H27:H31) -> 0 | I32: =SUM(I27:I31) -> 0 | J32: =SUM(G32:I32) -> 4630000
A33: Egyéb közhatalmi bevételek | B33: B36 | C33: 30000 | D33: 0 | E33: 0 | F33: =SUM(C33:E33) -> 30000 | G33: 30000 | H33: 0 | I33: 0 | J33: =SUM(G33:I33) -> 30000
A34: Közhatalmi bevételek | B34: B3 | C34: =C23+C24+C25+C26+C32+C33 -> 4910000 | D34: =D23+D24+D25+D26+D32+D33 -> 0 | E34: =E23+E24+E25+E26+E32+E33 -> 0 | F34: =SUM(C34:E34) -> 4910000 | G34: =G23+G24+G25+G26+G32+G33 -> 4910000 | H34: =H23+H24+H25+H26+H32+H33 -> 0 | I34: =I23+I24+I25+I26+I32+I33 -> 0 | J34: =SUM(G34:I34) -> 4910000
A35: Áru- és készletértékesítés ellenértéke | B35: B401 | C35: 0 | D35: 0 | E35: 0 | F35: =SUM(C35:E35) -> 0 | G35: 0 | H35: 0 | I35: 0 | J35: =SUM(G35:I35) -> 0
A36: Szolgáltatások ellenértéke | B36: B402 | C36: 0 | D36: 0 | E36: 0 | F36: =SUM(C36:E36) -> 0 | G36: 0 | H36: 0 | I36: 0 | J36: =SUM(G36:I36) -> 0
A37: Közvetített szolgáltatások értéke | B37: B403 | D37: 0 | E37: 0 | F37: =SUM(C37:E37) -> 0 | H37: 0 | I37: 0 | J37: =SUM(G37:I37) -> 0
A38: Tulajdonosi bevételek | B38: B404 | C38: 120000 | D38: 0 | E38: 0 | F38: =SUM(C38:E38) -> 120000 | G38: 120000 | H38: 0 | I38: 0 | J38: =SUM(G38:I38) -> 120000
A39: Ellátási díjak | B39: B405 | C39: 0 | D39: 0 | E39: 0 | F39: =SUM(C39:E39) -> 0 | G39: 0 | H39: 0 | I39: 0 | J39: =SUM(G39:I39) -> 0
A40: Kiszámlázott általános forgalmi adó | B40: B406 | C40: 0 | D40: 0 | E40: 0 | F40: =SUM(C40:E40) -> 0 | G40: 0 | H40: 0 | I40: 0 | J40: =SUM(G40:I40) -> 0
A41: Általános forgalmi adó visszatérítése | B41: B407 | C41: 0 | D41: 0 | E41: 0 | F41: =SUM(C41:E41) -> 0 | G41: 0 | H41: 0 | I41: 0 | J41: =SUM(G41:I41) -> 0
A42: Kamatbevételek | B42: B408 | C42: 0 | D42: 0 | E42: 0 | F42: 0 | G42: 0 | H42: 0 | I42: 0 | J42: 0
...

Sheet 3. melléklet
F1: 3. melléklet 5/2019. (V.7.) önkormányzati rendelethez
A3: SORKIKÁPOLNA Önkormányzat 2019. évi költségvetése
A4: Általános- és céltartalékok (Ft)
A7: Rovat megnevezése | B7: Rovat-szám | C7: ÖNKORMÁNYZATI ELŐIRÁNYZATOK | D7: KÖLTSÉGVETÉSI SZERV | E7: KÖLTSÉGVETÉSI SZERV | F7: KÖLTSÉGVETÉSI SZERV | G7: KÖLTSÉGVETÉSI SZERV | H7: MINDÖSSZESEN
A12: Általános tartalékok | B12: K513 | C12: =SUM('1. melléklet'!J74) -> 4890508 | H12: =SUM(C12:G12) -> 4890508
A17: Céltartalékok | B17: K513
