Workbook
Name _pr10: '8. melléklet'!#REF!
Name _pr12: '8. melléklet'!#REF!
Name _pr21: '7. melléklet'!$A$57
Name _pr232: '10. melléklet'!$A$13
Name _pr233: '10. melléklet'!$A$18
Name _pr234: '10. melléklet'!$A$26
Name _pr235: '10. melléklet'!$A$31
Name _pr236: '10. melléklet'!$A$36
Name _pr24: '7. melléklet'!$A$59
Name _pr25: '7. melléklet'!$A$60
Name _pr26: '7. melléklet'!$A$61
Name _pr27: '7. melléklet'!$A$62
Name _pr28: '7. melléklet'!$A$63
Name _pr312: '10. melléklet'!#REF!
Name _pr313: '10. melléklet'!#REF!
Name _pr314: '10. melléklet'!$A$5
Name _pr315: '10. melléklet'!#REF!
Name _pr7: '8. melléklet'!#REF!
Name _pr8: '8. melléklet'!#REF!
Name _pr9: '8. melléklet'!#REF!
Name foot_4_place: '8. melléklet'!$A$20
Name foot_5_place: '8. melléklet'!#REF!
Name foot_53_place: '8. melléklet'!#REF!
Name léé: '8. melléklet'!#REF!
Name mmm: '7. melléklet'!#REF!

Sheet 1. melléklet
A1: 1. melléklet 1/2018. (I.23.) önkormányzati rendelethez
A3: SORKIKÁPOLNA Önkormányzat 2018. évi költségvetése
A4: Az egységes rovatrend szerint a kiemelt kiadási és bevételi jogcímek
A7: K1. Személyi juttatások
A8: K2. Munkaadókat terhelő járulékok és szociális hozzájárulási adó
A9: K3. Dologi kiadások
A10: K4. Ellátottak pénzbeli juttatásai
A11: K5. Egyéb működési célú kiadások
A12: K6. Beruházási kiadások
A13: K7. Felújítások
A14: K8. Egyéb felhalmozási célú kiadások
A15: K1-8. Költségvetési kiadások
... A27: BEVÉTELEK ÖSSZESEN (B1-8)

Sheet 2. melléklet
C1: 2. melléklet 1/2018. (I.23.) önkormányzati rendelethez
A3: SORKIKÁPOLNA Önkormányzat 2018. évi költségvetése
A4: Kiadások (Ft)
A6: SORKIKÁPOLNA ÖNKORMÁNYZATI ELŐIRÁNYZATOK | C6: EREDETI ELŐIRÁNYZAT | G6: I. n.év módosított ELŐIRÁNYZAT | K6: II. n.év módosított ELŐIRÁNYZAT | O6: III. n.év módosított ELŐIRÁNYZAT | S6: IV. n.év módosított ELŐIRÁNYZAT
A7: Rovat megnevezése | B7: Rovat-szám | C7: kötelező feladatok | D7: önként vállalt feladatok | E7: államigazgatási feladatok | F7: ÖSSZESEN | G7: kötelező feladatok | H7: önként vállalt feladatok | I7: államigazgatási feladatok | J7: ÖSSZESEN | K7: kötelező feladatok | L7: önként vállalt feladatok | M7: államigazgatási feladatok | N7: ÖSSZESEN | O7: kötelező feladatok | P7: önként vállalt feladatok | Q7: államigazgatási feladatok | R7: ÖSSZESEN | S7: kötelező feladatok | T7: önként vállalt feladatok | U7: államigazgatási feladatok | V7: ÖSSZESEN
A8: Törvény szerinti illetmények, munkabérek | B8: K1101 | C8: 4496330 | D8: 0 | E8: 0 | F8: =SUM(C8:E8) -> 4496330 | G8: 4521239 | H8: 0 | I8: 0 | J8: =SUM(G8:I8) -> 4521239 | K8: 4545974 | L8: 0 | M8: 0 | N8: =SUM(K8:M8) -> 4545974 | O8: 4480462 | P8: 0 | Q8: 0 | R8: =SUM(O8:Q8) -> 4480462 | S8: 4231572 | T8: 0 | U8: 0 | V8: =SUM(S8:U8) -> 4231572
A9: Normatív jutalmak | B9: K1102 | C9: 0 | D9: 0 | E9: 0 | F9: =SUM(C9:E9) -> 0 | G9: 0 | H9: 0 | I9: 0 | J9: =SUM(G9:I9) -> 0 | K9: 0 | L9: 0 | M9: 0 | N9: =SUM(K9:M9) -> 0 | O9: 0 | P9: 0 | Q9: 0 | R9: =SUM(O9:Q9) -> 0 | S9: 0 | T9: 0 | U9: 0 | V9: =SUM(S9:U9) -> 0
A10: Céljuttatás, projektprémium | B10: K1103 | C10: 0 | D10: 0 | E10: 0 | F10: =SUM(C10:E10) -> 0 | G10: 0 | H10: 0 | I10: 0 | J10: =SUM(G10:I10) -> 0 | K10: 0 | L10: 0 | M10: 0 | N10: =SUM(K10:M10) -> 0 | O10: 0 | P10: 0 | Q10: 0 | R10: =SUM(O10:Q10) -> 0 | S10: 0 | T10: 0 | U10: 0 | V10: =SUM(S10:U10) -> 0
A11: Készenléti, ügyeleti, helyettesítési díj, túlóra, túlszolgálat | B11: K1104 | C11: 0 | D11: 0 | E11: 0 | F11: =SUM(C11:E11) -> 0 | G11: 0 | H11: 0 | I11: 0 | J11: =SUM(G11:I11) -> 0 | K11: 0 | L11: 0 | M11: 0 | N11: =SUM(K11:M11) -> 0 | O11: 0 | P11: 0 | Q11: 0 | R11: =SUM(O11:Q11) -> 0 | S11: 0 | T11: 0 | U11: 0 | V11: =SUM(S11:U11) -> 0
A12: Végkielégítés | B12: K1105 | C12: 0 | D12: 0 | E12: 0 | F12: =SUM(C12:E12) -> 0 | G12: 0 | H12: 0 | I12: 0 | J12: =SUM(G12:I12) -> 0 | K12: 0 | L12: 0 | M12: 0 | N12: =SUM(K12:M12) -> 0 | O12: 0 | P12: 0 | Q12: 0 | R12: =SUM(O12:Q12) -> 0 | S12: 0 | T12: 0 | U12: 0 | V12: =SUM(S12:U12) -> 0
A13: Jubileumi jutalom | B13: K1106 | C13: 0 | D13: 0 | E13: 0 | F13: =SUM(C13:E13) -> 0 | G13: 0 | H13: 0 | I13: 0 | J13: =SUM(G13:I13) -> 0 | K13: 0 | L13: 0 | M13: 0 | N13: =SUM(K13:M13) -> 0 | O13: 0 | P13: 0 | Q13: 0 | R13: =SUM(O13:Q13) -> 0 | S13: 0 | T13: 0 | U13: 0 | V13: =SUM(S13:U13) -> 0
A14: Béren kívüli juttatások | B14: K1107 | C14: 282000 | D14: 0 | E14: 0 | F14: =SUM(C14:E14) -> 282000 | G14: 282000 | H14: 0 | I14: 0 | J14: =SUM(G14:I14) -> 282000 | K14: 282000 | L14: 0 | M14: 0 | N14: =SUM(K14:M14) -> 282000 | O14: 282000 | P14: 0 | Q14: 0 | R14: =SUM(O14:Q14) -> 282000 | S14: 282000 | T14: 0 | U14: 0 | V14: =SUM(S14:U14) -> 282000
A15: Ruházati költségtérítés | B15: K1108 | C15: 0 | D15: 0 | E15: 0 | F15: =SUM(C15:E15) -> 0 | G15: 0 | H15: 0 | I15: 0 | J15: =SUM(G15:I15) -> 0 | K15: 0 | L15: 0 | M15: 0 | N15: =SUM(K15:M15) -> 0 | O15: 0 | P15: 0 | Q15: 0 | R15: =SUM(O15:Q15) -> 0 | S15: 0 | T15: 0 | U15: 0 | V15: =SUM(S15:U15) -> 0
A16: Közlekedési költségtérítés | B16: K1109 | C16: 0 | D16: 0 | E16: 0 | F16: =SUM(C16:E16) -> 0 | G16: 0 | H16: 0 | I16: 0 | J16: =SUM(G16:I16) -> 0 | K16: 0 | L16: 0 | M16: 0 | N16: =SUM(K16:M16) -> 0 | O16: 0 | P16: 0 | Q16: 0 | R16: =SUM(O16:Q16) -> 0 | S16: 0 | T16: 0 | U16: 0 | V16: =SUM(S16:U16) -> 0
A17: Egyéb költségtérítések | B17: K1110 | C17: 0 | D17: 0 | E17: 0 | F17: =SUM(C17:E17) -> 0 | G17: 0 | H17: 0 | I17: 0 | J17: =SUM(G17:I17) -> 0 | K17: 0 | L17: 0 | M17: 0 | N17: =SUM(K17:M17) -> 0 | O17: 0 | P17: 0 | Q17: 0 | R17: =SUM(O17:Q17) -> 0 | S17: 0 | T17: 0 | U17: 0 | V17: =SUM(S17:U17) -> 0
A18: Lakhatási támogatások | B18: K1111 | C18: 0 | D18: 0 | E18: 0 | F18: =SUM(C18:E18) -> 0 | G18: 0 | H18: 0 | I18: 0 | J18: =SUM(G18:I18) -> 0 | K18: 0 | L18: 0 | M18: 0 | N18: =SUM(K18:M18) -> 0 | O18: 0 | P18: 0 | Q18: 0 | R18: =SUM(O18:Q18) -> 0 | S18: 0 | T18: 0 | U18: 0 | V18: =SUM(S18:U18) -> 0
A19: Szociális támogatások | B19: K1112 | C19: 0 | D19: 0 | E19: 0 | F19: =SUM(C19:E19) -> 0 | G19: 0 | H19: 0 | I19: 0 | J19: =SUM(G19:I19) -> 0 | K19: 0 | L19: 0 | M19: 0 | N19: =SUM(K19:M19) -> 0 | O19: 0 | P19: 0 | Q19: 0 | R19: =SUM(O19:Q19) -> 0 | S19: 0 | T19: 0 | U19: 0 | V19: =SUM(S19:U19) -> 0
A20: Foglalkoztatottak egyéb személyi juttatásai | B20: K1113 | C20: 0 | D20: 0 | E20: 0 | F20: =SUM(C20:E20) -> 0 | G20: 0 | H20: 0 | I20: 0 | J20: =SUM(G20:I20) -> 0 | K20: 0 | L20: 0 | M20: 0 | N20: =SUM(K20:M20) -> 0 | O20: 90250 | P20: 0 | Q20: 0 | R20: =SUM(O20:Q20) -> 90250 | S20: 90250 | T20: 0 | U20: 0 | V20: =SUM(S20:U20) -> 90250
A21: Foglalkoztatottak személyi juttatásai | B21: K11 | C21: =SUM(C8:C20) -> 4778330 | D21: =SUM(D8:D20) -> 0 | E21: =SUM(E8:E20) -> 0 | F21: =SUM(C21:E21) -> 4778330 | G21: =SUM(G8:G20) -> 4803239 | H21: =SUM(H8:H20) -> 0 | I21: =SUM(I8:I20) -> 0 | J21: =SUM(G21:I21) -> 4803239 | K21: =SUM(K8:K20) -> 4827974 | L21: =SUM(L8:L20) -> 0 | M21: =SUM(M8:M20) -> 0 | N21: =SUM(K21:M21) -> 4827974 | O21: =SUM(O8:O20) -> 4852712 | P21: =SUM(P8:P20) -> 0 | Q21: =SUM(Q8:Q20) -> 0 | R21: =SUM(O21:Q21) -> 4852712 | S21: =SUM(S8:S20) -> 4603822 | T21: =SUM(T8:T20) -> 0 | U21: =SUM(U8:U20) -> 0 | V21: =SUM(S21:U21) -> 4603822
A22: Választott tisztségviselők juttatásai | B22: K121 | C22: 3062860 | D22: 0 | E22: 0 | F22: =SUM(C22:E22) -> 3062860 | G22: 3062860 | H22: 0 | I22: 0 | J22: =SUM(G22:I22) -> 3062860 | K22: 3062860 | L22: 0 | M22: 0 | N22: =SUM(K22:M22) -> 3062860 | O22: 3062860 | P22: 0 | Q22: 0 | R22: =SUM(O22:Q22) -> 3062860 | S22: 3062860 | T22: 0 | U22: 0 | V22: =SUM(S22:U22) -> 3062860
A23: Munkavégzésre irányuló egyéb jogviszonyban nem saját foglalkoztatottnak fizetett juttatások | B23: K122 | C23: 0 | D23: 0 | E23: 0 | F23: =SUM(C23:E23) -> 0 | G23: 600000 | H23: 0 | I23: 0 | J23: =SUM(G23:I23) -> 600000 | K23: 2761000 | L23: 0 | M23: 0 | N23: =SUM(K23:M23) -> 2761000 | O23: 2761000 | P23: 0 | Q23: 0 | R23: =SUM(O23:Q23) -> 2761000 | S23: 2210000 | T23: 0 | U23: 0 | V23: =SUM(S23:U23) -> 2210000
A24: Egyéb külső személyi juttatások | B24: K123 | C24: 760000 | D24: 0 | E24: 0 | F24: =SUM(C24:E24) -> 760000 | G24: 160000 | H24: 0 | I24: 0 | J24: =SUM(G24:I24) -> 160000 | K24: 660000 | L24: 0 | M24: 0 | N24: =SUM(K24:M24) -> 660000 | O24: 660000 | P24: 0 | Q24: 0 | R24: =SUM(O24:Q24) -> 660000 | S24: 610000 | T24: 0 | U24: 0 | V24: =SUM(S24:U24) -> 610000
A25: Külső személyi juttatások | B25: K12 | C25: =SUM(C22:C24) -> 3822860 | D25: =SUM(D22:D24) -> 0 | E25: =SUM(E22:E24) -> 0 | F25: =SUM(C25:E25) -> 3822860 | G25: =SUM(G22:G24) -> 3822860 | H25: =SUM(H22:H24) -> 0 | I25: =SUM(I22:I24) -> 0 | J25: =SUM(G25:I25) -> 3822860 | K25: =SUM(K22:K24) -> 6483860 | L25: =SUM(L22:L24) -> 0 | M25: =SUM(M22:M24) -> 0 | N25: =SUM(K25:M25) -> 6483860 | O25: =SUM(O22:O24) -> 6483860 | P25: =SUM(P22:P24) -> 0 | Q25: =SUM(Q22:Q24) -> 0 | R25: =SUM(O25:Q25) -> 6483860 | S25: =SUM(S22:S24) -> 5882860 | T25: =SUM(T22:T24) -> 0 | U25: =SUM(U22:U24) -> 0 | V25: =SUM(S25:U25) -> 5882860
A26: Személyi juttatások | B26: K1 | C26: =C21+C25 -> 8601190 | D26: =D21+D25 -> 0 | E26: =E21+E25 -> 0 | F26: =SUM(C26:E26) -> 8601190 | G26: =G21+G25 -> 8626099 | H26: =H21+H25 -> 0 | I26: =I21+I25 -> 0 | J26: =SUM(G26:I26) -> 8626099 | K26: =K21+K25 -> 11311834 | L26: =L21+L25 -> 0 | M26: =M21+M25 -> 0 | N26: =SUM(K26:M26) -> 11311834 | O26: =O21+O25 -> 11336572 | P26: =P21+P25 -> 0 | Q26: =Q21+Q25 -> 0 | R26: =SUM(O26:Q26) -> 11336572 | S26: =S21+S25 -> 10486682 | T26: =T21+T25 -> 0 | U26: =U21+U25 -> 0 | V26: =SUM(S26:U26) -> 10486682
A27: Munkaadókat terhelő járulékok és szociális hozzájárulási adó | B27: K2 | C27: 1596847 | D27: 0 | E27: 0 | F27: =SUM(C27:E27) -> 1596847 | G27: 1596847 | H27: 0 | I27: 0 | J27: =SUM(G27:I27) -> 1596847 | K27: 1596847 | L27: 0 | M27: 0 | N27: =SUM(K27:M27) -> 1596847 | O27: 1596847 | P27: 0 | Q27: 0 | R27: =SUM(O27:Q27) -> 1596847 | S27: 1900453 | T27: 0 | U27: 0 | V27: =SUM(S27:U27) -> 1900453
A28: Szakmai anyagok beszerzése | B28: K311 | C28: 0 | D28: 0 | E28: 0 | F28: =SUM(C28:E28) -> 0 | G28: 0 | H28: 0 | I28: 0 | J28: =SUM(G28:I28) -> 0 | K28: 24000 | L28: 0 | M28: 0 | N28: =SUM(K28:M28) -> 24000 | O28: 24000 | P28: 0 | Q28: 0 | R28: =SUM(O28:Q28) -> 24000 | S28: 38000 | T28: 0 | U28: 0 | V28: =SUM(S28:U28) -> 38000
A29: Üzemeltetési anyagok beszerzése | B29: K312 | C29: 1513000 | D29: 0 | E29: 0 | F29: =SUM(C29:E29) -> 1513000 | G29: 1513000 | H29: 0 | I29: 0 | J29: =SUM(G29:I29) -> 1513000 | K29: 1489000 | L29: 0 | M29: 0 | N29: =SUM(K29:M29) -> 1489000 | O29: 1489000 | P29: 0 | Q29: 0 | R29: =SUM(O29:Q29) -> 1489000 | S29: 1624505 | T29: 0 | U29: 0 | V29: =SUM(S29:U29) -> 1624505
A30: Árubeszerzés | B30: K313 | C30: 0 | D30: 0 | E30: 0 | F30: =SUM(C30:E30) -> 0 | G30: 0 | H30: 0 | I30: 0 | J30: =SUM(G30:I30) -> 0 | K30: 0 | L30: 0 | M30: 0 | N30: =SUM(K30:M30) -> 0 | O30: 0 | P30: 0 | Q30: 0 | R30: =SUM(O30:Q30) -> 0 | S30: 0 | T30: 0 | U30: 0 | V30: =SUM(S30:U30) -> 0
A31: Készletbeszerzés | B31: K31 | C31: =SUM(C28:C30) -> 1513000 | D31: =SUM(D28:D30) -> 0 | E31: =SUM(E28:E30) -> 0 | F31: =SUM(C31:E31) -> 1513000 | G31: =SUM(G28:G30) -> 1513000 | H31: =SUM(H28:H30) -> 0 | I31: =SUM(I28:I30) -> 0 | J31: =SUM(G31:I31) -> 1513000 | K31: =SUM(K28:K30) -> 1513000 | L31: =SUM(L28:L30) -> 0 | M31: =SUM(M28:M30) -> 0 | N31: =SUM(K31:M31) -> 1513000 | O31: =SUM(O28:O30) -> 1513000 | P31: =SUM(P28:P30) -> 0 | Q31: =SUM(Q28:Q30) -> 0 | R31: =SUM(O31:Q31) -> 1513000 | S31: =SUM(S28:S30) -> 1662505 | T31: =SUM(T28:T30) -> 0 | U31: =SUM(U28:U30) -> 0 | V31: =SUM(S31:U31) -> 1662505
A32: Informatikai szolgáltatások igénybevétele | B32: K321 | C32: 50000 | D32: 0 | E32: 0 | F32: =SUM(C32:E32) -> 50000 | G32: 50000 | H32: 0 | I32: 0 | J32: =SUM(G32:I32) -> 50000 | K32: 350000 | L32: 0 | M32: 0 | N32: =SUM(K32:M32) -> 350000 | O32: 350000 | P32: 0 | Q32: 0 | R32: =SUM(O32:Q32) -> 350000 | S32: 450000 | T32: 0 | U32: 0 | V32: =SUM(S32:U32) -> 450000
A33: Egyéb kommunikációs szolgáltatások | B33: K322 | C33: 1430000 | D33: 0 | E33: 0 | F33: =SUM(C33:E33) -> 1430000 | G33: 1430000 | H33: 0 | I33: 0 | J33: =SUM(G33:I33) -> 1430000 | K33: 630000 | L33: 0 | M33: 0 | N33: =SUM(K33:M33) -> 630000 | O33: 630000 | P33: 0 | Q33: 0 | R33: =SUM(O33:Q33) -> 630000 | S33: 630000 | T33: 0 | U33: 0 | V33: =SUM(S33:U33) -> 630000
A34: Kommunikációs szolgáltatások | B34: K32 | C34: =SUM(C32:C33) -> 1480000 | D34: =SUM(D32:D33) -> 0 | E34: =SUM(E32:E33) -> 0 | F34: =SUM(C34:E34) -> 1480000 | G34: =SUM(G32:G33) -> 1480000 | H34: =SUM(H32:H33) -> 0 | I34: =SUM(I32:I33) -> 0 | J34: =SUM(G34:I34) -> 1480000 | K34: =SUM(K32:K33) -> 980000 | L34: =SUM(L32:L33) -> 0 | M34: =SUM(M32:M33) -> 0 | N34: =SUM(K34:M34) -> 980000 | O34: =SUM(O32:O33) -> 980000 | P34: =SUM(P32:P33) -> 0 | Q34: =SUM(Q32:Q33) -> 0 | R34: =SUM(O34:Q34) -> 980000 | S34: =SUM(S32:S33) -> 1080000 | T34: =SUM(T32:T33) -> 0 | U34: =SUM(U32:U33) -> 0 | V34: =SUM(S34:U34) -> 1080000
A35: Közüzemi díjak | B35: K331 | C35: 2143920 | D35: 0 | E35: 0 | F35: =SUM(C35:E35) -> 2143920 | G35: 2143920 | H35: 0 | I35: 0 | J35: =SUM(G35:I35) -> 2143920 | K35: 2143920 | L35: 0 | M35: 0 | N35: =SUM(K35:M35) -> 2143920 | O35: 2143920 | P35: 0 | Q35: 0 | R35: =SUM(O35:Q35) -> 2143920 | S35: 2143920 | T35: 0 | U35: 0 | V35: =SUM(S35:U35) -> 2143920
A36: Vásárolt élelmezés | B36: K332 | C36: 0 | D36: 0 | E36: 0 | F36: =SUM(C36:E36) -> 0 | G36: 0 | H36: 0 | I36: 0 | J36: =SUM(G36:I36) -> 0 | K36: 0 | L36: 0 | M36: 0 | N36: =SUM(K36:M36) -> 0 | O36: 0 | P36: 0 | Q36: 0 | R36: =SUM(O36:Q36) -> 0 | S36: 0 | T36: 0 | U36: 0 | V36: =SUM(S36:U36) -> 0
A37: Bérleti és lízing díjak | B37: K333 | C37: 0 | D37: 0 | E37: 0 | F37: =SUM(C37:E37) -> 0 | G37: 0 | H37: 0 | I37: 0 | J37: =SUM(G37:I37) -> 0 | K37: 0 | L37: 0 | M37: 0 | N37: =SUM(K37:M37) -> 0 | O37: 0 | P37: 0 | Q37: 0 | R37: =SUM(O37:Q37) -> 0 | S37: 0 | T37: 0 | U37: 0 | V37: =SUM(S37:U37) -> 0
A38: Karbantartási, kisjavítási szolgáltatások | B38: K334 | C38: 1080580 | D38: 0 | E38: 0 | F38: =SUM(C38:E38) -> 1080580 | G38: 1080580 | H38: 0 | I38: 0 | J38: =SUM(G38:I38) -> 1080580 | K38: 1080580 | L38: 0 | M38: 0 | N38: =SUM(K38:M38) -> 1080580 | O38: 1080580 | P38: 0 | Q38: 0 | R38: =SUM(O38:Q38) -> 1080580 | S38: 1369393 | T38: 0 | U38: 0 | V38: =SUM(S38:U38) -> 1369393
A39: Közvetített szolgáltatások | B39: K335 | C39: 0 | D39: 0 | E39: 0 | F39: =SUM(C39:E39) -> 0 | G39: 0 | H39: 0 | I39: 0 | J39: =SUM(G39:I39) -> 0 | K39: 0 | L39: 0 | M39: 0 | N39: =SUM(K39:M39) -> 0 | O39: 0 | P39: 0 | Q39: 0 | R39: =SUM(O39:Q39) -> 0 | S39: 0 | T39: 0 | U39: 0 | V39: =SUM(S39:U39) -> 0
A40: Szakmai tevékenységet segítő szolgáltatások | B40: K336 | C40: 140000 | D40: 0 | E40: 0 | F40: =SUM(C40:E40) -> 140000 | G40: 140000 | H40: 0 | I40: 0 | J40: =SUM(G40:I40) -> 140000 | K40: 140000 | L40: 0 | M40: 0 | N40: =SUM(K40:M40) -> 140000 | O40: 140000 | P40: 0 | Q40: 0 | R40: =SUM(O40:Q40) -> 140000 | S40: 141900 | T40: 0 | U40: 0 | V40: =SUM(S40:U40) -> 141900
A41: Egyéb szolgáltatások | B41: K337 | C41: 3250000 | D41: 0 | E41: 0 | F41: =SUM(C41:E41) -> 3250000 | G41: 3250000 | H41: 0 | I41: 0 | J41: =SUM(G41:I41) -> 3250000 | K41: 3250000 | L41: 0 | M41: 0 | N41: =SUM(K41:M41) -> 3250000 | O41: 3250000 | P41: 0 | Q41: 0 | R41: =SUM(O41:Q41) -> 3250000 | S41: 3250000 | T41: 0 | U41: 0 | V41: =SUM(S41:U41) -> 3250000
A42: Szolgáltatási kiadások | B42: K33 | C42: =SUM(C35:C41) -> 6614500 | D42: =SUM(D35:D41) -> 0 | E42: =SUM(E35:E41) -> 0 | F42: =SUM(C42:E42) -> 6614500 | G42: =SUM(G35:G41) -> 6614500 | H42: =SUM(H35:H41) -> 0 | I42: =SUM(I35:I41) -> 0 | J42: =SUM(G42:I42) -> 6614500 | K42: =SUM(K35:K41) -> 6614500 | L42: =SUM(L35:L41) -> 0 | M42: =SUM(M35:M41) -> 0 | N42: =SUM(K42:M42) -> 6614500 | O42: =SUM(O35:O41) -> 6614500 | P42: =SUM(P35:P41) -> 0 | Q42: =SUM(Q35:Q41) -> 0 | R42: =SUM(O42:Q42) -> 6614500 | S42: =SUM(S35:S41) -> 6905213 | T42: =SUM(T35:T41) -> 0 | U42: =SUM(U35:U41) -> 0 | V42: =SUM(S42:U42) -> 6905213
A43: Kiküldetések kiadásai | B43: K341 | C43: 0 | D43: 0 | E43: 0 | F43: =SUM(C43:E43) -> 0 | G43: 0 | H43: 0 | I43: 0 | J43: =SUM(G43:I43) -> 0 | K43: 0 | L43: 0 | M43: 0 | N43: =SUM(K43:M43) -> 0 | O43: 0 | P43: 0 | Q43: 0 | R43: =SUM(O43:Q43) -> 0 | S43: 0 | T43: 0 | U43: 0 | V43: =SUM(S43:U43) -> 0
A44: Reklám- és propagandakiadások | B44: K342 | C44: 0 | D44: 0 | E44: 0 | F44: =SUM(C44:E44) -> 0 | G44: 0 | H44: 0 | I44: 0 | J44: =SUM(G44:I44) -> 0 | K44: 0 | L44: 0 | M44: 0 | N44: =SUM(K44:M44) -> 0 | O44: 0 | P44: 0 | Q44: 0 | R44: =SUM(O44:Q44) -> 0 | S44: 0 | T44: 0 | U44: 0 | V44: =SUM(S44:U44) -> 0
A45: Kiküldetések, reklám- és propagandakiadások | B45: K34 | C45: =SUM(C43:C44) -> 0 | D45: =SUM(D43:D44) -> 0 | E45: =SUM(E43:E44) -> 0 | F45: =SUM(C45:E45) -> 0 | G45: =SUM(G43:G44) -> 0 | H45: =SUM(H43:H44) -> 0 | I45: =SUM(I43:I44) -> 0 | J45: =SUM(G45:I45) -> 0 | K45: =SUM(K43:K44) -> 0 | L45: =SUM(L43:L44) -> 0 | M45: =SUM(M43:M44) -> 0 | N45: =SUM(K45:M45) -> 0 | O45: =SUM(O43:O44) -> 0 | P45: =SUM(P43:P44) -> 0 | Q45: =SUM(Q43:Q44) -> 0 | R45: =SUM(O45:Q45) -> 0 | S45: =SUM(S43:S44) -> 0 | T45: =SUM(T43:T44) -> 0 | U45: =SUM(U43:U44) -> 0 | V45: =SUM(S45:U45) -> 0
A46: Működési célú előzetesen felszámított általános forgalmi adó | B46: K351 | C46: 1839580 | D46: 0 | E46: 3000 | F46: =SUM(C46:E46) -> 1842580 | G46: 1839580 | H46: 0 | I46: 3000 | J46: =SUM(G46:I46) -> 1842580 | K46: 1839580 | L46: 0 | M46: 3000 | N46: =SUM(K46:M46) -> 1842580 | O46: 1839580 | P46: 0 | Q46: 3000 | R46: =SUM(O46:Q46) -> 1842580 | S46: 1839580 | T46: 0 | U46: 3000 | V46: =SUM(S46:U46) -> 1842580
A47: Fizetendő általános forgalmi adó | B47: K352 | C47: 0 | D47: 0 | E47: 0 | F47: =SUM(C47:E47) -> 0 | G47: 0 | H47: 0 | I47: 0 | J47: =SUM(G47:I47) -> 0 | K47: 0 | L47: 0 | M47: 0 | N47: =SUM(K47:M47) -> 0 | O47: 0 | P47: 0 | Q47: 0 | R47: =SUM(O47:Q47) -> 0 | S47: 0 | T47: 0 | U47: 0 | V47: =SUM(S47:U47) -> 0
A48: Kamatkiadások | B48: K353 | C48: 0 | D48: 0 | E48: 0 | F48: =SUM(C48:E48) -> 0 | G48: 0 | H48: 0 | I48: 0 | J48: =SUM(G48:I48) -> 0 | K48: 0 | L48: 0 | M48: 0 | N48: =SUM(K48:M48) -> 0 | O48: 0 | P48: 0 | Q48: 0 | R48: =SUM(O48:Q48) -> 0 | S48: 0 | T48: 0 | U48: 0 | V48: =SUM(S48:U48) -> 0
A49: Egyéb pénzügyi műveletek kiadásai | B49: K354 | C49: 0 | D49: 0 | E49: 0 | F49: =SUM(C49:E49) -> 0 | G49: 0 | H49: 0 | I49: 0 | J49: =SUM(G49:I49) -> 0 | K49: 0 | L49: 0 | M49: 0 | N49: =SUM(K49:M49) -> 0 | O49: 0 | P49: 0 | Q49: 0 | R49: =SUM(O49:Q49) -> 0 | S49: 0 | T49: 0 | U49: 0 | V49: =SUM(S49:U49) -> 0
A50: Egyéb dologi kiadások | B50: K355 | C50: 20000 | D50: 0 | E50: 10000 | F50: =SUM(C50:E50) -> 30000 | G50: 20000 | H50: 0 | I50: 10000 | J50: =SUM(G50:I50) -> 30000 | K50: 20000 | L50: 0 | M50: 10000 | N50: =SUM(K50:M50) -> 30000 | O50: 20000 | P50: 0 | Q50: 10000 | R50: =SUM(O50:Q50) -> 30000 | S50: 20000 | T50: 0 | U50: 10000 | V50: =SUM(S50:U50) -> 30000
A51: Különféle befizetések és egyéb dologi kiadások | B51: K35 | C51: =SUM(C46:C50) -> 1859580 | D51: =SUM(D46:D50) -> 0 | E51: =SUM(E46:E50) -> 13000 | F51: =SUM(C51:E51) -> 1872580 | G51: =SUM(G46:G50) -> 1859580 | H51: =SUM(H46:H50) -> 0 | I51: =SUM(I46:I50) -> 13000 | J51: =SUM(G51:I51) -> 1872580 | K51: =SUM(K46:K50) -> 1859580 | L51: =SUM(L46:L50) -> 0 | M51: =SUM(M46:M50) -> 13000 | N51: =SUM(K51:M51) -> 1872580 | O51: =SUM(O46:O50) -> 1859580 | P51: =SUM(P46:P50) -> 0 | Q51: =SUM(Q46:Q50) -> 13000 | R51: =SUM(O51:Q51) -> 1872580 | S51: =SUM(S46:S50) -> 1859580 | T51: =SUM(T46:T50) -> 0 | U51: =SUM(U46:U50) -> 13000 | V51: =SUM(S51:U51) -> 1872580
A52: Dologi kiadások | B52: K3 | C52: =C31+C34+C42+C45+C51 -> 11467080 | D52: =D31+D34+D42+D45+D51 -> 0 | E52: =E31+E34+E42+E45+E51 -> 13000 | F52: =SUM(C52:E52) -> 11480080 | G52: =G31+G34+G42+G45+G51 -> 11467080 | H52: =H31+H34+H42+H45+H51 -> 0 | I52: =I31+I34+I42+I45+I51 -> 13000 | J52: =SUM(G52:I52) -> 11480080 | K52: =K31+K34+K42+K45+K51 -> 10967080 | L52: =L31+L34+L42+L45+L51 -> 0 | M52: =M31+M34+M42+M45+M51 -> 13000 | N52: =SUM(K52:M52) -> 10980080 | O52: =O31+O34+O42+O45+O51 -> 10967080 | P52: =P31+P34+P42+P45+P51 -> 0 | Q52: =Q31+Q34+Q42+Q45+Q51 -> 13000 | R52: =SUM(O52:Q52) -> 10980080 | S52: =S31+S34+S42+S45+S51 -> 11507298 | T52: =T31+T34+T42+T45+T51 -> 0 | U52: =U31+U34+U42+U45+U51 -> 13000 | V52: =SUM(S52:U52) -> 11520298
A53: Társadalombiztosítási ellátások | B53: K41 | C53: 0 | D53: 0 | E53: 0 | F53: =SUM(C53:E53) -> 0 | G53: 0 | H53: 0 | I53: 0 | J53: =SUM(G53:I53) -> 0 | K53: 0 | L53: 0 | M53: 0 | N53: =SUM(K53:M53) -> 0 | O53: 0 | P53: 0 | Q53: 0 | R53: =SUM(O53:Q53) -> 0 | S53: 0 | T53: 0 | U53: 0 | V53: =SUM(S53:U53) -> 0
A54: Családi támogatások | B54: K42 | C54: 0 | D54: 0 | E54: 0 | F54: 0 | G54: 0 | H54: 0 | I54: 0 | J54: 0 | K54: 0 | L54: 0 | M54: 0 | N54: 0 | O54: 0 | P54: 0 | Q54: 0 | R54: 0 | S54: 0 | T54: 0 | U54: 0 | V54: 0
A55: Pénzbeli kárpótlások, kártérítések | B55: K43 | C55: 0 | D55: 0 | E55: 0 | F55: =SUM(C55:E55) -> 0 | G55: 0 | H55: 0 | I55: 0 | J55: =SUM(G55:I55) -> 0 | K55: 0 | L55: 0 | M55: 0 | N55: =SUM(K55:M55) -> 0 | O55: 0 | P55: 0 | Q55: 0 | R55: =SUM(O55:Q55) -> 0 | S55: 0 | T55: 0 | U55: 0 | V55: =SUM(S55:U55) -> 0
A56: Betegséggel kapcsolatos (nem társadalombiztosítási) ellátások | B56: K44 | C56: 0 | D56: 0 | E56: 0 | F56: =SUM(C56:E56) -> 0 | G56: 0 | H56: 0 | I56: 0 | J56: =SUM(G56:I56) -> 0 | K56: 0 | L56: 0 | M56: 0 | N56: =SUM(K56:M56) -> 0 | O56: 0 | P56: 0 | Q56: 0 | R56: =SUM(O56:Q56) -> 0 | S56: 0 | T56: 0 | U56: 0 | V56: =SUM(S56:U56) -> 0
A57: Foglalkoztatással, munkanélküliséggel kapcsolatos ellátások | B57: K45 | C57: 0 | D57: 0 | E57: 0 | F57: =SUM(C57:E57) -> 0 | G57: 0 | H57: 0 | I57: 0 | J57: =SUM(G57:I57) -> 0 | K57: 0 | L57: 0 | M57: 0 | N57: =SUM(K57:M57) -> 0 | O57: 0 | P57: 0 | Q57: 0 | R57: =SUM(O57:Q57) -> 0 | S57: 0 | T57: 0 | U57: 0 | V57: =SUM(S57:U57) -> 0
A58: Lakhatással kapcsolatos ellátások | B58: K46 | C58: 0 | D58: 0 | E58: 0 | F58: =SUM(C58:E58) -> 0 | G58: 0 | H58: 0 | I58: 0 | J58: =SUM(G58:I58) -> 0 | K58: 0 | L58: 0 | M58: 0 | N58: =SUM(K58:M58) -> 0 | O58: 0 | P58: 0 | Q58: 0 | R58: =SUM(O58:Q58) -> 0 | S58: 0 | T58: 0 | U58: 0 | V58: =SUM(S58:U58) -> 0
A59: Intézményi ellátottak pénzbeli juttatásai | B59: K47 | C59: 70000 | D59: 0 | E59: 0 | F59: =SUM(C59:E59) -> 70000 | G59: 70000 | H59: 0 | I59: 0 | J59: =SUM(G59:I59) -> 70000 | K59: 70000 | L59: 0 | M59: 0 | N59: =SUM(K59:M59) -> 70000 | O59: 70000 | P59: 0 | Q59: 0 | R59: =SUM(O59:Q59) -> 70000 | S59: 70000 | T59: 0 | U59: 0 | V59: =SUM(S59:U59) -> 70000
A60: Egyéb nem intézményi ellátások | B60: K48 | C60: 1580000 | D60: 0 | E60: 0 | F60: =SUM(C60:E60) -> 1580000 | G60: 1580000 | H60: 0 | I60: 0 | J60: =SUM(G60:I60) -> 1580000 | K60: 1580000 | L60: 0 | M60: 0 | N60: =SUM(K60:M60) -> 1580000 | O60: 1580000 | P60: 0 | Q60: 0 | R60: =SUM(O60:Q60) -> 1580000 | S60: 1580053 | T60: 0 | U60: 0 | V60: =SUM(S60:U60) -> 1580053
A61: Ellátottak pénzbeli juttatásai | B61: K4 | C61: =SUM(C53:C60) -> 1650000 | D61: =SUM(D53:D60) -> 0 | E61: =SUM(E53:E60) -> 0 | F61: =SUM(C61:E61) -> 1650000 | G61: =SUM(G53:G60) -> 1650000 | H61: =SUM(H53:H60) -> 0 | I61: =SUM(I53:I60) -> 0 | J61: =SUM(G61:I61) -> 1650000 | K61: =SUM(K53:K60) -> 1650000 | L61: =SUM(L53:L60) -> 0 | M61: =SUM(M53:M60) -> 0 | N61: =SUM(K61:M61) -> 1650000 | O61: =SUM(O53:O60) -> 1650000 | P61: =SUM(P53:P60) -> 0 | Q61: =SUM(Q53:Q60) -> 0 | R61: =SUM(O61:Q61) -> 1650000 | S61: =SUM(S53:S60) -> 1650053 | T61: =SUM(T53:T60) -> 0 | U61: =SUM(U53:U60) -> 0 | V61: =SUM(S61:U61) -> 1650053
A62: Nemzetközi kötelezettségek | B62: K501 | C62: 0 | D62: 0 | E62: 0 | F62: =SUM(C62:E62) -> 0 | G62: 0 | H62: 0 | I62: 0 | J62: =SUM(G62:I62) -> 0 | K62: 0 | L62: 0 | M62: 0 | N62: =SUM(K62:M62) -> 0 | O62: 0 | P62: 0 | Q62: 0 | R62: =SUM(O62:Q62) -> 0 | S62: 0 | T62: 0 | U62: 0 | V62: =SUM(S62:U62) -> 0
A63: Elvonások és befizetések | B63: K502 | C63: 0 | D63: 0 | E63: 0 | F63: =SUM(C63:E63) -> 0 | G63: 0 | H63: 0 | I63: 0 | J63: =SUM(G63:I63) -> 0 | K63: 0 | L63: 0 | M63: 0 | N63: =SUM(K63:M63) -> 0 | O63: 0 | P63: 0 | Q63: 0 | R63: =SUM(O63:Q63) -> 0 | S63: 0 | T63: 0 | U63: 0 | V63: =SUM(S63:U63) -> 0
A64: Működési célú garancia- és kezességvállalásból származó kifizetés államháztartáson belülre | B64: K503 | C64: 0 | D64: 0 | E64: 0 | F64: =SUM(C64:E64) -> 0 | G64: 0 | H64: 0 | I64: 0 | J64: =SUM(G64:I64) -> 0 | K64: 0 | L64: 0 | M64: 0 | N64: =SUM(K64:M64) -> 0 | O64: 0 | P64: 0 | Q64: 0 | R64: =SUM(O64:Q64) -> 0 | S64: 0 | T64: 0 | U64: 0 | V64: =SUM(S64:U64) -> 0
A65: Működési célú visszatérítendő támogatások, kölcsönök nyújtása államháztartáson belülre | B65: K504 | C65: 0 | D65: 0 | E65: 0 | F65: =SUM(C65:E65) -> 0 | G65: 0 | H65: 0 | I65: 0 | J65: =SUM(G65:I65) -> 0 | K65: 0 | L65: 0 | M65: 0 | N65: =SUM(K65:M65) -> 0 | O65: 0 | P65: 0 | Q65: 0 | R65: =SUM(O65:Q65) -> 0 | S65: 0 | T65: 0 | U65: 0 | V65: =SUM(S65:U65) -> 0
A66: Működési célú visszatérítendő támogatások, kölcsönök törlesztése államháztartáson belülre | B66: K505 | C66: 0 | D66: 0 | E66: 0 | F66: =SUM(C66:E66) -> 0 | G66: 0 | H66: 0 | I66: 0 | J66: =SUM(G66:I66) -> 0 | K66: 0 | L66: 0 | M66: 0 | N66: =SUM(K66:M66) -> 0 | O66: 0 | P66: 0 | Q66: 0 | R66: =SUM(O66:Q66) -> 0 | S66: 0 | T66: 0 | U66: 0 | V66: =SUM(S66:U66) -> 0
A67: Egyéb működési célú támogatások államháztartáson belülre | B67: K506 | C67: 532630 | D67: 0 | E67: 0 | F67: =SUM(C67:E67) -> 532630 | G67: 532630 | H67: 0 | I67: 0 | J67: =SUM(G67:I67) -> 532630 | K67: 462630 | L67: 0 | M67: 0 | N67: =SUM(K67:M67) -> 462630 | O67: 462630 | P67: 0 | Q67: 0 | R67: =SUM(O67:Q67) -> 462630 | S67: 1316643 | T67: 0 | U67: 0 | V67: =SUM(S67:U67) -> 1316643
A68: Működési célú garancia- és kezességvállalásból származó kifizetés államháztartáson kívülre | B68: K507 | C68: 0 | D68: 0 | E68: 0 | F68: =SUM(C68:E68) -> 0 | G68: 0 | H68: 0 | I68: 0 | J68: =SUM(G68:I68) -> 0 | K68: 0 | L68: 0 | M68: 0 | N68: =SUM(K68:M68) -> 0 | O68: 0 | P68: 0 | Q68: 0 | R68: =SUM(O68:Q68) -> 0 | S68: 0 | T68: 0 | U68: 0 | V68: =SUM(S68:U68) -> 0
A69: Működési célú visszatérítendő támogatások, kölcsönök nyújtása államháztartáson kívülre | B69: K508 | C69: 0 | D69: 0 | E69: 0 | F69: =SUM(C69:E69) -> 0 | G69: 0 | H69: 0 | I69: 0 | J69: =SUM(G69:I69) -> 0 | K69: 0 | L69: 0 | M69: 0 | N69: =SUM(K69:M69) -> 0 | O69: 0 | P69: 0 | Q69: 0 | R69: =SUM(O69:Q69) -> 0 | S69: 0 | T69: 0 | U69: 0 | V69: =SUM(S69:U69) -> 0
A70: Árkiegészítések, ártámogatások | B70: K509 | C70: 0 | D70: 0 | E70: 0 | F70: =SUM(C70:E70) -> 0 | G70: 0 | H70: 0 | I70: 0 | J70: =SUM(G70:I70) -> 0 | K70: 0 | L70: 0 | M70: 0 | N70: =SUM(K70:M70) -> 0 | O70: 0 | P70: 0 | Q70: 0 | R70: =SUM(O70:Q70) -> 0 | S70: 0 | T70: 0 | U70: 0 | V70: =SUM(S70:U70) -> 0
A71: Kamattámogatások | B71: K510 | C71: 0 | D71: 0 | E71: 0 | F71: =SUM(C71:E71) -> 0 | G71: 0 | H71: 0 | I71: 0 | J71: =SUM(G71:I71) -> 0 | K71: 0 | L71: 0 | M71: 0 | N71: =SUM(K71:M71) -> 0 | O71: 0 | P71: 0 | Q71: 0 | R71: =SUM(O71:Q71) -> 0 | S71: 0 | T71: 0 | U71: 0 | V71: =SUM(S71:U71) -> 0
A72: Működési célú támogatások az Európai Uniónak | B72: K511 | C72: 0 | D72: 0 | E72: 0 | F72: =SUM(C72:E72) -> 0 | G72: 0 | H72: 0 | I72: 0 | J72: =SUM(G72:I72) -> 0 | K72: 0 | L72: 0 | M72: 0 | N72: =SUM(K72:M72) -> 0 | O72: 0 | P72: 0 | Q72: 0 | R72: =SUM(O72:Q72) -> 0 | S72: 0 | T72: 0 | U72: 0 | V72: =SUM(S72:U72) -> 0
A73: Egyéb működési célú támogatások államháztartáson kívülre | B73: K512 | C73: 0 | D73: 0 | E73: 0 | F73: =SUM(C73:E73) -> 0 | G73: 0 | H73: 0 | I73: 0 | J73: =SUM(G73:I73) -> 0 | K73: 70000 | L73: 0 | M73: 0 | N73: =SUM(K73:M73) -> 70000 | O73: 70000 | P73: 0 | Q73: 0 | R73: =SUM(O73:Q73) -> 70000 | S73: 75000 | T73: 0 | U73: 0 | V73: =SUM(S73:U73) -> 75000
A74: Tartalékok | B74: K513 | C74: 4311246 | D74: 0 | E74: 0 | F74: 0 | G74: 4311246 | H74: 0 | I74: 0 | J74: 0 | K74: 4348135 | L74: 0 | M74: 0 | N74: 0 | O74: 4348135 | P74: 0 | Q74: 0 | R74: 0 | S74: 4340155 | T74: 0 | U74: 0 | V74: 0
A75: Egyéb működési célú kiadások | B75: K5 | C75: =SUM(C62:C74) -> 4843876 | D75: =SUM(D62:D74) -> 0 | E75: =SUM(E62:E74) -> 0 | F75: =SUM(C75:E75) -> 4843876 | G75: =SUM(G62:G74) -> 4843876 | H75: =SUM(H62:H74) -> 0 | I75: =SUM(I62:I74) -> 0 | J75: =SUM(G75:I75) -> 4843876 | K75: =SUM(K62:K74) -> 4880765 | L75: =SUM(L62:L74) -> 0 | M75: =SUM(M62:M74) -> 0 | N75: =SUM(K75:M75) -> 4880765 | O75: =SUM(O62:O74) -> 4880765 | P75: =SUM(P62:P74) -> 0 | Q75: =SUM(Q62:Q74) -> 0 | R75: =SUM(O75:Q75) -> 4880765 | S75: =SUM(S62:S74) -> 5731798 | T75: =SUM(T62:T74) -> 0 | U75: =SUM(U62:U74) -> 0 | V75: =SUM(S75:U75) -> 5731798
A76: Működési kiadások összesen | C76: =SUM(C26+C27+C52+C61+C75) -> 28158993 | D76: =SUM(D26+D27+D52+D61+D75) -> 0 | E76: =SUM(E26+E27+E52+E61+E75) -> 13000 | F76: =SUM(F26+F27+F52+F61+F75) -> 28171993 | G76: =SUM(G26+G27+G52+G61+G75) -> 28183902 | H76: =SUM(H26+H27+H52+H61+H75) -> 0 | I76: =SUM(I26+I27+I52+I61+I75) -> 13000 | J76: =SUM(J26+J27+J52+J61+J75) -> 28196902 | ... V76: =SUM(V26+V27+V52+V61+V75) -> 31289284
A77: Immateriális javak beszerzése, létesítése | B77: K61 | C77: 0 | D77: 0 | E77: 0 | F77: =SUM(C77:E77) -> 0 | G77: 0 | H77: 0 | I77: 0 | J77: =SUM(G77:I77) -> 0 | K77: 0 | L77: 0 | M77: 0 | N77: =SUM(K77:M77) -> 0 | O77: 0 | P77: 0 | Q77: 0 | R77: =SUM(O77:Q77) -> 0 | S77: 0 | T77: 0 | U77: 0 | V77: =SUM(S77:U77) -> 0
A78: Ingatlanok beszerzése, létesítése | B78: K62 | C78: 3900000 | D78: 0 | E78: 0 | F78: =SUM(C78:E78) -> 3900000 | G78: 3900000 | H78: 0 | I78: 0 | J78: =SUM(G78:I78) -> 3900000 | K78: 3900000 | L78: 0 | M78: 0 | N78: =SUM(K78:M78) -> 3900000 | O78: 3900000 | P78: 0 | Q78: 0 | R78: =SUM(O78:Q78) -> 3900000 | S78: 3900000 | T78: 0 | U78: 0 | V78: =SUM(S78:U78) -> 3900000
A79: Informatikai eszközök beszerzése, létesítése | B79: K63 | C79: 0 | D79: 0 | E79: 0 | F79: =SUM(C79:E79) -> 0 | G79: 0 | H79: 0 | I79: 0 | J79: =SUM(G79:I79) -> 0 | K79: 40000 | L79: 0 | M79: 0 | N79: =SUM(K79:M79) -> 40000 | O79: 40000 | P79: 0 | Q79: 0 | R79: =SUM(O79:Q79) -> 40000 | S79: 345339 | T79: 0 | U79: 0 | V79: =SUM(S79:U79) -> 345339
A80: Egyéb tárgyi eszközök beszerzése, létesítése | B80: K64 | C80: 1033950 | D80: 0 | E80: 0 | F80: =SUM(C80:E80) -> 1033950 | G80: 1033950 | H80: 0 | I80: 0 | J80: =SUM(G80:I80) -> 1033950 | K80: 993950 | L80: 0 | M80: 0 | N80: =SUM(K80:M80) -> 993950 | O80: 993950 | P80: 0 | Q80: 0 | R80: =SUM(O80:Q80) -> 993950 | S80: 993950 | T80: 0 | U80: 0 | V80: =SUM(S80:U80) -> 993950
A81: Részesedések beszerzése | B81: K65 | C81: 0 | D81: 0 | E81: 0 | F81: =SUM(C81:E81) -> 0 | G81: 0 | H81: 0 | I81: 0 | J81: =SUM(G81:I81) -> 0 | K81: 0 | L81: 0 | M81: 0 | N81: =SUM(K81:M81) -> 0 | O81: 0 | P81: 0 | Q81: 0 | R81: =SUM(O81:Q81) -> 0 | S81: 0 | T81: 0 | U81: 0 | V81: =SUM(S81:U81) -> 0
A82: Meglévő részesedések növeléséhez kapcsolódó kiadások | B82: K66 | C82: 0 | D82: 0 | E82: 0 | F82: =SUM(C82:E82) -> 0 | G82: 0 | H82: 0 | I82: 0 | J82: =SUM(G82:I82) -> 0 | K82: 0 | L82: 0 | M82: 0 | N82: =SUM(K82:M82) -> 0 | O82: 0 | P82: 0 | Q82: 0 | R82: =SUM(O82:Q82) -> 0 | S82: 0 | T82: 0 | U82: 0 | V82: =SUM(S82:U82) -> 0
A83: Beruházási célú előzetesen felszámított általános forgalmi adó | B83: K67 | C83: 380000 | D83: 0 | E83: 0 | F83: =SUM(C83:E83) -> 380000 | G83: 380000 | H83: 0 | I83: 0 | J83: =SUM(G83:I83) -> 380000 | K83: 380000 | L83: 0 | M83: 0 | N83: =SUM(K83:M83) -> 380000 | O83: 380000 | P83: 0 | Q83: 0 | R83: =SUM(O83:Q83) -> 380000 | S83: 380000 | T83: 0 | U83: 0 | V83: =SUM(S83:U83) -> 380000
A84: Beruházások | B84: K6 | C84: =SUM(C77:C83) -> 5313950 | D84: =SUM(D77:D83) -> 0 | E84: =SUM(E77:E83) -> 0 | F84: =SUM(C84:E84) -> 5313950 | G84: =SUM(G77:G83) -> 5313950 | H84: =SUM(H77:H83) -> 0 | I84: =SUM(I77:I83) -> 0 | J84: =SUM(G84:I84) -> 5313950 | K84: =SUM(K77:K83) -> 5313950 | L84: =SUM(L77:L83) -> 0 | M84: =SUM(M77:M83) -> 0 | N84: =SUM(K84:M84) -> 5313950 | O84: =SUM(O77:O83) -> 5313950 | P84: =SUM(P77:P83) -> 0 | Q84: =SUM(Q77:Q83) -> 0 | R84: =SUM(O84:Q84) -> 5313950 | S84: =SUM(S77:S83) -> 5619289 | T84: =SUM(T77:T83) -> 0 | U84: =SUM(U77:U83) -> 0 | V84: =SUM(S84:U84) -> 5619289
A85: Ingatlanok felújítása | B85: K71 | C85: 27457678 | D85: 0 | E85: 0 | F85: =SUM(C85:E85) -> 27457678 | G85: 27457678 | H85: 0 | I85: 0 | J85: =SUM(G85:I85) -> 27457678 | K85: 25341278 | L85: 0 | M85: 0 | N85: =SUM(K85:M85) -> 25341278 | O85: 25341278 | P85: 0 | Q85: 0 | R85: =SUM(O85:Q85) -> 25341278 | S85: 25341278 | T85: 0 | U85: 0 | V85: =SUM(S85:U85) -> 25341278
A86: Informatikai eszközök felújítása | B86: K72 | C86: 0 | D86: 0 | E86: 0 | F86: =SUM(C86:E86) -> 0 | G86: 0 | H86: 0 | I86: 0 | J86: =SUM(G86:I86) -> 0 | K86: 0 | L86: 0 | M86: 0 | N86: =SUM(K86:M86) -> 0 | O86: 0 | P86: 0 | Q86: 0 | R86: =SUM(O86:Q86) -> 0 | S86: 0 | T86: 0 | U86: 0 | V86: =SUM(S86:U86) -> 0
A87: Egyéb tárgyi eszközök felújítása | B87: K73 | C87: 4000000 | D87: 0 | E87: 0 | F87: =SUM(C87:E87) -> 4000000 | G87: 4000000 | H87: 0 | I87: 0 | J87: =SUM(G87:I87) -> 4000000 | K87: 4000000 | L87: 0 | M87: 0 | N87: =SUM(K87:M87) -> 4000000 | O87: 0 | P87: 0 | Q87: 0 | R87: =SUM(O87:Q87) -> 0 | S87: 0 | T87: 0 | U87: 0 | V87: =SUM(S87:U87) -> 0
A88: Felújítási célú előzetesen felszámított általános forgalmi adó | B88: K74 | C88: 2000000 | D88: 0 | E88: 0 | F88: =SUM(C88:E88) -> 2000000 | G88: 2000000 | H88: 0 | I88: 0 | J88: =SUM(G88:I88) -> 2000000 | K88: 2000000 | L88: 0 | M88: 0 | N88: =SUM(K88:M88) -> 2000000 | O88: 6000000 | P88: 0 | Q88: 0 | R88: =SUM(O88:Q88) -> 6000000 | S88: 6000000 | T88: 0 | U88: 0 | V88: =SUM(S88:U88) -> 6000000
A89: Felújítások | B89: K7 | C89: =SUM(C85:C88) -> 33457678 | D89: =SUM(D85:D88) -> 0 | E89: =SUM(E85:E88) -> 0 | F89: =SUM(C89:E89) -> 33457678 | G89: =SUM(G85:G88) -> 33457678 | H89: =SUM(H85:H88) -> 0 | I89: =SUM(I85:I88) -> 0 | J89: =SUM(G89:I89) -> 33457678 | K89: =SUM(K85:K88) -> 31341278 | L89: =SUM(L85:L88) -> 0 | M89: =SUM(M85:M88) -> 0 | N89: =SUM(K89:M89) -> 31341278 | O89: =SUM(O85:O88) -> 31341278 | P89: =SUM(P85:P88) -> 0 | Q89: =SUM(Q85:Q88) -> 0 | R89: =SUM(O89:Q89) -> 31341278 | S89: =SUM(S85:S88) -> 31341278 | T89: =SUM(T85:T88) -> 0 | U89: =SUM(U85:U88) -> 0 | V89: =SUM(S89:U89) -> 31341278
A90: Felhalmozási célú garancia- és kezességvállalásból származó kifizetés államháztartáson belülre | B90: K81 | C90: 0 | D90: 0 | E90: 0 | F90: =SUM(C90:E90) -> 0 | G90: 0 | H90: 0 | I90: 0 | J90: =SUM(G90:I90) -> 0 | K90: 0 | L90: 0 | M90: 0 | N90: =SUM(K90:M90) -> 0 | O90: 0 | P90: 0 | Q90: 0 | R90: =SUM(O90:Q90) -> 0 | S90: 0 | T90: 0 | U90: 0 | V90: =SUM(S90:U90) -> 0
A91: Felhalmozási célú visszatérítendő támogatások, kölcsönök nyújtása államháztartáson belülre | B91: K82 | C91: 0 | D91: 0 | E91: 0 | F91: =SUM(C91:E91) -> 0 | G91: 0 | H91: 0 | I91: 0 | J91: =SUM(G91:I91) -> 0 | K91: 0 | L91: 0 | M91: 0 | N91: =SUM(K91:M91) -> 0 | O91: 0 | P91: 0 | Q91: 0 | R91: =SUM(O91:Q91) -> 0 | S91: 0 | T91: 0 | U91: 0 | V91: =SUM(S91:U91) -> 0
A92: Felhalmozási célú visszatérítendő támogatások, kölcsönök törlesztése államháztartáson belülre | B92: K83 | C92: 0 | D92: 0 | E92: 0 | F92: =SUM(C92:E92) -> 0 | G92: 0 | H92: 0 | I92: 0 | J92: =SUM(G92:I92) -> 0 | K92: 0 | L92: 0 | M92: 0 | N92: =SUM(K92:M92) -> 0 | O92: 0 | P92: 0 | Q92: 0 | R92: =SUM(O92:Q92) -> 0 | S92: 0 | T92: 0 | U92: 0 | V92: =SUM(S92:U92) -> 0
A93: Egyéb felhalmozási célú támogatások államháztartáson belülre | B93: K84 | C93: 0 | D93: 0 | E93: 0 | F93: =SUM(C93:E93) -> 0 | G93: 0 | H93: 0 | I93: 0 | J93: =SUM(G93:I93) -> 0 | K93: 0 | L93: 0 | M93: 0 | N93: =SUM(K93:M93) -> 0 | O93: 0 | P93: 0 | Q93: 0 | R93: =SUM(O93:Q93) -> 0 | S93: 0 | T93: 0 | U93: 0 | V93: =SUM(S93:U93) -> 0
A94: Felhalmozási célú garancia- és kezességvállalásból származó kifizetés államháztartáson kívülre | B94: K85 | C94: 0 | D94: 0 | E94: 0 | F94: =SUM(C94:E94) -> 0 | G94: 0 | H94: 0 | I94: 0 | J94: =SUM(G94:I94) -> 0 | K94: 0 | L94: 0 | M94: 0 | N94: =SUM(K94:M94) -> 0 | O94: 0 | P94: 0 | Q94: 0 | R94: =SUM(O94:Q94) -> 0 | S94: 0 | T94: 0 | U94: 0 | V94: =SUM(S94:U94) -> 0
A95: Felhalmozási célú visszatérítendő támogatások, kölcsönök nyújtása államháztartáson kívülre | B95: K86 | C95: 0 | D95: 0 | E95: 0 | F95: =SUM(C95:E95) -> 0 | G95: 0 | H95: 0 | I95: 0 | J95: =SUM(G95:I95) -> 0 | K95: 0 | L95: 0 | M95: 0 | N95: =SUM(K95:M95) -> 0 | O95: 0 | P95: 0 | Q95: 0 | R95: =SUM(O95:Q95) -> 0 | S95: 0 | T95: 0 | U95: 0 | V95: =SUM(S95:U95) -> 0
A96: Lakástámogatás | B96: K87 | C96: 0 | D96: 0 | E96: 0 | F96: =SUM(C96:E96) -> 0 | G96: 0 | H96: 0 | I96: 0 | J96: =SUM(G96:I96) -> 0 | K96: 0 | L96: 0 | M96: 0 | N96: =SUM(K96:M96) -> 0 | O96: 0 | P96: 0 | Q96: 0 | R96: =SUM(O96:Q96) -> 0 | S96: 0 | T96: 0 | U96: 0 | V96: =SUM(S96:U96) -> 0
A97: Felhalmozási célú támogatások az Európai Uniónak | B97: K88 | C97: 0 | D97: 0 | E97: 0 | F97: =SUM(C97:E97) -> 0 | G97: 0 | H97: 0 | I97: 0 | J97: =SUM(G97:I97) -> 0 | K97: 0 | L97: 0 | M97: 0 | N97: =SUM(K97:M97) -> 0 | O97: 0 | P97: 0 | Q97: 0 | R97: =SUM(O97:Q97) -> 0 | S97: 0 | T97: 0 | U97: 0 | V97: =SUM(S97:U97) -> 0
A98: Egyéb felhalmozási célú támogatások államháztartáson kívülre | B98: K89 | C98: 0 | D98: 0 | E98: 0 | F98: =SUM(C98:E98) -> 0 | G98: 0 | H98: 0 | I98: 0 | J98: =SUM(G98:I98) -> 0 | K98: 0 | L98: 0 | M98: 0 | N98: =SUM(K98:M98) -> 0 | O98: 0 | P98: 0 | Q98: 0 | R98: =SUM(O98:Q98) -> 0 | S98: 0 | T98: 0 | U98: 0 | V98: =SUM(S98:U98) -> 0
A99: Egyéb felhalmozási célú kiadások | B99: K8 | C99: =SUM(C90:C98) -> 0 | D99: =SUM(D90:D98) -> 0 | E99: =SUM(E90:E98) -> 0 | F99: =SUM(C99:E99) -> 0 | G99: =SUM(G90:G98) -> 0 | H99: =SUM(H90:H98) -> 0 | I99: =SUM(I90:I98) -> 0 | J99: =SUM(G99:I99) -> 0 | K99: =SUM(K90:K98) -> 0 | L99: =SUM(L90:L98) -> 0 | M99: =SUM(M90:M98) -> 0 | N99: =SUM(K99:M99) -> 0 | O99: =SUM(O90:O98) -> 0 | P99: =SUM(P90:P98) -> 0 | Q99: =SUM(Q90:Q98) -> 0 | R99: =SUM(O99:Q99) -> 0 | S99: =SUM(S90:S98) -> 0 | T99: =SUM(T90:T98) -> 0 | U99: =SUM(U90:U98) -> 0 | V99: =SUM(S99:U99) -> 0
A100: Felhalmozási kiadások összesen | C100: =SUM(C84+C89+C99) -> 38771628 | D100: =SUM(D84+D89+D99) -> 0 | E100: =SUM(E84+E89+E99) -> 0 | F100: =SUM(F84+F89+F99) -> 38771628 | G100: =SUM(G84+G89+G99) -> 38771628 | H100: =SUM(H84+H89+H99) -> 0 | I100: =SUM(I84+I89+I99) -> 0 | J100: =SUM(J84+J89+J99) -> 38771628 | ... V100: =SUM(V84+V89+V99) -> 36960567
A101: Költségvetési kiadások | B101: K1-K8 | C101: =C26+C27+C52+C61+C75+C84+C89+C99 -> 66930621 | D101: =D26+D27+D52+D61+D75+D84+D89+D99 -> 0 | E101: =E26+E27+E52+E61+E75+E84+E89+E99 -> 13000 | F101: =F26+F27+F52+F61+F75+F84+F89+F99 -> 66943621 | G101: =G26+G27+G52+G61+G75+G84+G89+G99 -> 66955530 | H101: =H26+H27+H52+H61+H75+H84+H89+H99 -> 0 | I101: =I26+I27+I52+I61+I75+I84+I89+I99 -> 13000 | J101: =J26+J27+J52+J61+J75+J84+J89+J99 -> 66968530 | ... V101: =V26+V27+V52+V61+V75+V84+V89+V99 -> 68249851
A102: Hosszú lejáratú hitelek, kölcsönök törlesztése pénzügyi vállalkozásnak | B102: K9111 | C102: 0 | D102: 0 | E102: 0 | F102: =SUM(C102:E102) -> 0 | G102: 0 | H102: 0 | I102: 0 | J102: =SUM(G102:I102) -> 0 | K102: 0 | L102: 0 | M102: 0 | N102: =SUM(K102:M102) -> 0 | O102: 0 | P102: 0 | Q102: 0 | R102: =SUM(O102:Q102) -> 0 | S102: 0 | T102: 0 | U102: 0 | V102: =SUM(S102:U102) -> 0
...

Sheet 3. melléklet
B1: 3. melléklet 1/2018. (I.23.) önkormányzati rendelethez
A3: SORKIKÁPOLNA Önkormányzat 2018. évi költségvetése
A4: Bevételek (Ft)
A6: SORKIKÁPOLNA ÖNKORMÁNYZATI ELŐIRÁNYZATOK | C6: EREDETI ELŐIRÁNYZAT | G6: I.n.év módosított ELŐIRÁNYZAT | K6: II.n.év módosított ELŐIRÁNYZAT | O6: III.n.év módosított ELŐIRÁNYZAT | S6: IV.n.év módosított ELŐIRÁNYZAT
A7: Rovat megnevezése | B7: Rovat- szám | C7: kötelező feladatok | D7: önként vállalt feladatok | E7: államigazgatási feladatok | F7: ÖSSZESEN | G7: kötelező feladatok | H7: önként vállalt feladatok | I7: államigazgatási feladatok | J7: ÖSSZESEN | K7: kötelező feladatok | L7: önként vállalt feladatok | M7: államigazgatási feladatok | N7: ÖSSZESEN | O7: kötelező feladatok | P7: önként vállalt feladatok | Q7: államigazgatási feladatok | R7: ÖSSZESEN | S7: kötelező feladatok | T7: önként vállalt feladatok | U7: államigazgatási feladatok | V7: ÖSSZESEN
A8: Helyi önkormányzatok működésének általános támogatása | B8: B111 | C8: 10917211 | D8: 0 | E8: 0 | F8: =SUM(C8:E8) -> 10917211 | G8: 10917211 | H8: 0 | I8: 0 | J8: =SUM(G8:I8) -> 10917211 | K8: 10917211 | L8: 0 | M8: 0 | N8: =SUM(K8:M8) -> 10917211 | O8: 10917211 | P8: 0 | Q8: 0 | R8: =SUM(O8:Q8) -> 10917211 | S8: 10917211 | T8: 0 | U8: 0 | V8: =SUM(S8:U8) -> 10917211
A9: Települési önkormányzatok egyes köznevelési feladatainak támogatása | B9: B112 | C9: 0 | D9: 0 | E9: 0 | F9: =SUM(C9:E9) -> 0 | G9: 0 | H9: 0 | I9: 0 | J9: =SUM(G9:I9) -> 0 | K9: 0 | L9: 0 | M9: 0 | N9: =SUM(K9:M9) -> 0 | O9: 0 | P9: 0 | Q9: 0 | R9: =SUM(O9:Q9) -> 0 | S9: 0 | T9: 0 | U9: 0 | V9: =SUM(S9:U9) -> 0
A10: Települési önkormányzatok szociális és gyermekjóléti feladatainak támogatása | B10: B113 | C10: 4680000 | D10: 0 | E10: 0 | F10: =SUM(C10:E10) -> 4680000 | G10: 4704909 | H10: 0 | I10: 0 | J10: =SUM(G10:I10) -> 4704909 | K10: 4729644 | L10: 0 | M10: 0 | N10: =SUM(K10:M10) -> 4729644 | O10: 4754382 | P10: 0 | Q10: 0 | R10: =SUM(O10:Q10) -> 4754382 | S10: 4765793 | T10: 0 | U10: 0 | V10: =SUM(S10:U10) -> 4765793
A11: Települési önkormányzatok kulturális feladatainak támogatása | B11: B114 | C11: 1800000 | D11: 0 | E11: 0 | F11: =SUM(C11:E11) -> 1800000 | G11: 1800000 | H11: 0 | I11: 0 | J11: =SUM(G11:I11) -> 1800000 | K11: 1800000 | L11: 0 | M11: 0 | N11: =SUM(K11:M11) -> 1800000 | O11: 1800000 | P11: 0 | Q11: 0 | R11: =SUM(O11:Q11) -> 1800000 | S11: 1800000 | T11: 0 | U11: 0 | V11: =SUM(S11:U11) -> 1800000
A12: Működési célú központosított előirányzatok | B12: B115 | C12: 0 | D12: 0 | E12: 0 | F12: =SUM(C12:E12) -> 0 | G12: 0 | H12: 0 | I12: 0 | J12: =SUM(G12:I12) -> 0 | K12: 0 | L12: 0 | M12: 0 | N12: =SUM(K12:M12) -> 0 | O12: 0 | P12: 0 | Q12: 0 | R12: =SUM(O12:Q12) -> 0 | S12: 420000 | T12: 0 | U12: 0 | V12: =SUM(S12:U12) -> 420000
A13: Elszámolásból származó bevételek | B13: B116 | C13: 0 | D13: 0 | E13: 0 | F13: =SUM(C13:E13) -> 0 | G13: 0 | H13: 0 | I13: 0 | J13: =SUM(G13:I13) -> 0 | K13: 0 | L13: 0 | M13: 0 | N13: =SUM(K13:M13) -> 0 | O13: 0 | P13: 0 | Q13: 0 | R13: =SUM(O13:Q13) -> 0 | S13: 0 | T13: 0 | U13: 0 | V13: =SUM(S13:U13) -> 0
A14: Önkormányzatok működési támogatásai | B14: B11 | C14: =SUM(C8:C13) -> 17397211 | D14: =SUM(D8:D13) -> 0 | E14: =SUM(E8:E13) -> 0 | F14: =SUM(C14:E14) -> 17397211 | G14: =SUM(G8:G13) -> 17422120 | H14: =SUM(H8:H13) -> 0 | I14: =SUM(I8:I13) -> 0 | J14: =SUM(G14:I14) -> 17422120 | K14: =SUM(K8:K13) -> 17446855 | L14: =SUM(L8:L13) -> 0 | M14: =SUM(M8:M13) -> 0 | N14: =SUM(K14:M14) -> 17446855 | O14: =SUM(O8:O13) -> 17471593 | P14: =SUM(P8:P13) -> 0 | Q14: =SUM(Q8:Q13) -> 0 | R14: =SUM(O14:Q14) -> 17471593 | S14: =SUM(S8:S13) -> 17903004 | T14: =SUM(T8:T13) -> 0 | U14: =SUM(U8:U13) -> 0 | V14: =SUM(S14:U14) -> 17903004
A15: Elvonások és befizetések bevételei | B15: B12 | C15: 0 | D15: 0 | E15: 0 | F15: =SUM(C15:E15) -> 0 | G15: 0 | H15: 0 | I15: 0 | J15: =SUM(G15:I15) -> 0 | K15: 0 | L15: 0 | M15: 0 | N15: =SUM(K15:M15) -> 0 | O15: 0 | P15: 0 | Q15: 0 | R15: =SUM(O15:Q15) -> 0 | S15: 0 | T15: 0 | U15: 0 | V15: =SUM(S15:U15) -> 0
A16: Működési célú garancia- és kezességvállalásból származó megtérülések államháztartáson belülről | B16: B13 | C16: 0 | D16: 0 | E16: 0 | F16: =SUM(C16:E16) -> 0 | G16: 0 | H16: 0 | I16: 0 | J16: =SUM(G16:I16) -> 0 | K16: 0 | L16: 0 | M16: 0 | N16: =SUM(K16:M16) -> 0 | O16: 0 | P16: 0 | Q16: 0 | R16: =SUM(O16:Q16) -> 0 | S16: 0 | T16: 0 | U16: 0 | V16: =SUM(S16:U16) -> 0
A17: Működési célú visszatérítendő támogatások, kölcsönök visszatérülése államháztartáson belülről | B17: B14 | C17: 0 | D17: 0 | E17: 0 | F17: =SUM(C17:E17) -> 0 | G17: 0 | H17: 0 | I17: 0 | J17: =SUM(G17:I17) -> 0 | K17: 0 | L17: 0 | M17: 0 | N17: =SUM(K17:M17) -> 0 | O17: 0 | P17: 0 | Q17: 0 | R17: =SUM(O17:Q17) -> 0 | S17: 0 | T17: 0 | U17: 0 | V17: =SUM(S17:U17) -> 0
A18: Működési célú visszatérítendő támogatások, kölcsönök igénybevétele államháztartáson belülről | B18: B15 | C18: 0 | D18: 0 | E18: 0 | F18: =SUM(C18:E18) -> 0 | G18: 0 | H18: 0 | I18: 0 | J18: =SUM(G18:I18) -> 0 | K18: 0 | L18: 0 | M18: 0 | N18: =SUM(K18:M18) -> 0 | O18: 0 | P18: 0 | Q18: 0 | R18: =SUM(O18:Q18) -> 0 | S18: 0 | T18: 0 | U18: 0 | V18: =SUM(S18:U18) -> 0
A19: Egyéb működési célú támogatások bevételei államháztartáson belülről | B19: B16 | C19: 81530 | D19: 0 | E19: 0 | F19: =SUM(C19:E19) -> 81530 | G19: 81530 | H19: 0 | I19: 0 | J19: =SUM(G19:I19) -> 81530 | K19: 81530 | L19: 0 | M19: 0 | N19: =SUM(K19:M19) -> 81530 | O19: 81530 | P19: 0 | Q19: 0 | R19: =SUM(O19:Q19) -> 81530 | S19: 81530 | T19: 0 | U19: 0 | V19: =SUM(S19:U19) -> 81530
A20: Működési célú támogatások államháztartáson belülről | B20: B1 | C20: =SUM(C14:C19) -> 17478741 | D20: =SUM(D14:D19) -> 0 | E20: =SUM(E14:E19) -> 0 | F20: =SUM(C20:E20) -> 17478741 | G20: =SUM(G14:G19) -> 17503650 | H20: =SUM(H14:H19) -> 0 | I20: =SUM(I14:I19) -> 0 | J20: =SUM(G20:I20) -> 17503650 | K20: =SUM(K14:K19) -> 17528385 | L20: =SUM(L14:L19) -> 0 | M20: =SUM(M14:M19) -> 0 | N20: =SUM(K20:M20) -> 17528385 | O20: =SUM(O14:O19) -> 17553123 | P20: =SUM(P14:P19) -> 0 | Q20: =SUM(Q14:Q19) -> 0 | R20: =SUM(O20:Q20) -> 17553123 | S20: =SUM(S14:S19) -> 17984534 | T20: =SUM(T14:T19) -> 0 | U20: =SUM(U14:U19) -> 0 | V20: =SUM(S20:U20) -> 17984534
A21: Magánszemélyek jövedelemadói | B21: B311 | C21: 0 | D21: 0 | E21: 0 | F21: =SUM(C21:E21) -> 0 | G21: 0 | H21: 0 | I21: 0 | J21: =SUM(G21:I21) -> 0 | K21: 0 | L21: 0 | M21: 0 | N21: =SUM(K21:M21) -> 0 | O21: 0 | P21: 0 | Q21: 0 | R21: =SUM(O21:Q21) -> 0 | S21: 0 | T21: 0 | U21: 0 | V21: =SUM(S21:U21) -> 0
A22: Társaságok jövedelemadói | B22: B312 | C22: 0 | D22: 0 | E22: 0 | F22: =SUM(C22:E22) -> 0 | G22: 0 | H22: 0 | I22: 0 | J22: =SUM(G22:I22) -> 0 | K22: 0 | L22: 0 | M22: 0 | N22: =SUM(K22:M22) -> 0 | O22: 0 | P22: 0 | Q22: 0 | R22: =SUM(O22:Q22) -> 0 | S22: 0 | T22: 0 | U22: 0 | V22: =SUM(S22:U22) -> 0
A23: Jövedelemadók | B23: B31 | C23: =SUM(C21:C22) -> 0 | D23: =SUM(D21:D22) -> 0 | E23: =SUM(E21:E22) -> 0 | F23: =SUM(C23:E23) -> 0 | G23: =SUM(G21:G22) -> 0 | H23: =SUM(H21:H22) -> 0 | I23: =SUM(I21:I22) -> 0 | J23: =SUM(G23:I23) -> 0 | K23: =SUM(K21:K22) -> 0 | L23: =SUM(L21:L22) -> 0 | M23: =SUM(M21:M22) -> 0 | N23: =SUM(K23:M23) -> 0 | O23: =SUM(O21:O22) -> 0 | P23: =SUM(P21:P22) -> 0 | Q23: =SUM(Q21:Q22) -> 0 | R23: =SUM(O23:Q23) -> 0 | S23: =SUM(S21:S22) -> 0 | T23: =SUM(T21:T22) -> 0 | U23: =SUM(U21:U22) -> 0 | V23: =SUM(S23:U23) -> 0
A24: Szociális hozzájárulási adó és járulékok | B24: B32 | C24: 0 | D24: 0 | E24: 0 | F24: =SUM(C24:E24) -> 0 | G24: 0 | H24: 0 | I24: 0 | J24: =SUM(G24:I24) -> 0 | K24: 0 | L24: 0 | M24: 0 | N24: =SUM(K24:M24) -> 0 | O24: 0 | P24: 0 | Q24: 0 | R24: =SUM(O24:Q24) -> 0 | S24: 0 | T24: 0 | U24: 0 | V24: =SUM(S24:U24) -> 0
A25: Bérhez és foglalkoztatáshoz kapcsolódó adók | B25: B33 | C25: 0 | D25: 0 | E25: 0 | F25: =SUM(C25:E25) -> 0 | G25: 0 | H25: 0 | I25: 0 | J25: =SUM(G25:I25) -> 0 | K25: 0 | L25: 0 | M25: 0 | N25: =SUM(K25:M25) -> 0 | O25: 0 | P25: 0 | Q25: 0 | R25: =SUM(O25:Q25) -> 0 | S25: 0 | T25: 0 | U25: 0 | V25: =SUM(S25:U25) -> 0
A26: Vagyoni tipusú adók | B26: B34 | C26: 240000 | D26: 0 | E26: 0 | F26: =SUM(C26:E26) -> 240000 | G26: 240000 | H26: 0 | I26: 0 | J26: =SUM(G26:I26) -> 240000 | K26: 240000 | L26: 0 | M26: 0 | N26: =SUM(K26:M26) -> 240000 | O26: 240000 | P26: 0 | Q26: 0 | R26: =SUM(O26:Q26) -> 240000 | S26: 240000 | T26: 0 | U26: 0 | V26: =SUM(S26:U26) -> 240000
A27: Értékesítési és forgalmi adók | B27: B351 | C27: 4650000 | D27: 0 | E27: 0 | F27: =SUM(C27:E27) -> 4650000 | G27: 4650000 | H27: 0 | I27: 0 | J27: =SUM(G27:I27) -> 4650000 | K27: 4650000 | L27: 0 | M27: 0 | N27: =SUM(K27:M27) -> 4650000 | O27: 4650000 | P27: 0 | Q27: 0 | R27: =SUM(O27:Q27) -> 4650000 | S27: 4650000 | T27: 0 | U27: 0 | V27: =SUM(S27:U27) -> 4650000
A28: Fogyasztási adók | B28: B352 | C28: 0 | D28: 0 | E28: 0 | F28: =SUM(C28:E28) -> 0 | G28: 0 | H28: 0 | I28: 0 | J28: =SUM(G28:I28) -> 0 | K28: 0 | L28: 0 | M28: 0 | N28: =SUM(K28:M28) -> 0 | O28: 0 | P28: 0 | Q28: 0 | R28: =SUM(O28:Q28) -> 0 | S28: 0 | T28: 0 | U28: 0 | V28: =SUM(S28:U28) -> 0
A29: Pénzügyi monopóliumok nyereségét terhelő adók | B29: B353 | C29: 0 | D29: 0 | E29: 0 | F29: =SUM(C29:E29) -> 0 | G29: 0 | H29: 0 | I29: 0 | J29: =SUM(G29:I29) -> 0 | K29: 0 | L29: 0 | M29: 0 | N29: =SUM(K29:M29) -> 0 | O29: 0 | P29: 0 | Q29: 0 | R29: =SUM(O29:Q29) -> 0 | S29: 0 | T29: 0 | U29: 0 | V29: =SUM(S29:U29) -> 0
A30: Gépjárműadók | B30: B354 | C30: 500000 | D30: 0 | E30: 0 | F30: =SUM(C30:E30) -> 500000 | G30: 500000 | H30: 0 | I30: 0 | J30: =SUM(G30:I30) -> 500000 | K30: 500000 | L30: 0 | M30: 0 | N30: =SUM(K30:M30) -> 500000 | O30: 500000 | P30: 0 | Q30: 0 | R30: =SUM(O30:Q30) -> 500000 | S30: 500000 | T30: 0 | U30: 0 | V30: =SUM(S30:U30) -> 500000
A31: Egyéb áruhasználati és szolgáltatási adók | B31: B355 | C31: 30000 | D31: 0 | E31: 0 | F31: =SUM(C31:E31) -> 30000 | G31: 30000 | H31: 0 | I31: 0 | J31: =SUM(G31:I31) -> 30000 | K31: 30000 | L31: 0 | M31: 0 | N31: =SUM(K31:M31) -> 30000 | O31: 30000 | P31: 0 | Q31: 0 | R31: =SUM(O31:Q31) -> 30000 | S31: 30000 | T31: 0 | U31: 0 | V31: =SUM(S31:U31) -> 30000
A32: Termékek és szolgáltatások adói | B32: B35 | C32: =SUM(C27:C31) -> 5180000 | D32: =SUM(D27:D31) -> 0 | E32: =SUM(E27:E31) -> 0 | F32: =SUM(C32:E32) -> 5180000 | G32: =SUM(G27:G31) -> 5180000 | H32: =SUM(H27:H31) -> 0 | I32: =SUM(I27:I31) -> 0 | J32: =SUM(G32:I32) -> 5180000 | K32: =SUM(K27:K31) -> 5180000 | L32: =SUM(L27:L31) -> 0 | M32: =SUM(M27:M31) -> 0 | N32: =SUM(K32:M32) -> 5180000 | O32: =SUM(O27:O31) -> 5180000 | P32: =SUM(P27:P31) -> 0 | Q32: =SUM(Q27:Q31) -> 0 | R32: =SUM(O32:Q32) -> 5180000 | S32: =SUM(S27:S31) -> 5180000 | T32: =SUM(T27:T31) -> 0 | U32: =SUM(U27:U31) -> 0 | V32: =SUM(S32:U32) -> 5180000
A33: Egyéb közhatalmi bevételek | B33: B36 | C33: 0 | D33: 0 | E33: 0 | F33: =SUM(C33:E33) -> 0 | G33: 0 | H33: 0 | I33: 0 | J33: =SUM(G33:I33) -> 0 | K33: 0 | L33: 0 | M33: 0 | N33: =SUM(K33:M33) -> 0 | O33: 0 | P33: 0 | Q33: 0 | R33: =SUM(O33:Q33) -> 0 | S33: 0 | T33: 0 | U33: 0 | V33: =SUM(S33:U33) -> 0
A34: Közhatalmi bevételek | B34: B3 | C34: =C23+C24+C25+C26+C32+C33 -> 5420000 | D34: =D23+D24+D25+D26+D32+D33 -> 0 | E34: =E23+E24+E25+E26+E32+E33 -> 0 | F34: =SUM(C34:E34) -> 5420000 | G34: =G23+G24+G25+G26+G32+G33 -> 5420000 | H34: =H23+H24+H25+H26+H32+H33 -> 0 | I34: =I23+I24+I25+I26+I32+I33 -> 0 | J34: =SUM(G34:I34) -> 5420000 | K34: =K23+K24+K25+K26+K32+K33 -> 5420000 | L34: =L23+L24+L25+L26+L32+L33 -> 0 | M34: =M23+M24+M25+M26+M32+M33 -> 0 | N34: =SUM(K34:M34) -> 5420000 | O34: =O23+O24+O25+O26+O32+O33 -> 5420000 | P34: =P23+P24+P25+P26+P32+P33 -> 0 | Q34: =Q23+Q24+Q25+Q26+Q32+Q33 -> 0 | R34: =SUM(O34:Q34) -> 5420000 | S34: =S23+S24+S25+S26+S32+S33 -> 5420000 | T34: =T23+T24+T25+T26+T32+T33 -> 0 | U34: =U23+U24+U25+U26+U32+U33 -> 0 | V34: =SUM(S34:U34) -> 5420000
A35: Áru- és készletértékesítés ellenértéke | B35: B401 | C35: 0 | D35: 0 | E35: 0 | F35: =SUM(C35:E35) -> 0 | G35: 0 | H35: 0 | I35: 0 | J35: =SUM(G35:I35) -> 0 | K35: 0 | L35: 0 | M35: 0 | N35: =SUM(K35:M35) -> 0 | O35: 0 | P35: 0 | Q35: 0 | R35: =SUM(O35:Q35) -> 0 | S35: 0 | T35: 0 | U35: 0 | V35: =SUM(S35:U35) -> 0
A36: Szolgáltatások ellenértéke | B36: B402 | C36: 0 | D36: 0 | E36: 0 | F36: =SUM(C36:E36) -> 0 | G36: 0 | H36: 0 | I36: 0 | J36: =SUM(G36:I36) -> 0 | K36: 0 | L36: 0 | M36: 0 | N36: =SUM(K36:M36) -> 0 | O36: 0 | P36: 0 | Q36: 0 | R36: =SUM(O36:Q36) -> 0 | S36: 0 | T36: 0 | U36: 0 | V36: =SUM(S36:U36) -> 0
A37: Közvetített szolgáltatások értéke | B37: B403 | C37: 120000 | D37: 0 | E37: 0 | F37: =SUM(C37:E37) -> 120000 | G37: 120000 | H37: 0 | I37: 0 | J37: =SUM(G37:I37) -> 120000 | K37: 120000 | L37: 0 | M37: 0 | N37: =SUM(K37:M37) -> 120000 | O37: 120000 | P37: 0 | Q37: 0 | R37: =SUM(O37:Q37) -> 120000 | S37: 120000 | T37: 0 | U37: 0 | V37: =SUM(S37:U37) -> 120000
A38: Tulajdonosi bevételek | B38: B404 | C38: 0 | D38: 0 | E38: 0 | F38: =SUM(C38:E38) -> 0 | G38: 0 | H38: 0 | I38: 0 | J38: =SUM(G38:I38) -> 0 | K38: 0 | L38: 0 | M38: 0 | N38: =SUM(K38:M38) -> 0 | O38: 0 | P38: 0 | Q38: 0 | R38: =SUM(O38:Q38) -> 0 | S38: 0 | T38: 0 | U38: 0 | V38: =SUM(S38:U38) -> 0
A39: Ellátási díjak | B39: B405 | C39: 0 | D39: 0 | E39: 0 | F39: =SUM(C39:E39) -> 0 | G39: 0 | H39: 0 | I39: 0 | J39: =SUM(G39:I39) -> 0 | K39: 0 | L39: 0 | M39: 0 | N39: =SUM(K39:M39) -> 0 | O39: 0 | P39: 0 | Q39: 0 | R39: =SUM(O39:Q39) -> 0 | S39: 0 | T39: 0 | U39: 0 | V39: =SUM(S39:U39) -> 0
A40: Kiszámlázott általános forgalmi adó | B40: B406 | C40: 0 | D40: 0 | E40: 0 | F40: =SUM(C40:E40) -> 0 | G40: 0 | H40: 0 | I40: 0 | J40: =SUM(G40:I40) -> 0 | K40: 0 | L40: 0 | M40: 0 | N40: =SUM(K40:M40) -> 0 | O40: 0 | P40: 0 | Q40: 0 | R40: =SUM(O40:Q40) -> 0 | S40: 0 | T40: 0 | U40: 0 | V40: =SUM(S40:U40) -> 0
A41: Általános forgalmi adó visszatérítése | B41: B407 | C41: 0 | D41: 0 | E41: 0 | F41: =SUM(C41:E41) -> 0 | G41: 0 | H41: 0 | I41: 0 | J41: =SUM(G41:I41) -> 0 | K41: 0 | L41: 0 | M41: 0 | N41: =SUM(K41:M41) -> 0 | O41: 0 | P41: 0 | Q41: 0 | R41: =SUM(O41:Q41) -> 0 | S41: 0 | T41: 0 | U41: 0 | V41: =SUM(S41:U41) -> 0
A42: Kamatbevételek | B42: B408 | C42: 0 | D42: 0 | E42: 0 | F42: 0 | G42: 0 | H42: 0 | I42: 0 | J42: 0 | K42: 0 | L42: 0 | M42: 0 | N42: 0 | O42: 0 | P42: 0 | Q42: 0 | R42: 0 | S42: 0 | T42: 0 | U42: 0 | V42: 0
A43: Egyéb pénzügyi műveletek bevételei | B43: B409 | C43: 0 | D43: 0 | E43: 0 | F43: =SUM(C43:E43) -> 0 | G43: 0 | H43: 0 | I43: 0 | J43: =SUM(G43:I43) -> 0 | K43: 0 | L43: 0 | M43: 0 | N43: =SUM(K43:M43) -> 0 | O43: 0 | P43: 0 | Q43: 0 | R43: =SUM(O43:Q43) -> 0 | S43: 0 | T43: 0 | U43: 0 | V43: =SUM(S43:U43) -> 0
A44: Egyéb működési bevételek | B44: B411 | C44: 0 | D44: 0 | E44: 0 | F44: 0 | G44: 0 | H44: 0 | I44: 0 | J44: 0 | K44: 0 | L44: 0 | M44: 0 | N44: 0 | O44: 0 | P44: 0 | Q44: 0 | R44: 0 | S44: 0 | T44: 0 | U44: 0 | V44: 0
A45: Működési bevételek | B45: B4 | C45: =SUM(C35:C44) -> 120000 | D45: =SUM(D35:D44) -> 0 | E45: =SUM(E35:E44) -> 0 | F45: =SUM(C45:E45) -> 120000 | G45: =SUM(G35:G44) -> 120000 | H45: =SUM(H35:H44) -> 0 | I45: =SUM(I35:I44) -> 0 | J45: =SUM(G45:I45) -> 120000 | K45: =SUM(K35:K44) -> 120000 | L45: =SUM(L35:L44) -> 0 | M45: =SUM(M35:M44) -> 0 | N45: =SUM(K45:M45) -> 120000 | O45: =SUM(O35:O44) -> 120000 | P45: =SUM(P35:P44) -> 0 | Q45: =SUM(Q35:Q44) -> 0 | R45: =SUM(O45:Q45) -> 120000 | S45: =SUM(S35:S44) -> 120000 | T45: =SUM(T35:T44) -> 0 | U45: =SUM(U35:U44) -> 0 | V45: =SUM(S45:U45) -> 120000
A46: Működési célú garancia- és kezességvállalásból származó megtérülések államháztartáson kívülről | B46: B61 | C46: 0 | D46: 0 | E46: 0 | F46: =SUM(C46:E46) -> 0 | G46: 0 | H46: 0 | I46: 0 | J46: =SUM(G46:I46) -> 0 | K46: 0 | L46: 0 | M46: 0 | N46: =SUM(K46:M46) -> 0 | O46: 0 | P46: 0 | Q46: 0 | R46: =SUM(O46:Q46) -> 0 | S46: 0 | T46: 0 | U46: 0 | V46: =SUM(S46:U46) -> 0
A47: Működési célú visszatérítendő támogatások, kölcsönök visszatérülése államháztartáson kívülről | B47: B64 | C47: 0 | D47: 0 | E47: 0 | F47: 0 | G47: 0 | H47: 0 | I47: 0 | J47: 0 | K47: 0 | L47: 0 | M47: 0 | N47: 0 | O47: 0 | P47: 0 | Q47: 0 | R47: 0 | S47: 0 | T47: 0 | U47: 0 | V47: 0
A48: Egyéb működési célú átvett pénzeszközök | B48: B65 | C48: 531708 | D48: 0 | E48: 0 | F48: =SUM(C48:E48) -> 531708 | G48: 531708 | H48: 0 | I48: 0 | J48: =SUM(G48:I48) -> 531708 | K48: 531708 | L48: 0 | M48: 0 | N48: =SUM(K48:M48) -> 531708 | O48: 531708 | P48: 0 | Q48: 0 | R48: =SUM(O48:Q48) -> 531708 | S48: 531708 | T48: 0 | U48: 0 | V48: =SUM(S48:U48) -> 531708
A49: Működési célú átvett pénzeszközök | B49: B6 | C49: =SUM(C46:C48) -> 531708 | D49: =SUM(D46:D48) -> 0 | E49: =SUM(E46:E48) -> 0 | F49: =SUM(C49:E49) -> 531708 | G49: =SUM(G46:G48) -> 531708 | H49: =SUM(H46:H48) -> 0 | I49: =SUM(I46:I48) -> 0 | J49: =SUM(G49:I49) -> 531708 | K49: =SUM(K46:K48) -> 531708 | L49: =SUM(L46:L48) -> 0 | M49: =SUM(M46:M48) -> 0 | N49: =SUM(K49:M49) -> 531708 | O49: =SUM(O46:O48) -> 531708 | P49: =SUM(P46:P48) -> 0 | Q49: =SUM(Q46:Q48) -> 0 | R49: =SUM(O49:Q49) -> 531708 | S49: =SUM(S46:S48) -> 531708 | T49: =SUM(T46:T48) -> 0 | U49: =SUM(U46:U48) -> 0 | V49: =SUM(S49:U49) -> 531708
A50: Működési bevételek összesen | C50: =SUM(C20+C34+C45+C49) -> 23550449 | D50: =SUM(D20+D34+D45+D49) -> 0 | E50: =SUM(E20+E34+E45+E49) -> 0 | F50: =SUM(F20+F34+F45+F49) -> 23550449 | G50: =SUM(G20+G34+G45+G49) -> 23575358 | H50: =SUM(H20+H34+H45+H49) -> 0 | I50: =SUM(I20+I34+I45+I49) -> 0 | J50: =SUM(J20+J34+J45+J49) -> 23575358 | ... V50: =SUM(V20+V34+V45+V49) -> 24056242
A51: Felhalmozási célú önkormányzati támogatások | B51: B21 | C51: 0 | D51: 0 | E51: 0 | F51: =SUM(C51:E51) -> 0 | G51: 0 | H51: 0 | I51: 0 | J51: =SUM(G51:I51) -> 0 | K51: 14659178 | L51: 0 | M51: 0 | N51: =SUM(K51:M51) -> 14659178 | O51: 14659178 | P51: 0 | Q51: 0 | R51: =SUM(O51:Q51) -> 14659178 | S51: 14659178 | T51: 0 | U51: 0 | V51: =SUM(S51:U51) -> 14659178
A52: Felhalmozási célú garancia- és kezességvállalásból származó megtérülések államháztartáson belülről | B52: B22 | C52: 0 | D52: 0 | E52: 0 | F52: =SUM(C52:E52) -> 0 | G52: 0 | H52: 0 | I52: 0 | J52: =SUM(G52:I52) -> 0 | K52: 0 | L52: 0 | M52: 0 | N52: =SUM(K52:M52) -> 0 | O52: 0 | P52: 0 | Q52: 0 | R52: =SUM(O52:Q52) -> 0 | S52: 0 | T52: 0 | U52: 0 | V52: =SUM(S52:U52) -> 0
A53: Felhalmozási célú visszatérítendő támogatások, kölcsönök visszatérülése államháztartáson belülről | B53: B23 | C53: 0 | D53: 0 | E53: 0 | F53: =SUM(C53:E53) -> 0 | G53: 0 | H53: 0 | I53: 0 | J53: =SUM(G53:I53) -> 0 | K53: 0 | L53: 0 | M53: 0 | N53: =SUM(K53:M53) -> 0 | O53: 0 | P53: 0 | Q53: 0 | R53: =SUM(O53:Q53) -> 0 | S53: 0 | T53: 0 | U53: 0 | V53: =SUM(S53:U53) -> 0
A54: Felhalmozási célú visszatérítendő támogatások, kölcsönök igénybevétele államháztartáson belülről | B54: B24 | C54: 0 | D54: 0 | E54: 0 | F54: =SUM(C54:E54) -> 0 | G54: 0 | H54: 0 | I54: 0 | J54: =SUM(G54:I54) -> 0 | K54: 0 | L54: 0 | M54: 0 | N54: =SUM(K54:M54) -> 0 | O54: 0 | P54: 0 | Q54: 0 | R54: =SUM(O54:Q54) -> 0 | S54: 0 | T54: 0 | U54: 0 | V54: =SUM(S54:U54) -> 0
A55: Egyéb felhalmozási célú támogatások bevételei államháztartáson belülről | B55: B25 | C55: 0 | D55: 0 | E55: 0 | F55: =SUM(C55:E55) -> 0 | G55: 0 | H55: 0 | I55: 0 | J55: =SUM(G55:I55) -> 0 | K55: 13494810 | L55: 0 | M55: 0 | N55: =SUM(K55:M55) -> 13494810 | O55: 13494810 | P55: 0 | Q55: 0 | R55: =SUM(O55:Q55) -> 13494810 | S55: 13494810 | T55: 0 | U55: 0 | V55: =SUM(S55:U55) -> 13494810
A56: Felhalmozási célú támogatások államháztartáson belülről | B56: B2 | C56: 28153988 | D56: =SUM(D51:D55) -> 0 | E56: =SUM(E51:E55) -> 0 | F56: =SUM(C56:E56) -> 28153988 | G56: 28153988 | H56: =SUM(H51:H55) -> 0 | I56: =SUM(I51:I55) -> 0 | J56: =SUM(G56:I56) -> 28153988 | K56: 28153988 | L56: =SUM(L51:L55) -> 0 | M56: =SUM(M51:M55) -> 0 | N56: =SUM(K56:M56) -> 28153988 | O56: 28153988 | P56: =SUM(P51:P55) -> 0 | Q56: =SUM(Q51:Q55) -> 0 | R56: =SUM(O56:Q56) -> 28153988 | S56: 28153988 | T56: =SUM(T51:T55) -> 0 | U56: =SUM(U51:U55) -> 0 | V56: =SUM(S56:U56) -> 28153988
A57: Immateriális javak értékesítése | B57: B51 | C57: 0 | D57: 0 | E57: 0 | F57: =SUM(C57:E57) -> 0 | G57: 0 | H57: 0 | I57: 0 | J57: =SUM(G57:I57) -> 0 | K57: 0 | L57: 0 | M57: 0 | N57: =SUM(K57:M57) -> 0 | O57: 0 | P57: 0 | Q57: 0 | R57: =SUM(O57:Q57) -> 0 | S57: 0 | T57: 0 | U57: 0 | V57: =SUM(S57:U57) -> 0
A58: Ingatlanok értékesítése | B58: B52 | C58: 0 | D58: 0 | E58: 0 | F58: =SUM(C58:E58) -> 0 | G58: 0 | H58: 0 | I58: 0 | J58: =SUM(G58:I58) -> 0 | K58: 0 | L58: 0 | M58: 0 | N58: =SUM(K58:M58) -> 0 | O58: 0 | P58: 0 | Q58: 0 | R58: =SUM(O58:Q58) -> 0 | S58: 0 | T58: 0 | U58: 0 | V58: =SUM(S58:U58) -> 0
A59: Egyéb tárgyi eszközök értékesítése | B59: B53 | C59: 0 | D59: 0 | E59: 0 | F59: =SUM(C59:E59) -> 0 | G59: 0 | H59: 0 | I59: 0 | J59: =SUM(G59:I59) -> 0 | K59: 0 | L59: 0 | M59: 0 | N59: =SUM(K59:M59) -> 0 | O59: 0 | P59: 0 | Q59: 0 | R59: =SUM(O59:Q59) -> 0 | S59: 0 | T59: 0 | U59: 0 | V59: =SUM(S59:U59) -> 0
A60: Részesedések értékesítése | B60: B54 | C60: 0 | D60: 0 | E60: 0 | F60: =SUM(C60:E60) -> 0 | G60: 0 | H60: 0 | I60: 0 | J60: =SUM(G60:I60) -> 0 | K60: 0 | L60: 0 | M60: 0 | N60: =SUM(K60:M60) -> 0 | O60: 0 | P60: 0 | Q60: 0 | R60: =SUM(O60:Q60) -> 0 | S60: 0 | T60: 0 | U60: 0 | V60: =SUM(S60:U60) -> 0
A61: Részesedések megszűnéséhez kapcsolódó bevételek | B61: B55 | C61: 0 | D61: 0 | E61: 0 | F61: =SUM(C61:E61) -> 0 | G61: 0 | H61: 0 | I61: 0 | J61: =SUM(G61:I61) -> 0 | K61: 0 | L61: 0 | M61: 0 | N61: =SUM(K61:M61) -> 0 | O61: 0 | P61: 0 | Q61: 0 | R61: =SUM(O61:Q61) -> 0 | S61: 0 | T61: 0 | U61: 0 | V61: =SUM(S61:U61) -> 0
A62: Felhalmozási bevételek | B62: B5 | C62: =SUM(C57:C61) -> 0 | D62: =SUM(D57:D61) -> 0 | E62: =SUM(E57:E61) -> 0 | F62: =SUM(C62:E62) -> 0 | G62: =SUM(G57:G61) -> 0 | H62: =SUM(H57:H61) -> 0 | I62: =SUM(I57:I61) -> 0 | J62: =SUM(G62:I62) -> 0 | K62: =SUM(K57:K61) -> 0 | L62: =SUM(L57:L61) -> 0 | M62: =SUM(M57:M61) -> 0 | N62: =SUM(K62:M62) -> 0 | O62: =SUM(O57:O61) -> 0 | P62: =SUM(P57:P61) -> 0 | Q62: =SUM(Q57:Q61) -> 0 | R62: =SUM(O62:Q62) -> 0 | S62: =SUM(S57:S61) -> 0 | T62: =SUM(T57:T61) -> 0 | U62: =SUM(U57:U61) -> 0 | V62: =SUM(S62:U62) -> 0
A63: Felhalmozási célú garancia- és kezességvállalásból származó megtérülések államháztartáson kívülről | B63: B71 | C63: 0 | D63: 0 | E63: 0 | F63: =SUM(C63:E63) -> 0 | G63: 0 | H63: 0 | I63: 0 | J63: =SUM(G63:I63) -> 0 | K63: 0 | L63: 0 | M63: 0 | N63: =SUM(K63:M63) -> 0 | O63: 0 | P63: 0 | Q63: 0 | R63: =SUM(O63:Q63) -> 0 | S63: 0 | T63: 0 | U63: 0 | V63: =SUM(S63:U63) -> 0
A64: Felhalmozási célú visszatérítendő támogatások, kölcsönök visszatérülése államháztartáson kívülről | B64: B74 | C64: 0 | D64: 0 | E64: 0 | F64: =SUM(C64:E64) -> 0 | G64: 0 | H64: 0 | I64: 0 | J64: =SUM(G64:I64) -> 0 | K64: 0 | L64: 0 | M64: 0 | N64: =SUM(K64:M64) -> 0 | O64: 0 | P64: 0 | Q64: 0 | R64: =SUM(O64:Q64) -> 0 | S64: 0 | T64: 0 | U64: 0 | V64: =SUM(S64:U64) -> 0
A65: Egyéb felhalmozási célú átvett pénzeszközök | B65: B75 | C65: 0 | D65: 0 | E65: 0 | F65: =SUM(C65:E65) -> 0 | G65: 0 | H65: 0 | I65: 0 | J65: =SUM(G65:I65) -> 0 | K65: 0 | L65: 0 | M65: 0 | N65: =SUM(K65:M65) -> 0 | O65: 0 | P65: 0 | Q65: 0 | R65: =SUM(O65:Q65) -> 0 | S65: 0 | T65: 0 | U65: 0 | V65: =SUM(S65:U65) -> 0
A66: Felhalmozási célú átvett pénzeszközök | B66: B7 | C66: =SUM(C63:C65) -> 0 | D66: =SUM(D63:D65) -> 0 | E66: =SUM(E63:E65) -> 0 | F66: =SUM(C66:E66) -> 0 | G66: =SUM(G63:G65) -> 0 | H66: =SUM(H63:H65) -> 0 | I66: =SUM(I63:I65) -> 0 | J66: =SUM(G66:I66) -> 0 | K66: =SUM(K63:K65) -> 0 | L66: =SUM(L63:L65) -> 0 | M66: =SUM(M63:M65) -> 0 | N66: =SUM(K66:M66) -> 0 | O66: =SUM(O63:O65) -> 0 | P66: =SUM(P63:P65) -> 0 | Q66: =SUM(Q63:Q65) -> 0 | R66: =SUM(O66:Q66) -> 0 | S66: =SUM(S63:S65) -> 0 | T66: =SUM(T63:T65) -> 0 | U66: =SUM(U63:U65) -> 0 | V66: =SUM(S66:U66) -> 0
A67: Felhalmozási bevételek összesen | C67: =SUM(C56+C62+C66) -> 28153988 | D67: =SUM(D56+D62+D66) -> 0 | E67: =SUM(E56+E62+E66) -> 0 | F67: =SUM(F56+F62+F66) -> 28153988 | G67: =SUM(G56+G62+G66) -> 28153988 | H67: =SUM(H56+H62+H66) -> 0 | I67: =SUM(I56+I62+I66) -> 0 | J67: =SUM(J56+J62+J66) -> 28153988 | ... V67: =SUM(V56+V62+V66) -> 28153988
A68: Költségvetési bevételek | B68: B1-B7 | C68: =C20+C34+C45+C49+C56+C62+C66 -> 51704437 | D68: =D20+D34+D45+D49+D56+D62+D66 -> 0 | E68: =E20+E34+E45+E49+E56+E62+E66 -> 0 | F68: =SUM(C68:E68) -> 51704437 | G68: =G20+G34+G45+G49+G56+G62+G66 -> 51729346 | H68: =H20+H34+H45+H49+H56+H62+H66 -> 0 | I68: =I20+I34+I45+I49+I56+I62+I66 -> 0 | J68: =SUM(G68:I68) -> 51729346 | K68: =K20+K34+K45+K49+K56+K62+K66 -> 51754081 | L68: =L20+L34+L45+L49+L56+L62+L66 -> 0 | M68: =M20+M34+M45+M49+M56+M62+M66 -> 0 | N68: =SUM(K68:M68) -> 51754081 | O68: =O20+O34+O45+O49+O56+O62+O66 -> 51778819 | P68: =P20+P34+P45+P49+P56+P62+P66 -> 0 | Q68: =Q20+Q34+Q45+Q49+Q56+Q62+Q66 -> 0 | R68: =SUM(O68:Q68) -> 51778819 | S68: =S20+S34+S45+S49+S56+S62+S66 -> 52210230 | T68: =T20+T34+T45+T49+T56+T62+T66 -> 0 | U68: =U20+U34+U45+U49+U56+U62+U66 -> 0 | V68: =SUM(S68:U68) -> 52210230
A69: Működési bevételek és működési kiadások egyenlege | C69: =C50-'2. melléklet'!C76 -> -4608544 | D69: =D50-'2. melléklet'!D76 -> 0 | E69: =E50-'2. melléklet'!E76 -> -13000 | F69: =F50-'2. melléklet'!F76 -> -4621544 | G69: =G50-'2. melléklet'!G76 -> -4608544 | H69: =H50-'2. melléklet'!H76 -> 0 | I69: =I50-'2. melléklet'!I76 -> -13000 | J69: =J50-'2. melléklet'!J76 -> -4621544 | ... V69: =V50-'2. melléklet'!V76 -> -7233042
A70: Felhalmozási bevételek és a felhalmozási kiadások egyenlege | C70: =C67-'2. melléklet'!C100 -> -10617640 | D70: =D67-'2. melléklet'!D100 -> 0 | E70: =E67-'2. melléklet'!E100 -> 0 | F70: =F67-'2. melléklet'!F100 -> -10617640 | G70: =G67-'2. melléklet'!G100 -> -10617640 | H70: =H67-'2. melléklet'!H100 -> 0 | I70: =I67-'2. melléklet'!I100 -> 0 | J70: =J67-'2. melléklet'!J100 -> -10617640 | ... V70: =V67-'2. melléklet'!V100 -> -8806579
A71: Hosszú lejáratú hitelek, kölcsönök felvétele | B71: B8111 | C71: 0 | D71: 0 | E71: 0 | F71: =SUM(C71:E71) -> 0 | G71: 0 | H71: 0 | I71: 0 | J71: =SUM(G71:I71) -> 0 | K71: 0 | L71: 0 | M71: 0 | N71: =SUM(K71:M71) -> 0 | O71: 0 | P71: 0 | Q71: 0 | R71: =SUM(O71:Q71) -> 0 | S71: 0 | T71: 0 | U71: 0 | V71: =SUM(S71:U71) -> 0
A72: Likviditási célú hitelek, kölcsönök felvétele pénzügyi vállalkozástól | B72: B8112 | C72: 0 | D72: 0 | E72: 0 | F72: =SUM(C72:E72) -> 0 | G72: 0 | H72: 0 | I72: 0 | J72: =SUM(G72:I72) -> 0 | K72: 0 | L72: 0 | M72: 0 | N72: =SUM(K72:M72) -> 0 | O72: 0 | P72: 0 | Q72: 0 | R72: =SUM(O72:Q72) -> 0 | S72: 0 | T72: 0 | U72: 0 | V72: =SUM(S72:U72) -> 0
A73: Rövid lejáratú hitelek, kölcsönök felvétele | B73: B8113 | C73: 0 | D73: 0 | E73: 0 | F73: =SUM(C73:E73) -> 0 | G73: 0 | H73: 0 | I73: 0 | J73: =SUM(G73:I73) -> 0 | K73: 0 | L73: 0 | M73: 0 | N73: =SUM(K73:M73) -> 0 | O73: 0 | P73: 0 | Q73: 0 | R73: =SUM(O73:Q73) -> 0 | S73: 0 | T73: 0 | U73: 0 | V73: =SUM(S73:U73) -> 0
A74: Hitel-, kölcsönfelvétel államháztartáson kívülről | B74: B811 | C74: =SUM(C71:C73) -> 0 | D74: =SUM(D71:D73) -> 0 | E74: =SUM(E71:E73) -> 0 | F74: =SUM(C74:E74) -> 0 | G74: =SUM(G71:G73) -> 0 | H74: =SUM(H71:H73) -> 0 | I74: =SUM(I71:I73) -> 0 | J74: =SUM(G74:I74) -> 0 | K74: =SUM(K71:K73) -> 0 | L74: =SUM(L71:L73) -> 0 | M74: =SUM(M71:M73) -> 0 | N74: =SUM(K74:M74) -> 0 | O74: =SUM(O71:O73) -> 0 | P74: =SUM(P71:P73) -> 0 | Q74: =SUM(Q71:Q73) -> 0 | R74: =SUM(O74:Q74) -> 0 | S74: =SUM(S71:S73) -> 0 | T74: =SUM(T71:T73) -> 0 | U74: =SUM(U71:U73) -> 0 | V74: =SUM(S74:U74) -> 0
A75: Forgatási célú belföldi értékpapírok beváltása, értékesítése | B75: B8121 | C75: 0 | D75: 0 | E75: 0 | F75: =SUM(C75:E75) -> 0 | G75: 0 | H75: 0 | I75: 0 | J75: =SUM(G75:I75) -> 0 | K75: 0 | L75: 0 | M75: 0 | N75: =SUM(K75:M75) -> 0 | O75: 0 | P75: 0 | Q75: 0 | R75: =SUM(O75:Q75) -> 0 | S75: 0 | T75: 0 | U75: 0 | V75: =SUM(S75:U75) -> 0
A76: Forgatási célú belföldi értékpapírok kibocsátása | B76: B8122 | C76: 0 | D76: 0 | E76: 0 | F76: =SUM(C76:E76) -> 0 | G76: 0 | H76: 0 | I76: 0 | J76: =SUM(G76:I76) -> 0 | K76: 0 | L76: 0 | M76: 0 | N76: =SUM(K76:M76) -> 0 | O76: 0 | P76: 0 | Q76: 0 | R76: =SUM(O76:Q76) -> 0 | S76: 0 | T76: 0 | U76: 0 | V76: =SUM(S76:U76) -> 0
A77: Befektetési célú belföldi értékpapírok beváltása, értékesítése | B77: B8123 | C77: 0 | D77: 0 | E77: 0 | F77: =SUM(C77:E77) -> 0 | G77: 0 | H77: 0 | I77: 0 | J77: =SUM(G77:I77) -> 0 | K77: 0 | L77: 0 | M77: 0 | N77: =SUM(K77:M77) -> 0 | O77: 0 | P77: 0 | Q77: 0 | R77: =SUM(O77:Q77) -> 0 | S77: 0 | T77: 0 | U77: 0 | V77: =SUM(S77:U77) -> 0
A78: Befektetési célú belföldi értékpapírok kibocsátása | B78: B8124 | C78: 0 | D78: 0 | E78: 0 | F78: =SUM(C78:E78) -> 0 | G78: 0 | H78: 0 | I78: 0 | J78: =SUM(G78:I78) -> 0 | K78: 0 | L78: 0 | M78: 0 | N78: =SUM(K78:M78) -> 0 | O78: 0 | P78: 0 | Q78: 0 | R78: =SUM(O78:Q78) -> 0 | S78: 0 | T78: 0 | U78: 0 | V78: =SUM(S78:U78) -> 0
A79: Belföldi értékpapírok bevételei | B79: B812 | C79: =SUM(C75:C78) -> 0 | D79: =SUM(D75:D78) -> 0 | E79: =SUM(E75:E78) -> 0 | F79: =SUM(C79:E79) -> 0 | G79: =SUM(G75:G78) -> 0 | H79: =SUM(H75:H78) -> 0 | I79: =SUM(I75:I78) -> 0 | J79: =SUM(G79:I79) -> 0 | K79: =SUM(K75:K78) -> 0 | L79: =SUM(L75:L78) -> 0 | M79: =SUM(M75:M78) -> 0 | N79: =SUM(K79:M79) -> 0 | O79: =SUM(O75:O78) -> 0 | P79: =SUM(P75:P78) -> 0 | Q79: =SUM(Q75:Q78) -> 0 | R79: =SUM(O79:Q79) -> 0 | S79: =SUM(S75:S78) -> 0 | T79: =SUM(T75:T78) -> 0 | U79: =SUM(U75:U78) -> 0 | V79: =SUM(S79:U79) -> 0
A80: Előző év költségvetési maradványának igénybevétele MŰKÖDÉSRE | B80: B8131 | C80: 15935072 | D80: 0 | E80: 0 | F80: =SUM(C80:E80) -> 15935072 | G80: 15935072 | H80: 0 | I80: 0 | J80: =SUM(G80:I80) -> 15935072 | K80: 16016561 | L80: 0 | M80: 0 | N80: =SUM(K80:M80) -> 16016561 | O80: 16016561 | P80: 0 | Q80: 0 | R80: =SUM(O80:Q80) -> 16016561 | S80: 16016561 | T80: 0 | U80: 0 | V80: =SUM(S80:U80) -> 16016561
A81: Előző év költségvetési maradványának igénybevétele FELHALMOZÁSRA | B81: B8131 | C81: 0 | D81: 0 | E81: 0 | F81: =SUM(C81:E81) -> 0 | G81: 0 | H81: 0 | I81: 0 | J81: =SUM(G81:I81) -> 0 | K81: 0 | L81: 0 | M81: 0 | N81: =SUM(K81:M81) -> 0 | O81: 0 | P81: 0 | Q81: 0 | R81: =SUM(O81:Q81) -> 0 | S81: 0 | T81: 0 | U81: 0 | V81: =SUM(S81:U81) -> 0
A82: Előző év vállalkozási maradványának igénybevétele MŰKÖDÉSRE | B82: B8132 | C82: 0 | D82: 0 | E82: 0 | F82: =SUM(C82:E82) -> 0 | G82: 0 | H82: 0 | I82: 0 | J82: =SUM(G82:I82) -> 0 | K82: 0 | L82: 0 | M82: 0 | N82: =SUM(K82:M82) -> 0 | O82: 0 | P82: 0 | Q82: 0 | R82: =SUM(O82:Q82) -> 0 | S82: 0 | T82: 0 | U82: 0 | V82: =SUM(S82:U82) -> 0
A83: Előző év vállalkozási maradványának igénybevétele FELHALMOZÁSRA | B83: B8132 | C83: 0 | D83: 0 | E83: 0 | F83: =SUM(C83:E83) -> 0 | G83: 0 | H83: 0 | I83: 0 | J83: =SUM(G83:I83) -> 0 | K83: 0 | L83: 0 | M83: 0 | N83: =SUM(K83:M83) -> 0 | O83: 0 | P83: 0 | Q83: 0 | R83: =SUM(O83:Q83) -> 0 | S83: 0 | T83: 0 | U83: 0 | V83: =SUM(S83:U83) -> 0
A84: Maradvány igénybevétele | B84: B813 | C84: =SUM(C80:C83) -> 15935072 | D84: =SUM(D80:D83) -> 0 | E84: =SUM(E80:E83) -> 0 | F84: =SUM(C84:E84) -> 15935072 | G84: =SUM(G80:G83) -> 15935072 | H84: =SUM(H80:H83) -> 0 | I84: =SUM(I80:I83) -> 0 | J84: =SUM(G84:I84) -> 15935072 | K84: =SUM(K80:K83) -> 16016561 | L84: =SUM(L80:L83) -> 0 | M84: =SUM(M80:M83) -> 0 | N84: =SUM(K84:M84) -> 16016561 | O84: =SUM(O80:O83) -> 16016561 | P84: =SUM(P80:P83) -> 0 | Q84: =SUM(Q80:Q83) -> 0 | R84: =SUM(O84:Q84) -> 16016561 | S84: =SUM(S80:S83) -> 16016561 | T84: =SUM(T80:T83) -> 0 | U84: =SUM(U80:U83) -> 0 | V84: =SUM(S84:U84) -> 16016561
A85: Államháztartáson belüli megelőlegezések | B85: B814 | C85: 0 | D85: 0 | E85: 0 | F85: =SUM(C85:E85) -> 0 | G85: 0 | H85: 0 | I85: 0 | J85: =SUM(G85:I85) -> 0 | K85: 0 | L85: 0 | M85: 0 | N85: =SUM(K85:M85) -> 0 | O85: 0 | P85: 0 | Q85: 0 | R85: =SUM(O85:Q85) -> 0 | S85: 718948 | T85: 0 | U85: 0 | V85: =SUM(S85:U85) -> 718948
A86: Államháztartáson belüli megelőlegezések törlesztése | B86: B815 | C86: 0 | D86: 0 | E86: 0 | F86: =SUM(C86:E86) -> 0 | G86: 0 | H86: 0 | I86: 0 | J86: =SUM(G86:I86) -> 0 | K86: 0 | L86: 0 | M86: 0 | N86: =SUM(K86:M86) -> 0 | O86: 0 | P86: 0 | Q86: 0 | R86: =SUM(O86:Q86) -> 0 | S86: 0 | T86: 0 | U86: 0 | V86: =SUM(S86:U86) -> 0
A87: Központi, irányító szervi támogatás | B87: B816 | C87: 0 | D87: 0 | E87: 0 | F87: =SUM(C87:E87) -> 0 | G87: 0 | H87: 0 | I87: 0 | J87: =SUM(G87:I87) -> 0 | K87: 0 | L87: 0 | M87: 0 | N87: =SUM(K87:M87) -> 0 | O87: 0 | P87: 0 | Q87: 0 | R87: =SUM(O87:Q87) -> 0 | S87: 0 | T87: 0 | U87: 0 | V87: =SUM(S87:U87) -> 0
A88: Betétek megszüntetése | B88: B817 | C88: 0 | D88: 0 | E88: 0 | F88: =SUM(C88:E88) -> 0 | G88: 0 | H88: 0 | I88: 0 | J88: =SUM(G88:I88) -> 0 | K88: 0 | L88: 0 | M88: 0 | N88: =SUM(K88:M88) -> 0 | O88: 0 | P88: 0 | Q88: 0 | R88: =SUM(O88:Q88) -> 0 | S88: 0 | T88: 0 | U88: 0 | V88: =SUM(S88:U88) -> 0
A89: Központi költségvetés sajátos finanszírozási bevételei | B89: B818 | C89: 0 | D89: 0 | E89: 0 | F89: =SUM(C89:E89) -> 0 | G89: 0 | H89: 0 | I89: 0 | J89: =SUM(G89:I89) -> 0 | K89: 0 | L89: 0 | M89: 0 | N89: =SUM(K89:M89) -> 0 | O89: 0 | P89: 0 | Q89: 0 | R89: =SUM(O89:Q89) -> 0 | S89: 0 | T89: 0 | U89: 0 | V89: =SUM(S89:U89) -> 0
A90: Belföldi finanszírozás bevételei | B90: B81 | C90: =C74+C79+C84+C85+C87+C86+C88+C89 -> 15935072 | D90: =D74+D79+D84+D85+D87+D86+D88+D89 -> 0 | E90: =E74+E79+E84+E85+E87+E86+E88+E89 -> 0 | F90: =SUM(C90:E90) -> 15935072 | G90: =G74+G79+G84+G85+G87+G86+G88+G89 -> 15935072 | H90: =H74+H79+H84+H85+H87+H86+H88+H89 -> 0 | I90: =I74+I79+I84+I85+I87+I86+I88+I89 -> 0 | J90: =SUM(G90:I90) -> 15935072 | K90: =K74+K79+K84+K85+K87+K86+K88+K89 -> 16016561 | L90: =L74+L79+L84+L85+L87+L86+L88+L89 -> 0 | M90: =M74+M79+M84+M85+M87+M86+M88+M89 -> 0 | N90: =SUM(K90:M90) -> 16016561 | O90: =O74+O79+O84+O85+O87+O86+O88+O89 -> 16016561 | P90: =P74+P79+P84+P85+P87+P86+P88+P89 -> 0 | Q90: =Q74+Q79+Q84+Q85+Q87+Q86+Q88+Q89 -> 0 | R90: =SUM(O90:Q90) -> 16016561 | S90: =S74+S79+S84+S85+S87+S86+S88+S89 -> 16735509 | T90: =T74+T79+T84+T85+T87+T86+T88+T89 -> 0 | U90: =U74+U79+U84+U85+U87+U86+U88+U89 -> 0 | V90: =SUM(S90:U90) -> 16735509
A91: Forgatási célú külföldi értékpapírok beváltása, értékesítése | B91: B821 | C91: 0 | D91: 0 | E91: 0 | F91: =SUM(C91:E91) -> 0 | G91: 0 | H91: 0 | I91: 0 | J91: =SUM(G91:I91) -> 0 | K91: 0 | L91: 0 | M91: 0 | N91: =SUM(K91:M91) -> 0 | O91: 0 | P91: 0 | Q91: 0 | R91: =SUM(O91:Q91) -> 0 | S91: 0 | T91: 0 | U91: 0 | V91: =SUM(S91:U91) -> 0
A92: Befektetési célú külföldi értékpapírok beváltása, értékesítése | B92: B822 | C92: 0 | D92: 0 | E92: 0 | F92: =SUM(C92:E92) -> 0 | G92: 0 | H92: 0 | I92: 0 | J92: =SUM(G92:I92) -> 0 | K92: 0 | L92: 0 | M92: 0 | N92: =SUM(K92:M92) -> 0 | O92: 0 | P92: 0 | Q92: 0 | R92: =SUM(O92:Q92) -> 0 | S92: 0 | T92: 0 | U92: 0 | V92: =SUM(S92:U92) -> 0
A93: Külföldi értékpapírok kibocsátása | B93: B823 | C93: 0 | D93: 0 | E93: 0 | F93: =SUM(C93:E93) -> 0 | G93: 0 | H93: 0 | I93: 0 | J93: =SUM(G93:I93) -> 0 | K93: 0 | L93: 0 | M93: 0 | N93: =SUM(K93:M93) -> 0 | O93: 0 | P93: 0 | Q93: 0 | R93: =SUM(O93:Q93) -> 0 | S93: 0 | T93: 0 | U93: 0 | V93: =SUM(S93:U93) -> 0
A94: Külföldi hitelek, kölcsönök felvétele | B94: B824 | C94: 0 | D94: 0 | E94: 0 | F94: =SUM(C94:E94) -> 0 | G94: 0 | H94: 0 | I94: 0 | J94: =SUM(G94:I94) -> 0 | K94: 0 | L94: 0 | M94: 0 | N94: =SUM(K94:M94) -> 0 | O94: 0 | P94: 0 | Q94: 0 | R94: =SUM(O94:Q94) -> 0 | S94: 0 | T94: 0 | U94: 0 | V94: =SUM(S94:U94) -> 0
A95: Külföldi finanszírozás bevételei | B95: B82 | C95: 0 | D95: 0 | E95: 0 | F95: =SUM(C95:E95) -> 0 | G95: 0 | H95: 0 | I95: 0 | J95: =SUM(G95:I95) -> 0 | K95: 0 | L95: 0 | M95: 0 | N95: =SUM(K95:M95) -> 0 | O95: 0 | P95: 0 | Q95: 0 | R95: =SUM(O95:Q95) -> 0 | S95: 0 | T95: 0 | U95: 0 | V95: =SUM(S95:U95) -> 0
A96: Adóssághoz nem kapcsolódó származékos ügyletek bevételei | B96: B83 | C96: 0 | D96: 0 | E96: 0 | F96: =SUM(C96:E96) -> 0 | G96: 0 | H96: 0 | I96: 0 | J96: =SUM(G96:I96) -> 0 | K96: 0 | L96: 0 | M96: 0 | N96: =SUM(K96:M96) -> 0 | O96: 0 | P96: 0 | Q96: 0 | R96: =SUM(O96:Q96) -> 0 | S96: 0 | T96: 0 | U96: 0 | V96: =SUM(S96:U96) -> 0
A97: Finanszírozási bevételek | B97: B8 | C97: =C90+C95+C96 -> 15935072 | D97: =D90+D95+D96 -> 0 | E97: =E90+E95+E96 -> 0 | F97: =SUM(C97:E97) -> 15935072 | G97: =G90+G95+G96 -> 15935072 | H97: =H90+H95+H96 -> 0 | I97: =I90+I95+I96 -> 0 | J97: =SUM(G97:I97) -> 15935072 | K97: =K90+K95+K96 -> 16016561 | L97: =L90+L95+L96 -> 0 | M97: =M90+M95+M96 -> 0 | N97: =SUM(K97:M97) -> 16016561 | O97: =O90+O95+O96 -> 16016561 | P97: =P90+P95+P96 -> 0 | Q97: =Q90+Q95+Q96 -> 0 | R97: =SUM(O97:Q97) -> 16016561 | S97: =S90+S95+S96 -> 16735509 | T97: =T90+T95+T96 -> 0 | U97: =U90+U95+U96 -> 0 | V97: =SUM(S97:U97) -> 16735509
A98: BEVÉTELEK ÖSSZESEN (B1-8) | C98: =C68+C97 -> 67639509 | D98: =D68+D97 -> 0 | E98: =E68+E97 -> 0 | F98: =SUM(C98:E98) -> 67639509 | G98: =G68+G97 -> 67664418 | H98: =H68+H97 -> 0 | I98: =I68+I97 -> 0 | J98: =SUM(G98:I98) -> 67664418 | K98: =K68+K97 -> 67770642 | L98: =L68+L97 -> 0 | M98: =M68+M97 -> 0 | N98: =SUM(K98:M98) -> 67770642 | O98: =O68+O97 -> 67795380 | P98: =P68+P97 -> 0 | Q98: =Q68+Q97 -> 0 | R98: =SUM(O98:Q98) -> 67795380 | S98: =S68+S97 -> 68945739 | T98: =T68+T97 -> 0 | U98: =U68+U97 -> 0 | V98: =SUM(S98:U98) -> 68945739

Sheet 4. melléklet
A1: 4. melléklet 1/2018. (I.23.) önkormányzati rendelethez
A3: SORKIKÁPOLNA Önkormányzat 2018. évi költségvetése
A4: Beruházások és felújítások (Ft)
A6: Rovat megnevezése | B6: Rovat-szám | C6: ÖNKORMÁNYZATI ELŐIRÁNYZATOK | D6: MINDÖSSZESEN
A11: Immateriális javak beszerzése, létesítése | B11: K61
A16: Ingatlanok beszerzése, létesítése | B16: K62 | C16: 3900000 | D16: 3900000
A21: Informatikai eszközök beszerzése, létesítése | B21: K63 | C21: 345339 | D21: =SUM(C21) -> 345339
A22: Város és községgazdálkodás | C22: 0 | D22: =SUM(C22) -> 0
A23: Könyvtár | C23: 0 | D23: =SUM(C23) -> 0
A24: Fűnyíró, egyéb gépek | C24: 0 | D24: =SUM(C24) -> 0
A25: Egyéb tárgyi eszközök beszerzése, létesítése | B25: K64 | C25: 993950 | D25: 993950
A28: Részesedések beszerzése | B28: K65
A31: Meglévő részesedések növeléséhez kapcsolódó kiadások | B31: K66
A32: Beruházási célú előzetesen felszámított általános forgalmi adó | B32: K67 | C32: 380000 | D32: =SUM(C32) -> 380000
A33: Beruházások | B33: K6 | C33: =SUM(C16+C21+C25+C28+C31+C32) -> 5619289 | D33: =SUM(D16+D21+D25+D32) -> 5619289
A35: Temetőbe villany elvezetése | C35: 0 | D35: =SUM(C35) -> 0
A36: Könyvtár felújítás | C36: 0 | D36: =SUM(C36) -> 0
A37: Közút javítás | C37: 0 | D37: =SUM(C37) -> 0
A38: Ingatlanok felújítása | B38: K71 | C38: 27457678 | D38: 25341278
A43: Informatikai eszközök felújítása | B43: K72
A48: Egyéb tárgyi eszközök felújítása | B48: K73 | C48: 4000000 | D48: 0
A49: Felújítási célú előzetesen felszámított általános forgalmi adó | B49: K74 | C49: 2000000 | D49: 6000000
A50: Felújítások | B50: K7 | C50: =SUM(C34:C49) -> 33457678 | D50: =SUM(D35:D49) -> 31341278
A53: Megnevezés | B53: Rovat | C53: nettó | D53: áfa | E53: bruttó
A58: Immateriális javak beszerzése, létesítése | B58: K61
A63: Ingatlanok beszerzése, létesítése | B63: K62 | C63: 3900000 | E63: 3900000
A68: Informatikai eszközök beszerzése, létesítése | B68: K63 | C68: 345339 | E68: =SUM(C68:D68) -> 345339
A71: Egyéb tárgyi eszközök beszerzése, létesítése | B71: K64 | C71: 993950 | E71: 993950
A72: Beruházások | B72: K6 | C72: =SUM(C63+C68+C71) -> 5239289 | D72: =SUM(D63:D71) -> 0 | E72: =SUM(E63:E71) -> 5239289
A75: Vízesblokk kialakítás
A77: Ingatlanok felújítása | B77: K71 | C77: 25341278 | E77: =SUM(C77:D77) -> 25341278
A82: Informatikai eszközök felújítása | B82: K72
A87: Egyéb tárgyi eszközök felújítása | B87: K73 | C87: 0 | E87: 0
A88: Felújítások | B88: K7 | C88: =SUM(C73:C87) -> 25341278 | E88: =SUM(E74:E87) -> 25341278

Sheet 5. melléklet
C1: 5. melléklet 1/2018. (I.23.) önkormányzati rendelethez
A3: SORKIKÁPOLNA Önkormányzat 2018. évi költségvetése
A4: Foglalkoztatottak létszáma (fő)
A7: MEGNEVEZÉS | B7: Költségvetési engedélyezett létszámkeret (álláshely) (fő) ÖNKORMÁNYZAT | C7: Költségvetési engedélyezett létszámkeret (álláshely) (fő) KÖLTSÉGVETÉSI SZERV | D7: Költségvetési engedélyezett létszámkeret (álláshely) (fő) KÖLTSÉGVETÉSI SZERV | E7: MINDÖSSZESEN
A8: főjegyző, jegyző, aljegyző, címzetes főjegyző, körjegyző | E8: =SUM(B8:D8) -> 0
A9: I. besorolási osztály összesen | E9: =SUM(B9:D9) -> 0
A10: II. besorolási osztály összesen | E10: =SUM(B10:D10) -> 0
A11: III. besorolási osztály összesen | E11: =SUM(B11:D11) -> 0
A12: KÖZTISZTVISELŐK, KORMÁNYTISZTVISELŐK ÖSSZESEN | B12: =SUM(B8:B11) -> 0 | C12: =SUM(C8:C11) -> 0 | D12: =SUM(D8:D11) -> 0 | E12: =SUM(B12:D12) -> 0
A13: igazgató (főigazgató), igazgatóhelyettes (főigazgató-helyettes) | E13: =SUM(B13:D13) -> 0
A14: főosztályvezető, főosztályvezető-helyettes, osztályvezető, ügykezelő osztályvezető, további vezető | E14: =SUM(B14:D14) -> 0
A15: főtanácsos, főmunkatárs, tanácsos, munkatárs | E15: =SUM(B15:D15) -> 0
A16: "A", "B" fizetési osztály összesen | B16: 0 | E16: =SUM(B16:D16) -> 0
A17: "C", "D" fizetési osztály összesen | E17: =SUM(B17:D17) -> 0
A18: "E"-"J" fizetési osztály összesen | E18: =SUM(B18:D18) -> 0
A19: kutató, felsőoktatásban oktató | E19: =SUM(B19:D19) -> 0
A20: KÖZALKALMAZOTTAK ÖSSZESEN | B20: =SUM(B13:B19) -> 0 | C20: =SUM(C13:C19) -> 0 | D20: =SUM(D13:D19) -> 0 | E20: =SUM(B20:D20) -> 0
A21: fizikai alkalmazott, a költségvetési szerveknél foglalkoztatott egyéb munkavállaló (fizikai alkalmazott) | B21: 2 | E21: =SUM(B21:D21) -> 2
A22: ösztöndíjas foglalkoztatott | E22: =SUM(B22:D22) -> 0
A23: közfoglalkoztatott | B23: 1 | E23: =SUM(B23:D23) -> 1
A24: EGYÉB BÉRRENDSZER ÖSSZESEN | B24: =SUM(B21:B23) -> 3 | C24: =SUM(C21:C23) -> 0 | D24: =SUM(D21:D23) -> 0 | E24: =SUM(B24:D24) -> 3
A25: polgármester, főpolgármester | B25: 1 | E25: =SUM(B25:D25) -> 1
A26: helyi önkormányzati képviselő-testület tagja, megyei közgyűlés tagja | B26: 3 | E26: =SUM(B26:D26) -> 3
A27: alpolgármester, főpolgármester-helyettes, megyei közgyűlés elnöke, alelnöke | B27: 1 | E27: =SUM(B27:D27) -> 1
A28: VÁLASZTOTT TISZTSÉGVISELŐK ÖSSZESEN | B28: =SUM(B25:B27) -> 5 | C28: =SUM(C25:C27) -> 0 | D28: =SUM(D25:D27) -> 0 | E28: =SUM(B28:D28) -> 5
A29: KÖLTSÉGVETÉSI ENGEDÉLYEZETT LÉTSZÁMKERETBE TARTOZÓ FOGLALKOZTATOTTAK LÉTSZÁMA MINDÖSSZESEN | B29: =SUM(B28,B24,B20,B12) -> 8 | C29: =SUM(C28,C24,C20,C12) -> 0 | D29: =SUM(D28,D24,D20,D12) -> 0 | E29: =SUM(B29:D29) -> 8
A30: prémiumévek programról és a különleges foglalkoztatási állományról szóló 2004. évi CXXII. törvény alapján foglalkoztatott prémiumévesek | E30: =SUM(B30:D30) -> 0
A31: prémiumévek programról és a különleges foglalkoztatási állományról szóló 2004. évi CXXII. törvény alapján foglalkoztatott különleges foglalkoztatási állományba helyezettek létszáma | E31: =SUM(B31:D31) -> 0
A32: ösztöndíjas foglalkoztatottak (Pftv, illetve Magyar Közigazgatási Ösztöndíjról szóló 228/2011. (X. 28.) Korm. rendelet) | E32: =SUM(B32:D32) -> 0
A33: munkaerőpiactól tartósan távol lévő személyek | E33: =SUM(B33:D33) -> 0
A34: KÖLTSÉGVETÉSI ENGEDÉLYEZETT LÉTSZÁMKERETBE NEM TARTOZÓ FOGLALKOZTATOTTAK LÉTSZÁMA AZ IDŐSZAK VÉGÉN ÖSSZESEN | B34: =SUM(B30:B33) -> 0 | C34: =SUM(C30:C33) -> 0 | D34: =SUM(D30:D33) -> 0 | E34: =SUM(B34:D34) -> 0

Sheet 6. melléklet
A1: 6. melléklet 1/2018. (I.23.) önkormányzati rendelethez
A3: SORKIKÁPOLNA Önkormányzat 2018. évi költségvetése
A4: Az európai uniós forrásból finanszírozott támogatással megvalósuló programok, projektek kiadásai, bevételei, valamint a helyi önkormányzat ilyen projektekhez történő hozzájárulásai (Ft)
A6: ÖNKORMÁNYZATI ELŐIRÁNYZATOK
A7: Lunkányi síremlék felújítása | B7: Eredeti ei.
A8: K1. Személyi juttatások
A9: K2. Munkaadókat terhelő járulékok és szociális hozzájárulási adó
A10: K3. Dologi kiadások
A11: K4. Ellátottak pénzbeli juttatásai
A12: K5. Egyéb működési célú kiadások
A13: K6. Beruházási kiadások
A14: K7. Felújítások
A15: K8. Egyéb felhalmozási célú kiadások
A16: K1-K8. Költségvetési kiadások ÖSSZESEN
A17: B16 Működési célú támogatások fejezeti kezelésű előirányzatok EU-s programokra és azok hazai társfinanszírozásától
A18: B25 Felhalmozási célú támogatásokfejezeti kezelésű előirányzatok EU-s programokra és azok hazai társfinanszírozásától
A19: B63 Működési célú átvett pénzeszközök Európai Uniótól
... A24: BEVÉTELEK ÖSSZESEN
A27: Projekt megnevezése | B27: Eredeti ei.
A28: K1. Személyi juttatások
A29: K2. Munkaadókat terhelő járulékok és szociális hozzájárulási adó
A30: K3. Dologi kiadások
A31: K4. Ellátottak pénzbeli juttatásai
A32: K5. Egyéb működési célú kiadások
A33: K6. Beruházási kiadások
A34: K7. Felújítások
A35: K8. Egyéb felhalmozási célú kiadások
A36: K1-K8. Költségvetési kiadások ÖSSZESEN | B36: =SUM(B28:B35) -> 0
A37: B16 Működési célú támogatások fejezeti kezelésű előirányzatok EU-s programokra és azok hazai társfinanszírozásától
A38: B25 Felhalmozási célú támogatásokfejezeti kezelésű előirányzatok EU-s programokra és azok hazai társfinanszírozásától
A39: B63 Működési célú átvett pénzeszközök Európai Uniótól
A40: B73 Felhalmozási célú átvett pénzeszközök Európai Uniótól
A41: B1-7 A helyi önkormányzat projekthez történő hozzájárulása
A42: B1-B7 Költségvetési bevételek | B42: =SUM(B37:B41) -> 0
A43: B8 Finanszírozási bevételek- önkormányzat projekthez történő hozzájárulása
A44: BEVÉTELEK ÖSSZESEN | B44: =SUM(B42,B43,) -> 0

Sheet 7. melléklet
H1: 7. melléklet 1/2018. (I.23.) önkormányzati rendelethez
A2: SORKIKÁPOLNA Önkormányzat 2018. évi költségvetése
A3: A költségvetési év azon fejlesztési céljai, amelyek megvalósításához a Gst. 3. § (1) bekezdése szerinti adósságot keletkeztető ügylet megkötése válik vagy válhat szükségessé (E Ft)
A5: ÖNKORMÁNYZATI ELŐIRÁNYZATOK
A6: Rovat megnevezése | B6: Rovat-szám | C6: kiadási eredeti előirányzat | D6: ebből kiadási előirányzat fedezete-saját forrás | E6: ebből kiadási előirányzat fedezete-adósságot keletkeztető ügylet | F6: adósságot keletkeztető ügylet fajtája | G6: adósságot keletkeztető ügylet rovatszáma (B8) | H6: adósságot keletkeztető ügylet kezdő időpontja | I6: adósságot keletkeztető ügylet lejárati időpontja | J6: adósságot keletkeztető ügylet- várható visszatérítendő összege (kamattal) leáratig mindösszesen
F7: hitel/lízing/kölcsön/értékpapír
A11: Immateriális javak beszerzése, létesítése | B11: K61
A16: Ingatlanok beszerzése, létesítése | B16: K62
A21: Informatikai eszközök beszerzése, létesítése | B21: K63
A24: Egyéb tárgyi eszközök beszerzése, létesítése | B24: K64
A27: Részesedések beszerzése | B27: K65
A30: Meglévő részesedések növeléséhez kapcsolódó kiadások | B30: K66
A31: Beruházási célú előzetesen felszámított általános forgalmi adó | B31: K67
A32: Beruházások | B32: K6 | C32: =SUM(C11,C16,C21,C24,C27,C30,C31,) -> 0 | D32: =SUM(D11,D16,D21,D24,D27,D30,D31,) -> 0 | E32: =SUM(E11,E16,E21,E24,E27,E30,E31,) -> 0 | F32: =SUM(F11,F16,F21,F24,F27,F30,F31,) -> 0 | G32: =SUM(G11,G16,G21,G24,G27,G30,G31,) -> 0 | H32: =SUM(H11,H16,H21,H24,H27,H30,H31,) -> 0 | I32: =SUM(I11,I16,I21,I24,I27,I30,I31,) -> 0 | J32: =SUM(J11,J16,J21,J24,J27,J30,J31,) -> 0
A37: Ingatlanok felújítása | B37: K71
A42: Informatikai eszközök felújítása | B42: K72
A47: Egyéb tárgyi eszközök felújítása | B47: K73
A48: Felújítási célú előzetesen felszámított általános forgalmi adó | B48: K74
A49: Felújítások | B49: K7 | C49: =SUM(C37,C42,C47,C48,) -> 0 | D49: =SUM(D37,D42,D47,D48,) -> 0 | E49: =SUM(E37,E42,E47,E48,) -> 0 | F49: =SUM(F37,F42,F47,F48,) -> 0 | G49: =SUM(G37,G42,G47,G48,) -> 0 | H49: =SUM(H37,H42,H47,H48,) -> 0 | I49: =SUM(I37,I42,I47,I48,) -> 0 | J49: =SUM(J37,J42,J47,J48,) -> 0
A50: Az önkormányzati garanciákból és önkormányzati kezességekből fennálló kötelezettségek az adósságot keletkeztető ügyletek futamidejének végéig, illetve a garancia, kezesség érvényesíthetőségéig
A51: ebből:
A52: ebből:
A53: ebből:
A56: Adósságot keletkeztető ügylet és annak értéke:
A58: a) hitel, kölcsön felvétele, átvállalása a folyósítás, átvállalás napjától a végtörlesztés napjáig, és annak aktuális tőketartozása,
A59: b) a számvitelről szóló törvény (a továbbiakban: Szt.) szerinti hitelviszonyt megtestesítő értékpapír forgalomba hozatala a forgalomba hozatal napjától a beváltás napjáig, kamatozó értékpapír esetén annak névértéke, egyéb értékpapír esetén annak vételára,
A60: c) váltó kibocsátása a kibocsátás napjától a beváltás napjáig, és annak a váltóval kiváltott kötelezettséggel megegyező, kamatot nem tartalmazó értéke,
A61: d) az Szt. szerint pénzügyi lízing lízingbevevői félként történő megkötése a lízing futamideje alatt, és a lízingszerződésben kikötött tőkerész hátralévő összege,
A62: e) a visszavásárlási kötelezettség kikötésével megkötött adásvételi szerződés eladói félként történő megkötése - ideértve az Szt. szerinti valódi penziós és óvadéki repóügyleteket is - a visszavásárlásig, és a kikötött visszavásárlási ár,
A63: f) a szerződésben kapott, legalább háromszázhatvanöt nap időtartamú halasztott fizetés, részletfizetés, és a még ki nem fizetett ellenérték,
A64: g) hitelintézetek által, származékos műveletek különbözeteként az Államadósság Kezelő Központ Zrt.-nél (a továbbiakban: ÁKK Zrt.) elhelyezett fedezeti betétek, és azok összege.
A65: (2) Az (1) bekezdés szerinti adósságot keletkeztető ügyletként nem kell figyelembe venni a költségvetési év első hat hónapjában lejáró adósság előző költségvetési évben történő előfinanszírozását, amelynek összege nem haladja meg a költségvetési év első hat hónapja során várható törlesztések összegét.

Sheet 8. melléklet
E1: 8. melléklet 1/2018. (I.23.) önkormányzati rendelethez
A3: SORKIKÁPOLNA Önkormányzat 2018. évi költségvetése
A4: A Gst. 3. § (1) bekezdése szerinti adósságot keletkeztető ügyletekből és kezességvállalásokból fennálló kötelezettségek az adósságot keletkeztető ügyletek futamidejének végéig, illetve a kezesség érvényesíthetőségéig, és a Gst. 45. § (1) bekezdés a) pontja felhatalmazása alapján kiadott jogszabályban meghatározottak szerinti saját bevételek (Ft)
A6: ÖNKORMÁNYZATI ELŐIRÁNYZATOK | F6: SAJÁT BEVÉTELEK
A7: Rovat megnevezése | B7: Rovat-szám | C7: adósságot keletkeztető ügylet kezdő időpontja | D7: adósságot keletkeztető ügylet lejárati időpontja | E7: adósságot keletkeztető ügyletekből és kezességvállalásokból fennálló kötelezettségek | F7: 2016 | G7: 2017 | H7: 2018 | I7: 2019
A8: Hosszú lejáratú hitelek, kölcsönök felvétele | B8: B8111
A9: ebből: pénzügyi vállalkozás | B9: B8111
A10: Likviditási célú hitelek, kölcsönök felvétele pénzügyi vállalkozástól | B10: B8112
A11: Rövid lejáratú hitelek, kölcsönök felvétele | B11: B8113
A12: ebből: pénzügyi vállalkozás | B12: B8113
A13: Hitel-, kölcsönfelvétel államháztartáson kívülről | B13: B811
A14: Forgatási célú belföldi értékpapírok beváltása, értékesítése | B14: B8121
A15: ebből: befektetési jegyek | B15: B8121
A16: Forgatási célú belföldi értékpapírok kibocsátása | B16: B8122
A17: Befektetési célú belföldi értékpapírok beváltása, értékesítése | B17: B8123
A18: ebből: kárpótlási jegyek | B18: B8123
A19: Befektetési célú belföldi értékpapírok kibocsátása | B19: B8124
... A28: Külföldi finanszírozás bevételei | B28: B82
A30: Rovat megnevezése | B30: Rovat-szám | C30: saját bevételek 2016. | D30: saját bevételek 2017. | E30: saját bevételek 2018. | F30: saját bevételek 2019.
A31: 353/2011. (XII. 30.) Korm. Rendelet értelmében az önkormányzat saját bevételének minősül
A32: 1.a helyi adóból és a települési adóból származó bevétel,
A33: 2. az önkormányzati vagyon és az önkormányzatot megillető vagyoni értékű jog értékesítéséből és hasznosításából származó bevétel,
A34: 3. az osztalék, a koncessziós díj és a hozambevétel,
A35: 4. a tárgyi eszköz és az immateriális jószág, részvény, részesedés, vállalat értékesítéséből vagy privatizációból származó bevétel,
A36: 5. bírság-, pótlék- és díjbevétel,
A37: 6. a kezesség-, illetve garanciavállalással kapcsolatos megtérülés.
A38: ÖSSZESEN:
A41: Az önkormányzat adósságot keletkeztető ügyletből származó tárgyévi összes fizetési kötelezettsége az adósságot keletkeztető ügylet futamidejének végéig egyik évben sem haladhatja meg az önkormányzat adott évi saját bevételeinek 50%-át.

Sheet 9. melléklet
F1: 9. melléklet 1/2018. (I.23.) önkormányzati rendelethez
A3: SORKIKÁPOLNA Önkormányzat 2018. évi költségvetése
A4: Általános- és céltartalékok (Ft)
A7: Rovat megnevezése | B7: Rovat-szám | C7: ÖNKORMÁNYZATI ELŐIRÁNYZATOK | D7: KÖLTSÉGVETÉSI SZERV | E7: KÖLTSÉGVETÉSI SZERV | F7: KÖLTSÉGVETÉSI SZERV | G7: KÖLTSÉGVETÉSI SZERV | H7: MINDÖSSZESEN
A12: Általános tartalékok | B12: K513 | C12: 4340155 | H12: =SUM(C12:G12) -> 4340155
A17: Céltartalékok | B17: K513

Sheet 10. melléklet
C2: 10. melléklet 1/2018. (I.23.) önkormányzati rendelethez
A4: SORKIKÁPOLNA Önkormányzat 2018. évi költségvetése
A5: A közvetett támogatások (Ft)
A7: ÖNKORMÁNYZATI ELŐIRÁNYZATOK
A8: Rovat megnevezése | B8: Rovat-szám | C8: tervezett elvárt bevétel | D8: közvetett támogatás | E8: várható bevétel
A13: az ellátottak térítési díjának, kártérítésének méltányossági alapon történő elengedésének összege | B13: B405 | C13: =SUM(C9:C12) -> 0 | D13: =SUM(D9:D12) -> 0 | E13: =SUM(E9:E12) -> 0
A18: a lakosság részére lakásépítéshez, lakásfelújításhoz nyújtott kölcsönök elengedésének összege | B18: B72
A19: építményadó | B19: B34
A20: épület után fizetett idegenforgalmi adó | B20: B34
A21: magánszemélyek kommunális adója | B21: B34
A22: telekadó | B22: B34
A23: Gépjárműadók | B23: B354
A24: Értékesítési és forgalmi adók | B24: B351
A26: a helyi adónál, gépjárműadónál biztosított kedvezmény, mentesség összege adónemenként | B26: B3, B7 | C26: =SUM(C18:C24) -> 0 | D26: =SUM(D18:D24) -> 0 | E26: =SUM(E18:E24) -> 0
B27: B402
B28: B5
A31: a helyiségek, eszközök hasznosításából származó bevételből nyújtott kedvezmény, mentesség összege | B31: B4, B5 | C31: =SUM(C27:C28) -> 0 | D31: =SUM(D27:D28) -> 0 | E31: =SUM(E27:E28) -> 0
A36: az egyéb nyújtott kedvezmény vagy kölcsön elengedésének összege

Sheet 11. melléklet
A1: 11. melléklet 1/2018. (I.23.) önkormányzati rendelethez
A3: SORKIKÁPOLNA Önkormányzat 2018. évi költségvetése
A4: Támogatások, kölcsönök nyújtása és törlesztése (Ft)
A6: ÖNKORMÁNYZATI ELŐIRÁNYZATOK
A7: Megnevezés | B7: Rovat-szám | C7: eredeti ei.
A8: központi költségvetési szervek részére | B8: K504
A9: központi kezelésű előirányzatok részére | B9: K504
A10: fejezeti kezelésű előirányzatok EU-s programokra és azok hazai társfinanszírozása részére | B10: K504
A11: egyéb fejezeti kezelésű előirányzatok részére | B11: K504
A12: társadalombiztosítás pénzügyi alapjai részére | B12: K504
A13: elkülönített állami pénzalapok részére | B13: K504
A14: helyi önkormányzatok és költségvetési szerveik részére | B14: K504
A15: társulások és költségvetési szerveik részére | B15: K504
A16: nemzetiségi önkormányzatok és költségvetési szerveik részére | B16: K504
A17: térségi fejlesztési tanácsok és költségvetési szerveik részére | B17: K504
A18: Működési célú visszatérítendő támogatások, kölcsönök nyújtása államháztartáson belülre | B18: K504
A19: központi költségvetési szervek részére | B19: K505
... A35: elkülönített állami pénzalapok részére | B35: K506
A36: helyi önkormányzatok és költségvetési szerveik részére | B36: K506 | C36: 939370
A37: társulások és költségvetési szerveik részére | B37: K506 | C37: 377273
A38: nemzetiségi önkormányzatok és költségvetési szerveik részére | B38: K506
A39: térségi fejlesztési tanácsok és költségvetési szerveik részére | B39: K506
A40: Egyéb működési célú támogatások államháztartáson belülre | B40: K506 | C40: =SUM(C36:C39) -> 1316643
A41: egyházi jogi személyek részére | B41: K508
A42: egyéb civil szervezetek részére | B42: K508
A43: háztartások részére | B43: K508 | C43: 0
A44: pénzügyi vállalkozások részére | B44: K508
A45: állami többségi tulajdonú nem pénzügyi vállalkozások részére | B45: K508
A46: önkormányzati többségi tulajdonú nem pénzügyi vállalkozások részére | B46: K508
A47: egyéb vállalkozások részére | B47: K508
A48: Európai Unió részére | B48: K508
A49: kormányok és nemzetközi szervezetek részére | B49: K508
A50: egyéb külföldiek részére | B50: K508
A51: Működési célú visszatérítendő támogatások, kölcsönök nyújtása államháztartáson kívülre | B51: K508 | C51: 0
A52: egyházi jogi személyek részére | B52: K512
A53: egyéb civil szervezetek részére | B53: K512 | C53: 5000
A54: háztartások részére | B54: K512 | C54: 70000
A55: pénzügyi vállalkozások részére | B55: K512
A56: állami többségi tulajdonú nem pénzügyi vállalkozások részére | B56: K512
A57: önkormányzati többségi tulajdonú nem pénzügyi vállalkozások részére | B57: K512
A58: egyéb vállalkozások részére | B58: K512 | C58: 0
A59: Európai Unió részére | B59: K512
A60: kormányok és nemzetközi szervezetek részére | B60: K512
A61: egyéb külföldiek részére | B61: K512
A62: Egyéb működési célú támogatások államháztartáson kívülre | B62: K512 | C62: =SUM(C52:C61) -> 75000
A63: központi költségvetési szervek részére | B63: K82
A64: központi kezelésű előirányzatok részére | B64: K82
A65: fejezeti kezelésű előirányzatok EU-s programokra és azok hazai társfinanszírozása részére | B65: K82
A66: egyéb fejezeti kezelésű előirányzatok részére | B66: K82
A67: társadalombiztosítás pénzügyi alapjai részére | B67: K82
A68: elkülönített állami pénzalapok részére | B68: K82
A69: helyi önkormányzatok és költségvetési szerveik részére | B69: K82
A70: társulások és költségvetési szerveik részére | B70: K82
A71: nemzetiségi önkormányzatok és költségvetési szerveik részére | B71: K82
A72: térségi fejlesztési tanácsok és költségvetési szerveik részére | B72: K82
A73: Felhalmozási célú visszatérítendő támogatások, kölcsönök nyújtása államháztartáson belülre | B73: K82
A74: központi költségvetési szervek részére | B74: K83
... A117: Egyéb felhalmozási célú támogatások államháztartáson kívülre | B117: K89

Sheet 12. melléklet
A1: 12. melléklet 1/2018. (I.23.) önkormányzati rendelethez
A3: SORKIKÁPOLNA Önkormányzat 2018. évi költségvetése
A4: Támogatások, kölcsönök bevételei (Ft)
A6: ÖNKORMÁNYZATI ELŐIRÁNYZATOK
A7: Megnevezés | B7: Rovat-szám | C7: eredeti ei.
A8: központi költségvetési szervektől | B8: B14
A9: központi kezelésű előirányzatoktól | B9: B14
A10: fejezeti kezelésű előirányzatok EU-s programokra és azok hazai társfinanszírozásától | B10: B14
A11: egyéb fejezeti kezelésű előirányzatoktól | B11: B14
A12: társadalombiztosítás pénzügyi alapjaitól | B12: B14
A13: elkülönített állami pénzalapoktól | B13: B14
A14: helyi önkormányzatok és költségvetési szerveiktől | B14: B14
A15: társulások és költségvetési szerveiktől | B15: B14
A16: nemzetiségi önkormányzatok és költségvetési szerveiktől | B16: B14
A17: térségi fejlesztési tanácsok és költségvetési szerveiktől | B17: B14
A18: Működési célú visszatérítendő támogatások, kölcsönök visszatérülése államháztartáson belülről | B18: B14
A19: központi költségvetési szervektől | B19: B15
... A29: Működési célú visszatérítendő támogatások, kölcsönök igénybevétele államháztartáson belülről | B29: B15
A30: központi költségvetési szervektől | B30: B16 | C30: 81530
A31: központi kezelésű előirányzatoktól | B31: B16
A32: fejezeti kezelésű előirányzatok EU-s programokra és azok hazai társfinanszírozásától | B32: B16
A33: egyéb fejezeti kezelésű előirányzatoktól | B33: B16
A34: társadalombiztosítás pénzügyi alapjaitól | B34: B16
A35: elkülönített állami pénzalapoktól | B35: B16
A36: helyi önkormányzatok és költségvetési szerveiktől | B36: B16
A37: társulások és költségvetési szerveiktől | B37: B16
A38: nemzetiségi önkormányzatok és költségvetési szerveiktől | B38: B16
A39: térségi fejlesztési tanácsok és költségvetési szerveiktől | B39: B16
A40: Egyéb működési célú támogatások bevételei államháztartáson belülről | B40: B16 | C40: =SUM(C30:C39) -> 81530
A41: központi költségvetési szervektől | B41: B23
A42: központi kezelésű előirányzatoktól | B42: B23
A43: fejezeti kezelésű előirányzatok EU-s programokra és azok hazai társfinanszírozásától | B43: B23
A44: egyéb fejezeti kezelésű előirányzatoktól | B44: B23
A45: társadalombiztosítás pénzügyi alapjaitól | B45: B23
A46: elkülönített állami pénzalapoktól | B46: B23
A47: helyi önkormányzatok és költségvetési szerveiktől | B47: B23
A48: társulások és költségvetési szerveiktől | B48: B23
A49: nemzetiségi önkormányzatok és költségvetési szerveiktől | B49: B23
A50: térségi fejlesztési tanácsok és költségvetési szerveiktől | B50: B23
A51: Felhalmozási célú visszatérítendő támogatások, kölcsönök visszatérülése államháztartáson belülről | B51: B23
A52: központi költségvetési szervektől | B52: B24
... A72: térségi fejlesztési tanácsok és költségvetési szerveiktől | B72: B25
A73: Egyéb felhalmozási célú támogatások bevételei államháztartáson belülről | B73: B25 | C73: 28153988
A74: egyházi jogi személyektől | B74: B64
A75: egyéb civil szervezetektől | B75: B64
A76: háztartásoktól | B76: B64 | C76: 0
A77: pénzügyi vállalkozásoktól | B77: B64
A78: állami többségi tulajdonú nem pénzügyi vállalkozásoktól | B78: B64
A79: önkormányzati többségi tulajdonú nem pénzügyi vállalkozásoktól | B79: B64
A80: egyéb vállalkozásoktól | B80: B64
A81: Európai Uniótól | B81: B64
A82: kormányok és nemzetközi szervezetektől | B82: B64
A83: egyéb külföldiektől | B83: B64
A84: Működési célú visszatérítendő támogatások, kölcsönök visszatérülése államháztartáson kívülről | B84: B64 | C84: 0
A85: egyházi jogi személyektől | B85: B65
A86: egyéb civil szervezetektől | B86: B65
A87: háztartásoktól | B87: B65
A88: pénzügyi vállalkozásoktól | B88: B65
A89: állami többségi tulajdonú nem pénzügyi vállalkozásoktól | B89: B65
A90: önkormányzatok és költségvetési szervei | B90: B65
A91: egyéb vállalkozásoktól | B91: B65
A92: Európai Uniótól | B92: B65
A93: kormányok és nemzetközi szervezetektől | B93: B65
A94: egyéb külföldiektől | B94: B65
A95: Egyéb működési célú átvett pénzeszközök | B95: B65 | C95: 531708
A96: egyházi jogi személyektől | B96: B74
A97: egyéb civil szervezetektől | B97: B74
A98: háztartásoktól | B98: B74
A99: pénzügyi vállalkozásoktól | B99: B74
A100: állami többségi tulajdonú nem pénzügyi vállalkozásoktól | B100: B74
A101: önkormányzati többségi tulajdonú nem pénzügyi vállalkozásoktól | B101: B74
A102: egyéb vállalkozásoktól | B102: B74
A103: Európai Uniótól | B103: B74
A104: kormányok és nemzetközi szervezetektől | B104: B74
A105: egyéb külföldiektől | B105: B74
A106: Felhalmozási célú visszatérítendő támogatások, kölcsönök visszatérülése államháztartáson kívülről | B106: B74
A107: egyházi jogi személyektől | B107: B75
... A117: Egyéb felhalmozási célú átvett pénzeszközök | B117: B75

Sheet 13. melléklet
A1: 13. melléklet 1/2018. (I.23.) önkormányzati rendelethez
A3: SORKIKÁPOLNA Önkormányzat 2018. évi költségvetése
A4: Lakosságnak juttatott támogatások, szociális, rászorultsági jellegű ellátások (Ft)
A6: ÖNKORMÁNYZATI ELŐIRÁNYZATOK
A7: Megnevezés | B7: Rovat-szám | C7: eredeti ei.
A8: mozgáskorlátozottak közlekedési támogatása | B8: K44
A9: mozgáskorlátozottak szerzési és átalakítási támogatása | B9: K44
A10: megváltozott munkaképességűek illetve egészségkárosodottak keresetkiegészítése | B10: K44
A11: cukorbetegek támogatása | B11: K44
A12: helyi megállapítású ápolási díj [Szoctv. 43/B. §] | B12: K44
A13: helyi megállapítású közgyógyellátás [Szoctv.50.§ (3) bek.] | B13: K44
A14: Betegséggel kapcsolatos (nem társadalombiztosítási) ellátások | B14: K44
A15: foglalkoztatást helyettesítő támogatás [Szoctv. 35. § (1) bek.] | B15: K45
A16: Foglalkoztatással, munkanélküliséggel kapcsolatos ellátások | B16: K45
A17: hozzájárulás a lakossági energiaköltségekhez | B17: K46
A18: lakbértámogatás | B18: K46
A19: lakásfenntartási támogatás [Szoctv. 38. § (1) bek. a) és b) pontok] | B19: K46
... A24: állami gondozottak pénzbeli juttatásai | B24: K47
A25: oktatásban résztvevők pénzbeli juttatásai | B25: K47 | C25: 70000
A26: Intézményi ellátottak pénzbeli juttatásai | B26: K47 | C26: 70000
A27: időskorúak járadéka [Szoctv. 32/B. § (1) bek.] | B27: K48
A28: rendszeres szociális segély [Szoctv. 37. § (1) bek. a) - d) pontok] | B28: K48
A29: átmeneti segély [Szoctv. 45.§] | B29: K48
A30: temetési segély [Szoctv. 46.§] | B30: K48
A31: egyéb, az önkormányzat rendeletében megállapított juttatás | B31: K48
A32: természetben nyújtott rendszeres szociális segély [Szoctv. 47.§ (1) bek. a) pont] | B32: K48
A33: települési támogatás | B33: K48 | C33: 1580053
A34: temetési segély [Szoctv. 47.§ (1) bek. d) pont} | B34: K48
A35: köztemetés [Szoctv. 48.§] | B35: K48
A36: rászorultságtól függõ normatív kedvezmények [Gyvt. 151. § (5) bek.] | B36: K48
A37: önkormányzat által saját hatáskörben (nem szociális és gyermekvédelmi előírások alapján) adott pénzügyi ellátás | B37: K48
A38: önkormányzat által saját hatáskörben (nem szociális és gyermekvédelmi előírások alapján) adott természetbeni ellátás | B38: K48
A39: Egyéb nem intézményi ellátások | B39: K48 | C39: =SUM(C33:C38) -> 1580053
A40: Ellátottak pénzbeli juttatásai | B40: K4 | C40: =SUM(C39) -> 1580053

Sheet 14. melléklet
A1: 14. melléklet 1/2018. (I.23.) önkormányzati rendelethez
A3: SORKIKÁPOLNA Önkormányzat 2018. évi költségvetése
A4: Helyi adó és egyéb közhatalmi bevételek (Ft)
A6: Megnevezés | B6: Rovat-szám | C6: eredeti ei.
A7: építményadó | B7: B34
A8: épület után fizetett idegenforgalmi adó | B8: B34
A9: magánszemélyek kommunális adója | B9: B34 | C9: 240000
A10: telekadó | B10: B34
A11: Vagyoni tipusú adók | B11: B34 | C11: =SUM(C9:C10) -> 240000
A12: Értékesítési és forgalmi adók | B12: B351 | C12: 0
A13: ebből: állandó jeleggel végzett iparűzési tevékenység után fizetett helyi iparűzési adó | B13: B351 | C13: 4650000
A14: ebből: ideiglenes jeleggel végzett tevékenység után fizetett helyi iparűzési adó | B14: B351
A15: Gépjárműadók | B15: B354 | C15: 0
A16: ebből: belföldi gépjárművek adójának a központi költségvetést megillető része | B16: B354
A17: ebből: belföldi gépjárművek adójának a helyi önkormányzatot megillető része | B17: B354 | C17: 500000
A18: ebből: külföldi gépjárművek adója | B18: B354
A19: ebből: gépjármű túlsúlydíj | B19: B354
A20: Egyéb áruhasználati és szolgáltatási adók | B20: B355 | C20: 0
A21: ebből: tartózkodás után fizetett idegenforgalmi adó | B21: B355
A22: ebből: talajterhelési díj | B22: B355 | C22: 30000
A23: Termékek és szolgáltatások adói | B23: B35 | C23: =SUM(C12:C22) -> 5180000
A24: eljárási illetékek | B24: B36 | C24: 0
A25: igazgatási szolgáltatási díjak | B25: B36
A26: felügyeleti díjak | B26: B36
A27: ebrendészeti hozzájárulás | B27: B36
A28: környezetvédelmi bírság | B28: B36
A29: természetvédelmi bírság | B29: B36
A30: műemlékvédelmi bírság | B30: B36
A31: építésügyi bírság | B31: B36
A32: szabálysértési pénz- és helyszíni mbírság és a közlekedési szabályszegések után kiszabott közigazgatási bírság helyi önkormányzatot megillető része | B32: B36
A33: késedelmi pótlék | B33: B36 | C33: 0
A34: Egyéb közhatalmi bevételek | B34: B36 | C34: 0

Sheet 15. melléklet
C1: 15. melléklet 1/2018. (I.23.) önkormányzati rendelethez
A3: SORKIKÁPOLNA Önkormányzat 2018. évi költségvetése
A4: A költségvetési hiány külső finanszírozására vagy a költségvetési többlet felhasználására szolgáló finanszírozási bevételek és kiadások működési és felhalmozási cél szerinti tagolásban (Ft)
A6: ÖNKORMÁNYZATI ELŐIRÁNYZATOK
A7: Megnevezés | B7: Rovat-szám | C7: eredeti ei. Működési célú | D7: eredeti ei. Felhalmozási célú
A8: Hosszú lejáratú hitelek, kölcsönök törlesztése | B8: K9111
A9: ebből: pénzügyi vállalkozás | B9: K9111
A10: ebből: fedezeti ügyletek nettó kiadásai | B10: K9111
A11: Likviditási célú hitelek, kölcsönök törlesztése pénzügyi vállalkozásnak | B11: K9112
A12: Rövid lejáratú hitelek, kölcsönök törlesztése | B12: K9113
A13: ebből: pénzügyi vállalkozás | B13: K9113
A14: ebből: fedezeti ügyletek nettó kiadásai | B14: K9113
A15: Hitel-, kölcsöntörlesztés államháztartáson kívülre | B15: K911
A16: Forgatási célú belföldi értékpapírok vásárlása | B16: K9121
A17: ebből: befektetési jegyek | B17: K9121
A18: ebből: kárpótlási jegyek | B18: K9121
A19: Forgatási célú belföldi értékpapírok beváltása | B19: K9122
... A26: Államháztartáson belüli megelőlegezések folyósítása | B26: K913
A27: Államháztartáson belüli megelőlegezések visszafizetése | B27: K914 | C27: 695888
A28: Pénzeszközök betétként elhelyezése | B28: K916
A29: Pénzügyi lízing kiadásai | B29: K917
A30: Központi költségvetés sajátos finanszírozási kiadásai | B30: K918
A31: Belföldi finanszírozás kiadásai | B31: K91 | C31: =SUM(C27:C30) -> 695888
A32: Forgatási célú külföldi értékpapírok vásárlása | B32: K921
A33: Befektetési célú külföldi értékpapírok vásárlása | B33: K922
A34: Külföldi értékpapírok beváltása | B34: K923
A35: ebből: fedezeti ügyletek nettó kiadásai | B35: K923
A36: Külföldi hitelek, kölcsönök törlesztése | B36: K924
A37: ebből: nemzetközi fejlesztési szervezetek | B37: K924
A38: ebből: más kormányok | B38: K924
A39: ebből: külföldi pénzintézetek | B39: K924
A40: ebből: fedezeti ügyletek nettó kiadásai | B40: K924
A41: Külföldi finanszírozás kiadásai | B41: K92
A44: Megnevezés | B44: Rovat-szám | C44: eredeti ei. Működési célú
A45: Hosszú lejáratú hitelek, kölcsönök felvétele | B45: B8111
A46: ebből: pénzügyi vállalkozás | B46: B8111
A47: Likviditási célú hitelek, kölcsönök felvétele pénzügyi vállalkozástól | B47: B8112
A48: Rövid lejáratú hitelek, kölcsönök felvétele | B48: B8113
A49: ebből: pénzügyi vállalkozás | B49: B8113
A50: Hitel-, kölcsönfelvétel államháztartáson kívülről | B50: B811
A51: Forgatási célú belföldi értékpapírok beváltása, értékesítése | B51: B8121
A52: ebből: befektetési jegyek | B52: B8121
A53: Forgatási célú belföldi értékpapírok kibocsátása | B53: B8122
A54: Befektetési célú belföldi értékpapírok beváltása, értékesítése | B54: B8123
A55: ebből: kárpótlási jegyek | B55: B8123
A56: Befektetési célú belföldi értékpapírok kibocsátása | B56: B8124
... A71: Külföldi finanszírozás bevételei | B71: B82
