Workbook
Name _pr10: '8. melléklet'!#REF!
Name _pr12: '8. melléklet'!#REF!
Name _pr21: '7. melléklet'!$A$57
Name _pr232: '10. melléklet'!$A$13
Name _pr233: '10. melléklet'!$A$18
Name _pr234: '10. melléklet'!$A$26
Name _pr235: '10. melléklet'!$A$31
Name _pr236: '10. melléklet'!$A$36
Name _pr24: '7. melléklet'!$A$59
Name _pr25: '7. melléklet'!$A$60
Name _pr26: '7. melléklet'!$A$61
Name _pr27: '7. melléklet'!$A$62
Name _pr28: '7. melléklet'!$A$63
Name _pr312: '10. melléklet'!#REF!
Name _pr313: '10. melléklet'!#REF!
Name _pr314: '10. melléklet'!$A$5
Name _pr315: '10. melléklet'!#REF!
Name _pr7: '8. melléklet'!#REF!
Name _pr8: '8. melléklet'!#REF!
Name _pr9: '8. melléklet'!#REF!
Name foot_4_place: '8. melléklet'!$A$20
Name foot_5_place: '8. melléklet'!#REF!
Name foot_53_place: '8. melléklet'!#REF!
Name léé: '8. melléklet'!#REF!
Name mmm: '7. melléklet'!#REF!

Sheet 1. melléklet
A1: 1. melléklet 1/2018. (I.23.) önkormányzati rendelethez
A3: SORKIKÁPOLNA Önkormányzat 2018. évi költségvetése
A4: Az egységes rovatrend szerint a kiemelt kiadási és bevételi jogcímek
A7: K1. Személyi juttatások
A8: K2. Munkaadókat terhelő járulékok és szociális hozzájárulási adó
A9: K3. Dologi kiadások
A10: K4. Ellátottak pénzbeli juttatásai
A11: K5. Egyéb működési célú kiadások
A12: K6. Beruházási kiadások
A13: K7. Felújítások
A14: K8. Egyéb felhalmozási célú kiadások
A15: K1-8. Költségvetési kiadások
... A27: BEVÉTELEK ÖSSZESEN (B1-8)

Sheet 2. melléklet
C1: 2. melléklet 1/2018. (I.23.) önkormányzati rendelethez
A3: SORKIKÁPOLNA Önkormányzat 2018. évi költségvetése
A4: Kiadások (Ft)
A6: SORKIKÁPOLNA ÖNKORMÁNYZATI ELŐIRÁNYZATOK | C6: EREDETI ELŐIRÁNYZAT | G6: I. n.év módosított ELŐIRÁNYZAT | K6: II. n.év módosított ELŐIRÁNYZAT | O6: III. n.év módosított ELŐIRÁNYZAT | S6: IV. n.év módosított ELŐIRÁNYZAT
A7: Rovat megnevezése | B7: Rovat-szám | C7: kötelező feladatok | D7: önként vállalt feladatok | E7: államigazgatási feladatok | F7: ÖSSZESEN | G7: kötelező feladatok | H7: önként vállalt feladatok | I7: államigazgatási feladatok | J7: ÖSSZESEN | K7: kötelező feladatok | L7: önként vállalt feladatok | M7: államigazgatási feladatok | N7: ÖSSZESEN | O7: kötelező feladatok | P7: önként vállalt feladatok | Q7: államigazgatási feladatok | R7: ÖSSZESEN | S7: kötelező feladatok | T7: önként vállalt feladatok | U7: államigazgatási feladatok | V7: ÖSSZESEN
A8: Törvény szerinti illetmények, munkabérek | B8: K1101 | C8: 4496330 | D8: 0 | E8: 0 | F8: =SUM(C8:E8) -> 4496330 | G8: 4521239 | H8: 0 | I8: 0 | J8: =SUM(G8:I8) -> 4521239 | K8: 4545974 | L8: 0 | M8: 0 | N8: =SUM(K8:M8) -> 4545974 | O8: 4480462 | P8: 0 | Q8: 0 | R8: =SUM(O8:Q8) -> 4480462 | S8: 4231572 | T8: 0 | U8: 0 | V8: =SUM(S8:U8) -> 4231572
A9: Normatív jutalmak | B9: K1102 | C9: 0 | D9: 0 | E9: 0 | F9: =SUM(C9:E9) -> 0 | G9: 0 | H9: 0 | I9: 0 | J9: =SUM(G9:I9) -> 0 | K9: 0 | L9: 0 | M9: 0 | N9: =SUM(K9:M9) -> 0 | O9: 0 | P9: 0 | Q9: 0 | R9: =SUM(O9:Q9) -> 0 | S9: 0 | T9: 0 | U9: 0 | V9: =SUM(S9:U9) -> 0
A10: Céljuttatás, projektprémium | B10: K1103 | C10: 0 | D10: 0 | E10: 0 | F10: =SUM(C10:E10) -> 0 | G10: 0 | H10: 0 | I10: 0 | J10: =SUM(G10:I10) -> 0 | K10: 0 | L10: 0 | M10: 0 | N10: =SUM(K10:M10) -> 0 | O10: 0 | P10: 0 | Q10: 0 | R10: =SUM(O10:Q10) -> 0 | S10: 0 | T10: 0 | U10: 0 | V10: =SUM(S10:U10) -> 0
A11: Készenléti, ügyeleti, helyettesítési díj, túlóra, túlszolgálat | B11: K1104 | C11: 0 | D11: 0 | E11: 0 | F11: =SUM(C11:E11) -> 0 | G11: 0 | H11: 0 | I11: 0 | J11: =SUM(G11:I11) -> 0 | K11: 0 | L11: 0 | M11: 0 | N11: =SUM(K11:M11) -> 0 | O11: 0 | P11: 0 | Q11: 0 | R11: =SUM(O11:Q11) -> 0 | S11: 0 | T11: 0 | U11: 0 | V11: =SUM(S11:U11) -> 0
A12: Végkielégítés | B12: K1105 | C12: 0 | D12: 0 | E12: 0 | F12: =SUM(C12:E12) -> 0 | G12: 0 | H12: 0 | I12: 0 | J12: =SUM(G12:I12) -> 0 | K12: 0 | L12: 0 | M12: 0 | N12: =SUM(K12:M12) -> 0 | O12: 0 | P12: 0 | Q12: 0 | R12: =SUM(O12:Q12) -> 0 | S12: 0 | T12: 0 | U12: 0 | V12: =SUM(S12:U12) -> 0
A13: Jubileumi jutalom | B13: K1106 | C13: 0 | D13: 0 | E13: 0 | F13: =SUM(C13:E13) -> 0 | G13: 0 | H13: 0 | I13: 0 | J13: =SUM(G13:I13) -> 0 | K13: 0 | L13: 0 | M13: 0 | N13: =SUM(K13:M13) -> 0 | O13: 0 | P13: 0 | Q13: 0 | R13: =SUM(O13:Q13) -> 0 | S13: 0 | T13: 0 | U13: 0 | V13: =SUM(S13:U13) -> 0
A14: Béren kívüli juttatások | B14: K1107 | C14: 282000 | D14: 0 | E14: 0 | F14: =SUM(C14:E14) -> 282000 | G14: 282000 | H14: 0 | I14: 0 | J14: =SUM(G14:I14) -> 282000 | K14: 282000 | L14: 0 | M14: 0 | N14: =SUM(K14:M14) -> 282000 | O14: 282000 | P14: 0 | Q14: 0 | R14: =SUM(O14:Q14) -> 282000 | S14: 282000 | T14: 0 | U14: 0 | V14: =SUM(S14:U14) -> 282000
A15: Ruházati költségtérítés | B15: K1108 | C15: 0 | D15: 0 | E15: 0 | F15: =SUM(C15:E15) -> 0 | G15: 0 | H15: 0 | I15: 0 | J15: =SUM(G15:I15) -> 0 | K15: 0 | L15: 0 | M15: 0 | N15: =SUM(K15:M15) -> 0 | O15: 0 | P15: 0 | Q15: 0 | R15: =SUM(O15:Q15) -> 0 | S15: 0 | T15: 0 | U15: 0 | V15: =SUM(S15:U15) -> 0
A16: Közlekedési költségtérítés | B16: K1109 | C16: 0 | D16: 0 | E16: 0 | F16: =SUM(C16:E16) -> 0 | G16: 0 | H16: 0 | I16: 0 | J16: =SUM(G16:I16) -> 0 | K16: 0 | L16: 0 | M16: 0 | N16: =SUM(K16:M16) -> 0 | O16: 0 | P16: 0 | Q16: 0 | R16: =SUM(O16:Q16) -> 0 | S16: 0 | T16: 0 | U16: 0 | V16: =SUM(S16:U16) -> 0
A17: Egyéb költségtérítések | B17: K1110 | C17: 0 | D17: 0 | E17: 0 | F17: =SUM(C17:E17) -> 0 | G17: 0 | H17: 0 | I17: 0 | J17: =SUM(G17:I17) -> 0 | K17: 0 | L17: 0 | M17: 0 | N17: =SUM(K17:M17) -> 0 | O17: 0 | P17: 0 | Q17: 0 | R17: =SUM(O17:Q17) -> 0 | S17: 0 | T17: 0 | U17: 0 | V17: =SUM(S17:U17) -> 0
A18: Lakhatási támogatások | B18: K1111 | C18: 0 | D18: 0 | E18: 0 | F18: =SUM(C18:E18) -> 0 | G18: 0 | H18: 0 | I18: 0 | J18: =SUM(G18:I18) -> 0 | K18: 0 | L18: 0 | M18: 0 | N18: =SUM(K18:M18) -> 0 | O18: 0 | P18: 0 | Q18: 0 | R18: =SUM(O18:Q18) -> 0 | S18: 0 | T18: 0 | U18: 0 | V18: =SUM(S18:U18) -> 0
A19: Szociális támogatások | B19: K1112 | C19: 0 | D19: 0 | E19: 0 | F19: =SUM(C19:E19) -> 0 | G19: 0 | H19: 0 | I19: 0 | J19: =SUM(G19:I19) -> 0 | K19: 0 | L19: 0 | M19: 0 | N19: =SUM(K19:M19) -> 0 | O19: 0 | P19: 0 | Q19: 0 | R19: =SUM(O19:Q19) -> 0 | S19: 0 | T19: 0 | U19: 0 | V19: =SUM(S19:U19) -> 0
A20: Foglalkoztatottak egyéb személyi juttatásai | B20: K1113 | C20: 0 | D20: 0 | E20: 0 | F20: =SUM(C20:E20) -> 0 | G20: 0 | H20: 0 | I20: 0 | J20: =SUM(G20:I20) -> 0 | K20: 0 | L20: 0 | M20: 0 | N20: =SUM(K20:M20) -> 0 | O20: 90250 | P20: 0 | Q20: 0 | R20: =SUM(O20:Q20) -> 90250 | S20: 90250 | T20: 0 | U20: 0 | V20: =SUM(S20:U20) -> 90250
A21: Foglalkoztatottak személyi juttatásai | B21: K11 | C21: =SUM(C8:C20) -> 4778330 | D21: =SUM(D8:D20) -> 0 | E21: =SUM(E8:E20) -> 0 | F21: =SUM(C21:E21) -> 4778330 | G21: =SUM(G8:G20) -> 4803239 | H21: =SUM(H8:H20) -> 0 | I21: =SUM(I8:I20) -> 0 | J21: =SUM(G21:I21) -> 4803239 | K21: =SUM(K8:K20) -> 4827974 | L21: =SUM(L8:L20) -> 0 | M21: =SUM(M8:M20) -> 0 | N21: =SUM(K21:M21) -> 4827974 | O21: =SUM(O8:O20) -> 4852712 | P21: =SUM(P8:P20) -> 0 | Q21: =SUM(Q8:Q20) -> 0 | R21: =SUM(O21:Q21) -> 4852712 | S21: =SUM(S8:S20) -> 4603822 | T21: =SUM(T8:T20) -> 0 | U21: =SUM(U8:U20) -> 0 | V21: =SUM(S21:U21) -> 4603822
A22: Választott tisztségviselők juttatásai | B22: K121 | C22: 3062860 | D22: 0 | E22: 0 | F22: =SUM(C22:E22) -> 3062860 | G22: 3062860 | H22: 0 | I22: 0 | J22: =SUM(G22:I22) -> 3062860 | K22: 3062860 | L22: 0 | M22: 0 | N22: =SUM(K22:M22) -> 3062860 | O22: 3062860 | P22: 0 | Q22: 0 | R22: =SUM(O22:Q22) -> 3062860 | S22: 3062860 | T22: 0 | U22: 0 | V22: =SUM(S22:U22) -> 3062860
A23: Munkavégzésre irányuló egyéb jogviszonyban nem saját foglalkoztatottnak fizetett juttatások | B23: K122 | C23: 0 | D23: 0 | E23: 0 | F23: =SUM(C23:E23) -> 0 | G23: 600000 | H23: 0 | I23: 0 | J23: =SUM(G23:I23) -> 600000 | K23: 2761000 | L23: 0 | M23: 0 | N23: =SUM(K23:M23) -> 2761000 | O23: 2761000 | P23: 0 | Q23: 0 | R23: =SUM(O23:Q23) -> 2761000 | S23: 2210000 | T23: 0 | U23: 0 | V23: =SUM(S23:U23) -> 2210000
A24: Egyéb külső személyi juttatások | B24: K123 | C24: 760000 | D24: 0 | E24: 0 | F24: =SUM(C24:E24) -> 760000 | G24: 160000 | H24: 0 | I24: 0 | J24: =SUM(G24:I24) -> 160000 | K24: 660000 | L24: 0 | M24: 0 | N24: =SUM(K24:M24) -> 660000 | O24: 660000 | P24: 0 | Q24: 0 | R24: =SUM(O24:Q24) -> 660000 | S24: 610000 | T24: 0 | U24: 0 | V24: =SUM(S24:U24) -> 610000
A25: Külső személyi juttatások | B25: K12 | C25: =SUM(C22:C24) -> 3822860 | D25: =SUM(D22:D24) -> 0 | E25: =SUM(E22:E24) -> 0 | F25: =SUM(C25:E25) -> 3822860 | G25: =SUM(G22:G24) -> 3822860 | H25: =SUM(H22:H24) -> 0 | I25: =SUM(I22:I24) -> 0 | J25: =SUM(G25:I25) -> 3822860 | K25: =SUM(K22:K24) -> 6483860 | L25: =SUM(L22:L24) -> 0 | M25: =SUM(M22:M24) -> 0 | N25: =SUM(K25:M25) -> 6483860 | O25: =SUM(O22:O24) -> 6483860 | P25: =SUM(P22:P24) -> 0 | Q25: =SUM(Q22:Q24) -> 0 | R25: =SUM(O25:Q25) -> 6483860 | S25: =SUM(S22:S24) -> 5882860 | T25: =SUM(T22:T24) -> 0 | U25: =SUM(U22:U24) -> 0 | V25: =SUM(S25:U25) -> 5882860
A26: Személyi juttatások | B26: K1 | C26: =C21+C25 -> 8601190 | D26: =D21+D25 -> 0 | E26: =E21+E25 -> 0 | F26: =SUM(C26:E26) -> 8601190 | G26: =G21+G25 -> 8626099 | H26: =H21+H25 -> 0 | I26: =I21+I25 -> 0 | J26: =SUM(G26:I26) -> 8626099 | K26: =K21+K25 -> 11311834 | L26: =L21+L25 -> 0 | M26: =M21+M25 -> 0 | N26: =SUM(K26:M26) -> 11311834 | O26: =O21+O25 -> 11336572 | P26: =P21+P25 -> 0 | Q26: =Q21+Q25 -> 0 | R26: =SUM(O26:Q26) -> 11336572 | S26: =S21+S25 -> 10486682 | T26: =T21+T25 -> 0 | U26: =U21+U25 -> 0 | V26: =SUM(S26:U26) -> 10486682
A27: Munkaadókat terhelő járulékok és szociális hozzájárulási adó | B27: K2 | C27: 1596847 | D27: 0 | E27: 0 | F27: =SUM(C27:E27) -> 1596847 | G27: 1596847 | H27: 0 | I27: 0 | J27: =SUM(G27:I27) -> 1596847 | K27: 1596847 | L27: 0 | M27: 0 | N27: =SUM(K27:M27) -> 1596847 | O27: 1596847 | P27: 0 | Q27: 0 | R27: =SUM(O27:Q27) -> 1596847 | S27: 1900453 | T27: 0 | U27: 0 | V27: =SUM(S27:U27) -> 1900453
A28: Szakmai anyagok beszerzése | B28: K311 | C28: 0 | D28: 0 | E28: 0 | F28: =SUM(C28:E28) -> 0 | G28: 0 | H28: 0 | I28: 0 | J28: =SUM(G28:I28) -> 0 | K28: 24000 | L28: 0 | M28: 0 | N28: =SUM(K28:M28) -> 24000 | O28: 24000 | P28: 0 | Q28: 0 | R28: =SUM(O28:Q28) -> 24000 | S28: 38000 | T28: 0 | U28: 0 | V28: =SUM(S28:U28) -> 38000
A29: Üzemeltetési anyagok beszerzése | B29: K312 | C29: 1513000 | D29: 0 | E29: 0 | F29: =SUM(C29:E29) -> 1513000 | G29: 1513000 | H29: 0 | I29: 0 | J29: =SUM(G29:I29) -> 1513000 | K29: 1489000 | L29: 0 | M29: 0 | N29: =SUM(K29:M29) -> 1489000 | O29: 1489000 | P29: 0 | Q29: 0 | R29: =SUM(O29:Q29) -> 1489000 | S29: 1624505 | T29: 0 | U29: 0 | V29: =SUM(S29:U29) -> 1624505
A30: Árubeszerzés | B30: K313 | C30: 0 | D30: 0 | E30: 0 | F30: =SUM(C30:E30) -> 0 | G30: 0 | H30: 0 | I30: 0 | J30: =SUM(G30:I30) -> 0 | K30: 0 | L30: 0 | M30: 0 | N30: =SUM(K30:M30) -> 0 | O30: 0 | P30: 0 | Q30: 0 | R30: =SUM(O30:Q30) -> 0 | S30: 0 | T30: 0 | U30: 0 | V30: =SUM(S30:U30) -> 0
A31: Készletbeszerzés | B31: K31 | C31: =SUM(C28:C30) -> 1513000 | D31: =SUM(D28:D30) -> 0 | E31: =SUM(E28:E30) -> 0 | F31: =SUM(C31:E31) -> 1513000 | G31: =SUM(G28:G30) -> 1513000 | H31: =SUM(H28:H30) -> 0 | I31: =SUM(I28:I30) -> 0 | J31: =SUM(G31:I31) -> 1513000 | K31: =SUM(K28:K30) -> 1513000 | L31: =SUM(L28:L30) -> 0 | M31: =SUM(M28:M30) -> 0 | N31: =SUM(K31:M31) -> 1513000 | O31: =SUM(O28:O30) -> 1513000 | P31: =SUM(P28:P30) -> 0 | Q31: =SUM(Q28:Q30) -> 0 | R31: =SUM(O31:Q31) -> 1513000 | S31: =SUM(S28:S30) -> 1662505 | T31: =SUM(T28:T30) -> 0 | U31: =SUM(U28:U30) -> 0 | V31: =SUM(S31:U31) -> 1662505
A32: Informatikai szolgáltatások igénybevétele | B32: K321 | C32: 50000 | D32: 0 | E32: 0 | F32: =SUM(C32:E32) -> 50000 | G32: 50000 | H32: 0 | I32: 0 | J32: =SUM(G32:I32) -> 50000 | K32: 350000 | L32: 0 | M32: 0 | N32: =SUM(K32:M32) -> 350000 | O32: 350000 | P32: 0 | Q32: 0 | R32: =SUM(O32:Q32) -> 350000 | S32: 450000 | T32: 0 | U32: 0 | V32: =SUM(S32:U32) -> 450000
A33: Egyéb kommunikációs szolgáltatások | B33: K322 | C33: 1430000 | D33: 0 | E33: 0 | F33: =SUM(C33:E33) -> 1430000 | G33: 1430000 | H33: 0 | I33: 0 | J33: =SUM(G33:I33) -> 1430000 | K33: 630000 | L33: 0 | M33: 0 | N33: =SUM(K33:M33) -> 630000 | O33: 630000 | P33: 0 | Q33: 0 | R33: =SUM(O33:Q33) -> 630000 | S33: 630000 | T33: 0 | U33: 0 | V33: =SUM(S33:U33) -> 630000
A34: Kommunikációs szolgáltatások | B34: K32 | C34: =SUM(C32:C33) -> 1480000 | D34: =SUM(D32:D33) -> 0 | E34: =SUM(E32:E33) -> 0 | F34: =SUM(C34:E34) -> 1480000 | G34: =SUM(G32:G33) -> 1480000 | H34: =SUM(H32:H33) -> 0 | I34: =SUM(I32:I33) -> 0 | J34: =SUM(G34:I34) -> 1480000 | K34: =SUM(K32:K33) -> 980000 | L34: =SUM(L32:L33) -> 0 | M34: =SUM(M32:M33) -> 0 | N34: =SUM(K34:M34) -> 980000 | O34: =SUM(O32:O33) -> 980000 | P34: =SUM(P32:P33) -> 0 | Q34: =SUM(Q32:Q33) -> 0 | R34: =SUM(O34:Q34) -> 980000 | S34: =SUM(S32:S33) -> 1080000 | T34: =SUM(T32:T33) -> 0 | U34: =SUM(U32:U33) -> 0 | V34: =SUM(S34:U34) -> 1080000
A35: Közüzemi díjak | B35: K331 | C35: 2143920 | D35: 0 | E35: 0 | F35: =SUM(C35:E35) -> 2143920 | G35: 2143920 | H35: 0 | I35: 0 | J35: =SUM(G35:I35) -> 2143920 | K35: 2143920 | L35: 0 | M35: 0 | N35: =SUM(K35:M35) -> 2143920 | O35: 2143920 | P35: 0 | Q35: 0 | R35: =SUM(O35:Q35) -> 2143920 | S35: 2143920 | T35: 0 | U35: 0 | V35: =SUM(S35:U35) -> 2143920
A36: Vásárolt élelmezés | B36: K332 | C36: 0 | D36: 0 | E36: 0 | F36: =SUM(C36:E36) -> 0 | G36: 0 | H36: 0 | I36: 0 | J36: =SUM(G36:I36) -> 0 | K36: 0 | L36: 0 | M36: 0 | N36: =SUM(K36:M36) -> 0 | O36: 0 | P36: 0 | Q36: 0 | R36: =SUM(O36:Q36) -> 0 | S36: 0 | T36: 0 | U36: 0 | V36: =SUM(S36:U36) -> 0
A37: Bérleti és lízing díjak | B37: K333 | C37: 0 | D37: 0 | E37: 0 | F37: =SUM(C37:E37) -> 0 | G37: 0 | H37: 0 | I37: 0 | J37: =SUM(G37:I37) -> 0 | K37: 0 | L37: 0 | M37: 0 | N37: =SUM(K37:M37) -> 0 | O37: 0 | P37: 0 | Q37: 0 | R37: =SUM(O37:Q37) -> 0 | S37: 0 | T37: 0 | U37: 0 | V37: =SUM(S37:U37) -> 0
A38: Karbantartási, kisjavítási szolgáltatások | B38: K334 | C38: 1080580 | D38: 0 | E38: 0 | F38: =SUM(C38:E38) -> 1080580 | G38: 1080580 | H38: 0 | I38: 0 | J38: =SUM(G38:I38) -> 1080580 | K38: 1080580 | L38: 0 | M38: 0 | N38: =SUM(K38:M38) -> 1080580 | O38: 1080580 | P38: 0 | Q38: 0 | R38: =SUM(O38:Q38) -> 1080580 | S38: 1369393 | T38: 0 | U38: 0 | V38: =SUM(S38:U38) -> 1369393
A39: Közvetített szolgáltatások | B39: K335 | C39: 0 | D39: 0 | E39: 0 | F39: =SUM(C39:E39) -> 0 | G39: 0 | H39: 0 | I39: 0 | J39: =SUM(G39:I39) -> 0 | K39: 0 | L39: 0 | M39: 0 | N39: =SUM(K39:M39) -> 0 | O39: 0 | P39: 0 | Q39: 0 | R39: =SUM(O39:Q39) -> 0 | S39: 0 | T39: 0 | U39: 0 | V39: =SUM(S39:U39) -> 0
A40: Szakmai tevékenységet segítő szolgáltatások | B40: K336 | C40: 140000 | D40: 0 | E40: 0 | F40: =SUM(C40:E40) -> 140000 | G40: 140000 | H40: 0 | I40: 0 | J40: =SUM(G40:I40) -> 140000 | K40: 140000 | L40: 0 | M40: 0 | N40: =SUM(K40:M40) -> 140000 | O40: 140000 | P40: 0 | Q40: 0 | R40: =SUM(O40:Q40) -> 140000 | S40: 141900 | T40: 0 | U40: 0 | V40: =SUM(S40:U40) -> 141900
A41: Egyéb szolgáltatások | B41: K337 | C41: 3250000 | D41: 0 | E41: 0 | F41: =SUM(C41:E41) -> 3250000 | G41: 3250000 | H41: 0 | I41: 0 | J41: =SUM(G41:I41) -> 3250000 | K41: 3250000 | L41: 0 | M41: 0 | N41: =SUM(K41:M41) -> 3250000 | O41: 3250000 | P41: 0 | Q41: 0 | R41: =SUM(O41:Q41) -> 3250000 | S41: 3250000 | T41: 0 | U41: 0 | V41: =SUM(S41:U41) -> 3250000
A42: Szolgáltatási kiadások | B42: K33 | C42: =SUM(C35:C41) -> 6614500 | D42: =SUM(D35:D41) -> 0 | E42: =SUM(E35:E41) -> 0 | F42: =SUM(C42:E42) -> 6614500 | G42: =SUM(G35:G41) -> 6614500 | H42: =SUM(H35:H41) -> 0 | I42: =SUM(I35:I41) -> 0 | J42: =SUM(G42:I42) -> 6614500 | K42: =SUM(K35:K41) -> 6614500 | L42: =SUM(L35:L41) -> 0 | M42: =SUM(M35:M41) -> 0 | N42: =SUM(K42:M42) -> 6614500 | O42: =SUM(O35:O41) -> 6614500 | P42: =SUM(P35:P41) -> 0 | Q42: =SUM(Q35:Q41) -> 0 | R42: =SUM(O42:Q42) -> 6614500 | S42: =SUM(S35:S41) -> 6905213 | T42: =SUM(T35:T41) -> 0 | U42: =SUM(U35:U41) -> 0 | V42: =SUM(S42:U42) -> 6905213
...

Sheet 3. melléklet
B1: 3. melléklet 1/2018. (I.23.) önkormányzati rendelethez
A3: SORKIKÁPOLNA Önkormányzat 2018. évi költségvetése
A4: Bevételek (Ft)
A6: SORKIKÁPOLNA ÖNKORMÁNYZATI ELŐIRÁNYZATOK | C6: EREDETI ELŐIRÁNYZAT | G6: I.n.év módosított ELŐIRÁNYZAT | K6: II.n.év módosított ELŐIRÁNYZAT | O6: III.n.év módosított ELŐIRÁNYZAT | S6: IV.n.év módosított ELŐIRÁNYZAT
A7: Rovat megnevezése | B7: Rovat- szám | C7: kötelező feladatok | D7: önként vállalt feladatok | E7: államigazgatási feladatok | F7: ÖSSZESEN | G7: kötelező feladatok | H7: önként vállalt feladatok | I7: államigazgatási feladatok | J7: ÖSSZESEN | K7: kötelező feladatok | L7: önként vállalt feladatok | M7: államigazgatási feladatok | N7: ÖSSZESEN | O7: kötelező feladatok | P7: önként vállalt feladatok | Q7: államigazgatási feladatok | R7: ÖSSZESEN | S7: kötelező feladatok | T7: önként vállalt feladatok | U7: államigazgatási feladatok | V7: ÖSSZESEN
A8: Helyi önkormányzatok működésének általános támogatása | B8: B111 | C8: 10917211 | D8: 0 | E8: 0 | F8: =SUM(C8:E8) -> 10917211 | G8: 10917211 | H8: 0 | I8: 0 | J8: =SUM(G8:I8) -> 10917211 | K8: 10917211 | L8: 0 | M8: 0 | N8: =SUM(K8:M8) -> 10917211 | O8: 10917211 | P8: 0 | Q8: 0 | R8: =SUM(O8:Q8) -> 10917211 | S8: 10917211 | T8: 0 | U8: 0 | V8: =SUM(S8:U8) -> 10917211
A9: Települési önkormányzatok egyes köznevelési feladatainak támogatása | B9: B112 | C9: 0 | D9: 0 | E9: 0 | F9: =SUM(C9:E9) -> 0 | G9: 0 | H9: 0 | I9: 0 | J9: =SUM(G9:I9) -> 0 | K9: 0 | L9: 0 | M9: 0 | N9: =SUM(K9:M9) -> 0 | O9: 0 | P9: 0 | Q9: 0 | R9: =SUM(O9:Q9) -> 0 | S9: 0 | T9: 0 | U9: 0 | V9: =SUM(S9:U9) -> 0
A10: Települési önkormányzatok szociális és gyermekjóléti feladatainak támogatása | B10: B113 | C10: 4680000 | D10: 0 | E10: 0 | F10: =SUM(C10:E10) -> 4680000 | G10: 4704909 | H10: 0 | I10: 0 | J10: =SUM(G10:I10) -> 4704909 | K10: 4729644 | L10: 0 | M10: 0 | N10: =SUM(K10:M10) -> 4729644 | O10: 4754382 | P10: 0 | Q10: 0 | R10: =SUM(O10:Q10) -> 4754382 | S10: 4765793 | T10: 0 | U10: 0 | V10: =SUM(S10:U10) -> 4765793
A11: Települési önkormányzatok kulturális feladatainak támogatása | B11: B114 | C11: 1800000 | D11: 0 | E11: 0 | F11: =SUM(C11:E11) -> 1800000 | G11: 1800000 | H11: 0 | I11: 0 | J11: =SUM(G11:I11) -> 1800000 | K11: 1800000 | L11: 0 | M11: 0 | N11: =SUM(K11:M11) -> 1800000 | O11: 1800000 | P11: 0 | Q11: 0 | R11: =SUM(O11:Q11) -> 1800000 | S11: 1800000 | T11: 0 | U11: 0 | V11: =SUM(S11:U11) -> 1800000
A12: Működési célú központosított előirányzatok | B12: B115 | C12: 0 | D12: 0 | E12: 0 | F12: =SUM(C12:E12) -> 0 | G12: 0 | H12: 0 | I12: 0 | J12: =SUM(G12:I12) -> 0 | K12: 0 | L12: 0 | M12: 0 | N12: =SUM(K12:M12) -> 0 | O12: 0 | P12: 0 | Q12: 0 | R12: =SUM(O12:Q12) -> 0 | S12: 420000 | T12: 0 | U12: 0 | V12: =SUM(S12:U12) -> 420000
A13: Elszámolásból származó bevételek | B13: B116 | C13: 0 | D13: 0 | E13: 0 | F13: =SUM(C13:E13) -> 0 | G13: 0 | H13: 0 | I13: 0 | J13: =SUM(G13:I13) -> 0 | K13: 0 | L13: 0 | M13: 0 | N13: =SUM(K13:M13) -> 0 | O13: 0 | P13: 0 | Q13: 0 | R13: =SUM(O13:Q13) -> 0 | S13: 0 | T13: 0 | U13: 0 | V13: =SUM(S13:U13) -> 0
A14: Önkormányzatok működési támogatásai | B14: B11 | C14: =SUM(C8:C13) -> 17397211 | D14: =SUM(D8:D13) -> 0 | E14: =SUM(E8:E13) -> 0 | F14: =SUM(C14:E14) -> 17397211 | G14: =SUM(G8:G13) -> 17422120 | H14: =SUM(H8:H13) -> 0 | I14: =SUM(I8:I13) -> 0 | J14: =SUM(G14:I14) -> 17422120 | K14: =SUM(K8:K13) -> 17446855 | L14: =SUM(L8:L13) -> 0 | M14: =SUM(M8:M13) -> 0 | N14: =SUM(K14:M14) -> 17446855 | O14: =SUM(O8:O13) -> 17471593 | P14: =SUM(P8:P13) -> 0 | Q14: =SUM(Q8:Q13) -> 0 | R14: =SUM(O14:Q14) -> 17471593 | S14: =SUM(S8:S13) -> 17903004 | T14: =SUM(T8:T13) -> 0 | U14: =SUM(U8:U13) -> 0 | V14: =SUM(S14:U14) -> 17903004
A15: Elvonások és befizetések bevételei | B15: B12 | C15: 0 | D15: 0 | E15: 0 | F15: =SUM(C15:E15) -> 0 | G15: 0 | H15: 0 | I15: 0 | J15: =SUM(G15:I15) -> 0 | K15: 0 | L15: 0 | M15: 0 | N15: =SUM(K15:M15) -> 0 | O15: 0 | P15: 0 | Q15: 0 | R15: =SUM(O15:Q15) -> 0 | S15: 0 | T15: 0 | U15: 0 | V15: =SUM(S15:U15) -> 0
A16: Működési célú garancia- és kezességvállalásból származó megtérülések államháztartáson belülről | B16: B13 | C16: 0 | D16: 0 | E16: 0 | F16: =SUM(C16:E16) -> 0 | G16: 0 | H16: 0 | I16: 0 | J16: =SUM(G16:I16) -> 0 | K16: 0 | L16: 0 | M16: 0 | N16: =SUM(K16:M16) -> 0 | O16: 0 | P16: 0 | Q16: 0 | R16: =SUM(O16:Q16) -> 0 | S16: 0 | T16: 0 | U16: 0 | V16: =SUM(S16:U16) -> 0
A17: Működési célú visszatérítendő támogatások, kölcsönök visszatérülése államháztartáson belülről | B17: B14 | C17: 0 | D17: 0 | E17: 0 | F17: =SUM(C17:E17) -> 0 | G17: 0 | H17: 0 | I17: 0 | J17: =SUM(G17:I17) -> 0 | K17: 0 | L17: 0 | M17: 0 | N17: =SUM(K17:M17) -> 0 | O17: 0 | P17: 0 | Q17: 0 | R17: =SUM(O17:Q17) -> 0 | S17: 0 | T17: 0 | U17: 0 | V17: =SUM(S17:U17) -> 0
A18: Működési célú visszatérítendő támogatások, kölcsönök igénybevétele államháztartáson belülről | B18: B15 | C18: 0 | D18: 0 | E18: 0 | F18: =SUM(C18:E18) -> 0 | G18: 0 | H18: 0 | I18: 0 | J18: =SUM(G18:I18) -> 0 | K18: 0 | L18: 0 | M18: 0 | N18: =SUM(K18:M18) -> 0 | O18: 0 | P18: 0 | Q18: 0 | R18: =SUM(O18:Q18) -> 0 | S18: 0 | T18: 0 | U18: 0 | V18: =SUM(S18:U18) -> 0
A19: Egyéb működési célú támogatások bevételei államháztartáson belülről | B19: B16 | C19: 81530 | D19: 0 | E19: 0 | F19: =SUM(C19:E19) -> 81530 | G19: 81530 | H19: 0 | I19: 0 | J19: =SUM(G19:I19) -> 81530 | K19: 81530 | L19: 0 | M19: 0 | N19: =SUM(K19:M19) -> 81530 | O19: 81530 | P19: 0 | Q19: 0 | R19: =SUM(O19:Q19) -> 81530 | S19: 81530 | T19: 0 | U19: 0 | V19: =SUM(S19:U19) -> 81530
A20: Működési célú támogatások államháztartáson belülről | B20: B1 | C20: =SUM(C14:C19) -> 17478741 | D20: =SUM(D14:D19) -> 0 | E20: =SUM(E14:E19) -> 0 | F20: =SUM(C20:E20) -> 17478741 | G20: =SUM(G14:G19) -> 17503650 | H20: =SUM(H14:H19) -> 0 | I20: =SUM(I14:I19) -> 0 | J20: =SUM(G20:I20) -> 17503650 | K20: =SUM(K14:K19) -> 17528385 | L20: =SUM(L14:L19) -> 0 | M20: =SUM(M14:M19) -> 0 | N20: =SUM(K20:M20) -> 17528385 | O20: =SUM(O14:O19) -> 17553123 | P20: =SUM(P14:P19) -> 0 | Q20: =SUM(Q14:Q19) -> 0 | R20: =SUM(O20:Q20) -> 17553123 | S20: =SUM(S14:S19) -> 17984534 | T20: =SUM(T14:T19) -> 0 | U20: =SUM(U14:U19) -> 0 | V20: =SUM(S20:U20) -> 17984534
A21: Magánszemélyek jövedelemadói | B21: B311 | C21: 0 | D21: 0 | E21: 0 | F21: =SUM(C21:E21) -> 0 | G21: 0 | H21: 0 | I21: 0 | J21: =SUM(G21:I21) -> 0 | K21: 0 | L21: 0 | M21: 0 | N21: =SUM(K21:M21) -> 0 | O21: 0 | P21: 0 | Q21: 0 | R21: =SUM(O21:Q21) -> 0 | S21: 0 | T21: 0 | U21: 0 | V21: =SUM(S21:U21) -> 0
A22: Társaságok jövedelemadói | B22: B312 | C22: 0 | D22: 0 | E22: 0 | F22: =SUM(C22:E22) -> 0 | G22: 0 | H22: 0 | I22: 0 | J22: =SUM(G22:I22) -> 0 | K22: 0 | L22: 0 | M22: 0 | N22: =SUM(K22:M22) -> 0 | O22: 0 | P22: 0 | Q22: 0 | R22: =SUM(O22:Q22) -> 0 | S22: 0 | T22: 0 | U22: 0 | V22: =SUM(S22:U22) -> 0
A23: Jövedelemadók | B23: B31 | C23: =SUM(C21:C22) -> 0 | D23: =SUM(D21:D22) -> 0 | E23: =SUM(E21:E22) -> 0 | F23: =SUM(C23:E23) -> 0 | G23: =SUM(G21:G22) -> 0 | H23: =SUM(H21:H22) -> 0 | I23: =SUM(I21:I22) -> 0 | J23: =SUM(G23:I23) -> 0 | K23: =SUM(K21:K22) -> 0 | L23: =SUM(L21:L22) -> 0 | M23: =SUM(M21:M22) -> 0 | N23: =SUM(K23:M23) -> 0 | O23: =SUM(O21:O22) -> 0 | P23: =SUM(P21:P22) -> 0 | Q23: =SUM(Q21:Q22) -> 0 | R23: =SUM(O23:Q23) -> 0 | S23: =SUM(S21:S22) -> 0 | T23: =SUM(T21:T22) -> 0 | U23: =SUM(U21:U22) -> 0 | V23: =SUM(S23:U23) -> 0
A24: Szociális hozzájárulási adó és járulékok | B24: B32 | C24: 0 | D24: 0 | E24: 0 | F24: =SUM(C24:E24) -> 0 | G24: 0 | H24: 0 | I24: 0 | J24: =SUM(G24:I24) -> 0 | K24: 0 | L24: 0 | M24: 0 | N24: =SUM(K24:M24) -> 0 | O24: 0 | P24: 0 | Q24: 0 | R24: =SUM(O24:Q24) -> 0 | S24: 0 | T24: 0 | U24: 0 | V24: =SUM(S24:U24) -> 0
A25: Bérhez és foglalkoztatáshoz kapcsolódó adók | B25: B33 | C25: 0 | D25: 0 | E25: 0 | F25: =SUM(C25:E25) -> 0 | G25: 0 | H25: 0 | I25: 0 | J25: =SUM(G25:I25) -> 0 | K25: 0 | L25: 0 | M25: 0 | N25: =SUM(K25:M25) -> 0 | O25: 0 | P25: 0 | Q25: 0 | R25: =SUM(O25:Q25) -> 0 | S25: 0 | T25: 0 | U25: 0 | V25: =SUM(S25:U25) -> 0
A26: Vagyoni tipusú adók | B26: B34 | C26: 240000 | D26: 0 | E26: 0 | F26: =SUM(C26:E26) -> 240000 | G26: 240000 | H26: 0 | I26: 0 | J26: =SUM(G26:I26) -> 240000 | K26: 240000 | L26: 0 | M26: 0 | N26: =SUM(K26:M26) -> 240000 | O26: 240000 | P26: 0 | Q26: 0 | R26: =SUM(O26:Q26) -> 240000 | S26: 240000 | T26: 0 | U26: 0 | V26: =SUM(S26:U26) -> 240000
A27: Értékesítési és forgalmi adók | B27: B351 | C27: 4650000 | D27: 0 | E27: 0 | F27: =SUM(C27:E27) -> 4650000 | G27: 4650000 | H27: 0 | I27: 0 | J27: =SUM(G27:I27) -> 4650000 | K27: 4650000 | L27: 0 | M27: 0 | N27: =SUM(K27:M27) -> 4650000 | O27: 4650000 | P27: 0 | Q27: 0 | R27: =SUM(O27:Q27) -> 4650000 | S27: 4650000 | T27: 0 | U27: 0 | V27: =SUM(S27:U27) -> 4650000
A28: Fogyasztási adók | B28: B352 | C28: 0 | D28: 0 | E28: 0 | F28: =SUM(C28:E28) -> 0 | G28: 0 | H28: 0 | I28: 0 | J28: =SUM(G28:I28) -> 0 | K28: 0 | L28: 0 | M28: 0 | N28: =SUM(K28:M28) -> 0 | O28: 0 | P28: 0 | Q28: 0 | R28: =SUM(O28:Q28) -> 0 | S28: 0 | T28: 0 | U28: 0 | V28: =SUM(S28:U28) -> 0
A29: Pénzügyi monopóliumok nyereségét terhelő adók | B29: B353 | C29: 0 | D29: 0 | E29: 0 | F29: =SUM(C29:E29) -> 0 | G29: 0 | H29: 0 | I29: 0 | J29: =SUM(G29:I29) -> 0 | K29: 0 | L29: 0 | M29: 0 | N29: =SUM(K29:M29) -> 0 | O29: 0 | P29: 0 | Q29: 0 | R29: =SUM(O29:Q29) -> 0 | S29: 0 | T29: 0 | U29: 0 | V29: =SUM(S29:U29) -> 0
A30: Gépjárműadók | B30: B354 | C30: 500000 | D30: 0 | E30: 0 | F30: =SUM(C30:E30) -> 500000 | G30: 500000 | H30: 0 | I30: 0 | J30: =SUM(G30:I30) -> 500000 | K30: 500000 | L30: 0 | M30: 0 | N30: =SUM(K30:M30) -> 500000 | O30: 500000 | P30: 0 | Q30: 0 | R30: =SUM(O30:Q30) -> 500000 | S30: 500000 | T30: 0 | U30: 0 | V30: =SUM(S30:U30) -> 500000
A31: Egyéb áruhasználati és szolgáltatási adók | B31: B355 | C31: 30000 | D31: 0 | E31: 0 | F31: =SUM(C31:E31) -> 30000 | G31: 30000 | H31: 0 | I31: 0 | J31: =SUM(G31:I31) -> 30000 | K31: 30000 | L31: 0 | M31: 0 | N31: =SUM(K31:M31) -> 30000 | O31: 30000 | P31: 0 | Q31: 0 | R31: =SUM(O31:Q31) -> 30000 | S31: 30000 | T31: 0 | U31: 0 | V31: =SUM(S31:U31) -> 30000
A32: Termékek és szolgáltatások adói | B32: B35 | C32: =SUM(C27:C31) -> 5180000 | D32: =SUM(D27:D31) -> 0 | E32: =SUM(E27:E31) -> 0 | F32: =SUM(C32:E32) -> 5180000 | G32: =SUM(G27:G31) -> 5180000 | H32: =SUM(H27:H31) -> 0 | I32: =SUM(I27:I31) -> 0 | J32: =SUM(G32:I32) -> 5180000 | K32: =SUM(K27:K31) -> 5180000 | L32: =SUM(L27:L31) -> 0 | M32: =SUM(M27:M31) -> 0 | N32: =SUM(K32:M32) -> 5180000 | O32: =SUM(O27:O31) -> 5180000 | P32: =SUM(P27:P31) -> 0 | Q32: =SUM(Q27:Q31) -> 0 | R32: =SUM(O32:Q32) -> 5180000 | S32: =SUM(S27:S31) -> 5180000 | T32: =SUM(T27:T31) -> 0 | U32: =SUM(U27:U31) -> 0 | V32: =SUM(S32:U32) -> 5180000
A33: Egyéb közhatalmi bevételek | B33: B36 | C33: 0 | D33: 0 | E33: 0 | F33: =SUM(C33:E33) -> 0 | G33: 0 | H33: 0 | I33: 0 | J33: =SUM(G33:I33) -> 0 | K33: 0 | L33: 0 | M33: 0 | N33: =SUM(K33:M33) -> 0 | O33: 0 | P33: 0 | Q33: 0 | R33: =SUM(O33:Q33) -> 0 | S33: 0 | T33: 0 | U33: 0 | V33: =SUM(S33:U33) -> 0
A34: Közhatalmi bevételek | B34: B3 | C34: =C23+C24+C25+C26+C32+C33 -> 5420000 | D34: =D23+D24+D25+D26+D32+D33 -> 0 | E34: =E23+E24+E25+E26+E32+E33 -> 0 | F34: =SUM(C34:E34) -> 5420000 | G34: =G23+G24+G25+G26+G32+G33 -> 5420000 | H34: =H23+H24+H25+H26+H32+H33 -> 0 | I34: =I23+I24+I25+I26+I32+I33 -> 0 | J34: =SUM(G34:I34) -> 5420000 | K34: =K23+K24+K25+K26+K32+K33 -> 5420000 | L34: =L23+L24+L25+L26+L32+L33 -> 0 | M34: =M23+M24+M25+M26+M32+M33 -> 0 | N34: =SUM(K34:M34) -> 5420000 | O34: =O23+O24+O25+O26+O32+O33 -> 5420000 | P34: =P23+P24+P25+P26+P32+P33 -> 0 | Q34: =Q23+Q24+Q25+Q26+Q32+Q33 -> 0 | R34: =SUM(O34:Q34) -> 5420000 | S34: =S23+S24+S25+S26+S32+S33 -> 5420000 | T34: =T23+T24+T25+T26+T32+T33 -> 0 | U34: =U23+U24+U25+U26+U32+U33 -> 0 | V34: =SUM(S34:U34) -> 5420000
A35: Áru- és készletértékesítés ellenértéke | B35: B401 | C35: 0 | D35: 0 | E35: 0 | F35: =SUM(C35:E35) -> 0 | G35: 0 | H35: 0 | I35: 0 | J35: =SUM(G35:I35) -> 0 | K35: 0 | L35: 0 | M35: 0 | N35: =SUM(K35:M35) -> 0 | O35: 0 | P35: 0 | Q35: 0 | R35: =SUM(O35:Q35) -> 0 | S35: 0 | T35: 0 | U35: 0 | V35: =SUM(S35:U35) -> 0
A36: Szolgáltatások ellenértéke | B36: B402 | C36: 0 | D36: 0 | E36: 0 | F36: =SUM(C36:E36) -> 0 | G36: 0 | H36: 0 | I36: 0 | J36: =SUM(G36:I36) -> 0 | K36: 0 | L36: 0 | M36: 0 | N36: =SUM(K36:M36) -> 0 | O36: 0 | P36: 0 | Q36: 0 | R36: =SUM(O36:Q36) -> 0 | S36: 0 | T36: 0 | U36: 0 | V36: =SUM(S36:U36) -> 0
A37: Közvetített szolgáltatások értéke | B37: B403 | C37: 120000 | D37: 0 | E37: 0 | F37: =SUM(C37:E37) -> 120000 | G37: 120000 | H37: 0 | I37: 0 | J37: =SUM(G37:I37) -> 120000 | K37: 120000 | L37: 0 | M37: 0 | N37: =SUM(K37:M37) -> 120000 | O37: 120000 | P37: 0 | Q37: 0 | R37: =SUM(O37:Q37) -> 120000 | S37: 120000 | T37: 0 | U37: 0 | V37: =SUM(S37:U37) -> 120000
A38: Tulajdonosi bevételek | B38: B404 | C38: 0 | D38: 0 | E38: 0 | F38: =SUM(C38:E38) -> 0 | G38: 0 | H38: 0 | I38: 0 | J38: =SUM(G38:I38) -> 0 | K38: 0 | L38: 0 | M38: 0 | N38: =SUM(K38:M38) -> 0 | O38: 0 | P38: 0 | Q38: 0 | R38: =SUM(O38:Q38) -> 0 | S38: 0 | T38: 0 | U38: 0 | V38: =SUM(S38:U38) -> 0
A39: Ellátási díjak | B39: B405 | C39: 0 | D39: 0 | E39: 0 | F39: =SUM(C39:E39) -> 0 | G39: 0 | H39: 0 | I39: 0 | J39: =SUM(G39:I39) -> 0 | K39: 0 | L39: 0 | M39: 0 | N39: =SUM(K39:M39) -> 0 | O39: 0 | P39: 0 | Q39: 0 | R39: =SUM(O39:Q39) -> 0 | S39: 0 | T39: 0 | U39: 0 | V39: =SUM(S39:U39) -> 0
A40: Kiszámlázott általános forgalmi adó | B40: B406 | C40: 0 | D40: 0 | E40: 0 | F40: =SUM(C40:E40) -> 0 | G40: 0 | H40: 0 | I40: 0 | J40: =SUM(G40:I40) -> 0 | K40: 0 | L40: 0 | M40: 0 | N40: =SUM(K40:M40) -> 0 | O40: 0 | P40: 0 | Q40: 0 | R40: =SUM(O40:Q40) -> 0 | S40: 0 | T40: 0 | U40: 0 | V40: =SUM(S40:U40) -> 0
A41: Általános forgalmi adó visszatérítése | B41: B407 | C41: 0 | D41: 0 | E41: 0 | F41: =SUM(C41:E41) -> 0 | G41: 0 | H41: 0 | I41: 0 | J41: =SUM(G41:I41) -> 0 | K41: 0 | L41: 0 | M41: 0 | N41: =SUM(K41:M41) -> 0 | O41: 0 | P41: 0 | Q41: 0 | R41: =SUM(O41:Q41) -> 0 | S41: 0 | T41: 0 | U41: 0 | V41: =SUM(S41:U41) -> 0
A42: Kamatbevételek | B42: B408 | C42: 0 | D42: 0 | E42: 0 | F42: 0 | G42: 0 | H42: 0 | I42: 0 | J42: 0 | K42: 0 | L42: 0 | M42: 0 | N42: 0 | O42: 0 | P42: 0 | Q42: 0 | R42: 0 | S42: 0 | T42: 0 | U42: 0 | V42: 0
...

Sheet 4. melléklet
A1: 4. melléklet 1/2018. (I.23.) önkormányzati rendelethez
A3: SORKIKÁPOLNA Önkormányzat 2018. évi költségvetése
A4: Beruházások és felújítások (Ft)
A6: Rovat megnevezése | B6: Rovat-szám | C6: ÖNKORMÁNYZATI ELŐIRÁNYZATOK | D6: MINDÖSSZESEN
A11: Immateriális javak beszerzése, létesítése | B11: K61
A16: Ingatlanok beszerzése, létesítése | B16: K62 | C16: 3900000 | D16: 3900000
A21: Informatikai eszközök beszerzése, létesítése | B21: K63 | C21: 345339 | D21: =SUM(C21) -> 345339
A22: Város és községgazdálkodás | C22: 0 | D22: =SUM(C22) -> 0
A23: Könyvtár | C23: 0 | D23: =SUM(C23) -> 0
A24: Fűnyíró, egyéb gépek | C24: 0 | D24: =SUM(C24) -> 0
A25: Egyéb tárgyi eszközök beszerzése, létesítése | B25: K64 | C25: 993950 | D25: 993950
A28: Részesedések beszerzése | B28: K65
A31: Meglévő részesedések növeléséhez kapcsolódó kiadások | B31: K66
A32: Beruházási célú előzetesen felszámított általános forgalmi adó | B32: K67 | C32: 380000 | D32: =SUM(C32) -> 380000
A33: Beruházások | B33: K6 | C33: =SUM(C16+C21+C25+C28+C31+C32) -> 5619289 | D33: =SUM(D16+D21+D25+D32) -> 5619289
A35: Temetőbe villany elvezetése | C35: 0 | D35: =SUM(C35) -> 0
A36: Könyvtár felújítás | C36: 0 | D36: =SUM(C36) -> 0
A37: Közút javítás | C37: 0 | D37: =SUM(C37) -> 0
A38: Ingatlanok felújítása | B38: K71 | C38: 27457678 | D38: 25341278
A43: Informatikai eszközök felújítása | B43: K72
A48: Egyéb tárgyi eszközök felújítása | B48: K73 | C48: 4000000 | D48: 0
A49: Felújítási célú előzetesen felszámított általános forgalmi adó | B49: K74 | C49: 2000000 | D49: 6000000
A50: Felújítások | B50: K7 | C50: =SUM(C34:C49) -> 33457678 | D50: =SUM(D35:D49) -> 31341278
A53: Megnevezés | B53: Rovat | C53: nettó | D53: áfa | E53: bruttó
A58: Immateriális javak beszerzése, létesítése | B58: K61
A63: Ingatlanok beszerzése, létesítése | B63: K62 | C63: 3900000 | E63: 3900000
A68: Informatikai eszközök beszerzése, létesítése | B68: K63 | C68: 345339 | E68: =SUM(C68:D68) -> 345339
A71: Egyéb tárgyi eszközök beszerzése, létesítése | B71: K64 | C71: 993950 | E71: 993950
A72: Beruházások | B72: K6 | C72: =SUM(C63+C68+C71) -> 5239289 | D72: =SUM(D63:D71) -> 0 | E72: =SUM(E63:E71) -> 5239289
A75: Vízesblokk kialakítás
A77: Ingatlanok felújítása | B77: K71 | C77: 25341278 | E77: =SUM(C77:D77) -> 25341278
A82: Informatikai eszközök felújítása | B82: K72
A87: Egyéb tárgyi eszközök felújítása | B87: K73 | C87: 0 | E87: 0
A88: Felújítások | B88: K7 | C88: =SUM(C73:C87) -> 25341278 | E88: =SUM(E74:E87) -> 25341278

Sheet 5. melléklet
C1: 5. melléklet 1/2018. (I.23.) önkormányzati rendelethez
A3: SORKIKÁPOLNA Önkormányzat 2018. évi költségvetése
A4: Foglalkoztatottak létszáma (fő)
A7: MEGNEVEZÉS | B7: Költségvetési engedélyezett létszámkeret (álláshely) (fő) ÖNKORMÁNYZAT | C7: Költségvetési engedélyezett létszámkeret (álláshely) (fő) KÖLTSÉGVETÉSI SZERV | D7: Költségvetési engedélyezett létszámkeret (álláshely) (fő) KÖLTSÉGVETÉSI SZERV | E7: MINDÖSSZESEN
A8: főjegyző, jegyző, aljegyző, címzetes főjegyző, körjegyző | E8: =SUM(B8:D8) -> 0
A9: I. besorolási osztály összesen | E9: =SUM(B9:D9) -> 0
A10: II. besorolási osztály összesen | E10: =SUM(B10:D10) -> 0
A11: III. besorolási osztály összesen | E11: =SUM(B11:D11) -> 0
A12: KÖZTISZTVISELŐK, KORMÁNYTISZTVISELŐK ÖSSZESEN | B12: =SUM(B8:B11) -> 0 | C12: =SUM(C8:C11) -> 0 | D12: =SUM(D8:D11) -> 0 | E12: =SUM(B12:D12) -> 0
A13: igazgató (főigazgató), igazgatóhelyettes (főigazgató-helyettes) | E13: =SUM(B13:D13) -> 0
A14: főosztályvezető, főosztályvezető-helyettes, osztályvezető, ügykezelő osztályvezető, további vezető | E14: =SUM(B14:D14) -> 0
A15: főtanácsos, főmunkatárs, tanácsos, munkatárs | E15: =SUM(B15:D15) -> 0
A16: "A", "B" fizetési osztály összesen | B16: 0 | E16: =SUM(B16:D16) -> 0
A17: "C", "D" fizetési osztály összesen | E17: =SUM(B17:D17) -> 0
A18: "E"-"J" fizetési osztály összesen | E18: =SUM(B18:D18) -> 0
A19: kutató, felsőoktatásban oktató | E19: =SUM(B19:D19) -> 0
A20: KÖZALKALMAZOTTAK ÖSSZESEN | B20: =SUM(B13:B19) -> 0 | C20: =SUM(C13:C19) -> 0 | D20: =SUM(D13:D19) -> 0 | E20: =SUM(B20:D20) -> 0
A21: fizikai alkalmazott, a költségvetési szerveknél foglalkoztatott egyéb munkavállaló (fizikai alkalmazott) | B21: 2 | E21: =SUM(B21:D21) -> 2
A22: ösztöndíjas foglalkoztatott | E22: =SUM(B22:D22) -> 0
A23: közfoglalkoztatott | B23: 1 | E23: =SUM(B23:D23) -> 1
A24: EGYÉB BÉRRENDSZER ÖSSZESEN | B24: =SUM(B21:B23) -> 3 | C24: =SUM(C21:C23) -> 0 | D24: =SUM(D21:D23) -> 0 | E24: =SUM(B24:D24) -> 3
A25: polgármester, főpolgármester | B25: 1 | E25: =SUM(B25:D25) -> 1
A26: helyi önkormányzati képviselő-testület tagja, megyei közgyűlés tagja | B26: 3 | E26: =SUM(B26:D26) -> 3
A27: alpolgármester, főpolgármester-helyettes, megyei közgyűlés elnöke, alelnöke | B27: 1 | E27: =SUM(B27:D27) -> 1
A28: VÁLASZTOTT TISZTSÉGVISELŐK ÖSSZESEN | B28: =SUM(B25:B27) -> 5 | C28: =SUM(C25:C27) -> 0 | D28: =SUM(D25:D27) -> 0 | E28: =SUM(B28:D28) -> 5
A29: KÖLTSÉGVETÉSI ENGEDÉLYEZETT LÉTSZÁMKERETBE TARTOZÓ FOGLALKOZTATOTTAK LÉTSZÁMA MINDÖSSZESEN | B29: =SUM(B28,B24,B20,B12) -> 8 | C29: =SUM(C28,C24,C20,C12) -> 0 | D29: =SUM(D28,D24,D20,D12) -> 0 | E29: =SUM(B29:D29) -> 8
A30: prémiumévek programról és a különleges foglalkoztatási állományról szóló 2004. évi CXXII. törvény alapján foglalkoztatott prémiumévesek | E30: =SUM(B30:D30) -> 0
A31: prémiumévek programról és a különleges foglalkoztatási állományról szóló 2004. évi CXXII. törvény alapján foglalkoztatott különleges foglalkoztatási állományba helyezettek létszáma | E31: =SUM(B31:D31) -> 0
A32: ösztöndíjas foglalkoztatottak (Pftv, illetve Magyar Közigazgatási Ösztöndíjról szóló 228/2011. (X. 28.) Korm. rendelet) | E32: =SUM(B32:D32) -> 0
A33: munkaerőpiactól tartósan távol lévő személyek | E33: =SUM(B33:D33) -> 0
A34: KÖLTSÉGVETÉSI ENGEDÉLYEZETT LÉTSZÁMKERETBE NEM TARTOZÓ FOGLALKOZTATOTTAK LÉTSZÁMA AZ IDŐSZAK VÉGÉN ÖSSZESEN | B34: =SUM(B30:B33) -> 0 | C34: =SUM(C30:C33) -> 0 | D34: =SUM(D30:D33) -> 0 | E34: =SUM(B34:D34) -> 0

Sheet 6. melléklet
A1: 6. melléklet 1/2018. (I.23.) önkormányzati rendelethez
A3: SORKIKÁPOLNA Önkormányzat 2018. évi költségvetése
A4: Az európai uniós forrásból finanszírozott támogatással megvalósuló programok, projektek kiadásai, bevételei, valamint a helyi önkormányzat ilyen projektekhez történő hozzájárulásai (Ft)
A6: ÖNKORMÁNYZATI ELŐIRÁNYZATOK
A7: Lunkányi síremlék felújítása | B7: Eredeti ei.
A8: K1. Személyi juttatások
A9: K2. Munkaadókat terhelő járulékok és szociális hozzájárulási adó
A10: K3. Dologi kiadások
A11: K4. Ellátottak pénzbeli juttatásai
A12: K5. Egyéb működési célú kiadások
A13: K6. Beruházási kiadások
A14: K7. Felújítások
A15: K8. Egyéb felhalmozási célú kiadások
A16: K1-K8. Költségvetési kiadások ÖSSZESEN
A17: B16 Működési célú támogatások fejezeti kezelésű előirányzatok EU-s programokra és azok hazai társfinanszírozásától
A18: B25 Felhalmozási célú támogatásokfejezeti kezelésű előirányzatok EU-s programokra és azok hazai társfinanszírozásától
A19: B63 Működési célú átvett pénzeszközök Európai Uniótól
... A24: BEVÉTELEK ÖSSZESEN
A27: Projekt megnevezése | B27: Eredeti ei.
A28: K1. Személyi juttatások
A29: K2. Munkaadókat terhelő járulékok és szociális hozzájárulási adó
A30: K3. Dologi kiadások
A31: K4. Ellátottak pénzbeli juttatásai
A32: K5. Egyéb működési célú kiadások
A33: K6. Beruházási kiadások
A34: K7. Felújítások
A35: K8. Egyéb felhalmozási célú kiadások
A36: K1-K8. Költségvetési kiadások ÖSSZESEN | B36: =SUM(B28:B35) -> 0
A37: B16 Működési célú támogatások fejezeti kezelésű előirányzatok EU-s programokra és azok hazai társfinanszírozásától
A38: B25 Felhalmozási célú támogatásokfejezeti kezelésű előirányzatok EU-s programokra és azok hazai társfinanszírozásától
A39: B63 Működési célú átvett pénzeszközök Európai Uniótól
A40: B73 Felhalmozási célú átvett pénzeszközök Európai Uniótól
A41: B1-7 A helyi önkormányzat projekthez történő hozzájárulása
A42: B1-B7 Költségvetési bevételek | B42: =SUM(B37:B41) -> 0
A43: B8 Finanszírozási bevételek- önkormányzat projekthez történő hozzájárulása
A44: BEVÉTELEK ÖSSZESEN | B44: =SUM(B42,B43,) -> 0

Sheet 7. melléklet
H1: 7. melléklet 1/2018. (I.23.) önkormányzati rendelethez
A2: SORKIKÁPOLNA Önkormányzat 2018. évi költségvetése
A3: A költségvetési év azon fejlesztési céljai, amelyek megvalósításához a Gst. 3. § (1) bekezdése szerinti adósságot keletkeztető ügylet megkötése válik vagy válhat szükségessé (E Ft)
A5: ÖNKORMÁNYZATI ELŐIRÁNYZATOK
A6: Rovat megnevezése | B6: Rovat-szám | C6: kiadási eredeti előirányzat | D6: ebből kiadási előirányzat fedezete-saját forrás | E6: ebből kiadási előirányzat fedezete-adósságot keletkeztető ügylet | F6: adósságot keletkeztető ügylet fajtája | G6: adósságot keletkeztető ügylet rovatszáma (B8) | H6: adósságot keletkeztető ügylet kezdő időpontja | I6: adósságot keletkeztető ügylet lejárati időpontja | J6: adósságot keletkeztető ügylet- várható visszatérítendő összege (kamattal) leáratig mindösszesen
F7: hitel/lízing/kölcsön/értékpapír
A11: Immateriális javak beszerzése, létesítése | B11: K61
A16: Ingatlanok beszerzése, létesítése | B16: K62
A21: Informatikai eszközök beszerzése, létesítése | B21: K63
A24: Egyéb tárgyi eszközök beszerzése, létesítése | B24: K64
A27: Részesedések beszerzése | B27: K65
A30: Meglévő részesedések növeléséhez kapcsolódó kiadások | B30: K66
A31: Beruházási célú előzetesen felszámított általános forgalmi adó | B31: K67
A32: Beruházások | B32: K6 | C32: =SUM(C11,C16,C21,C24,C27,C30,C31,) -> 0 | D32: =SUM(D11,D16,D21,D24,D27,D30,D31,) -> 0 | E32: =SUM(E11,E16,E21,E24,E27,E30,E31,) -> 0 | F32: =SUM(F11,F16,F21,F24,F27,F30,F31,) -> 0 | G32: =SUM(G11,G16,G21,G24,G27,G30,G31,) -> 0 | H32: =SUM(H11,H16,H21,H24,H27,H30,H31,) -> 0 | I32: =SUM(I11,I16,I21,I24,I27,I30,I31,) -> 0 | J32: =SUM(J11,J16,J21,J24,J27,J30,J31,) -> 0
A37: Ingatlanok felújítása | B37: K71
A42: Informatikai eszközök felújítása | B42: K72
A47: Egyéb tárgyi eszközök felújítása | B47: K73
A48: Felújítási célú előzetesen felszámított általános forgalmi adó | B48: K74
A49: Felújítások | B49: K7 | C49: =SUM(C37,C42,C47,C48,) -> 0 | D49: =SUM(D37,D42,D47,D48,) -> 0 | E49: =SUM(E37,E42,E47,E48,) -> 0 | F49: =SUM(F37,F42,F47,F48,) -> 0 | G49: =SUM(G37,G42,G47,G48,) -> 0 | H49: =SUM(H37,H42,H47,H48,) -> 0 | I49: =SUM(I37,I42,I47,I48,) -> 0 | J49: =SUM(J37,J42,J47,J48,) -> 0
A50: Az önkormányzati garanciákból és önkormányzati kezességekből fennálló kötelezettségek az adósságot keletkeztető ügyletek futamidejének végéig, illetve a garancia, kezesség érvényesíthetőségéig
A51: ebből:
A52: ebből:
A53: ebből:
A56: Adósságot keletkeztető ügylet és annak értéke:
A58: a) hitel, kölcsön felvétele, átvállalása a folyósítás, átvállalás napjától a végtörlesztés napjáig, és annak aktuális tőketartozása,
A59: b) a számvitelről szóló törvény (a továbbiakban: Szt.) szerinti hitelviszonyt megtestesítő értékpapír forgalomba hozatala a forgalomba hozatal napjától a beváltás napjáig, kamatozó értékpapír esetén annak névértéke, egyéb értékpapír esetén annak vételára,
A60: c) váltó kibocsátása a kibocsátás napjától a beváltás napjáig, és annak a váltóval kiváltott kötelezettséggel megegyező, kamatot nem tartalmazó értéke,
A61: d) az Szt. szerint pénzügyi lízing lízingbevevői félként történő megkötése a lízing futamideje alatt, és a lízingszerződésben kikötött tőkerész hátralévő összege,
A62: e) a visszavásárlási kötelezettség kikötésével megkötött adásvételi szerződés eladói félként történő megkötése - ideértve az Szt. szerinti valódi penziós és óvadéki repóügyleteket is - a visszavásárlásig, és a kikötött visszavásárlási ár,
A63: f) a szerződésben kapott, legalább háromszázhatvanöt nap időtartamú halasztott fizetés, részletfizetés, és a még ki nem fizetett ellenérték,
A64: g) hitelintézetek által, származékos műveletek különbözeteként az Államadósság Kezelő Központ Zrt.-nél (a továbbiakban: ÁKK Zrt.) elhelyezett fedezeti betétek, és azok összege.
A65: (2) Az (1) bekezdés szerinti adósságot keletkeztető ügyletként nem kell figyelembe venni a költségvetési év első hat hónapjában lejáró adósság előző költségvetési évben történő előfinanszírozását, amelynek összege nem haladja meg a költségvetési év első hat hónapja során várható törlesztések összegét.

Sheet 8. melléklet
E1: 8. melléklet 1/2018. (I.23.) önkormányzati rendelethez
A3: SORKIKÁPOLNA Önkormányzat 2018. évi költségvetése
A4: A Gst. 3. § (1) bekezdése szerinti adósságot keletkeztető ügyletekből és kezességvállalásokból fennálló kötelezettségek az adósságot keletkeztető ügyletek futamidejének végéig, illetve a kezesség érvényesíthetőségéig, és a Gst. 45. § (1) bekezdés a) pontja felhatalmazása alapján kiadott jogszabályban meghatározottak szerinti saját bevételek (Ft)
A6: ÖNKORMÁNYZATI ELŐIRÁNYZATOK | F6: SAJÁT BEVÉTELEK
A7: Rovat megnevezése | B7: Rovat-szám | C7: adósságot keletkeztető ügylet kezdő időpontja | D7: adósságot keletkeztető ügylet lejárati időpontja | E7: adósságot keletkeztető ügyletekből és kezességvállalásokból fennálló kötelezettségek | F7: 2016 | G7: 2017 | H7: 2018 | I7: 2019
A8: Hosszú lejáratú hitelek, kölcsönök felvétele | B8: B8111
A9: ebből: pénzügyi vállalkozás | B9: B8111
A10: Likviditási célú hitelek, kölcsönök felvétele pénzügyi vállalkozástól | B10: B8112
A11: Rövid lejáratú hitelek, kölcsönök felvétele | B11: B8113
A12: ebből: pénzügyi vállalkozás | B12: B8113
A13: Hitel-, kölcsönfelvétel államháztartáson kívülről | B13: B811
A14: Forgatási célú belföldi értékpapírok beváltása, értékesítése | B14: B8121
A15: ebből: befektetési jegyek | B15: B8121
A16: Forgatási célú belföldi értékpapírok kibocsátása | B16: B8122
A17: Befektetési célú belföldi értékpapírok beváltása, értékesítése | B17: B8123
A18: ebből: kárpótlási jegyek | B18: B8123
A19: Befektetési célú belföldi értékpapírok kibocsátása | B19: B8124
... A28: Külföldi finanszírozás bevételei | B28: B82
A30: Rovat megnevezése | B30: Rovat-szám | C30: saját bevételek 2016. | D30: saját bevételek 2017. | E30: saját bevételek 2018. | F30: saját bevételek 2019.
A31: 353/2011. (XII. 30.) Korm. Rendelet értelmében az önkormányzat saját bevételének minősül
A32: 1.a helyi adóból és a települési adóból származó bevétel,
A33: 2. az önkormányzati vagyon és az önkormányzatot megillető vagyoni értékű jog értékesítéséből és hasznosításából származó bevétel,
A34: 3. az osztalék, a koncessziós díj és a hozambevétel,
A35: 4. a tárgyi eszköz és az immateriális jószág, részvény, részesedés, vállalat értékesítéséből vagy privatizációból származó bevétel,
A36: 5. bírság-, pótlék- és díjbevétel,
A37: 6. a kezesség-, illetve garanciavállalással kapcsolatos megtérülés.
A38: ÖSSZESEN:
A41: Az önkormányzat adósságot keletkeztető ügyletből származó tárgyévi összes fizetési kötelezettsége az adósságot keletkeztető ügylet futamidejének végéig egyik évben sem haladhatja meg az önkormányzat adott évi saját bevételeinek 50%-át.

Sheet 9. melléklet
F1: 9. melléklet 1/2018. (I.23.) önkormányzati rendelethez
A3: SORKIKÁPOLNA Önkormányzat 2018. évi költségvetése
A4: Általános- és céltartalékok (Ft)
A7: Rovat megnevezése | B7: Rovat-szám | C7: ÖNKORMÁNYZATI ELŐIRÁNYZATOK | D7: KÖLTSÉGVETÉSI SZERV | E7: KÖLTSÉGVETÉSI SZERV | F7: KÖLTSÉGVETÉSI SZERV | G7: KÖLTSÉGVETÉSI SZERV | H7: MINDÖSSZESEN
A12: Általános tartalékok | B12: K513 | C12: 4340155 | H12: =SUM(C12:G12) -> 4340155
A17: Céltartalékok | B17: K513

Sheet 10. melléklet
C2: 10. melléklet 1/2018. (I.23.) önkormányzati rendelethez
A4: SORKIKÁPOLNA Önkormányzat 2018. évi költségvetése
A5: A közvetett támogatások (Ft)
A7: ÖNKORMÁNYZATI ELŐIRÁNYZATOK
A8: Rovat megnevezése | B8: Rovat-szám | C8: tervezett elvárt bevétel | D8: közvetett támogatás | E8: várható bevétel
A13: az ellátottak térítési díjának, kártérítésének méltányossági alapon történő elengedésének összege | B13: B405 | C13: =SUM(C9:C12) -> 0 | D13: =SUM(D9:D12) -> 0 | E13: =SUM(E9:E12) -> 0
A18: a lakosság részére lakásépítéshez, lakásfelújításhoz nyújtott kölcsönök elengedésének összege | B18: B72
A19: építményadó | B19: B34
A20: épület után fizetett idegenforgalmi adó | B20: B34
A21: magánszemélyek kommunális adója | B21: B34
A22: telekadó | B22: B34
A23: Gépjárműadók | B23: B354
A24: Értékesítési és forgalmi adók | B24: B351
A26: a helyi adónál, gépjárműadónál biztosított kedvezmény, mentesség összege adónemenként | B26: B3, B7 | C26: =SUM(C18:C24) -> 0 | D26: =SUM(D18:D24) -> 0 | E26: =SUM(E18:E24) -> 0
B27: B402
B28: B5
A31: a helyiségek, eszközök hasznosításából származó bevételből nyújtott kedvezmény, mentesség összege | B31: B4, B5 | C31: =SUM(C27:C28) -> 0 | D31: =SUM(D27:D28) -> 0 | E31: =SUM(E27:E28) -> 0
A36: az egyéb nyújtott kedvezmény vagy kölcsön elengedésének összege

Sheet 11. melléklet
A1: 11. melléklet 1/2018. (I.23.) önkormányzati rendelethez
A3: SORKIKÁPOLNA Önkormányzat 2018. évi költségvetése
A4: Támogatások, kölcsönök nyújtása és törlesztése (Ft)
A6: ÖNKORMÁNYZATI ELŐIRÁNYZATOK
A7: Megnevezés | B7: Rovat-szám | C7: eredeti ei.
A8: központi költségvetési szervek részére | B8: K504
A9: központi kezelésű előirányzatok részére | B9: K504
A10: fejezeti kezelésű előirányzatok EU-s programokra és azok hazai társfinanszírozása részére | B10: K504
A11: egyéb fejezeti kezelésű előirányzatok részére | B11: K504
A12: társadalombiztosítás pénzügyi alapjai részére | B12: K504
A13: elkülönített állami pénzalapok részére | B13: K504
A14: helyi önkormányzatok és költségvetési szerveik részére | B14: K504
A15: társulások és költségvetési szerveik részére | B15: K504
A16: nemzetiségi önkormányzatok és költségvetési szerveik részére | B16: K504
A17: térségi fejlesztési tanácsok és költségvetési szerveik részére | B17: K504
A18: Működési célú visszatérítendő támogatások, kölcsönök nyújtása államháztartáson belülre | B18: K504
A19: központi költségvetési szervek részére | B19: K505
... A35: elkülönített állami pénzalapok részére | B35: K506
A36: helyi önkormányzatok és költségvetési szerveik részére | B36: K506 | C36: 939370
A37: társulások és költségvetési szerveik részére | B37: K506 | C37: 377273
A38: nemzetiségi önkormányzatok és költségvetési szerveik részére | B38: K506
A39: térségi fejlesztési tanácsok és költségvetési szerveik részére | B39: K506
A40: Egyéb működési célú támogatások államháztartáson belülre | B40: K506 | C40: =SUM(C36:C39) -> 1316643
A41: egyházi jogi személyek részére | B41: K508
A42: egyéb civil szervezetek részére | B42: K508
A43: háztartások részére | B43: K508 | C43: 0
A44: pénzügyi vállalkozások részére | B44: K508
A45: állami többségi tulajdonú nem pénzügyi vállalkozások részére | B45: K508
A46: önkormányzati többségi tulajdonú nem pénzügyi vállalkozások részére | B46: K508
A47: egyéb vállalkozások részére | B47: K508
A48: Európai Unió részére | B48: K508
A49: kormányok és nemzetközi szervezetek részére | B49: K508
A50: egyéb külföldiek részére | B50: K508
A51: Működési célú visszatérítendő támogatások, kölcsönök nyújtása államháztartáson kívülre | B51: K508 | C51: 0
A52: egyházi jogi személyek részére | B52: K512
A53: egyéb civil szervezetek részére | B53: K512 | C53: 5000
A54: háztartások részére | B54: K512 | C54: 70000
A55: pénzügyi vállalkozások részére | B55: K512
A56: állami többségi tulajdonú nem pénzügyi vállalkozások részére | B56: K512
A57: önkormányzati többségi tulajdonú nem pénzügyi vállalkozások részére | B57: K512
...

Sheet 12. melléklet
A1: 12. melléklet 1/2018. (I.23.) önkormányzati rendelethez
A3: SORKIKÁPOLNA Önkormányzat 2018. évi költségvetése
A4: Támogatások, kölcsönök bevételei (Ft)
A6: ÖNKORMÁNYZATI ELŐIRÁNYZATOK
A7: Megnevezés | B7: Rovat-szám | C7: eredeti ei.
A8: központi költségvetési szervektől | B8: B14
A9: központi kezelésű előirányzatoktól | B9: B14
A10: fejezeti kezelésű előirányzatok EU-s programokra és azok hazai társfinanszírozásától | B10: B14
A11: egyéb fejezeti kezelésű előirányzatoktól | B11: B14
A12: társadalombiztosítás pénzügyi alapjaitól | B12: B14
A13: elkülönített állami pénzalapoktól | B13: B14
A14: helyi önkormányzatok és költségvetési szerveiktől | B14: B14
A15: társulások és költségvetési szerveiktől | B15: B14
A16: nemzetiségi önkormányzatok és költségvetési szerveiktől | B16: B14
A17: térségi fejlesztési tanácsok és költségvetési szerveiktől | B17: B14
A18: Működési célú visszatérítendő támogatások, kölcsönök visszatérülése államháztartáson belülről | B18: B14
A19: központi költségvetési szervektől | B19: B15
... A29: Működési célú visszatérítendő támogatások, kölcsönök igénybevétele államháztartáson belülről | B29: B15
A30: központi költségvetési szervektől | B30: B16 | C30: 81530
A31: központi kezelésű előirányzatoktól | B31: B16
A32: fejezeti kezelésű előirányzatok EU-s programokra és azok hazai társfinanszírozásától | B32: B16
A33: egyéb fejezeti kezelésű előirányzatoktól | B33: B16
A34: társadalombiztosítás pénzügyi alapjaitól | B34: B16
A35: elkülönített állami pénzalapoktól | B35: B16
A36: helyi önkormányzatok és költségvetési szerveiktől | B36: B16
A37: társulások és költségvetési szerveiktől | B37: B16
A38: nemzetiségi önkormányzatok és költségvetési szerveiktől | B38: B16
A39: térségi fejlesztési tanácsok és költségvetési szerveiktől | B39: B16
A40: Egyéb működési célú támogatások bevételei államháztartáson belülről | B40: B16 | C40: =SUM(C30:C39) -> 81530
A41: központi költségvetési szervektől | B41: B23
A42: központi kezelésű előirányzatoktól | B42: B23
A43: fejezeti kezelésű előirányzatok EU-s programokra és azok hazai társfinanszírozásától | B43: B23
A44: egyéb fejezeti kezelésű előirányzatoktól | B44: B23
A45: társadalombiztosítás pénzügyi alapjaitól | B45: B23
A46: elkülönített állami pénzalapoktól | B46: B23
A47: helyi önkormányzatok és költségvetési szerveiktől | B47: B23
A48: társulások és költségvetési szerveiktől | B48: B23
A49: nemzetiségi önkormányzatok és költségvetési szerveiktől | B49: B23
A50: térségi fejlesztési tanácsok és költségvetési szerveiktől | B50: B23
A51: Felhalmozási célú visszatérítendő támogatások, kölcsönök visszatérülése államháztartáson belülről | B51: B23
...

Sheet 13. melléklet
A1: 13. melléklet 1/2018. (I.23.) önkormányzati rendelethez
A3: SORKIKÁPOLNA Önkormányzat 2018. évi költségvetése
A4: Lakosságnak juttatott támogatások, szociális, rászorultsági jellegű ellátások (Ft)
A6: ÖNKORMÁNYZATI ELŐIRÁNYZATOK
A7: Megnevezés | B7: Rovat-szám | C7: eredeti ei.
A8: mozgáskorlátozottak közlekedési támogatása | B8: K44
A9: mozgáskorlátozottak szerzési és átalakítási támogatása | B9: K44
A10: megváltozott munkaképességűek illetve egészségkárosodottak keresetkiegészítése | B10: K44
A11: cukorbetegek támogatása | B11: K44
A12: helyi megállapítású ápolási díj [Szoctv. 43/B. §] | B12: K44
A13: helyi megállapítású közgyógyellátás [Szoctv.50.§ (3) bek.] | B13: K44
A14: Betegséggel kapcsolatos (nem társadalombiztosítási) ellátások | B14: K44
A15: foglalkoztatást helyettesítő támogatás [Szoctv. 35. § (1) bek.] | B15: K45
A16: Foglalkoztatással, munkanélküliséggel kapcsolatos ellátások | B16: K45
A17: hozzájárulás a lakossági energiaköltségekhez | B17: K46
A18: lakbértámogatás | B18: K46
A19: lakásfenntartási támogatás [Szoctv. 38. § (1) bek. a) és b) pontok] | B19: K46
... A24: állami gondozottak pénzbeli juttatásai | B24: K47
A25: oktatásban résztvevők pénzbeli juttatásai | B25: K47 | C25: 70000
A26: Intézményi ellátottak pénzbeli juttatásai | B26: K47 | C26: 70000
A27: időskorúak járadéka [Szoctv. 32/B. § (1) bek.] | B27: K48
A28: rendszeres szociális segély [Szoctv. 37. § (1) bek. a) - d) pontok] | B28: K48
A29: átmeneti segély [Szoctv. 45.§] | B29: K48
A30: temetési segély [Szoctv. 46.§] | B30: K48
A31: egyéb, az önkormányzat rendeletében megállapított juttatás | B31: K48
A32: természetben nyújtott rendszeres szociális segély [Szoctv. 47.§ (1) bek. a) pont] | B32: K48
A33: települési támogatás | B33: K48 | C33: 1580053
A34: temetési segély [Szoctv. 47.§ (1) bek. d) pont} | B34: K48
A35: köztemetés [Szoctv. 48.§] | B35: K48
A36: rászorultságtól függõ normatív kedvezmények [Gyvt. 151. § (5) bek.] | B36: K48
A37: önkormányzat által saját hatáskörben (nem szociális és gyermekvédelmi előírások alapján) adott pénzügyi ellátás | B37: K48
A38: önkormányzat által saját hatáskörben (nem szociális és gyermekvédelmi előírások alapján) adott természetbeni ellátás | B38: K48
A39: Egyéb nem intézményi ellátások | B39: K48 | C39: =SUM(C33:C38) -> 1580053
A40: Ellátottak pénzbeli juttatásai | B40: K4 | C40: =SUM(C39) -> 1580053

Sheet 14. melléklet
A1: 14. melléklet 1/2018. (I.23.) önkormányzati rendelethez
A3: SORKIKÁPOLNA Önkormányzat 2018. évi költségvetése
A4: Helyi adó és egyéb közhatalmi bevételek (Ft)
A6: Megnevezés | B6: Rovat-szám | C6: eredeti ei.
A7: építményadó | B7: B34
A8: épület után fizetett idegenforgalmi adó | B8: B34
A9: magánszemélyek kommunális adója | B9: B34 | C9: 240000
A10: telekadó | B10: B34
A11: Vagyoni tipusú adók | B11: B34 | C11: =SUM(C9:C10) -> 240000
A12: Értékesítési és forgalmi adók | B12: B351 | C12: 0
A13: ebből: állandó jeleggel végzett iparűzési tevékenység után fizetett helyi iparűzési adó | B13: B351 | C13: 4650000
A14: ebből: ideiglenes jeleggel végzett tevékenység után fizetett helyi iparűzési adó | B14: B351
A15: Gépjárműadók | B15: B354 | C15: 0
A16: ebből: belföldi gépjárművek adójának a központi költségvetést megillető része | B16: B354
A17: ebből: belföldi gépjárművek adójának a helyi önkormányzatot megillető része | B17: B354 | C17: 500000
A18: ebből: külföldi gépjárművek adója | B18: B354
A19: ebből: gépjármű túlsúlydíj | B19: B354
A20: Egyéb áruhasználati és szolgáltatási adók | B20: B355 | C20: 0
A21: ebből: tartózkodás után fizetett idegenforgalmi adó | B21: B355
A22: ebből: talajterhelési díj | B22: B355 | C22: 30000
A23: Termékek és szolgáltatások adói | B23: B35 | C23: =SUM(C12:C22) -> 5180000
A24: eljárási illetékek | B24: B36 | C24: 0
A25: igazgatási szolgáltatási díjak | B25: B36
A26: felügyeleti díjak | B26: B36
A27: ebrendészeti hozzájárulás | B27: B36
A28: környezetvédelmi bírság | B28: B36
A29: természetvédelmi bírság | B29: B36
A30: műemlékvédelmi bírság | B30: B36
A31: építésügyi bírság | B31: B36
A32: szabálysértési pénz- és helyszíni mbírság és a közlekedési szabályszegések után kiszabott közigazgatási bírság helyi önkormányzatot megillető része | B32: B36
A33: késedelmi pótlék | B33: B36 | C33: 0
A34: Egyéb közhatalmi bevételek | B34: B36 | C34: 0

Sheet 15. melléklet
C1: 15. melléklet 1/2018. (I.23.) önkormányzati rendelethez
A3: SORKIKÁPOLNA Önkormányzat 2018. évi költségvetése
A4: A költségvetési hiány külső finanszírozására vagy a költségvetési többlet felhasználására szolgáló finanszírozási bevételek és kiadások működési és felhalmozási cél szerinti tagolásban (Ft)
A6: ÖNKORMÁNYZATI ELŐIRÁNYZATOK
A7: Megnevezés | B7: Rovat-szám | C7: eredeti ei. Működési célú | D7: eredeti ei. Felhalmozási célú
A8: Hosszú lejáratú hitelek, kölcsönök törlesztése | B8: K9111
A9: ebből: pénzügyi vállalkozás | B9: K9111
A10: ebből: fedezeti ügyletek nettó kiadásai | B10: K9111
A11: Likviditási célú hitelek, kölcsönök törlesztése pénzügyi vállalkozásnak | B11: K9112
A12: Rövid lejáratú hitelek, kölcsönök törlesztése | B12: K9113
A13: ebből: pénzügyi vállalkozás | B13: K9113
A14: ebből: fedezeti ügyletek nettó kiadásai | B14: K9113
A15: Hitel-, kölcsöntörlesztés államháztartáson kívülre | B15: K911
A16: Forgatási célú belföldi értékpapírok vásárlása | B16: K9121
A17: ebből: befektetési jegyek | B17: K9121
A18: ebből: kárpótlási jegyek | B18: K9121
A19: Forgatási célú belföldi értékpapírok beváltása | B19: K9122
... A26: Államháztartáson belüli megelőlegezések folyósítása | B26: K913
A27: Államháztartáson belüli megelőlegezések visszafizetése | B27: K914 | C27: 695888
A28: Pénzeszközök betétként elhelyezése | B28: K916
A29: Pénzügyi lízing kiadásai | B29: K917
A30: Központi költségvetés sajátos finanszírozási kiadásai | B30: K918
A31: Belföldi finanszírozás kiadásai | B31: K91 | C31: =SUM(C27:C30) -> 695888
A32: Forgatási célú külföldi értékpapírok vásárlása | B32: K921
A33: Befektetési célú külföldi értékpapírok vásárlása | B33: K922
A34: Külföldi értékpapírok beváltása | B34: K923
A35: ebből: fedezeti ügyletek nettó kiadásai | B35: K923
A36: Külföldi hitelek, kölcsönök törlesztése | B36: K924
A37: ebből: nemzetközi fejlesztési szervezetek | B37: K924
A38: ebből: más kormányok | B38: K924
A39: ebből: külföldi pénzintézetek | B39: K924
A40: ebből: fedezeti ügyletek nettó kiadásai | B40: K924
A41: Külföldi finanszírozás kiadásai | B41: K92
A44: Megnevezés | B44: Rovat-szám | C44: eredeti ei. Működési célú
A45: Hosszú lejáratú hitelek, kölcsönök felvétele | B45: B8111
A46: ebből: pénzügyi vállalkozás | B46: B8111
A47: Likviditási célú hitelek, kölcsönök felvétele pénzügyi vállalkozástól | B47: B8112
A48: Rövid lejáratú hitelek, kölcsönök felvétele | B48: B8113
A49: ebből: pénzügyi vállalkozás | B49: B8113
A50: Hitel-, kölcsönfelvétel államháztartáson kívülről | B50: B811
...
