Workbook
Name _pr10: '12. melléklet'!#REF!
Name _pr12: '12. melléklet'!#REF!
Name _pr21: '11. melléklet'!$A$57
Name _pr232: '14. melléklet'!$A$13
Name _pr233: '14. melléklet'!$A$18
Name _pr234: '14. melléklet'!$A$26
Name _pr235: '14. melléklet'!$A$31
Name _pr236: '14. melléklet'!$A$36
Name _pr24: '11. melléklet'!$A$59
Name _pr25: '11. melléklet'!$A$60
Name _pr26: '11. melléklet'!$A$61
Name _pr27: '11. melléklet'!$A$62
Name _pr28: '11. melléklet'!$A$63
Name _pr312: '14. melléklet'!#REF!
Name _pr313: '14. melléklet'!#REF!
Name _pr314: '14. melléklet'!$A$5
Name _pr315: '14. melléklet'!#REF!
Name _pr7: '12. melléklet'!#REF!
Name _pr8: '12. melléklet'!#REF!
Name _pr9: '12. melléklet'!#REF!
Name foot_4_place: '12. melléklet'!$A$20
Name foot_5_place: '12. melléklet'!#REF!
Name foot_53_place: '12. melléklet'!#REF!
Name léé: '12. melléklet'!#REF!
Name mmm: '11. melléklet'!#REF!

Sheet 1. melléklet
A1: 1. melléklet 1/2018. (I.23.) önkormányzati rendelethez
A3: SOROKPOLÁNY Önkormányzat 2018. évi költségvetése
A4: Az egységes rovatrend szerint a kiemelt kiadási és bevételi jogcímek
A7: K1. Személyi juttatások
A8: K2. Munkaadókat terhelő járulékok és szociális hozzájárulási adó
A9: K3. Dologi kiadások
A10: K4. Ellátottak pénzbeli juttatásai
A11: K5. Egyéb működési célú kiadások
A12: K6. Beruházási kiadások
A13: K7. Felújítások
A14: K8. Egyéb felhalmozási célú kiadások
A15: K1-8. Költségvetési kiadások
... A27: BEVÉTELEK ÖSSZESEN (B1-8)

Sheet 2. melléklet
C1: 2. melléklet 1/2018. (I.23.) önkormányzati rendelethez
A3: SOROKPOLÁNY Önkormányzat 2018. évi költségvetése
A4: Kiadások (Ft)
A6: SOROKPOLÁNY ÖNKORMÁNYZATI ELŐIRÁNYZATOK | C6: EREDETI ELŐIRÁNYZAT | G6: I. n.év módosított előirányzat | K6: II. n.év módosított előirányzat | O6: III. n.év módosított előirányzat | S6: IV. n.év módosított előirányzat
A7: Rovat megnevezése | B7: Rovat-szám | C7: kötelező feladatok | D7: önként vállalt feladatok | E7: államigazgatási feladatok | F7: ÖSSZESEN | G7: kötelező feladatok | H7: önként vállalt feladatok | I7: államigazgatási feladatok | J7: ÖSSZESEN | K7: kötelező feladatok | L7: önként vállalt feladatok | M7: államigazgatási feladatok | N7: ÖSSZESEN | O7: kötelező feladatok | P7: önként vállalt feladatok | Q7: államigazgatási feladatok | R7: ÖSSZESEN | S7: kötelező feladatok | T7: önként vállalt feladatok | U7: államigazgatási feladatok | V7: ÖSSZESEN
A8: Törvény szerinti illetmények, munkabérek | B8: K1101 | C8: 3822000 | D8: 0 | E8: 0 | F8: =SUM(C8:E8) -> 3822000 | G8: 3822266 | H8: 0 | I8: 0 | J8: =SUM(G8:I8) -> 3822266 | K8: 5589209 | L8: 0 | M8: 0 | N8: =SUM(K8:M8) -> 5589209 | O8: 5589209 | P8: 0 | Q8: 0 | R8: =SUM(O8:Q8) -> 5589209 | S8: 5436188 | T8: 0 | U8: 0 | V8: =SUM(S8:U8) -> 5436188
A9: Normatív jutalmak | B9: K1102 | C9: 0 | D9: 0 | E9: 0 | F9: =SUM(C9:E9) -> 0 | G9: 0 | H9: 0 | I9: 0 | J9: =SUM(G9:I9) -> 0 | K9: 0 | L9: 0 | M9: 0 | N9: =SUM(K9:M9) -> 0 | O9: 0 | P9: 0 | Q9: 0 | R9: =SUM(O9:Q9) -> 0 | S9: 0 | T9: 0 | U9: 0 | V9: =SUM(S9:U9) -> 0
A10: Céljuttatás, projektprémium | B10: K1103 | C10: 0 | D10: 0 | E10: 0 | F10: =SUM(C10:E10) -> 0 | G10: 0 | H10: 0 | I10: 0 | J10: =SUM(G10:I10) -> 0 | K10: 300000 | L10: 0 | M10: 0 | N10: =SUM(K10:M10) -> 300000 | O10: 300000 | P10: 0 | Q10: 0 | R10: =SUM(O10:Q10) -> 300000 | S10: 390226 | T10: 0 | U10: 0 | V10: =SUM(S10:U10) -> 390226
A11: Készenléti, ügyeleti, helyettesítési díj, túlóra, túlszolgálat | B11: K1104 | C11: 0 | D11: 0 | E11: 0 | F11: =SUM(C11:E11) -> 0 | G11: 0 | H11: 0 | I11: 0 | J11: =SUM(G11:I11) -> 0 | K11: 0 | L11: 0 | M11: 0 | N11: =SUM(K11:M11) -> 0 | O11: 0 | P11: 0 | Q11: 0 | R11: =SUM(O11:Q11) -> 0 | S11: 0 | T11: 0 | U11: 0 | V11: =SUM(S11:U11) -> 0
A12: Végkielégítés | B12: K1105 | C12: 0 | D12: 0 | E12: 0 | F12: =SUM(C12:E12) -> 0 | G12: 0 | H12: 0 | I12: 0 | J12: =SUM(G12:I12) -> 0 | K12: 0 | L12: 0 | M12: 0 | N12: =SUM(K12:M12) -> 0 | O12: 0 | P12: 0 | Q12: 0 | R12: =SUM(O12:Q12) -> 0 | S12: 0 | T12: 0 | U12: 0 | V12: =SUM(S12:U12) -> 0
A13: Jubileumi jutalom | B13: K1106 | C13: 361000 | D13: 0 | E13: 0 | F13: =SUM(C13:E13) -> 361000 | G13: 361000 | H13: 0 | I13: 0 | J13: =SUM(G13:I13) -> 361000 | K13: 361000 | L13: 0 | M13: 0 | N13: =SUM(K13:M13) -> 361000 | O13: 361000 | P13: 0 | Q13: 0 | R13: =SUM(O13:Q13) -> 361000 | S13: 361000 | T13: 0 | U13: 0 | V13: =SUM(S13:U13) -> 361000
A14: Béren kívüli juttatások | B14: K1107 | C14: 175000 | D14: 0 | E14: 0 | F14: =SUM(C14:E14) -> 175000 | G14: 175000 | H14: 0 | I14: 0 | J14: =SUM(G14:I14) -> 175000 | K14: 200000 | L14: 0 | M14: 0 | N14: =SUM(K14:M14) -> 200000 | O14: 200000 | P14: 0 | Q14: 0 | R14: =SUM(O14:Q14) -> 200000 | S14: 200000 | T14: 0 | U14: 0 | V14: =SUM(S14:U14) -> 200000
A15: Ruházati költségtérítés | B15: K1108 | C15: 0 | D15: 0 | E15: 0 | F15: =SUM(C15:E15) -> 0 | G15: 0 | H15: 0 | I15: 0 | J15: =SUM(G15:I15) -> 0 | K15: 0 | L15: 0 | M15: 0 | N15: =SUM(K15:M15) -> 0 | O15: 0 | P15: 0 | Q15: 0 | R15: =SUM(O15:Q15) -> 0 | S15: 0 | T15: 0 | U15: 0 | V15: =SUM(S15:U15) -> 0
A16: Közlekedési költségtérítés | B16: K1109 | C16: 0 | D16: 0 | E16: 0 | F16: =SUM(C16:E16) -> 0 | G16: 0 | H16: 0 | I16: 0 | J16: =SUM(G16:I16) -> 0 | K16: 40000 | L16: 0 | M16: 0 | N16: =SUM(K16:M16) -> 40000 | O16: 40000 | P16: 0 | Q16: 0 | R16: =SUM(O16:Q16) -> 40000 | S16: 40000 | T16: 0 | U16: 0 | V16: =SUM(S16:U16) -> 40000
A17: Egyéb költségtérítések | B17: K1110 | C17: 0 | D17: 0 | E17: 0 | F17: =SUM(C17:E17) -> 0 | G17: 0 | H17: 0 | I17: 0 | J17: =SUM(G17:I17) -> 0 | K17: 0 | L17: 0 | M17: 0 | N17: =SUM(K17:M17) -> 0 | O17: 0 | P17: 0 | Q17: 0 | R17: =SUM(O17:Q17) -> 0 | S17: 0 | T17: 0 | U17: 0 | V17: =SUM(S17:U17) -> 0
A18: Lakhatási támogatások | B18: K1111 | C18: 0 | D18: 0 | E18: 0 | F18: =SUM(C18:E18) -> 0 | G18: 0 | H18: 0 | I18: 0 | J18: =SUM(G18:I18) -> 0 | K18: 0 | L18: 0 | M18: 0 | N18: =SUM(K18:M18) -> 0 | O18: 0 | P18: 0 | Q18: 0 | R18: =SUM(O18:Q18) -> 0 | S18: 0 | T18: 0 | U18: 0 | V18: =SUM(S18:U18) -> 0
A19: Szociális támogatások | B19: K1112 | C19: 0 | D19: 0 | E19: 0 | F19: =SUM(C19:E19) -> 0 | G19: 0 | H19: 0 | I19: 0 | J19: =SUM(G19:I19) -> 0 | K19: 0 | L19: 0 | M19: 0 | N19: =SUM(K19:M19) -> 0 | O19: 0 | P19: 0 | Q19: 0 | R19: =SUM(O19:Q19) -> 0 | S19: 0 | T19: 0 | U19: 0 | V19: =SUM(S19:U19) -> 0
A20: Foglalkoztatottak egyéb személyi juttatásai | B20: K1113 | C20: 0 | D20: 0 | E20: 0 | F20: =SUM(C20:E20) -> 0 | G20: 0 | H20: 0 | I20: 0 | J20: =SUM(G20:I20) -> 0 | K20: 26024 | L20: 0 | M20: 0 | N20: =SUM(K20:M20) -> 26024 | O20: 26024 | P20: 0 | Q20: 0 | R20: =SUM(O20:Q20) -> 26024 | S20: 252520 | T20: 0 | U20: 0 | V20: =SUM(S20:U20) -> 252520
A21: Foglalkoztatottak személyi juttatásai | B21: K11 | C21: =SUM(C8:C20) -> 4358000 | D21: =SUM(D8:D20) -> 0 | E21: =SUM(E8:E20) -> 0 | F21: =SUM(C21:E21) -> 4358000 | G21: =SUM(G8:G20) -> 4358266 | H21: =SUM(H8:H20) -> 0 | I21: =SUM(I8:I20) -> 0 | J21: =SUM(G21:I21) -> 4358266 | K21: =SUM(K8:K20) -> 6516233 | L21: =SUM(L8:L20) -> 0 | M21: =SUM(M8:M20) -> 0 | N21: =SUM(K21:M21) -> 6516233 | O21: =SUM(O8:O20) -> 6516233 | P21: =SUM(P8:P20) -> 0 | Q21: =SUM(Q8:Q20) -> 0 | R21: =SUM(O21:Q21) -> 6516233 | S21: =SUM(S8:S20) -> 6679934 | T21: =SUM(T8:T20) -> 0 | U21: =SUM(U8:U20) -> 0 | V21: =SUM(S21:U21) -> 6679934
A22: Választott tisztségviselők juttatásai | B22: K121 | C22: 4140600 | D22: 0 | E22: 0 | F22: =SUM(C22:E22) -> 4140600 | G22: 4140600 | H22: 0 | I22: 0 | J22: =SUM(G22:I22) -> 4140600 | K22: 4140600 | L22: 0 | M22: 0 | N22: =SUM(K22:M22) -> 4140600 | O22: 4140600 | P22: 0 | Q22: 0 | R22: =SUM(O22:Q22) -> 4140600 | S22: 4140600 | T22: 0 | U22: 0 | V22: =SUM(S22:U22) -> 4140600
A23: Munkavégzésre irányuló egyéb jogviszonyban nem saját foglalkoztatottnak fizetett juttatások | B23: K122 | C23: 0 | D23: 0 | E23: 0 | F23: =SUM(C23:E23) -> 0 | G23: 0 | H23: 0 | I23: 0 | J23: =SUM(G23:I23) -> 0 | K23: 3116400 | L23: 0 | M23: 0 | N23: =SUM(K23:M23) -> 3116400 | O23: 3116400 | P23: 0 | Q23: 0 | R23: =SUM(O23:Q23) -> 3116400 | S23: 3116400 | T23: 0 | U23: 0 | V23: =SUM(S23:U23) -> 3116400
A24: Egyéb külső személyi juttatások | B24: K123 | C24: 2550000 | D24: 0 | E24: 0 | F24: =SUM(C24:E24) -> 2550000 | G24: 2550000 | H24: 0 | I24: 0 | J24: =SUM(G24:I24) -> 2550000 | K24: 1510000 | L24: 0 | M24: 0 | N24: =SUM(K24:M24) -> 1510000 | O24: 1510000 | P24: 0 | Q24: 0 | R24: =SUM(O24:Q24) -> 1510000 | S24: 1510000 | T24: 0 | U24: 0 | V24: =SUM(S24:U24) -> 1510000
A25: Külső személyi juttatások | B25: K12 | C25: =SUM(C22:C24) -> 6690600 | D25: =SUM(D22:D24) -> 0 | E25: =SUM(E22:E24) -> 0 | F25: =SUM(C25:E25) -> 6690600 | G25: =SUM(G22:G24) -> 6690600 | H25: =SUM(H22:H24) -> 0 | I25: =SUM(I22:I24) -> 0 | J25: =SUM(G25:I25) -> 6690600 | K25: =SUM(K22:K24) -> 8767000 | L25: =SUM(L22:L24) -> 0 | M25: =SUM(M22:M24) -> 0 | N25: =SUM(K25:M25) -> 8767000 | O25: =SUM(O22:O24) -> 8767000 | P25: =SUM(P22:P24) -> 0 | Q25: =SUM(Q22:Q24) -> 0 | R25: =SUM(O25:Q25) -> 8767000 | S25: =SUM(S22:S24) -> 8767000 | T25: =SUM(T22:T24) -> 0 | U25: =SUM(U22:U24) -> 0 | V25: =SUM(S25:U25) -> 8767000
A26: Személyi juttatások | B26: K1 | C26: =C21+C25 -> 11048600 | D26: =D21+D25 -> 0 | E26: =E21+E25 -> 0 | F26: =SUM(C26:E26) -> 11048600 | G26: =G21+G25 -> 11048866 | H26: =H21+H25 -> 0 | I26: =I21+I25 -> 0 | J26: =SUM(G26:I26) -> 11048866 | K26: =K21+K25 -> 15283233 | L26: =L21+L25 -> 0 | M26: =M21+M25 -> 0 | N26: =SUM(K26:M26) -> 15283233 | O26: =O21+O25 -> 15283233 | P26: =P21+P25 -> 0 | Q26: =Q21+Q25 -> 0 | R26: =SUM(O26:Q26) -> 15283233 | S26: =S21+S25 -> 15446934 | T26: =T21+T25 -> 0 | U26: =U21+U25 -> 0 | V26: =SUM(S26:U26) -> 15446934
A27: Munkaadókat terhelő járulékok és szociális hozzájárulási adó | B27: K2 | C27: 2028702 | D27: 0 | E27: 0 | F27: =SUM(C27:E27) -> 2028702 | G27: 2028702 | H27: 0 | I27: 0 | J27: =SUM(G27:I27) -> 2028702 | K27: 2392357 | L27: 0 | M27: 0 | N27: =SUM(K27:M27) -> 2392357 | O27: 2892357 | P27: 0 | Q27: 0 | R27: =SUM(O27:Q27) -> 2892357 | S27: 2945108 | T27: 0 | U27: 0 | V27: =SUM(S27:U27) -> 2945108
A28: Szakmai anyagok beszerzése | B28: K311 | C28: 0 | D28: 0 | E28: 0 | F28: =SUM(C28:E28) -> 0 | G28: 0 | H28: 0 | I28: 0 | J28: =SUM(G28:I28) -> 0 | K28: 0 | L28: 0 | M28: 0 | N28: =SUM(K28:M28) -> 0 | O28: 0 | P28: 0 | Q28: 0 | R28: =SUM(O28:Q28) -> 0 | S28: 13829 | T28: 0 | U28: 0 | V28: =SUM(S28:U28) -> 13829
A29: Üzemeltetési anyagok beszerzése | B29: K312 | C29: 1235000 | D29: 0 | E29: 0 | F29: =SUM(C29:E29) -> 1235000 | G29: 1235000 | H29: 0 | I29: 0 | J29: =SUM(G29:I29) -> 1235000 | K29: 1235000 | L29: 0 | M29: 0 | N29: =SUM(K29:M29) -> 1235000 | O29: 1235000 | P29: 0 | Q29: 0 | R29: =SUM(O29:Q29) -> 1235000 | S29: 1467810 | T29: 0 | U29: 0 | V29: =SUM(S29:U29) -> 1467810
A30: Árubeszerzés | B30: K313 | C30: 0 | D30: 0 | E30: 0 | F30: =SUM(C30:E30) -> 0 | G30: 0 | H30: 0 | I30: 0 | J30: =SUM(G30:I30) -> 0 | K30: 0 | L30: 0 | M30: 0 | N30: =SUM(K30:M30) -> 0 | O30: 0 | P30: 0 | Q30: 0 | R30: =SUM(O30:Q30) -> 0 | S30: 0 | T30: 0 | U30: 0 | V30: =SUM(S30:U30) -> 0
A31: Készletbeszerzés | B31: K31 | C31: =SUM(C28:C30) -> 1235000 | D31: =SUM(D28:D30) -> 0 | E31: =SUM(E28:E30) -> 0 | F31: =SUM(C31:E31) -> 1235000 | G31: =SUM(G28:G30) -> 1235000 | H31: =SUM(H28:H30) -> 0 | I31: =SUM(I28:I30) -> 0 | J31: =SUM(G31:I31) -> 1235000 | K31: =SUM(K28:K30) -> 1235000 | L31: =SUM(L28:L30) -> 0 | M31: =SUM(M28:M30) -> 0 | N31: =SUM(K31:M31) -> 1235000 | O31: =SUM(O28:O30) -> 1235000 | P31: =SUM(P28:P30) -> 0 | Q31: =SUM(Q28:Q30) -> 0 | R31: =SUM(O31:Q31) -> 1235000 | S31: =SUM(S28:S30) -> 1481639 | T31: =SUM(T28:T30) -> 0 | U31: =SUM(U28:U30) -> 0 | V31: =SUM(S31:U31) -> 1481639
A32: Informatikai szolgáltatások igénybevétele | B32: K321 | C32: 50000 | D32: 0 | E32: 0 | F32: =SUM(C32:E32) -> 50000 | G32: 50000 | H32: 0 | I32: 0 | J32: =SUM(G32:I32) -> 50000 | K32: 150000 | L32: 0 | M32: 0 | N32: =SUM(K32:M32) -> 150000 | O32: 150000 | P32: 0 | Q32: 0 | R32: =SUM(O32:Q32) -> 150000 | S32: 150000 | T32: 0 | U32: 0 | V32: =SUM(S32:U32) -> 150000
A33: Egyéb kommunikációs szolgáltatások | B33: K322 | C33: 1490000 | D33: 0 | E33: 0 | F33: =SUM(C33:E33) -> 1490000 | G33: 1490000 | H33: 0 | I33: 0 | J33: =SUM(G33:I33) -> 1490000 | K33: 1390000 | L33: 0 | M33: 0 | N33: =SUM(K33:M33) -> 1390000 | O33: 1390000 | P33: 0 | Q33: 0 | R33: =SUM(O33:Q33) -> 1390000 | S33: 1390000 | T33: 0 | U33: 0 | V33: =SUM(S33:U33) -> 1390000
A34: Kommunikációs szolgáltatások | B34: K32 | C34: =SUM(C32:C33) -> 1540000 | D34: =SUM(D32:D33) -> 0 | E34: =SUM(E32:E33) -> 0 | F34: =SUM(C34:E34) -> 1540000 | G34: =SUM(G32:G33) -> 1540000 | H34: =SUM(H32:H33) -> 0 | I34: =SUM(I32:I33) -> 0 | J34: =SUM(G34:I34) -> 1540000 | K34: =SUM(K32:K33) -> 1540000 | L34: =SUM(L32:L33) -> 0 | M34: =SUM(M32:M33) -> 0 | N34: =SUM(K34:M34) -> 1540000 | O34: =SUM(O32:O33) -> 1540000 | P34: =SUM(P32:P33) -> 0 | Q34: =SUM(Q32:Q33) -> 0 | R34: =SUM(O34:Q34) -> 1540000 | S34: =SUM(S32:S33) -> 1540000 | T34: =SUM(T32:T33) -> 0 | U34: =SUM(U32:U33) -> 0 | V34: =SUM(S34:U34) -> 1540000
A35: Közüzemi díjak | B35: K331 | C35: 3611000 | D35: 0 | E35: 0 | F35: =SUM(C35:E35) -> 3611000 | G35: 3611000 | H35: 0 | I35: 0 | J35: =SUM(G35:I35) -> 3611000 | K35: 2611000 | L35: 0 | M35: 0 | N35: =SUM(K35:M35) -> 2611000 | O35: 2611000 | P35: 0 | Q35: 0 | R35: =SUM(O35:Q35) -> 2611000 | S35: 2766580 | T35: 0 | U35: 0 | V35: =SUM(S35:U35) -> 2766580
A36: Vásárolt élelmezés | B36: K332 | C36: 3300000 | D36: 0 | E36: 0 | F36: =SUM(C36:E36) -> 3300000 | G36: 3300000 | H36: 0 | I36: 0 | J36: =SUM(G36:I36) -> 3300000 | K36: 3300000 | L36: 0 | M36: 0 | N36: =SUM(K36:M36) -> 3300000 | O36: 3300000 | P36: 0 | Q36: 0 | R36: =SUM(O36:Q36) -> 3300000 | S36: 3300000 | T36: 0 | U36: 0 | V36: =SUM(S36:U36) -> 3300000
A37: Bérleti és lízing díjak | B37: K333 | C37: 0 | D37: 0 | E37: 0 | F37: =SUM(C37:E37) -> 0 | G37: 0 | H37: 0 | I37: 0 | J37: =SUM(G37:I37) -> 0 | K37: 0 | L37: 0 | M37: 0 | N37: =SUM(K37:M37) -> 0 | O37: 0 | P37: 0 | Q37: 0 | R37: =SUM(O37:Q37) -> 0 | S37: 0 | T37: 0 | U37: 0 | V37: =SUM(S37:U37) -> 0
A38: Karbantartási, kisjavítási szolgáltatások | B38: K334 | C38: 920000 | D38: 0 | E38: 0 | F38: =SUM(C38:E38) -> 920000 | G38: 920000 | H38: 0 | I38: 0 | J38: =SUM(G38:I38) -> 920000 | K38: 920000 | L38: 0 | M38: 0 | N38: =SUM(K38:M38) -> 920000 | O38: 920000 | P38: 0 | Q38: 0 | R38: =SUM(O38:Q38) -> 920000 | S38: 920000 | T38: 0 | U38: 0 | V38: =SUM(S38:U38) -> 920000
A39: Közvetített szolgáltatások | B39: K335 | C39: 570000 | D39: 0 | E39: 0 | F39: =SUM(C39:E39) -> 570000 | G39: 570000 | H39: 0 | I39: 0 | J39: =SUM(G39:I39) -> 570000 | K39: 1570000 | L39: 0 | M39: 0 | N39: =SUM(K39:M39) -> 1570000 | O39: 1570000 | P39: 0 | Q39: 0 | R39: =SUM(O39:Q39) -> 1570000 | S39: 1570000 | T39: 0 | U39: 0 | V39: =SUM(S39:U39) -> 1570000
A40: Szakmai tevékenységet segítő szolgáltatások | B40: K336 | C40: 310000 | D40: 0 | E40: 0 | F40: =SUM(C40:E40) -> 310000 | G40: 310000 | H40: 0 | I40: 0 | J40: =SUM(G40:I40) -> 310000 | K40: 310000 | L40: 0 | M40: 0 | N40: =SUM(K40:M40) -> 310000 | O40: 310000 | P40: 0 | Q40: 0 | R40: =SUM(O40:Q40) -> 310000 | S40: 329350 | T40: 0 | U40: 0 | V40: =SUM(S40:U40) -> 329350
A41: Egyéb szolgáltatások | B41: K337 | C41: 5062700 | D41: 0 | E41: 0 | F41: =SUM(C41:E41) -> 5062700 | G41: 5062700 | H41: 0 | I41: 0 | J41: =SUM(G41:I41) -> 5062700 | K41: 5062700 | L41: 0 | M41: 0 | N41: =SUM(K41:M41) -> 5062700 | O41: 5062700 | P41: 0 | Q41: 0 | R41: =SUM(O41:Q41) -> 5062700 | S41: 5434233 | T41: 0 | U41: 0 | V41: =SUM(S41:U41) -> 5434233
A42: Szolgáltatási kiadások | B42: K33 | C42: =SUM(C35:C41) -> 13773700 | D42: =SUM(D35:D41) -> 0 | E42: =SUM(E35:E41) -> 0 | F42: =SUM(C42:E42) -> 13773700 | G42: =SUM(G35:G41) -> 13773700 | H42: =SUM(H35:H41) -> 0 | I42: =SUM(I35:I41) -> 0 | J42: =SUM(G42:I42) -> 13773700 | K42: =SUM(K35:K41) -> 13773700 | L42: =SUM(L35:L41) -> 0 | M42: =SUM(M35:M41) -> 0 | N42: =SUM(K42:M42) -> 13773700 | O42: =SUM(O35:O41) -> 13773700 | P42: =SUM(P35:P41) -> 0 | Q42: =SUM(Q35:Q41) -> 0 | R42: =SUM(O42:Q42) -> 13773700 | S42: =SUM(S35:S41) -> 14320163 | T42: =SUM(T35:T41) -> 0 | U42: =SUM(U35:U41) -> 0 | V42: =SUM(S42:U42) -> 14320163
...

Sheet 3. melléklet
C1: 3. melléklet 1/2018. (I.23.) önkormányzati rendelethez
A3: SOROKPOLÁNY Önkormányzat 2018. évi költségvetése
A4: Kiadások (Ft)
A6: BÓBITA ÓVODA ELŐIRÁNYZATOK | C6: EREDETI ELŐIRÁNYZAT | G6: I n.év módossított ELŐIRÁNYZAT | K6: II n.év módossított ELŐIRÁNYZAT | O6: III n.év módossított ELŐIRÁNYZAT | S6: IV n.év módossított ELŐIRÁNYZAT
A7: Rovat megnevezése | B7: Rovat-szám | C7: kötelező feladatok | D7: önként vállalt feladatok | E7: államigazgatási feladatok | F7: ÖSSZESEN | G7: kötelező feladatok | H7: önként vállalt feladatok | I7: államigazgatási feladatok | J7: ÖSSZESEN | K7: kötelező feladatok | L7: önként vállalt feladatok | M7: államigazgatási feladatok | N7: ÖSSZESEN | O7: kötelező feladatok | P7: önként vállalt feladatok | Q7: államigazgatási feladatok | R7: ÖSSZESEN | S7: kötelező feladatok | T7: önként vállalt feladatok | U7: államigazgatási feladatok | V7: ÖSSZESEN
A8: Törvény szerinti illetmények, munkabérek | B8: K1101 | C8: 12022461 | D8: 0 | E8: 0 | F8: =SUM(C8:E8) -> 12022461 | G8: 12022461 | H8: 0 | I8: 0 | J8: =SUM(G8:I8) -> 12022461 | K8: 10229982 | L8: 0 | M8: 0 | N8: =SUM(K8:M8) -> 10229982 | O8: 10229982 | P8: 0 | Q8: 0 | R8: =SUM(O8:Q8) -> 10229982 | S8: 10191982 | T8: 0 | U8: 0 | V8: =SUM(S8:U8) -> 10191982
A9: Normatív jutalmak | B9: K1102 | C9: 0 | D9: 0 | E9: 0 | F9: =SUM(C9:E9) -> 0 | G9: 0 | H9: 0 | I9: 0 | J9: =SUM(G9:I9) -> 0 | K9: 0 | L9: 0 | M9: 0 | N9: =SUM(K9:M9) -> 0 | O9: 0 | P9: 0 | Q9: 0 | R9: =SUM(O9:Q9) -> 0 | S9: 0 | T9: 0 | U9: 0 | V9: =SUM(S9:U9) -> 0
A10: Céljuttatás, projektprémium | B10: K1103 | C10: 0 | D10: 0 | E10: 0 | F10: =SUM(C10:E10) -> 0 | G10: 0 | H10: 0 | I10: 0 | J10: =SUM(G10:I10) -> 0 | K10: 0 | L10: 0 | M10: 0 | N10: =SUM(K10:M10) -> 0 | O10: 0 | P10: 0 | Q10: 0 | R10: =SUM(O10:Q10) -> 0 | S10: 89246 | T10: 0 | U10: 0 | V10: =SUM(S10:U10) -> 89246
A11: Készenléti, ügyeleti, helyettesítési díj, túlóra, túlszolgálat | B11: K1104 | C11: 0 | D11: 0 | E11: 0 | F11: =SUM(C11:E11) -> 0 | G11: 0 | H11: 0 | I11: 0 | J11: =SUM(G11:I11) -> 0 | K11: 0 | L11: 0 | M11: 0 | N11: =SUM(K11:M11) -> 0 | O11: 0 | P11: 0 | Q11: 0 | R11: =SUM(O11:Q11) -> 0 | S11: 0 | T11: 0 | U11: 0 | V11: =SUM(S11:U11) -> 0
A12: Végkielégítés | B12: K1105 | C12: 0 | D12: 0 | E12: 0 | F12: =SUM(C12:E12) -> 0 | G12: 0 | H12: 0 | I12: 0 | J12: =SUM(G12:I12) -> 0 | K12: 0 | L12: 0 | M12: 0 | N12: =SUM(K12:M12) -> 0 | O12: 0 | P12: 0 | Q12: 0 | R12: =SUM(O12:Q12) -> 0 | S12: 0 | T12: 0 | U12: 0 | V12: =SUM(S12:U12) -> 0
A13: Jubileumi jutalom | B13: K1106 | C13: 0 | D13: 0 | E13: 0 | F13: =SUM(C13:E13) -> 0 | G13: 0 | H13: 0 | I13: 0 | J13: =SUM(G13:I13) -> 0 | K13: 0 | L13: 0 | M13: 0 | N13: =SUM(K13:M13) -> 0 | O13: 0 | P13: 0 | Q13: 0 | R13: =SUM(O13:Q13) -> 0 | S13: 0 | T13: 0 | U13: 0 | V13: =SUM(S13:U13) -> 0
A14: Béren kívüli juttatások | B14: K1107 | C14: 308000 | D14: 0 | E14: 0 | F14: =SUM(C14:E14) -> 308000 | G14: 308000 | H14: 0 | I14: 0 | J14: =SUM(G14:I14) -> 308000 | K14: 283000 | L14: 0 | M14: 0 | N14: =SUM(K14:M14) -> 283000 | O14: 283000 | P14: 0 | Q14: 0 | R14: =SUM(O14:Q14) -> 283000 | S14: 283000 | T14: 0 | U14: 0 | V14: =SUM(S14:U14) -> 283000
A15: Ruházati költségtérítés | B15: K1108 | C15: 0 | D15: 0 | E15: 0 | F15: =SUM(C15:E15) -> 0 | G15: 0 | H15: 0 | I15: 0 | J15: =SUM(G15:I15) -> 0 | K15: 0 | L15: 0 | M15: 0 | N15: =SUM(K15:M15) -> 0 | O15: 0 | P15: 0 | Q15: 0 | R15: =SUM(O15:Q15) -> 0 | S15: 0 | T15: 0 | U15: 0 | V15: =SUM(S15:U15) -> 0
A16: Közlekedési költségtérítés | B16: K1109 | C16: 87300 | D16: 0 | E16: 0 | F16: =SUM(C16:E16) -> 87300 | G16: 87300 | H16: 0 | I16: 0 | J16: =SUM(G16:I16) -> 87300 | K16: 87300 | L16: 0 | M16: 0 | N16: =SUM(K16:M16) -> 87300 | O16: 87300 | P16: 0 | Q16: 0 | R16: =SUM(O16:Q16) -> 87300 | S16: 87300 | T16: 0 | U16: 0 | V16: =SUM(S16:U16) -> 87300
A17: Egyéb költségtérítések | B17: K1110 | C17: 0 | D17: 0 | E17: 0 | F17: =SUM(C17:E17) -> 0 | G17: 0 | H17: 0 | I17: 0 | J17: =SUM(G17:I17) -> 0 | K17: 0 | L17: 0 | M17: 0 | N17: =SUM(K17:M17) -> 0 | O17: 0 | P17: 0 | Q17: 0 | R17: =SUM(O17:Q17) -> 0 | S17: 0 | T17: 0 | U17: 0 | V17: =SUM(S17:U17) -> 0
A18: Lakhatási támogatások | B18: K1111 | C18: 0 | D18: 0 | E18: 0 | F18: =SUM(C18:E18) -> 0 | G18: 0 | H18: 0 | I18: 0 | J18: =SUM(G18:I18) -> 0 | K18: 0 | L18: 0 | M18: 0 | N18: =SUM(K18:M18) -> 0 | O18: 0 | P18: 0 | Q18: 0 | R18: =SUM(O18:Q18) -> 0 | S18: 0 | T18: 0 | U18: 0 | V18: =SUM(S18:U18) -> 0
A19: Szociális támogatások | B19: K1112 | C19: 0 | D19: 0 | E19: 0 | F19: =SUM(C19:E19) -> 0 | G19: 0 | H19: 0 | I19: 0 | J19: =SUM(G19:I19) -> 0 | K19: 0 | L19: 0 | M19: 0 | N19: =SUM(K19:M19) -> 0 | O19: 0 | P19: 0 | Q19: 0 | R19: =SUM(O19:Q19) -> 0 | S19: 0 | T19: 0 | U19: 0 | V19: =SUM(S19:U19) -> 0
A20: Foglalkoztatottak egyéb személyi juttatásai | B20: K1113 | C20: 0 | D20: 0 | E20: 0 | F20: =SUM(C20:E20) -> 0 | G20: 0 | H20: 0 | I20: 0 | J20: =SUM(G20:I20) -> 0 | K20: 0 | L20: 0 | M20: 0 | N20: =SUM(K20:M20) -> 0 | O20: 0 | P20: 0 | Q20: 0 | R20: =SUM(O20:Q20) -> 0 | S20: 52960 | T20: 0 | U20: 0 | V20: =SUM(S20:U20) -> 52960
A21: Foglalkoztatottak személyi juttatásai | B21: K11 | C21: =SUM(C8:C20) -> 12417761 | D21: =SUM(D8:D20) -> 0 | E21: =SUM(E8:E20) -> 0 | F21: =SUM(C21:E21) -> 12417761 | G21: =SUM(G8:G20) -> 12417761 | H21: =SUM(H8:H20) -> 0 | I21: =SUM(I8:I20) -> 0 | J21: =SUM(G21:I21) -> 12417761 | K21: =SUM(K8:K20) -> 10600282 | L21: =SUM(L8:L20) -> 0 | M21: =SUM(M8:M20) -> 0 | N21: =SUM(K21:M21) -> 10600282 | O21: =SUM(O8:O20) -> 10600282 | P21: =SUM(P8:P20) -> 0 | Q21: =SUM(Q8:Q20) -> 0 | R21: =SUM(O21:Q21) -> 10600282 | S21: =SUM(S8:S20) -> 10704488 | T21: =SUM(T8:T20) -> 0 | U21: =SUM(U8:U20) -> 0 | V21: =SUM(S21:U21) -> 10704488
A22: Választott tisztségviselők juttatásai | B22: K121 | C22: 0 | D22: 0 | E22: 0 | F22: =SUM(C22:E22) -> 0 | G22: 0 | H22: 0 | I22: 0 | J22: =SUM(G22:I22) -> 0 | K22: 0 | L22: 0 | M22: 0 | N22: =SUM(K22:M22) -> 0 | O22: 0 | P22: 0 | Q22: 0 | R22: =SUM(O22:Q22) -> 0 | S22: 0 | T22: 0 | U22: 0 | V22: =SUM(S22:U22) -> 0
A23: Munkavégzésre irányuló egyéb jogviszonyban nem saját foglalkoztatottnak fizetett juttatások | B23: K122 | C23: 0 | D23: 0 | E23: 0 | F23: =SUM(C23:E23) -> 0 | G23: 0 | H23: 0 | I23: 0 | J23: =SUM(G23:I23) -> 0 | K23: 0 | L23: 0 | M23: 0 | N23: =SUM(K23:M23) -> 0 | O23: 0 | P23: 0 | Q23: 0 | R23: =SUM(O23:Q23) -> 0 | S23: 0 | T23: 0 | U23: 0 | V23: =SUM(S23:U23) -> 0
A24: Egyéb külső személyi juttatások | B24: K123 | C24: 0 | D24: 0 | E24: 0 | F24: =SUM(C24:E24) -> 0 | G24: 0 | H24: 0 | I24: 0 | J24: =SUM(G24:I24) -> 0 | K24: 0 | L24: 0 | M24: 0 | N24: =SUM(K24:M24) -> 0 | O24: 0 | P24: 0 | Q24: 0 | R24: =SUM(O24:Q24) -> 0 | S24: 0 | T24: 0 | U24: 0 | V24: =SUM(S24:U24) -> 0
A25: Külső személyi juttatások | B25: K12 | C25: =SUM(C22:C24) -> 0 | D25: =SUM(D22:D24) -> 0 | E25: =SUM(E22:E24) -> 0 | F25: =SUM(C25:E25) -> 0 | G25: =SUM(G22:G24) -> 0 | H25: =SUM(H22:H24) -> 0 | I25: =SUM(I22:I24) -> 0 | J25: =SUM(G25:I25) -> 0 | K25: =SUM(K22:K24) -> 0 | L25: =SUM(L22:L24) -> 0 | M25: =SUM(M22:M24) -> 0 | N25: =SUM(K25:M25) -> 0 | O25: =SUM(O22:O24) -> 0 | P25: =SUM(P22:P24) -> 0 | Q25: =SUM(Q22:Q24) -> 0 | R25: =SUM(O25:Q25) -> 0 | S25: =SUM(S22:S24) -> 0 | T25: =SUM(T22:T24) -> 0 | U25: =SUM(U22:U24) -> 0 | V25: =SUM(S25:U25) -> 0
A26: Személyi juttatások | B26: K1 | C26: =C21+C25 -> 12417761 | D26: =D21+D25 -> 0 | E26: =E21+E25 -> 0 | F26: =SUM(C26:E26) -> 12417761 | G26: =G21+G25 -> 12417761 | H26: =H21+H25 -> 0 | I26: =I21+I25 -> 0 | J26: =SUM(G26:I26) -> 12417761 | K26: =K21+K25 -> 10600282 | L26: =L21+L25 -> 0 | M26: =M21+M25 -> 0 | N26: =SUM(K26:M26) -> 10600282 | O26: =O21+O25 -> 10600282 | P26: =P21+P25 -> 0 | Q26: =Q21+Q25 -> 0 | R26: =SUM(O26:Q26) -> 10600282 | S26: =S21+S25 -> 10704488 | T26: =T21+T25 -> 0 | U26: =U21+U25 -> 0 | V26: =SUM(S26:U26) -> 10704488
A27: Munkaadókat terhelő járulékok és szociális hozzájárulási adó | B27: K2 | C27: 2344816 | D27: 0 | E27: 0 | F27: =SUM(C27:E27) -> 2344816 | G27: 2344816 | H27: 0 | I27: 0 | J27: =SUM(G27:I27) -> 2344816 | K27: 1981161 | L27: 0 | M27: 0 | N27: =SUM(K27:M27) -> 1981161 | O27: 1981161 | P27: 0 | Q27: 0 | R27: =SUM(O27:Q27) -> 1981161 | S27: 2052177 | T27: 0 | U27: 0 | V27: =SUM(S27:U27) -> 2052177
A28: Szakmai anyagok beszerzése | B28: K311 | C28: 10000 | D28: 0 | E28: 0 | F28: =SUM(C28:E28) -> 10000 | G28: 10000 | H28: 0 | I28: 0 | J28: =SUM(G28:I28) -> 10000 | K28: 65000 | L28: 0 | M28: 0 | N28: =SUM(K28:M28) -> 65000 | O28: 65000 | P28: 0 | Q28: 0 | R28: =SUM(O28:Q28) -> 65000 | S28: 65000 | T28: 0 | U28: 0 | V28: =SUM(S28:U28) -> 65000
A29: Üzemeltetési anyagok beszerzése | B29: K312 | C29: 520000 | D29: 0 | E29: 0 | F29: =SUM(C29:E29) -> 520000 | G29: 520000 | H29: 0 | I29: 0 | J29: =SUM(G29:I29) -> 520000 | K29: 479000 | L29: 0 | M29: 0 | N29: =SUM(K29:M29) -> 479000 | O29: 479000 | P29: 0 | Q29: 0 | R29: =SUM(O29:Q29) -> 479000 | S29: 303778 | T29: 0 | U29: 0 | V29: =SUM(S29:U29) -> 303778
A30: Árubeszerzés | B30: K313 | C30: 0 | D30: 0 | E30: 0 | F30: =SUM(C30:E30) -> 0 | G30: 0 | H30: 0 | I30: 0 | J30: =SUM(G30:I30) -> 0 | K30: 0 | L30: 0 | M30: 0 | N30: =SUM(K30:M30) -> 0 | O30: 0 | P30: 0 | Q30: 0 | R30: =SUM(O30:Q30) -> 0 | S30: 0 | T30: 0 | U30: 0 | V30: =SUM(S30:U30) -> 0
A31: Készletbeszerzés | B31: K31 | C31: =SUM(C28:C30) -> 530000 | D31: =SUM(D28:D30) -> 0 | E31: =SUM(E28:E30) -> 0 | F31: =SUM(C31:E31) -> 530000 | G31: =SUM(G28:G30) -> 530000 | H31: =SUM(H28:H30) -> 0 | I31: =SUM(I28:I30) -> 0 | J31: =SUM(G31:I31) -> 530000 | K31: =SUM(K28:K30) -> 544000 | L31: =SUM(L28:L30) -> 0 | M31: =SUM(M28:M30) -> 0 | N31: =SUM(K31:M31) -> 544000 | O31: =SUM(O28:O30) -> 544000 | P31: =SUM(P28:P30) -> 0 | Q31: =SUM(Q28:Q30) -> 0 | R31: =SUM(O31:Q31) -> 544000 | S31: =SUM(S28:S30) -> 368778 | T31: =SUM(T28:T30) -> 0 | U31: =SUM(U28:U30) -> 0 | V31: =SUM(S31:U31) -> 368778
A32: Informatikai szolgáltatások igénybevétele | B32: K321 | C32: 0 | D32: 0 | E32: 0 | F32: =SUM(C32:E32) -> 0 | G32: 0 | H32: 0 | I32: 0 | J32: =SUM(G32:I32) -> 0 | K32: 47148 | L32: 0 | M32: 0 | N32: =SUM(K32:M32) -> 47148 | O32: 47148 | P32: 0 | Q32: 0 | R32: =SUM(O32:Q32) -> 47148 | S32: 47148 | T32: 0 | U32: 0 | V32: =SUM(S32:U32) -> 47148
A33: Egyéb kommunikációs szolgáltatások | B33: K322 | C33: 80000 | D33: 0 | E33: 0 | F33: =SUM(C33:E33) -> 80000 | G33: 80000 | H33: 0 | I33: 0 | J33: =SUM(G33:I33) -> 80000 | K33: 70000 | L33: 0 | M33: 0 | N33: =SUM(K33:M33) -> 70000 | O33: 70000 | P33: 0 | Q33: 0 | R33: =SUM(O33:Q33) -> 70000 | S33: 70000 | T33: 0 | U33: 0 | V33: =SUM(S33:U33) -> 70000
A34: Kommunikációs szolgáltatások | B34: K32 | C34: =SUM(C32:C33) -> 80000 | D34: =SUM(D32:D33) -> 0 | E34: =SUM(E32:E33) -> 0 | F34: =SUM(C34:E34) -> 80000 | G34: =SUM(G32:G33) -> 80000 | H34: =SUM(H32:H33) -> 0 | I34: =SUM(I32:I33) -> 0 | J34: =SUM(G34:I34) -> 80000 | K34: =SUM(K32:K33) -> 117148 | L34: =SUM(L32:L33) -> 0 | M34: =SUM(M32:M33) -> 0 | N34: =SUM(K34:M34) -> 117148 | O34: =SUM(O32:O33) -> 117148 | P34: =SUM(P32:P33) -> 0 | Q34: =SUM(Q32:Q33) -> 0 | R34: =SUM(O34:Q34) -> 117148 | S34: =SUM(S32:S33) -> 117148 | T34: =SUM(T32:T33) -> 0 | U34: =SUM(U32:U33) -> 0 | V34: =SUM(S34:U34) -> 117148
A35: Közüzemi díjak | B35: K331 | C35: 1200000 | D35: 0 | E35: 0 | F35: =SUM(C35:E35) -> 1200000 | G35: 1200000 | H35: 0 | I35: 0 | J35: =SUM(G35:I35) -> 1200000 | K35: 1200000 | L35: 0 | M35: 0 | N35: =SUM(K35:M35) -> 1200000 | O35: 1200000 | P35: 0 | Q35: 0 | R35: =SUM(O35:Q35) -> 1200000 | S35: 1200000 | T35: 0 | U35: 0 | V35: =SUM(S35:U35) -> 1200000
A36: Vásárolt élelmezés | B36: K332 | C36: 0 | D36: 0 | E36: 0 | F36: =SUM(C36:E36) -> 0 | G36: 0 | H36: 0 | I36: 0 | J36: =SUM(G36:I36) -> 0 | K36: 0 | L36: 0 | M36: 0 | N36: =SUM(K36:M36) -> 0 | O36: 0 | P36: 0 | Q36: 0 | R36: =SUM(O36:Q36) -> 0 | S36: 0 | T36: 0 | U36: 0 | V36: =SUM(S36:U36) -> 0
A37: Bérleti és lízing díjak | B37: K333 | C37: 0 | D37: 0 | E37: 0 | F37: =SUM(C37:E37) -> 0 | G37: 0 | H37: 0 | I37: 0 | J37: =SUM(G37:I37) -> 0 | K37: 0 | L37: 0 | M37: 0 | N37: =SUM(K37:M37) -> 0 | O37: 0 | P37: 0 | Q37: 0 | R37: =SUM(O37:Q37) -> 0 | S37: 0 | T37: 0 | U37: 0 | V37: =SUM(S37:U37) -> 0
A38: Karbantartási, kisjavítási szolgáltatások | B38: K334 | C38: 250000 | D38: 0 | E38: 0 | F38: =SUM(C38:E38) -> 250000 | G38: 250000 | H38: 0 | I38: 0 | J38: =SUM(G38:I38) -> 250000 | K38: 250000 | L38: 0 | M38: 0 | N38: =SUM(K38:M38) -> 250000 | O38: 250000 | P38: 0 | Q38: 0 | R38: =SUM(O38:Q38) -> 250000 | S38: 250000 | T38: 0 | U38: 0 | V38: =SUM(S38:U38) -> 250000
A39: Közvetített szolgáltatások | B39: K335 | C39: 0 | D39: 0 | E39: 0 | F39: =SUM(C39:E39) -> 0 | G39: 0 | H39: 0 | I39: 0 | J39: =SUM(G39:I39) -> 0 | K39: 0 | L39: 0 | M39: 0 | N39: =SUM(K39:M39) -> 0 | O39: 0 | P39: 0 | Q39: 0 | R39: =SUM(O39:Q39) -> 0 | S39: 0 | T39: 0 | U39: 0 | V39: =SUM(S39:U39) -> 0
A40: Szakmai tevékenységet segítő szolgáltatások | B40: K336 | C40: 0 | D40: 0 | E40: 0 | F40: =SUM(C40:E40) -> 0 | G40: 0 | H40: 0 | I40: 0 | J40: =SUM(G40:I40) -> 0 | K40: 252400 | L40: 0 | M40: 0 | N40: =SUM(K40:M40) -> 252400 | O40: 252400 | P40: 0 | Q40: 0 | R40: =SUM(O40:Q40) -> 252400 | S40: 262000 | T40: 0 | U40: 0 | V40: =SUM(S40:U40) -> 262000
A41: Egyéb szolgáltatások | B41: K337 | C41: 335000 | D41: 0 | E41: 0 | F41: =SUM(C41:E41) -> 335000 | G41: 335000 | H41: 0 | I41: 0 | J41: =SUM(G41:I41) -> 335000 | K41: 335000 | L41: 0 | M41: 0 | N41: =SUM(K41:M41) -> 335000 | O41: 335000 | P41: 0 | Q41: 0 | R41: =SUM(O41:Q41) -> 335000 | S41: 335000 | T41: 0 | U41: 0 | V41: =SUM(S41:U41) -> 335000
A42: Szolgáltatási kiadások | B42: K33 | C42: =SUM(C35:C41) -> 1785000 | D42: =SUM(D35:D41) -> 0 | E42: =SUM(E35:E41) -> 0 | F42: =SUM(C42:E42) -> 1785000 | G42: =SUM(G35:G41) -> 1785000 | H42: =SUM(H35:H41) -> 0 | I42: =SUM(I35:I41) -> 0 | J42: =SUM(G42:I42) -> 1785000 | K42: =SUM(K35:K41) -> 2037400 | L42: =SUM(L35:L41) -> 0 | M42: =SUM(M35:M41) -> 0 | N42: =SUM(K42:M42) -> 2037400 | O42: =SUM(O35:O41) -> 2037400 | P42: =SUM(P35:P41) -> 0 | Q42: =SUM(Q35:Q41) -> 0 | R42: =SUM(O42:Q42) -> 2037400 | S42: =SUM(S35:S41) -> 2047000 | T42: =SUM(T35:T41) -> 0 | U42: =SUM(U35:U41) -> 0 | V42: =SUM(S42:U42) -> 2047000
...

Sheet 4. melléklet
C1: 4. melléklet 1/2018. (I.23.) önkormányzati rendelethez
A3: SOROKPOLÁNY Önkormányzat 2018. évi költségvetése
A4: Kiadások (Ft)
A6: Sorokpolány Önkormányzat és költségvetési szervei előirányzat | C6: EREDETI ELŐIRÁNYZAT | G6: I n.év módossított ELŐIRÁNYZAT | K6: II n.év módossított ELŐIRÁNYZAT | O6: III n.év módossított ELŐIRÁNYZAT | S6: IV n.év módossított ELŐIRÁNYZAT
A7: Rovat megnevezése | B7: Rovat-szám | C7: kötelező feladatok | D7: önként vállalt feladatok | E7: államigazgatási feladatok | F7: ÖSSZESEN | G7: kötelező feladatok | H7: önként vállalt feladatok | I7: államigazgatási feladatok | J7: ÖSSZESEN | K7: kötelező feladatok | L7: önként vállalt feladatok | M7: államigazgatási feladatok | N7: ÖSSZESEN | O7: kötelező feladatok | P7: önként vállalt feladatok | Q7: államigazgatási feladatok | R7: ÖSSZESEN | S7: kötelező feladatok | T7: önként vállalt feladatok | U7: államigazgatási feladatok | V7: ÖSSZESEN
A8: Törvény szerinti illetmények, munkabérek | B8: K1101 | C8: ='[1]1. melléklet'!C8+'[1]2. melléklet'!C8 -> 15844461 | D8: ='[1]1. melléklet'!D8+'[1]2. melléklet'!D8 -> 0 | E8: ='[1]1. melléklet'!E8+'[1]2. melléklet'!E8 -> 0 | F8: =SUM(C8:E8) -> 15844461 | G8: =SUM('2. melléklet'!G8+'3. melléklet'!G8) -> 15844727 | H8: =SUM('2. melléklet'!H8+'3. melléklet'!H8) -> 0 | I8: =SUM('2. melléklet'!I8+'3. melléklet'!I8) -> 0 | J8: =SUM('2. melléklet'!J8+'3. melléklet'!J8) -> 15844727 | K8: =SUM('2. melléklet'!K8+'3. melléklet'!K8) -> 15819191 | L8: =SUM('2. melléklet'!L8+'3. melléklet'!L8) -> 0 | M8: =SUM('2. melléklet'!M8+'3. melléklet'!M8) -> 0 | N8: =SUM('2. melléklet'!N8+'3. melléklet'!N8) -> 15819191 | ... V8: =SUM('2. melléklet'!V8+'3. melléklet'!V8) -> 15628170
A9: Normatív jutalmak | B9: K1102 | C9: ='[1]1. melléklet'!C9+'[1]2. melléklet'!C9 -> 0 | D9: ='[1]1. melléklet'!D9+'[1]2. melléklet'!D9 -> 0 | E9: ='[1]1. melléklet'!E9+'[1]2. melléklet'!E9 -> 0 | F9: =SUM(C9:E9) -> 0 | G9: =SUM('2. melléklet'!G9+'3. melléklet'!G9) -> 0 | H9: =SUM('2. melléklet'!H9+'3. melléklet'!H9) -> 0 | I9: =SUM('2. melléklet'!I9+'3. melléklet'!I9) -> 0 | J9: =SUM('2. melléklet'!J9+'3. melléklet'!J9) -> 0 | K9: =SUM('2. melléklet'!K9+'3. melléklet'!K9) -> 0 | L9: =SUM('2. melléklet'!L9+'3. melléklet'!L9) -> 0 | M9: =SUM('2. melléklet'!M9+'3. melléklet'!M9) -> 0 | N9: =SUM('2. melléklet'!N9+'3. melléklet'!N9) -> 0 | ... V9: =SUM('2. melléklet'!V9+'3. melléklet'!V9) -> 0
A10: Céljuttatás, projektprémium | B10: K1103 | C10: ='[1]1. melléklet'!C10+'[1]2. melléklet'!C10 -> 0 | D10: ='[1]1. melléklet'!D10+'[1]2. melléklet'!D10 -> 0 | E10: ='[1]1. melléklet'!E10+'[1]2. melléklet'!E10 -> 0 | F10: =SUM(C10:E10) -> 0 | G10: =SUM('2. melléklet'!G10+'3. melléklet'!G10) -> 0 | H10: =SUM('2. melléklet'!H10+'3. melléklet'!H10) -> 0 | I10: =SUM('2. melléklet'!I10+'3. melléklet'!I10) -> 0 | J10: =SUM('2. melléklet'!J10+'3. melléklet'!J10) -> 0 | K10: =SUM('2. melléklet'!K10+'3. melléklet'!K10) -> 300000 | L10: =SUM('2. melléklet'!L10+'3. melléklet'!L10) -> 0 | M10: =SUM('2. melléklet'!M10+'3. melléklet'!M10) -> 0 | N10: =SUM('2. melléklet'!N10+'3. melléklet'!N10) -> 300000 | ... V10: =SUM('2. melléklet'!V10+'3. melléklet'!V10) -> 479472
A11: Készenléti, ügyeleti, helyettesítési díj, túlóra, túlszolgálat | B11: K1104 | C11: ='[1]1. melléklet'!C11+'[1]2. melléklet'!C11 -> 0 | D11: ='[1]1. melléklet'!D11+'[1]2. melléklet'!D11 -> 0 | E11: ='[1]1. melléklet'!E11+'[1]2. melléklet'!E11 -> 0 | F11: =SUM(C11:E11) -> 0 | G11: =SUM('2. melléklet'!G11+'3. melléklet'!G11) -> 0 | H11: =SUM('2. melléklet'!H11+'3. melléklet'!H11) -> 0 | I11: =SUM('2. melléklet'!I11+'3. melléklet'!I11) -> 0 | J11: =SUM('2. melléklet'!J11+'3. melléklet'!J11) -> 0 | K11: =SUM('2. melléklet'!K11+'3. melléklet'!K11) -> 0 | L11: =SUM('2. melléklet'!L11+'3. melléklet'!L11) -> 0 | M11: =SUM('2. melléklet'!M11+'3. melléklet'!M11) -> 0 | N11: =SUM('2. melléklet'!N11+'3. melléklet'!N11) -> 0 | ... V11: =SUM('2. melléklet'!V11+'3. melléklet'!V11) -> 0
A12: Végkielégítés | B12: K1105 | C12: ='[1]1. melléklet'!C12+'[1]2. melléklet'!C12 -> 0 | D12: ='[1]1. melléklet'!D12+'[1]2. melléklet'!D12 -> 0 | E12: ='[1]1. melléklet'!E12+'[1]2. melléklet'!E12 -> 0 | F12: =SUM(C12:E12) -> 0 | G12: =SUM('2. melléklet'!G12+'3. melléklet'!G12) -> 0 | H12: =SUM('2. melléklet'!H12+'3. melléklet'!H12) -> 0 | I12: =SUM('2. melléklet'!I12+'3. melléklet'!I12) -> 0 | J12: =SUM('2. melléklet'!J12+'3. melléklet'!J12) -> 0 | K12: =SUM('2. melléklet'!K12+'3. melléklet'!K12) -> 0 | L12: =SUM('2. melléklet'!L12+'3. melléklet'!L12) -> 0 | M12: =SUM('2. melléklet'!M12+'3. melléklet'!M12) -> 0 | N12: =SUM('2. melléklet'!N12+'3. melléklet'!N12) -> 0 | ... V12: =SUM('2. melléklet'!V12+'3. melléklet'!V12) -> 0
A13: Jubileumi jutalom | B13: K1106 | C13: ='[1]1. melléklet'!C13+'[1]2. melléklet'!C13 -> 361000 | D13: ='[1]1. melléklet'!D13+'[1]2. melléklet'!D13 -> 0 | E13: ='[1]1. melléklet'!E13+'[1]2. melléklet'!E13 -> 0 | F13: =SUM(C13:E13) -> 361000 | G13: =SUM('2. melléklet'!G13+'3. melléklet'!G13) -> 361000 | H13: =SUM('2. melléklet'!H13+'3. melléklet'!H13) -> 0 | I13: =SUM('2. melléklet'!I13+'3. melléklet'!I13) -> 0 | J13: =SUM('2. melléklet'!J13+'3. melléklet'!J13) -> 361000 | K13: =SUM('2. melléklet'!K13+'3. melléklet'!K13) -> 361000 | L13: =SUM('2. melléklet'!L13+'3. melléklet'!L13) -> 0 | M13: =SUM('2. melléklet'!M13+'3. melléklet'!M13) -> 0 | N13: =SUM('2. melléklet'!N13+'3. melléklet'!N13) -> 361000 | ... V13: =SUM('2. melléklet'!V13+'3. melléklet'!V13) -> 361000
A14: Béren kívüli juttatások | B14: K1107 | C14: ='[1]1. melléklet'!C14+'[1]2. melléklet'!C14 -> 483000 | D14: ='[1]1. melléklet'!D14+'[1]2. melléklet'!D14 -> 0 | E14: ='[1]1. melléklet'!E14+'[1]2. melléklet'!E14 -> 0 | F14: =SUM(C14:E14) -> 483000 | G14: =SUM('2. melléklet'!G14+'3. melléklet'!G14) -> 483000 | H14: =SUM('2. melléklet'!H14+'3. melléklet'!H14) -> 0 | I14: =SUM('2. melléklet'!I14+'3. melléklet'!I14) -> 0 | J14: =SUM('2. melléklet'!J14+'3. melléklet'!J14) -> 483000 | K14: =SUM('2. melléklet'!K14+'3. melléklet'!K14) -> 483000 | L14: =SUM('2. melléklet'!L14+'3. melléklet'!L14) -> 0 | M14: =SUM('2. melléklet'!M14+'3. melléklet'!M14) -> 0 | N14: =SUM('2. melléklet'!N14+'3. melléklet'!N14) -> 483000 | ... V14: =SUM('2. melléklet'!V14+'3. melléklet'!V14) -> 483000
A15: Ruházati költségtérítés | B15: K1108 | C15: ='[1]1. melléklet'!C15+'[1]2. melléklet'!C15 -> 0 | D15: ='[1]1. melléklet'!D15+'[1]2. melléklet'!D15 -> 0 | E15: ='[1]1. melléklet'!E15+'[1]2. melléklet'!E15 -> 0 | F15: =SUM(C15:E15) -> 0 | G15: =SUM('2. melléklet'!G15+'3. melléklet'!G15) -> 0 | H15: =SUM('2. melléklet'!H15+'3. melléklet'!H15) -> 0 | I15: =SUM('2. melléklet'!I15+'3. melléklet'!I15) -> 0 | J15: =SUM('2. melléklet'!J15+'3. melléklet'!J15) -> 0 | K15: =SUM('2. melléklet'!K15+'3. melléklet'!K15) -> 0 | L15: =SUM('2. melléklet'!L15+'3. melléklet'!L15) -> 0 | M15: =SUM('2. melléklet'!M15+'3. melléklet'!M15) -> 0 | N15: =SUM('2. melléklet'!N15+'3. melléklet'!N15) -> 0 | ... V15: =SUM('2. melléklet'!V15+'3. melléklet'!V15) -> 0
A16: Közlekedési költségtérítés | B16: K1109 | C16: ='[1]1. melléklet'!C16+'[1]2. melléklet'!C16 -> 87300 | D16: ='[1]1. melléklet'!D16+'[1]2. melléklet'!D16 -> 0 | E16: ='[1]1. melléklet'!E16+'[1]2. melléklet'!E16 -> 0 | F16: =SUM(C16:E16) -> 87300 | G16: =SUM('2. melléklet'!G16+'3. melléklet'!G16) -> 87300 | H16: =SUM('2. melléklet'!H16+'3. melléklet'!H16) -> 0 | I16: =SUM('2. melléklet'!I16+'3. melléklet'!I16) -> 0 | J16: =SUM('2. melléklet'!J16+'3. melléklet'!J16) -> 87300 | K16: =SUM('2. melléklet'!K16+'3. melléklet'!K16) -> 127300 | L16: =SUM('2. melléklet'!L16+'3. melléklet'!L16) -> 0 | M16: =SUM('2. melléklet'!M16+'3. melléklet'!M16) -> 0 | N16: =SUM('2. melléklet'!N16+'3. melléklet'!N16) -> 127300 | ... V16: =SUM('2. melléklet'!V16+'3. melléklet'!V16) -> 127300
A17: Egyéb költségtérítések | B17: K1110 | C17: ='[1]1. melléklet'!C17+'[1]2. melléklet'!C17 -> 0 | D17: ='[1]1. melléklet'!D17+'[1]2. melléklet'!D17 -> 0 | E17: ='[1]1. melléklet'!E17+'[1]2. melléklet'!E17 -> 0 | F17: =SUM(C17:E17) -> 0 | G17: =SUM('2. melléklet'!G17+'3. melléklet'!G17) -> 0 | H17: =SUM('2. melléklet'!H17+'3. melléklet'!H17) -> 0 | I17: =SUM('2. melléklet'!I17+'3. melléklet'!I17) -> 0 | J17: =SUM('2. melléklet'!J17+'3. melléklet'!J17) -> 0 | K17: =SUM('2. melléklet'!K17+'3. melléklet'!K17) -> 0 | L17: =SUM('2. melléklet'!L17+'3. melléklet'!L17) -> 0 | M17: =SUM('2. melléklet'!M17+'3. melléklet'!M17) -> 0 | N17: =SUM('2. melléklet'!N17+'3. melléklet'!N17) -> 0 | ... V17: =SUM('2. melléklet'!V17+'3. melléklet'!V17) -> 0
A18: Lakhatási támogatások | B18: K1111 | C18: ='[1]1. melléklet'!C18+'[1]2. melléklet'!C18 -> 0 | D18: ='[1]1. melléklet'!D18+'[1]2. melléklet'!D18 -> 0 | E18: ='[1]1. melléklet'!E18+'[1]2. melléklet'!E18 -> 0 | F18: =SUM(C18:E18) -> 0 | G18: =SUM('2. melléklet'!G18+'3. melléklet'!G18) -> 0 | H18: =SUM('2. melléklet'!H18+'3. melléklet'!H18) -> 0 | I18: =SUM('2. melléklet'!I18+'3. melléklet'!I18) -> 0 | J18: =SUM('2. melléklet'!J18+'3. melléklet'!J18) -> 0 | K18: =SUM('2. melléklet'!K18+'3. melléklet'!K18) -> 0 | L18: =SUM('2. melléklet'!L18+'3. melléklet'!L18) -> 0 | M18: =SUM('2. melléklet'!M18+'3. melléklet'!M18) -> 0 | N18: =SUM('2. melléklet'!N18+'3. melléklet'!N18) -> 0 | ... V18: =SUM('2. melléklet'!V18+'3. melléklet'!V18) -> 0
A19: Szociális támogatások | B19: K1112 | C19: ='[1]1. melléklet'!C19+'[1]2. melléklet'!C19 -> 0 | D19: ='[1]1. melléklet'!D19+'[1]2. melléklet'!D19 -> 0 | E19: ='[1]1. melléklet'!E19+'[1]2. melléklet'!E19 -> 0 | F19: =SUM(C19:E19) -> 0 | G19: =SUM('2. melléklet'!G19+'3. melléklet'!G19) -> 0 | H19: =SUM('2. melléklet'!H19+'3. melléklet'!H19) -> 0 | I19: =SUM('2. melléklet'!I19+'3. melléklet'!I19) -> 0 | J19: =SUM('2. melléklet'!J19+'3. melléklet'!J19) -> 0 | K19: =SUM('2. melléklet'!K19+'3. melléklet'!K19) -> 0 | L19: =SUM('2. melléklet'!L19+'3. melléklet'!L19) -> 0 | M19: =SUM('2. melléklet'!M19+'3. melléklet'!M19) -> 0 | N19: =SUM('2. melléklet'!N19+'3. melléklet'!N19) -> 0 | ... V19: =SUM('2. melléklet'!V19+'3. melléklet'!V19) -> 0
... A75: Egyéb működési célú kiadások | B75: K5 | C75: ='[1]1. melléklet'!C75+'[1]2. melléklet'!C75 -> 7440877 | D75: ='[1]1. melléklet'!D75+'[1]2. melléklet'!D75 -> 0 | E75: ='[1]1. melléklet'!E75+'[1]2. melléklet'!E75 -> 0 | F75: =SUM(C75:E75) -> 7440877 | G75: =SUM('2. melléklet'!G75+'3. melléklet'!G75) -> 7437877 | H75: =SUM('2. melléklet'!H75+'3. melléklet'!H75) -> 0 | I75: =SUM('2. melléklet'!I75+'3. melléklet'!I75) -> 0 | J75: =SUM('2. melléklet'!J75+'3. melléklet'!J75) -> 7437877 | K75: =SUM('2. melléklet'!K75+'3. melléklet'!K75) -> 8965818 | L75: =SUM('2. melléklet'!L75+'3. melléklet'!L75) -> 0 | M75: =SUM('2. melléklet'!M75+'3. melléklet'!M75) -> 0 | N75: =SUM('2. melléklet'!N75+'3. melléklet'!N75) -> 8965818 | ... V75: =SUM('2. melléklet'!V75+'3. melléklet'!V75) -> 11440631
A76: Működési kiadások összesen | C76: ='[1]1. melléklet'!C76+'[1]2. melléklet'!C76 -> 0 | D76: ='[1]1. melléklet'!D76+'[1]2. melléklet'!D76 -> 0 | E76: ='[1]1. melléklet'!E76+'[1]2. melléklet'!E76 -> 0 | F76: =SUM(C76:E76) -> 0 | G76: =SUM('2. melléklet'!G76+'3. melléklet'!G76) -> 64167522 | H76: =SUM('2. melléklet'!H76+'3. melléklet'!H76) -> 0 | I76: =SUM('2. melléklet'!I76+'3. melléklet'!I76) -> 13000 | J76: =SUM('2. melléklet'!J76+'3. melléklet'!J76) -> 64180522 | K76: =SUM('2. melléklet'!K76+'3. melléklet'!K76) -> 67773899 | L76: =SUM('2. melléklet'!L76+'3. melléklet'!L76) -> 0 | M76: =SUM('2. melléklet'!M76+'3. melléklet'!M76) -> 13000 | N76: =SUM('2. melléklet'!N76+'3. melléklet'!N76) -> 67786899 | ... V76: =SUM('2. melléklet'!V76+'3. melléklet'!V76) -> 72007823
A77: Immateriális javak beszerzése, létesítése | B77: K61 | C77: ='[1]1. melléklet'!C77+'[1]2. melléklet'!C77 -> 0 | D77: ='[1]1. melléklet'!D77+'[1]2. melléklet'!D77 -> 0 | E77: ='[1]1. melléklet'!E77+'[1]2. melléklet'!E77 -> 0 | F77: =SUM(C77:E77) -> 0 | G77: =SUM('2. melléklet'!G77+'3. melléklet'!G77) -> 0 | H77: =SUM('2. melléklet'!H77+'3. melléklet'!H77) -> 0 | I77: =SUM('2. melléklet'!I77+'3. melléklet'!I77) -> 0 | J77: =SUM('2. melléklet'!J77+'3. melléklet'!J77) -> 0 | K77: =SUM('2. melléklet'!K77+'3. melléklet'!K77) -> 0 | L77: =SUM('2. melléklet'!L77+'3. melléklet'!L77) -> 0 | M77: =SUM('2. melléklet'!M77+'3. melléklet'!M77) -> 0 | N77: =SUM('2. melléklet'!N77+'3. melléklet'!N77) -> 0 | ... V77: =SUM('2. melléklet'!V77+'3. melléklet'!V77) -> 0
A78: Ingatlanok beszerzése, létesítése | B78: K62 | C78: ='[1]1. melléklet'!C78+'[1]2. melléklet'!C78 -> 3335000 | D78: ='[1]1. melléklet'!D78+'[1]2. melléklet'!D78 -> 0 | E78: ='[1]1. melléklet'!E78+'[1]2. melléklet'!E78 -> 0 | F78: =SUM(C78:E78) -> 3335000 | G78: =SUM('2. melléklet'!G78+'3. melléklet'!G78) -> 3335000 | H78: =SUM('2. melléklet'!H78+'3. melléklet'!H78) -> 0 | I78: =SUM('2. melléklet'!I78+'3. melléklet'!I78) -> 0 | J78: =SUM('2. melléklet'!J78+'3. melléklet'!J78) -> 3335000 | K78: =SUM('2. melléklet'!K78+'3. melléklet'!K78) -> 3335000 | L78: =SUM('2. melléklet'!L78+'3. melléklet'!L78) -> 0 | M78: =SUM('2. melléklet'!M78+'3. melléklet'!M78) -> 0 | N78: =SUM('2. melléklet'!N78+'3. melléklet'!N78) -> 3335000 | ... V78: =SUM('2. melléklet'!V78+'3. melléklet'!V78) -> 3335000
A79: Informatikai eszközök beszerzése, létesítése | B79: K63 | C79: ='[1]1. melléklet'!C79+'[1]2. melléklet'!C79 -> 0 | D79: ='[1]1. melléklet'!D79+'[1]2. melléklet'!D79 -> 0 | E79: ='[1]1. melléklet'!E79+'[1]2. melléklet'!E79 -> 0 | F79: =SUM(C79:E79) -> 0 | G79: =SUM('2. melléklet'!G79+'3. melléklet'!G79) -> 0 | H79: =SUM('2. melléklet'!H79+'3. melléklet'!H79) -> 0 | I79: =SUM('2. melléklet'!I79+'3. melléklet'!I79) -> 0 | J79: =SUM('2. melléklet'!J79+'3. melléklet'!J79) -> 0 | K79: =SUM('2. melléklet'!K79+'3. melléklet'!K79) -> 0 | L79: =SUM('2. melléklet'!L79+'3. melléklet'!L79) -> 0 | M79: =SUM('2. melléklet'!M79+'3. melléklet'!M79) -> 0 | N79: =SUM('2. melléklet'!N79+'3. melléklet'!N79) -> 0 | ... V79: =SUM('2. melléklet'!V79+'3. melléklet'!V79) -> 0
A80: Egyéb tárgyi eszközök beszerzése, létesítése | B80: K64 | C80: ='[1]1. melléklet'!C80+'[1]2. melléklet'!C80 -> 1669000 | D80: ='[1]1. melléklet'!D80+'[1]2. melléklet'!D80 -> 0 | E80: ='[1]1. melléklet'!E80+'[1]2. melléklet'!E80 -> 0 | F80: =SUM(C80:E80) -> 1669000 | G80: =SUM('2. melléklet'!G80+'3. melléklet'!G80) -> 1669000 | H80: =SUM('2. melléklet'!H80+'3. melléklet'!H80) -> 0 | I80: =SUM('2. melléklet'!I80+'3. melléklet'!I80) -> 0 | J80: =SUM('2. melléklet'!J80+'3. melléklet'!J80) -> 1669000 | K80: =SUM('2. melléklet'!K80+'3. melléklet'!K80) -> 1719000 | L80: =SUM('2. melléklet'!L80+'3. melléklet'!L80) -> 0 | M80: =SUM('2. melléklet'!M80+'3. melléklet'!M80) -> 0 | N80: =SUM('2. melléklet'!N80+'3. melléklet'!N80) -> 1719000 | ... V80: =SUM('2. melléklet'!V80+'3. melléklet'!V80) -> 1719000
A81: Részesedések beszerzése | B81: K65 | C81: ='[1]1. melléklet'!C81+'[1]2. melléklet'!C81 -> 0 | D81: ='[1]1. melléklet'!D81+'[1]2. melléklet'!D81 -> 0 | E81: ='[1]1. melléklet'!E81+'[1]2. melléklet'!E81 -> 0 | F81: =SUM(C81:E81) -> 0 | G81: =SUM('2. melléklet'!G81+'3. melléklet'!G81) -> 0 | H81: =SUM('2. melléklet'!H81+'3. melléklet'!H81) -> 0 | I81: =SUM('2. melléklet'!I81+'3. melléklet'!I81) -> 0 | J81: =SUM('2. melléklet'!J81+'3. melléklet'!J81) -> 0 | K81: =SUM('2. melléklet'!K81+'3. melléklet'!K81) -> 0 | L81: =SUM('2. melléklet'!L81+'3. melléklet'!L81) -> 0 | M81: =SUM('2. melléklet'!M81+'3. melléklet'!M81) -> 0 | N81: =SUM('2. melléklet'!N81+'3. melléklet'!N81) -> 0 | ... V81: =SUM('2. melléklet'!V81+'3. melléklet'!V81) -> 0
A82: Meglévő részesedések növeléséhez kapcsolódó kiadások | B82: K66 | C82: ='[1]1. melléklet'!C82+'[1]2. melléklet'!C82 -> 0 | D82: ='[1]1. melléklet'!D82+'[1]2. melléklet'!D82 -> 0 | E82: ='[1]1. melléklet'!E82+'[1]2. melléklet'!E82 -> 0 | F82: =SUM(C82:E82) -> 0 | G82: =SUM('2. melléklet'!G82+'3. melléklet'!G82) -> 0 | H82: =SUM('2. melléklet'!H82+'3. melléklet'!H82) -> 0 | I82: =SUM('2. melléklet'!I82+'3. melléklet'!I82) -> 0 | J82: =SUM('2. melléklet'!J82+'3. melléklet'!J82) -> 0 | K82: =SUM('2. melléklet'!K82+'3. melléklet'!K82) -> 0 | L82: =SUM('2. melléklet'!L82+'3. melléklet'!L82) -> 0 | M82: =SUM('2. melléklet'!M82+'3. melléklet'!M82) -> 0 | N82: =SUM('2. melléklet'!N82+'3. melléklet'!N82) -> 0 | ... V82: =SUM('2. melléklet'!V82+'3. melléklet'!V82) -> 0
A83: Beruházási célú előzetesen felszámított általános forgalmi adó | B83: K67 | C83: ='[1]1. melléklet'!C83+'[1]2. melléklet'!C83 -> 1349800 | D83: ='[1]1. melléklet'!D83+'[1]2. melléklet'!D83 -> 0 | E83: ='[1]1. melléklet'!E83+'[1]2. melléklet'!E83 -> 0 | F83: =SUM(C83:E83) -> 1349800 | G83: =SUM('2. melléklet'!G83+'3. melléklet'!G83) -> 1349800 | H83: =SUM('2. melléklet'!H83+'3. melléklet'!H83) -> 0 | I83: =SUM('2. melléklet'!I83+'3. melléklet'!I83) -> 0 | J83: =SUM('2. melléklet'!J83+'3. melléklet'!J83) -> 1349800 | K83: =SUM('2. melléklet'!K83+'3. melléklet'!K83) -> 1364800 | L83: =SUM('2. melléklet'!L83+'3. melléklet'!L83) -> 0 | M83: =SUM('2. melléklet'!M83+'3. melléklet'!M83) -> 0 | N83: =SUM('2. melléklet'!N83+'3. melléklet'!N83) -> 1364800 | ... V83: =SUM('2. melléklet'!V83+'3. melléklet'!V83) -> 1364800
A84: Beruházások | B84: K6 | C84: ='[1]1. melléklet'!C84+'[1]2. melléklet'!C84 -> 6353800 | D84: ='[1]1. melléklet'!D84+'[1]2. melléklet'!D84 -> 0 | E84: ='[1]1. melléklet'!E84+'[1]2. melléklet'!E84 -> 0 | F84: =SUM(C84:E84) -> 6353800 | G84: =SUM('2. melléklet'!G84+'3. melléklet'!G84) -> 6353800 | H84: =SUM('2. melléklet'!H84+'3. melléklet'!H84) -> 0 | I84: =SUM('2. melléklet'!I84+'3. melléklet'!I84) -> 0 | J84: =SUM('2. melléklet'!J84+'3. melléklet'!J84) -> 6353800 | K84: =SUM('2. melléklet'!K84+'3. melléklet'!K84) -> 6418800 | L84: =SUM('2. melléklet'!L84+'3. melléklet'!L84) -> 0 | M84: =SUM('2. melléklet'!M84+'3. melléklet'!M84) -> 0 | N84: =SUM('2. melléklet'!N84+'3. melléklet'!N84) -> 6418800 | ... V84: =SUM('2. melléklet'!V84+'3. melléklet'!V84) -> 6418800
A85: Ingatlanok felújítása | B85: K71 | C85: ='[1]1. melléklet'!C85+'[1]2. melléklet'!C85 -> 20219000 | D85: ='[1]1. melléklet'!D85+'[1]2. melléklet'!D85 -> 0 | E85: ='[1]1. melléklet'!E85+'[1]2. melléklet'!E85 -> 0 | F85: =SUM(C85:E85) -> 20219000 | G85: =SUM('2. melléklet'!G85+'3. melléklet'!G85) -> 20219000 | H85: =SUM('2. melléklet'!H85+'3. melléklet'!H85) -> 0 | I85: =SUM('2. melléklet'!I85+'3. melléklet'!I85) -> 0 | J85: =SUM('2. melléklet'!J85+'3. melléklet'!J85) -> 20219000 | K85: =SUM('2. melléklet'!K85+'3. melléklet'!K85) -> 18102600 | L85: =SUM('2. melléklet'!L85+'3. melléklet'!L85) -> 0 | M85: =SUM('2. melléklet'!M85+'3. melléklet'!M85) -> 0 | N85: =SUM('2. melléklet'!N85+'3. melléklet'!N85) -> 18102600 | ... V85: =SUM('2. melléklet'!V85+'3. melléklet'!V85) -> 18102600
A86: Informatikai eszközök felújítása | B86: K72 | C86: ='[1]1. melléklet'!C86+'[1]2. melléklet'!C86 -> 0 | D86: ='[1]1. melléklet'!D86+'[1]2. melléklet'!D86 -> 0 | E86: ='[1]1. melléklet'!E86+'[1]2. melléklet'!E86 -> 0 | F86: =SUM(C86:E86) -> 0 | G86: =SUM('2. melléklet'!G86+'3. melléklet'!G86) -> 0 | H86: =SUM('2. melléklet'!H86+'3. melléklet'!H86) -> 0 | I86: =SUM('2. melléklet'!I86+'3. melléklet'!I86) -> 0 | J86: =SUM('2. melléklet'!J86+'3. melléklet'!J86) -> 0 | K86: =SUM('2. melléklet'!K86+'3. melléklet'!K86) -> 0 | L86: =SUM('2. melléklet'!L86+'3. melléklet'!L86) -> 0 | M86: =SUM('2. melléklet'!M86+'3. melléklet'!M86) -> 0 | N86: =SUM('2. melléklet'!N86+'3. melléklet'!N86) -> 0 | ... V86: =SUM('2. melléklet'!V86+'3. melléklet'!V86) -> 0
A87: Egyéb tárgyi eszközök felújítása | B87: K73 | C87: ='[1]1. melléklet'!C87+'[1]2. melléklet'!C87 -> 1500000 | D87: ='[1]1. melléklet'!D87+'[1]2. melléklet'!D87 -> 0 | E87: ='[1]1. melléklet'!E87+'[1]2. melléklet'!E87 -> 0 | F87: =SUM(C87:E87) -> 1500000 | G87: =SUM('2. melléklet'!G87+'3. melléklet'!G87) -> 1500000 | H87: =SUM('2. melléklet'!H87+'3. melléklet'!H87) -> 0 | I87: =SUM('2. melléklet'!I87+'3. melléklet'!I87) -> 0 | J87: =SUM('2. melléklet'!J87+'3. melléklet'!J87) -> 1500000 | K87: =SUM('2. melléklet'!K87+'3. melléklet'!K87) -> 1500000 | L87: =SUM('2. melléklet'!L87+'3. melléklet'!L87) -> 0 | M87: =SUM('2. melléklet'!M87+'3. melléklet'!M87) -> 0 | N87: =SUM('2. melléklet'!N87+'3. melléklet'!N87) -> 1500000 | ... V87: =SUM('2. melléklet'!V87+'3. melléklet'!V87) -> 1500000
A88: Felújítási célú előzetesen felszámított általános forgalmi adó | B88: K74 | C88: ='[1]1. melléklet'!C88+'[1]2. melléklet'!C88 -> 8199554 | D88: ='[1]1. melléklet'!D88+'[1]2. melléklet'!D88 -> 0 | E88: ='[1]1. melléklet'!E88+'[1]2. melléklet'!E88 -> 0 | F88: =SUM(C88:E88) -> 8199554 | G88: =SUM('2. melléklet'!G88+'3. melléklet'!G88) -> 8199554 | H88: =SUM('2. melléklet'!H88+'3. melléklet'!H88) -> 0 | I88: =SUM('2. melléklet'!I88+'3. melléklet'!I88) -> 0 | J88: =SUM('2. melléklet'!J88+'3. melléklet'!J88) -> 8199554 | K88: =SUM('2. melléklet'!K88+'3. melléklet'!K88) -> 8199554 | L88: =SUM('2. melléklet'!L88+'3. melléklet'!L88) -> 0 | M88: =SUM('2. melléklet'!M88+'3. melléklet'!M88) -> 0 | N88: =SUM('2. melléklet'!N88+'3. melléklet'!N88) -> 8199554 | ... V88: =SUM('2. melléklet'!V88+'3. melléklet'!V88) -> 8199554
... A99: Egyéb felhalmozási célú kiadások | B99: K8 | C99: ='[1]1. melléklet'!C99+'[1]2. melléklet'!C99 -> 0 | D99: ='[1]1. melléklet'!D99+'[1]2. melléklet'!D99 -> 0 | E99: ='[1]1. melléklet'!E99+'[1]2. melléklet'!E99 -> 0 | F99: =SUM(C99:E99) -> 0 | G99: =SUM('2. melléklet'!G99+'3. melléklet'!G99) -> 0 | H99: =SUM('2. melléklet'!H99+'3. melléklet'!H99) -> 0 | I99: =SUM('2. melléklet'!I99+'3. melléklet'!I99) -> 0 | J99: =SUM('2. melléklet'!J99+'3. melléklet'!J99) -> 0 | K99: =SUM('2. melléklet'!K99+'3. melléklet'!K99) -> 0 | L99: =SUM('2. melléklet'!L99+'3. melléklet'!L99) -> 0 | M99: =SUM('2. melléklet'!M99+'3. melléklet'!M99) -> 0 | N99: =SUM('2. melléklet'!N99+'3. melléklet'!N99) -> 0 | ... V99: =SUM('2. melléklet'!V99+'3. melléklet'!V99) -> 0
A100: Felhalmozási kiadások összesen | C100: ='[1]1. melléklet'!C100+'[1]2. melléklet'!C100 -> 36272354 | D100: ='[1]1. melléklet'!D100+'[1]2. melléklet'!D100 -> 0 | E100: ='[1]1. melléklet'!E100+'[1]2. melléklet'!E100 -> 0 | F100: =SUM(C100:E100) -> 36272354 | G100: =SUM('2. melléklet'!G100+'3. melléklet'!G100) -> 36272354 | H100: =SUM('2. melléklet'!H100+'3. melléklet'!H100) -> 0 | I100: =SUM('2. melléklet'!I100+'3. melléklet'!I100) -> 0 | J100: =SUM('2. melléklet'!J100+'3. melléklet'!J100) -> 36272354 | K100: =SUM('2. melléklet'!K100+'3. melléklet'!K100) -> 34220954 | L100: =SUM('2. melléklet'!L100+'3. melléklet'!L100) -> 0 | M100: =SUM('2. melléklet'!M100+'3. melléklet'!M100) -> 0 | N100: =SUM('2. melléklet'!N100+'3. melléklet'!N100) -> 34220954 | ... V100: =SUM('2. melléklet'!V100+'3. melléklet'!V100) -> 34220954
A101: Költségvetési kiadások | B101: K1-K8 | C101: ='[1]1. melléklet'!C101+'[1]2. melléklet'!C101 -> 100439610 | D101: ='[1]1. melléklet'!D101+'[1]2. melléklet'!D101 -> 0 | E101: ='[1]1. melléklet'!E101+'[1]2. melléklet'!E101 -> 13000 | F101: =SUM(C101:E101) -> 100452610 | G101: =SUM('2. melléklet'!G101+'3. melléklet'!G101) -> 100439876 | H101: =SUM('2. melléklet'!H101+'3. melléklet'!H101) -> 0 | I101: =SUM('2. melléklet'!I101+'3. melléklet'!I101) -> 13000 | J101: =SUM('2. melléklet'!J101+'3. melléklet'!J101) -> 100452876 | K101: =SUM('2. melléklet'!K101+'3. melléklet'!K101) -> 101994853 | L101: =SUM('2. melléklet'!L101+'3. melléklet'!L101) -> 0 | M101: =SUM('2. melléklet'!M101+'3. melléklet'!M101) -> 13000 | N101: =SUM('2. melléklet'!N101+'3. melléklet'!N101) -> 102007853 | ... V101: =SUM('2. melléklet'!V101+'3. melléklet'!V101) -> 106228777
A102: Hosszú lejáratú hitelek, kölcsönök törlesztése pénzügyi vállalkozásnak | B102: K9111 | C102: ='[1]1. melléklet'!C102+'[1]2. melléklet'!C102 -> 0 | D102: ='[1]1. melléklet'!D102+'[1]2. melléklet'!D102 -> 0 | E102: ='[1]1. melléklet'!E102+'[1]2. melléklet'!E102 -> 0 | F102: =SUM(C102:E102) -> 0 | G102: =SUM('2. melléklet'!G102+'3. melléklet'!G102) -> 0 | H102: =SUM('2. melléklet'!H102+'3. melléklet'!H102) -> 0 | I102: =SUM('2. melléklet'!I102+'3. melléklet'!I102) -> 0 | J102: =SUM('2. melléklet'!J102+'3. melléklet'!J102) -> 0 | K102: =SUM('2. melléklet'!K102+'3. melléklet'!K102) -> 0 | L102: =SUM('2. melléklet'!L102+'3. melléklet'!L102) -> 0 | M102: =SUM('2. melléklet'!M102+'3. melléklet'!M102) -> 0 | N102: =SUM('2. melléklet'!N102+'3. melléklet'!N102) -> 0 | ... V102: =SUM('2. melléklet'!V102+'3. melléklet'!V102) -> 0
A103: Likviditási célú hitelek, kölcsönök törlesztése pénzügyi vállalkozásnak | B103: K9112 | C103: ='[1]1. melléklet'!C103+'[1]2. melléklet'!C103 -> 0 | D103: ='[1]1. melléklet'!D103+'[1]2. melléklet'!D103 -> 0 | E103: ='[1]1. melléklet'!E103+'[1]2. melléklet'!E103 -> 0 | F103: =SUM(C103:E103) -> 0 | G103: =SUM('2. melléklet'!G103+'3. melléklet'!G103) -> 0 | H103: =SUM('2. melléklet'!H103+'3. melléklet'!H103) -> 0 | I103: =SUM('2. melléklet'!I103+'3. melléklet'!I103) -> 0 | J103: =SUM('2. melléklet'!J103+'3. melléklet'!J103) -> 0 | K103: =SUM('2. melléklet'!K103+'3. melléklet'!K103) -> 0 | L103: =SUM('2. melléklet'!L103+'3. melléklet'!L103) -> 0 | M103: =SUM('2. melléklet'!M103+'3. melléklet'!M103) -> 0 | N103: =SUM('2. melléklet'!N103+'3. melléklet'!N103) -> 0 | ... V103: =SUM('2. melléklet'!V103+'3. melléklet'!V103) -> 0
A104: Rövid lejáratú hitelek, kölcsönök törlesztése | B104: K9113 | C104: ='[1]1. melléklet'!C104+'[1]2. melléklet'!C104 -> 0 | D104: ='[1]1. melléklet'!D104+'[1]2. melléklet'!D104 -> 0 | E104: ='[1]1. melléklet'!E104+'[1]2. melléklet'!E104 -> 0 | F104: =SUM(C104:E104) -> 0 | G104: =SUM('2. melléklet'!G104+'3. melléklet'!G104) -> 0 | H104: =SUM('2. melléklet'!H104+'3. melléklet'!H104) -> 0 | I104: =SUM('2. melléklet'!I104+'3. melléklet'!I104) -> 0 | J104: =SUM('2. melléklet'!J104+'3. melléklet'!J104) -> 0 | K104: =SUM('2. melléklet'!K104+'3. melléklet'!K104) -> 0 | L104: =SUM('2. melléklet'!L104+'3. melléklet'!L104) -> 0 | M104: =SUM('2. melléklet'!M104+'3. melléklet'!M104) -> 0 | N104: =SUM('2. melléklet'!N104+'3. melléklet'!N104) -> 0 | ... V104: =SUM('2. melléklet'!V104+'3. melléklet'!V104) -> 0
A105: Hitel-, kölcsöntörlesztés államháztartáson kívülre | B105: K911 | C105: ='[1]1. melléklet'!C105+'[1]2. melléklet'!C105 -> 0 | D105: ='[1]1. melléklet'!D105+'[1]2. melléklet'!D105 -> 0 | E105: ='[1]1. melléklet'!E105+'[1]2. melléklet'!E105 -> 0 | F105: =SUM(C105:E105) -> 0 | G105: =SUM('2. melléklet'!G105+'3. melléklet'!G105) -> 0 | H105: =SUM('2. melléklet'!H105+'3. melléklet'!H105) -> 0 | I105: =SUM('2. melléklet'!I105+'3. melléklet'!I105) -> 0 | J105: =SUM('2. melléklet'!J105+'3. melléklet'!J105) -> 0 | K105: =SUM('2. melléklet'!K105+'3. melléklet'!K105) -> 0 | L105: =SUM('2. melléklet'!L105+'3. melléklet'!L105) -> 0 | M105: =SUM('2. melléklet'!M105+'3. melléklet'!M105) -> 0 | N105: =SUM('2. melléklet'!N105+'3. melléklet'!N105) -> 0 | ... V105: =SUM('2. melléklet'!V105+'3. melléklet'!V105) -> 0
A106: Forgatási célú belföldi értékpapírok vásárlása | B106: K9121 | C106: ='[1]1. melléklet'!C106+'[1]2. melléklet'!C106 -> 0 | D106: ='[1]1. melléklet'!D106+'[1]2. melléklet'!D106 -> 0 | E106: ='[1]1. melléklet'!E106+'[1]2. melléklet'!E106 -> 0 | F106: =SUM(C106:E106) -> 0 | G106: =SUM('2. melléklet'!G106+'3. melléklet'!G106) -> 0 | H106: =SUM('2. melléklet'!H106+'3. melléklet'!H106) -> 0 | I106: =SUM('2. melléklet'!I106+'3. melléklet'!I106) -> 0 | J106: =SUM('2. melléklet'!J106+'3. melléklet'!J106) -> 0 | K106: =SUM('2. melléklet'!K106+'3. melléklet'!K106) -> 0 | L106: =SUM('2. melléklet'!L106+'3. melléklet'!L106) -> 0 | M106: =SUM('2. melléklet'!M106+'3. melléklet'!M106) -> 0 | N106: =SUM('2. melléklet'!N106+'3. melléklet'!N106) -> 0 | ... V106: =SUM('2. melléklet'!V106+'3. melléklet'!V106) -> 0
A107: Forgatási célú belföldi értékpapírok beváltása | B107: K9122 | C107: ='[1]1. melléklet'!C107+'[1]2. melléklet'!C107 -> 0 | D107: ='[1]1. melléklet'!D107+'[1]2. melléklet'!D107 -> 0 | E107: ='[1]1. melléklet'!E107+'[1]2. melléklet'!E107 -> 0 | F107: =SUM(C107:E107) -> 0 | G107: =SUM('2. melléklet'!G107+'3. melléklet'!G107) -> 0 | H107: =SUM('2. melléklet'!H107+'3. melléklet'!H107) -> 0 | I107: =SUM('2. melléklet'!I107+'3. melléklet'!I107) -> 0 | J107: =SUM('2. melléklet'!J107+'3. melléklet'!J107) -> 0 | K107: =SUM('2. melléklet'!K107+'3. melléklet'!K107) -> 0 | L107: =SUM('2. melléklet'!L107+'3. melléklet'!L107) -> 0 | M107: =SUM('2. melléklet'!M107+'3. melléklet'!M107) -> 0 | N107: =SUM('2. melléklet'!N107+'3. melléklet'!N107) -> 0 | ... V107: =SUM('2. melléklet'!V107+'3. melléklet'!V107) -> 0
...

Sheet 5. melléklet
B1: 5. melléklet 1/2018. (I.23.) önkormányzati rendelethez
A3: SOROKPOLÁNY Önkormányzat 2018. évi költségvetése
A4: Bevételek (Ft)
A6: SOROKPOLÁNY ÖNKORMÁNYZATI ELŐIRÁNYZATOK | C6: EREDETI ELŐIRÁNYZAT | G6: I. n.év módosított ELŐIRÁNYZAT | K6: II. n.év módosított ELŐIRÁNYZAT | O6: III. n.év módosított ELŐIRÁNYZAT | S6: IV. n.év módosított ELŐIRÁNYZAT
A7: Rovat megnevezése | B7: Rovat- szám | C7: kötelező feladatok | D7: önként vállalt feladatok | E7: államigazgatási feladatok | F7: ÖSSZESEN | G7: kötelező feladatok | H7: önként vállalt feladatok | I7: államigazgatási feladatok | J7: ÖSSZESEN | K7: kötelező feladatok | L7: önként vállalt feladatok | M7: államigazgatási feladatok | N7: ÖSSZESEN | O7: kötelező feladatok | P7: önként vállalt feladatok | Q7: államigazgatási feladatok | R7: ÖSSZESEN | S7: kötelező feladatok | T7: önként vállalt feladatok | U7: államigazgatási feladatok | V7: ÖSSZESEN
A8: Helyi önkormányzatok működésének általános támogatása | B8: B111 | C8: 12568964 | D8: 0 | E8: 0 | F8: =SUM(C8:E8) -> 12568964 | G8: 12568964 | H8: 0 | I8: 0 | J8: =SUM(G8:I8) -> 12568964 | K8: 12568964 | L8: 0 | M8: 0 | N8: =SUM(K8:M8) -> 12568964 | O8: 12568964 | P8: 0 | Q8: 0 | R8: =SUM(O8:Q8) -> 12568964 | S8: 12569452 | T8: 0 | U8: 0 | V8: =SUM(S8:U8) -> 12569452
