Workbook
Name _pr10: '12. melléklet'!#REF!
Name _pr12: '12. melléklet'!#REF!
Name _pr21: '11. melléklet'!$A$57
Name _pr232: '14. melléklet'!$A$13
Name _pr233: '14. melléklet'!$A$18
Name _pr234: '14. melléklet'!$A$26
Name _pr235: '14. melléklet'!$A$31
Name _pr236: '14. melléklet'!$A$36
Name _pr24: '11. melléklet'!$A$59
Name _pr25: '11. melléklet'!$A$60
Name _pr26: '11. melléklet'!$A$61
Name _pr27: '11. melléklet'!$A$62
Name _pr28: '11. melléklet'!$A$63
Name _pr312: '14. melléklet'!#REF!
Name _pr313: '14. melléklet'!#REF!
Name _pr314: '14. melléklet'!$A$5
Name _pr315: '14. melléklet'!#REF!
Name _pr7: '12. melléklet'!#REF!
Name _pr8: '12. melléklet'!#REF!
Name _pr9: '12. melléklet'!#REF!
Name foot_4_place: '12. melléklet'!$A$20
Name foot_5_place: '12. melléklet'!#REF!
Name foot_53_place: '12. melléklet'!#REF!
Name léé: '12. melléklet'!#REF!
Name mmm: '11. melléklet'!#REF!

Sheet 1. melléklet
A1: 1. melléklet 1/2018. (I.23.) önkormányzati rendelethez
A3: SOROKPOLÁNY Önkormányzat 2018. évi költségvetése
A4: Az egységes rovatrend szerint a kiemelt kiadási és bevételi jogcímek
A7: K1. Személyi juttatások
A8: K2. Munkaadókat terhelő járulékok és szociális hozzájárulási adó
A9: K3. Dologi kiadások
A10: K4. Ellátottak pénzbeli juttatásai
A11: K5. Egyéb működési célú kiadások
A12: K6. Beruházási kiadások
A13: K7. Felújítások
A14: K8. Egyéb felhalmozási célú kiadások
A15: K1-8. Költségvetési kiadások
... A27: BEVÉTELEK ÖSSZESEN (B1-8)

Sheet 2. melléklet
C1: 2. melléklet 1/2018. (I.23.) önkormányzati rendelethez
A3: SOROKPOLÁNY Önkormányzat 2018. évi költségvetése
A4: Kiadások (Ft)
A6: SOROKPOLÁNY ÖNKORMÁNYZATI ELŐIRÁNYZATOK | C6: EREDETI ELŐIRÁNYZAT | G6: I. n.év módosított előirányzat | K6: II. n.év módosított előirányzat | O6: III. n.év módosított előirányzat | S6: IV. n.év módosított előirányzat
A7: Rovat megnevezése | B7: Rovat-szám | C7: kötelező feladatok | D7: önként vállalt feladatok | E7: államigazgatási feladatok | F7: ÖSSZESEN | G7: kötelező feladatok | H7: önként vállalt feladatok | I7: államigazgatási feladatok | J7: ÖSSZESEN | K7: kötelező feladatok | L7: önként vállalt feladatok | M7: államigazgatási feladatok | N7: ÖSSZESEN | O7: kötelező feladatok | P7: önként vállalt feladatok | Q7: államigazgatási feladatok | R7: ÖSSZESEN | S7: kötelező feladatok | T7: önként vállalt feladatok | U7: államigazgatási feladatok | V7: ÖSSZESEN
A8: Törvény szerinti illetmények, munkabérek | B8: K1101 | C8: 3822000 | D8: 0 | E8: 0 | F8: =SUM(C8:E8) -> 3822000 | G8: 3822266 | H8: 0 | I8: 0 | J8: =SUM(G8:I8) -> 3822266 | K8: 5589209 | L8: 0 | M8: 0 | N8: =SUM(K8:M8) -> 5589209 | O8: 5589209 | P8: 0 | Q8: 0 | R8: =SUM(O8:Q8) -> 5589209 | S8: 5436188 | T8: 0 | U8: 0 | V8: =SUM(S8:U8) -> 5436188
A9: Normatív jutalmak | B9: K1102 | C9: 0 | D9: 0 | E9: 0 | F9: =SUM(C9:E9) -> 0 | G9: 0 | H9: 0 | I9: 0 | J9: =SUM(G9:I9) -> 0 | K9: 0 | L9: 0 | M9: 0 | N9: =SUM(K9:M9) -> 0 | O9: 0 | P9: 0 | Q9: 0 | R9: =SUM(O9:Q9) -> 0 | S9: 0 | T9: 0 | U9: 0 | V9: =SUM(S9:U9) -> 0
A10: Céljuttatás, projektprémium | B10: K1103 | C10: 0 | D10: 0 | E10: 0 | F10: =SUM(C10:E10) -> 0 | G10: 0 | H10: 0 | I10: 0 | J10: =SUM(G10:I10) -> 0 | K10: 300000 | L10: 0 | M10: 0 | N10: =SUM(K10:M10) -> 300000 | O10: 300000 | P10: 0 | Q10: 0 | R10: =SUM(O10:Q10) -> 300000 | S10: 390226 | T10: 0 | U10: 0 | V10: =SUM(S10:U10) -> 390226
A11: Készenléti, ügyeleti, helyettesítési díj, túlóra, túlszolgálat | B11: K1104 | C11: 0 | D11: 0 | E11: 0 | F11: =SUM(C11:E11) -> 0 | G11: 0 | H11: 0 | I11: 0 | J11: =SUM(G11:I11) -> 0 | K11: 0 | L11: 0 | M11: 0 | N11: =SUM(K11:M11) -> 0 | O11: 0 | P11: 0 | Q11: 0 | R11: =SUM(O11:Q11) -> 0 | S11: 0 | T11: 0 | U11: 0 | V11: =SUM(S11:U11) -> 0
A12: Végkielégítés | B12: K1105 | C12: 0 | D12: 0 | E12: 0 | F12: =SUM(C12:E12) -> 0 | G12: 0 | H12: 0 | I12: 0 | J12: =SUM(G12:I12) -> 0 | K12: 0 | L12: 0 | M12: 0 | N12: =SUM(K12:M12) -> 0 | O12: 0 | P12: 0 | Q12: 0 | R12: =SUM(O12:Q12) -> 0 | S12: 0 | T12: 0 | U12: 0 | V12: =SUM(S12:U12) -> 0
A13: Jubileumi jutalom | B13: K1106 | C13: 361000 | D13: 0 | E13: 0 | F13: =SUM(C13:E13) -> 361000 | G13: 361000 | H13: 0 | I13: 0 | J13: =SUM(G13:I13) -> 361000 | K13: 361000 | L13: 0 | M13: 0 | N13: =SUM(K13:M13) -> 361000 | O13: 361000 | P13: 0 | Q13: 0 | R13: =SUM(O13:Q13) -> 361000 | S13: 361000 | T13: 0 | U13: 0 | V13: =SUM(S13:U13) -> 361000
A14: Béren kívüli juttatások | B14: K1107 | C14: 175000 | D14: 0 | E14: 0 | F14: =SUM(C14:E14) -> 175000 | G14: 175000 | H14: 0 | I14: 0 | J14: =SUM(G14:I14) -> 175000 | K14: 200000 | L14: 0 | M14: 0 | N14: =SUM(K14:M14) -> 200000 | O14: 200000 | P14: 0 | Q14: 0 | R14: =SUM(O14:Q14) -> 200000 | S14: 200000 | T14: 0 | U14: 0 | V14: =SUM(S14:U14) -> 200000
A15: Ruházati költségtérítés | B15: K1108 | C15: 0 | D15: 0 | E15: 0 | F15: =SUM(C15:E15) -> 0 | G15: 0 | H15: 0 | I15: 0 | J15: =SUM(G15:I15) -> 0 | K15: 0 | L15: 0 | M15: 0 | N15: =SUM(K15:M15) -> 0 | O15: 0 | P15: 0 | Q15: 0 | R15: =SUM(O15:Q15) -> 0 | S15: 0 | T15: 0 | U15: 0 | V15: =SUM(S15:U15) -> 0
A16: Közlekedési költségtérítés | B16: K1109 | C16: 0 | D16: 0 | E16: 0 | F16: =SUM(C16:E16) -> 0 | G16: 0 | H16: 0 | I16: 0 | J16: =SUM(G16:I16) -> 0 | K16: 40000 | L16: 0 | M16: 0 | N16: =SUM(K16:M16) -> 40000 | O16: 40000 | P16: 0 | Q16: 0 | R16: =SUM(O16:Q16) -> 40000 | S16: 40000 | T16: 0 | U16: 0 | V16: =SUM(S16:U16) -> 40000
A17: Egyéb költségtérítések | B17: K1110 | C17: 0 | D17: 0 | E17: 0 | F17: =SUM(C17:E17) -> 0 | G17: 0 | H17: 0 | I17: 0 | J17: =SUM(G17:I17) -> 0 | K17: 0 | L17: 0 | M17: 0 | N17: =SUM(K17:M17) -> 0 | O17: 0 | P17: 0 | Q17: 0 | R17: =SUM(O17:Q17) -> 0 | S17: 0 | T17: 0 | U17: 0 | V17: =SUM(S17:U17) -> 0
A18: Lakhatási támogatások | B18: K1111 | C18: 0 | D18: 0 | E18: 0 | F18: =SUM(C18:E18) -> 0 | G18: 0 | H18: 0 | I18: 0 | J18: =SUM(G18:I18) -> 0 | K18: 0 | L18: 0 | M18: 0 | N18: =SUM(K18:M18) -> 0 | O18: 0 | P18: 0 | Q18: 0 | R18: =SUM(O18:Q18) -> 0 | S18: 0 | T18: 0 | U18: 0 | V18: =SUM(S18:U18) -> 0
A19: Szociális támogatások | B19: K1112 | C19: 0 | D19: 0 | E19: 0 | F19: =SUM(C19:E19) -> 0 | G19: 0 | H19: 0 | I19: 0 | J19: =SUM(G19:I19) -> 0 | K19: 0 | L19: 0 | M19: 0 | N19: =SUM(K19:M19) -> 0 | O19: 0 | P19: 0 | Q19: 0 | R19: =SUM(O19:Q19) -> 0 | S19: 0 | T19: 0 | U19: 0 | V19: =SUM(S19:U19) -> 0
A20: Foglalkoztatottak egyéb személyi juttatásai | B20: K1113 | C20: 0 | D20: 0 | E20: 0 | F20: =SUM(C20:E20) -> 0 | G20: 0 | H20: 0 | I20: 0 | J20: =SUM(G20:I20) -> 0 | K20: 26024 | L20: 0 | M20: 0 | N20: =SUM(K20:M20) -> 26024 | O20: 26024 | P20: 0 | Q20: 0 | R20: =SUM(O20:Q20) -> 26024 | S20: 252520 | T20: 0 | U20: 0 | V20: =SUM(S20:U20) -> 252520
A21: Foglalkoztatottak személyi juttatásai | B21: K11 | C21: =SUM(C8:C20) -> 4358000 | D21: =SUM(D8:D20) -> 0 | E21: =SUM(E8:E20) -> 0 | F21: =SUM(C21:E21) -> 4358000 | G21: =SUM(G8:G20) -> 4358266 | H21: =SUM(H8:H20) -> 0 | I21: =SUM(I8:I20) -> 0 | J21: =SUM(G21:I21) -> 4358266 | K21: =SUM(K8:K20) -> 6516233 | L21: =SUM(L8:L20) -> 0 | M21: =SUM(M8:M20) -> 0 | N21: =SUM(K21:M21) -> 6516233 | O21: =SUM(O8:O20) -> 6516233 | P21: =SUM(P8:P20) -> 0 | Q21: =SUM(Q8:Q20) -> 0 | R21: =SUM(O21:Q21) -> 6516233 | S21: =SUM(S8:S20) -> 6679934 | T21: =SUM(T8:T20) -> 0 | U21: =SUM(U8:U20) -> 0 | V21: =SUM(S21:U21) -> 6679934
A22: Választott tisztségviselők juttatásai | B22: K121 | C22: 4140600 | D22: 0 | E22: 0 | F22: =SUM(C22:E22) -> 4140600 | G22: 4140600 | H22: 0 | I22: 0 | J22: =SUM(G22:I22) -> 4140600 | K22: 4140600 | L22: 0 | M22: 0 | N22: =SUM(K22:M22) -> 4140600 | O22: 4140600 | P22: 0 | Q22: 0 | R22: =SUM(O22:Q22) -> 4140600 | S22: 4140600 | T22: 0 | U22: 0 | V22: =SUM(S22:U22) -> 4140600
A23: Munkavégzésre irányuló egyéb jogviszonyban nem saját foglalkoztatottnak fizetett juttatások | B23: K122 | C23: 0 | D23: 0 | E23: 0 | F23: =SUM(C23:E23) -> 0 | G23: 0 | H23: 0 | I23: 0 | J23: =SUM(G23:I23) -> 0 | K23: 3116400 | L23: 0 | M23: 0 | N23: =SUM(K23:M23) -> 3116400 | O23: 3116400 | P23: 0 | Q23: 0 | R23: =SUM(O23:Q23) -> 3116400 | S23: 3116400 | T23: 0 | U23: 0 | V23: =SUM(S23:U23) -> 3116400
A24: Egyéb külső személyi juttatások | B24: K123 | C24: 2550000 | D24: 0 | E24: 0 | F24: =SUM(C24:E24) -> 2550000 | G24: 2550000 | H24: 0 | I24: 0 | J24: =SUM(G24:I24) -> 2550000 | K24: 1510000 | L24: 0 | M24: 0 | N24: =SUM(K24:M24) -> 1510000 | O24: 1510000 | P24: 0 | Q24: 0 | R24: =SUM(O24:Q24) -> 1510000 | S24: 1510000 | T24: 0 | U24: 0 | V24: =SUM(S24:U24) -> 1510000
A25: Külső személyi juttatások | B25: K12 | C25: =SUM(C22:C24) -> 6690600 | D25: =SUM(D22:D24) -> 0 | E25: =SUM(E22:E24) -> 0 | F25: =SUM(C25:E25) -> 6690600 | G25: =SUM(G22:G24) -> 6690600 | H25: =SUM(H22:H24) -> 0 | I25: =SUM(I22:I24) -> 0 | J25: =SUM(G25:I25) -> 6690600 | K25: =SUM(K22:K24) -> 8767000 | L25: =SUM(L22:L24) -> 0 | M25: =SUM(M22:M24) -> 0 | N25: =SUM(K25:M25) -> 8767000 | O25: =SUM(O22:O24) -> 8767000 | P25: =SUM(P22:P24) -> 0 | Q25: =SUM(Q22:Q24) -> 0 | R25: =SUM(O25:Q25) -> 8767000 | S25: =SUM(S22:S24) -> 8767000 | T25: =SUM(T22:T24) -> 0 | U25: =SUM(U22:U24) -> 0 | V25: =SUM(S25:U25) -> 8767000
A26: Személyi juttatások | B26: K1 | C26: =C21+C25 -> 11048600 | D26: =D21+D25 -> 0 | E26: =E21+E25 -> 0 | F26: =SUM(C26:E26) -> 11048600 | G26: =G21+G25 -> 11048866 | H26: =H21+H25 -> 0 | I26: =I21+I25 -> 0 | J26: =SUM(G26:I26) -> 11048866 | K26: =K21+K25 -> 15283233 | L26: =L21+L25 -> 0 | M26: =M21+M25 -> 0 | N26: =SUM(K26:M26) -> 15283233 | O26: =O21+O25 -> 15283233 | P26: =P21+P25 -> 0 | Q26: =Q21+Q25 -> 0 | R26: =SUM(O26:Q26) -> 15283233 | S26: =S21+S25 -> 15446934 | T26: =T21+T25 -> 0 | U26: =U21+U25 -> 0 | V26: =SUM(S26:U26) -> 15446934
A27: Munkaadókat terhelő járulékok és szociális hozzájárulási adó | B27: K2 | C27: 2028702 | D27: 0 | E27: 0 | F27: =SUM(C27:E27) -> 2028702 | G27: 2028702 | H27: 0 | I27: 0 | J27: =SUM(G27:I27) -> 2028702 | K27: 2392357 | L27: 0 | M27: 0 | N27: =SUM(K27:M27) -> 2392357 | O27: 2892357 | P27: 0 | Q27: 0 | R27: =SUM(O27:Q27) -> 2892357 | S27: 2945108 | T27: 0 | U27: 0 | V27: =SUM(S27:U27) -> 2945108
A28: Szakmai anyagok beszerzése | B28: K311 | C28: 0 | D28: 0 | E28: 0 | F28: =SUM(C28:E28) -> 0 | G28: 0 | H28: 0 | I28: 0 | J28: =SUM(G28:I28) -> 0 | K28: 0 | L28: 0 | M28: 0 | N28: =SUM(K28:M28) -> 0 | O28: 0 | P28: 0 | Q28: 0 | R28: =SUM(O28:Q28) -> 0 | S28: 13829 | T28: 0 | U28: 0 | V28: =SUM(S28:U28) -> 13829
A29: Üzemeltetési anyagok beszerzése | B29: K312 | C29: 1235000 | D29: 0 | E29: 0 | F29: =SUM(C29:E29) -> 1235000 | G29: 1235000 | H29: 0 | I29: 0 | J29: =SUM(G29:I29) -> 1235000 | K29: 1235000 | L29: 0 | M29: 0 | N29: =SUM(K29:M29) -> 1235000 | O29: 1235000 | P29: 0 | Q29: 0 | R29: =SUM(O29:Q29) -> 1235000 | S29: 1467810 | T29: 0 | U29: 0 | V29: =SUM(S29:U29) -> 1467810
A30: Árubeszerzés | B30: K313 | C30: 0 | D30: 0 | E30: 0 | F30: =SUM(C30:E30) -> 0 | G30: 0 | H30: 0 | I30: 0 | J30: =SUM(G30:I30) -> 0 | K30: 0 | L30: 0 | M30: 0 | N30: =SUM(K30:M30) -> 0 | O30: 0 | P30: 0 | Q30: 0 | R30: =SUM(O30:Q30) -> 0 | S30: 0 | T30: 0 | U30: 0 | V30: =SUM(S30:U30) -> 0
A31: Készletbeszerzés | B31: K31 | C31: =SUM(C28:C30) -> 1235000 | D31: =SUM(D28:D30) -> 0 | E31: =SUM(E28:E30) -> 0 | F31: =SUM(C31:E31) -> 1235000 | G31: =SUM(G28:G30) -> 1235000 | H31: =SUM(H28:H30) -> 0 | I31: =SUM(I28:I30) -> 0 | J31: =SUM(G31:I31) -> 1235000 | K31: =SUM(K28:K30) -> 1235000 | L31: =SUM(L28:L30) -> 0 | M31: =SUM(M28:M30) -> 0 | N31: =SUM(K31:M31) -> 1235000 | O31: =SUM(O28:O30) -> 1235000 | P31: =SUM(P28:P30) -> 0 | Q31: =SUM(Q28:Q30) -> 0 | R31: =SUM(O31:Q31) -> 1235000 | S31: =SUM(S28:S30) -> 1481639 | T31: =SUM(T28:T30) -> 0 | U31: =SUM(U28:U30) -> 0 | V31: =SUM(S31:U31) -> 1481639
A32: Informatikai szolgáltatások igénybevétele | B32: K321 | C32: 50000 | D32: 0 | E32: 0 | F32: =SUM(C32:E32) -> 50000 | G32: 50000 | H32: 0 | I32: 0 | J32: =SUM(G32:I32) -> 50000 | K32: 150000 | L32: 0 | M32: 0 | N32: =SUM(K32:M32) -> 150000 | O32: 150000 | P32: 0 | Q32: 0 | R32: =SUM(O32:Q32) -> 150000 | S32: 150000 | T32: 0 | U32: 0 | V32: =SUM(S32:U32) -> 150000
A33: Egyéb kommunikációs szolgáltatások | B33: K322 | C33: 1490000 | D33: 0 | E33: 0 | F33: =SUM(C33:E33) -> 1490000 | G33: 1490000 | H33: 0 | I33: 0 | J33: =SUM(G33:I33) -> 1490000 | K33: 1390000 | L33: 0 | M33: 0 | N33: =SUM(K33:M33) -> 1390000 | O33: 1390000 | P33: 0 | Q33: 0 | R33: =SUM(O33:Q33) -> 1390000 | S33: 1390000 | T33: 0 | U33: 0 | V33: =SUM(S33:U33) -> 1390000
A34: Kommunikációs szolgáltatások | B34: K32 | C34: =SUM(C32:C33) -> 1540000 | D34: =SUM(D32:D33) -> 0 | E34: =SUM(E32:E33) -> 0 | F34: =SUM(C34:E34) -> 1540000 | G34: =SUM(G32:G33) -> 1540000 | H34: =SUM(H32:H33) -> 0 | I34: =SUM(I32:I33) -> 0 | J34: =SUM(G34:I34) -> 1540000 | K34: =SUM(K32:K33) -> 1540000 | L34: =SUM(L32:L33) -> 0 | M34: =SUM(M32:M33) -> 0 | N34: =SUM(K34:M34) -> 1540000 | O34: =SUM(O32:O33) -> 1540000 | P34: =SUM(P32:P33) -> 0 | Q34: =SUM(Q32:Q33) -> 0 | R34: =SUM(O34:Q34) -> 1540000 | S34: =SUM(S32:S33) -> 1540000 | T34: =SUM(T32:T33) -> 0 | U34: =SUM(U32:U33) -> 0 | V34: =SUM(S34:U34) -> 1540000
A35: Közüzemi díjak | B35: K331 | C35: 3611000 | D35: 0 | E35: 0 | F35: =SUM(C35:E35) -> 3611000 | G35: 3611000 | H35: 0 | I35: 0 | J35: =SUM(G35:I35) -> 3611000 | K35: 2611000 | L35: 0 | M35: 0 | N35: =SUM(K35:M35) -> 2611000 | O35: 2611000 | P35: 0 | Q35: 0 | R35: =SUM(O35:Q35) -> 2611000 | S35: 2766580 | T35: 0 | U35: 0 | V35: =SUM(S35:U35) -> 2766580
A36: Vásárolt élelmezés | B36: K332 | C36: 3300000 | D36: 0 | E36: 0 | F36: =SUM(C36:E36) -> 3300000 | G36: 3300000 | H36: 0 | I36: 0 | J36: =SUM(G36:I36) -> 3300000 | K36: 3300000 | L36: 0 | M36: 0 | N36: =SUM(K36:M36) -> 3300000 | O36: 3300000 | P36: 0 | Q36: 0 | R36: =SUM(O36:Q36) -> 3300000 | S36: 3300000 | T36: 0 | U36: 0 | V36: =SUM(S36:U36) -> 3300000
A37: Bérleti és lízing díjak | B37: K333 | C37: 0 | D37: 0 | E37: 0 | F37: =SUM(C37:E37) -> 0 | G37: 0 | H37: 0 | I37: 0 | J37: =SUM(G37:I37) -> 0 | K37: 0 | L37: 0 | M37: 0 | N37: =SUM(K37:M37) -> 0 | O37: 0 | P37: 0 | Q37: 0 | R37: =SUM(O37:Q37) -> 0 | S37: 0 | T37: 0 | U37: 0 | V37: =SUM(S37:U37) -> 0
A38: Karbantartási, kisjavítási szolgáltatások | B38: K334 | C38: 920000 | D38: 0 | E38: 0 | F38: =SUM(C38:E38) -> 920000 | G38: 920000 | H38: 0 | I38: 0 | J38: =SUM(G38:I38) -> 920000 | K38: 920000 | L38: 0 | M38: 0 | N38: =SUM(K38:M38) -> 920000 | O38: 920000 | P38: 0 | Q38: 0 | R38: =SUM(O38:Q38) -> 920000 | S38: 920000 | T38: 0 | U38: 0 | V38: =SUM(S38:U38) -> 920000
A39: Közvetített szolgáltatások | B39: K335 | C39: 570000 | D39: 0 | E39: 0 | F39: =SUM(C39:E39) -> 570000 | G39: 570000 | H39: 0 | I39: 0 | J39: =SUM(G39:I39) -> 570000 | K39: 1570000 | L39: 0 | M39: 0 | N39: =SUM(K39:M39) -> 1570000 | O39: 1570000 | P39: 0 | Q39: 0 | R39: =SUM(O39:Q39) -> 1570000 | S39: 1570000 | T39: 0 | U39: 0 | V39: =SUM(S39:U39) -> 1570000
A40: Szakmai tevékenységet segítő szolgáltatások | B40: K336 | C40: 310000 | D40: 0 | E40: 0 | F40: =SUM(C40:E40) -> 310000 | G40: 310000 | H40: 0 | I40: 0 | J40: =SUM(G40:I40) -> 310000 | K40: 310000 | L40: 0 | M40: 0 | N40: =SUM(K40:M40) -> 310000 | O40: 310000 | P40: 0 | Q40: 0 | R40: =SUM(O40:Q40) -> 310000 | S40: 329350 | T40: 0 | U40: 0 | V40: =SUM(S40:U40) -> 329350
A41: Egyéb szolgáltatások | B41: K337 | C41: 5062700 | D41: 0 | E41: 0 | F41: =SUM(C41:E41) -> 5062700 | G41: 5062700 | H41: 0 | I41: 0 | J41: =SUM(G41:I41) -> 5062700 | K41: 5062700 | L41: 0 | M41: 0 | N41: =SUM(K41:M41) -> 5062700 | O41: 5062700 | P41: 0 | Q41: 0 | R41: =SUM(O41:Q41) -> 5062700 | S41: 5434233 | T41: 0 | U41: 0 | V41: =SUM(S41:U41) -> 5434233
A42: Szolgáltatási kiadások | B42: K33 | C42: =SUM(C35:C41) -> 13773700 | D42: =SUM(D35:D41) -> 0 | E42: =SUM(E35:E41) -> 0 | F42: =SUM(C42:E42) -> 13773700 | G42: =SUM(G35:G41) -> 13773700 | H42: =SUM(H35:H41) -> 0 | I42: =SUM(I35:I41) -> 0 | J42: =SUM(G42:I42) -> 13773700 | K42: =SUM(K35:K41) -> 13773700 | L42: =SUM(L35:L41) -> 0 | M42: =SUM(M35:M41) -> 0 | N42: =SUM(K42:M42) -> 13773700 | O42: =SUM(O35:O41) -> 13773700 | P42: =SUM(P35:P41) -> 0 | Q42: =SUM(Q35:Q41) -> 0 | R42: =SUM(O42:Q42) -> 13773700 | S42: =SUM(S35:S41) -> 14320163 | T42: =SUM(T35:T41) -> 0 | U42: =SUM(U35:U41) -> 0 | V42: =SUM(S42:U42) -> 14320163
A43: Kiküldetések kiadásai | B43: K341 | C43: 0 | D43: 0 | E43: 0 | F43: =SUM(C43:E43) -> 0 | G43: 0 | H43: 0 | I43: 0 | J43: =SUM(G43:I43) -> 0 | K43: 0 | L43: 0 | M43: 0 | N43: =SUM(K43:M43) -> 0 | O43: 0 | P43: 0 | Q43: 0 | R43: =SUM(O43:Q43) -> 0 | S43: 0 | T43: 0 | U43: 0 | V43: =SUM(S43:U43) -> 0
A44: Reklám- és propagandakiadások | B44: K342 | C44: 0 | D44: 0 | E44: 0 | F44: =SUM(C44:E44) -> 0 | G44: 0 | H44: 0 | I44: 0 | J44: =SUM(G44:I44) -> 0 | K44: 0 | L44: 0 | M44: 0 | N44: =SUM(K44:M44) -> 0 | O44: 77000 | P44: 0 | Q44: 0 | R44: =SUM(O44:Q44) -> 77000 | S44: 81016 | T44: 0 | U44: 0 | V44: =SUM(S44:U44) -> 81016
A45: Kiküldetések, reklám- és propagandakiadások | B45: K34 | C45: =SUM(C43:C44) -> 0 | D45: =SUM(D43:D44) -> 0 | E45: =SUM(E43:E44) -> 0 | F45: =SUM(C45:E45) -> 0 | G45: =SUM(G43:G44) -> 0 | H45: =SUM(H43:H44) -> 0 | I45: =SUM(I43:I44) -> 0 | J45: =SUM(G45:I45) -> 0 | K45: =SUM(K43:K44) -> 0 | L45: =SUM(L43:L44) -> 0 | M45: =SUM(M43:M44) -> 0 | N45: =SUM(K45:M45) -> 0 | O45: =SUM(O43:O44) -> 77000 | P45: =SUM(P43:P44) -> 0 | Q45: =SUM(Q43:Q44) -> 0 | R45: =SUM(O45:Q45) -> 77000 | S45: =SUM(S43:S44) -> 81016 | T45: =SUM(T43:T44) -> 0 | U45: =SUM(U43:U44) -> 0 | V45: =SUM(S45:U45) -> 81016
A46: Működési célú előzetesen felszámított általános forgalmi adó | B46: K351 | C46: 3435400 | D46: 0 | E46: 3000 | F46: =SUM(C46:E46) -> 3438400 | G46: 3435400 | H46: 0 | I46: 3000 | J46: =SUM(G46:I46) -> 3438400 | K46: 3435400 | L46: 0 | M46: 3000 | N46: =SUM(K46:M46) -> 3438400 | O46: 3435400 | P46: 0 | Q46: 3000 | R46: =SUM(O46:Q46) -> 3438400 | S46: 3590941 | T46: 0 | U46: 3000 | V46: =SUM(S46:U46) -> 3593941
A47: Fizetendő általános forgalmi adó | B47: K352 | C47: 0 | D47: 0 | E47: 0 | F47: =SUM(C47:E47) -> 0 | G47: 0 | H47: 0 | I47: 0 | J47: =SUM(G47:I47) -> 0 | K47: 0 | L47: 0 | M47: 0 | N47: =SUM(K47:M47) -> 0 | O47: 0 | P47: 0 | Q47: 0 | R47: =SUM(O47:Q47) -> 0 | S47: 0 | T47: 0 | U47: 0 | V47: =SUM(S47:U47) -> 0
A48: Kamatkiadások | B48: K353 | D48: 0 | E48: 0 | F48: =SUM(C48:E48) -> 0 | H48: 0 | I48: 0 | J48: =SUM(G48:I48) -> 0 | L48: 0 | M48: 0 | N48: =SUM(K48:M48) -> 0 | P48: 0 | Q48: 0 | R48: =SUM(O48:Q48) -> 0 | T48: 0 | U48: 0 | V48: =SUM(S48:U48) -> 0
A49: Egyéb pénzügyi műveletek kiadásai | B49: K354 | C49: 0 | D49: 0 | E49: 0 | F49: =SUM(C49:E49) -> 0 | G49: 0 | H49: 0 | I49: 0 | J49: =SUM(G49:I49) -> 0 | K49: 0 | L49: 0 | M49: 0 | N49: =SUM(K49:M49) -> 0 | O49: 0 | P49: 0 | Q49: 0 | R49: =SUM(O49:Q49) -> 0 | S49: 0 | T49: 0 | U49: 0 | V49: =SUM(S49:U49) -> 0
A50: Egyéb dologi kiadások | B50: K355 | C50: 506750 | D50: 0 | E50: 10000 | F50: =SUM(C50:E50) -> 516750 | G50: 506750 | H50: 0 | I50: 10000 | J50: =SUM(G50:I50) -> 516750 | K50: 506750 | L50: 0 | M50: 10000 | N50: =SUM(K50:M50) -> 516750 | O50: 506750 | P50: 0 | Q50: 10000 | R50: =SUM(O50:Q50) -> 516750 | S50: 506750 | T50: 0 | U50: 10000 | V50: =SUM(S50:U50) -> 516750
A51: Különféle befizetések és egyéb dologi kiadások | B51: K35 | C51: =SUM(C46:C50) -> 3942150 | D51: =SUM(D46:D50) -> 0 | E51: =SUM(E46:E50) -> 13000 | F51: =SUM(C51:E51) -> 3955150 | G51: =SUM(G46:G50) -> 3942150 | H51: =SUM(H46:H50) -> 0 | I51: =SUM(I46:I50) -> 13000 | J51: =SUM(G51:I51) -> 3955150 | K51: =SUM(K46:K50) -> 3942150 | L51: =SUM(L46:L50) -> 0 | M51: =SUM(M46:M50) -> 13000 | N51: =SUM(K51:M51) -> 3955150 | O51: =SUM(O46:O50) -> 3942150 | P51: =SUM(P46:P50) -> 0 | Q51: =SUM(Q46:Q50) -> 13000 | R51: =SUM(O51:Q51) -> 3955150 | S51: =SUM(S46:S50) -> 4097691 | T51: =SUM(T46:T50) -> 0 | U51: =SUM(U46:U50) -> 13000 | V51: =SUM(S51:U51) -> 4110691
A52: Dologi kiadások | B52: K3 | C52: =C31+C34+C42+C45+C51 -> 20490850 | D52: =D31+D34+D42+D45+D51 -> 0 | E52: =E31+E34+E42+E45+E51 -> 13000 | F52: =SUM(C52:E52) -> 20503850 | G52: =G31+G34+G42+G45+G51 -> 20490850 | H52: =H31+H34+H42+H45+H51 -> 0 | I52: =I31+I34+I42+I45+I51 -> 13000 | J52: =SUM(G52:I52) -> 20503850 | K52: =K31+K34+K42+K45+K51 -> 20490850 | L52: =L31+L34+L42+L45+L51 -> 0 | M52: =M31+M34+M42+M45+M51 -> 13000 | N52: =SUM(K52:M52) -> 20503850 | O52: =O31+O34+O42+O45+O51 -> 20567850 | P52: =P31+P34+P42+P45+P51 -> 0 | Q52: =Q31+Q34+Q42+Q45+Q51 -> 13000 | R52: =SUM(O52:Q52) -> 20580850 | S52: =S31+S34+S42+S45+S51 -> 21520509 | T52: =T31+T34+T42+T45+T51 -> 0 | U52: =U31+U34+U42+U45+U51 -> 13000 | V52: =SUM(S52:U52) -> 21533509
A53: Társadalombiztosítási ellátások | B53: K41 | C53: 0 | D53: 0 | E53: 0 | F53: =SUM(C53:E53) -> 0 | G53: 0 | H53: 0 | I53: 0 | J53: =SUM(G53:I53) -> 0 | K53: 0 | L53: 0 | M53: 0 | N53: =SUM(K53:M53) -> 0 | O53: 0 | P53: 0 | Q53: 0 | R53: =SUM(O53:Q53) -> 0 | S53: 0 | T53: 0 | U53: 0 | V53: =SUM(S53:U53) -> 0
A54: Családi támogatások | B54: K42 | C54: 87000 | D54: 0 | E54: 0 | F54: =SUM(C54:E54) -> 87000 | G54: 87000 | H54: 0 | I54: 0 | J54: =SUM(G54:I54) -> 87000 | K54: 87000 | L54: 0 | M54: 0 | N54: =SUM(K54:M54) -> 87000 | O54: 87000 | P54: 0 | Q54: 0 | R54: =SUM(O54:Q54) -> 87000 | S54: 87000 | T54: 0 | U54: 0 | V54: =SUM(S54:U54) -> 87000
A55: Pénzbeli kárpótlások, kártérítések | B55: K43 | C55: 0 | D55: 0 | E55: 0 | F55: =SUM(C55:E55) -> 0 | G55: 0 | H55: 0 | I55: 0 | J55: =SUM(G55:I55) -> 0 | K55: 0 | L55: 0 | M55: 0 | N55: =SUM(K55:M55) -> 0 | O55: 0 | P55: 0 | Q55: 0 | R55: =SUM(O55:Q55) -> 0 | S55: 0 | T55: 0 | U55: 0 | V55: =SUM(S55:U55) -> 0
A56: Betegséggel kapcsolatos (nem társadalombiztosítási) ellátások | B56: K44 | C56: 0 | D56: 0 | E56: 0 | F56: =SUM(C56:E56) -> 0 | G56: 0 | H56: 0 | I56: 0 | J56: =SUM(G56:I56) -> 0 | K56: 0 | L56: 0 | M56: 0 | N56: =SUM(K56:M56) -> 0 | O56: 0 | P56: 0 | Q56: 0 | R56: =SUM(O56:Q56) -> 0 | S56: 0 | T56: 0 | U56: 0 | V56: =SUM(S56:U56) -> 0
A57: Foglalkoztatással, munkanélküliséggel kapcsolatos ellátások | B57: K45 | C57: 0 | D57: 0 | E57: 0 | F57: =SUM(C57:E57) -> 0 | G57: 0 | H57: 0 | I57: 0 | J57: =SUM(G57:I57) -> 0 | K57: 0 | L57: 0 | M57: 0 | N57: =SUM(K57:M57) -> 0 | O57: 0 | P57: 0 | Q57: 0 | R57: =SUM(O57:Q57) -> 0 | S57: 0 | T57: 0 | U57: 0 | V57: =SUM(S57:U57) -> 0
A58: Lakhatással kapcsolatos ellátások | B58: K46 | C58: 0 | D58: 0 | E58: 0 | F58: =SUM(C58:E58) -> 0 | G58: 0 | H58: 0 | I58: 0 | J58: =SUM(G58:I58) -> 0 | K58: 0 | L58: 0 | M58: 0 | N58: =SUM(K58:M58) -> 0 | O58: 0 | P58: 0 | Q58: 0 | R58: =SUM(O58:Q58) -> 0 | S58: 0 | T58: 0 | U58: 0 | V58: =SUM(S58:U58) -> 0
A59: Intézményi ellátottak pénzbeli juttatásai | B59: K47 | C59: 640000 | D59: 0 | E59: 0 | F59: =SUM(C59:E59) -> 640000 | G59: 640000 | H59: 0 | I59: 0 | J59: =SUM(G59:I59) -> 640000 | K59: 0 | L59: 0 | M59: 0 | N59: =SUM(K59:M59) -> 0 | O59: 0 | P59: 0 | Q59: 0 | R59: =SUM(O59:Q59) -> 0 | S59: 0 | T59: 0 | U59: 0 | V59: =SUM(S59:U59) -> 0
A60: Egyéb nem intézményi ellátások | B60: K48 | C60: 4627000 | D60: 0 | E60: 0 | F60: =SUM(C60:E60) -> 4627000 | G60: 4627000 | H60: 0 | I60: 0 | J60: =SUM(G60:I60) -> 4627000 | K60: 4627000 | L60: 0 | M60: 0 | N60: =SUM(K60:M60) -> 4627000 | O60: 4627000 | P60: 0 | Q60: 0 | R60: =SUM(O60:Q60) -> 4627000 | S60: 4627000 | T60: 0 | U60: 0 | V60: =SUM(S60:U60) -> 4627000
A61: Ellátottak pénzbeli juttatásai | B61: K4 | C61: =SUM(C53:C60) -> 5354000 | D61: =SUM(D53:D60) -> 0 | E61: =SUM(E53:E60) -> 0 | F61: =SUM(C61:E61) -> 5354000 | G61: =SUM(G53:G60) -> 5354000 | H61: =SUM(H53:H60) -> 0 | I61: =SUM(I53:I60) -> 0 | J61: =SUM(G61:I61) -> 5354000 | K61: =SUM(K53:K60) -> 4714000 | L61: =SUM(L53:L60) -> 0 | M61: =SUM(M53:M60) -> 0 | N61: =SUM(K61:M61) -> 4714000 | O61: =SUM(O53:O60) -> 4714000 | P61: =SUM(P53:P60) -> 0 | Q61: =SUM(Q53:Q60) -> 0 | R61: =SUM(O61:Q61) -> 4714000 | S61: =SUM(S53:S60) -> 4714000 | T61: =SUM(T53:T60) -> 0 | U61: =SUM(U53:U60) -> 0 | V61: =SUM(S61:U61) -> 4714000
A62: Nemzetközi kötelezettségek | B62: K501 | C62: 0 | D62: 0 | E62: 0 | F62: =SUM(C62:E62) -> 0 | G62: 0 | H62: 0 | I62: 0 | J62: =SUM(G62:I62) -> 0 | K62: 0 | L62: 0 | M62: 0 | N62: =SUM(K62:M62) -> 0 | O62: 0 | P62: 0 | Q62: 0 | R62: =SUM(O62:Q62) -> 0 | S62: 0 | T62: 0 | U62: 0 | V62: =SUM(S62:U62) -> 0
A63: Elvonások és befizetések | B63: K502 | C63: 0 | D63: 0 | E63: 0 | F63: =SUM(C63:E63) -> 0 | G63: 0 | H63: 0 | I63: 0 | J63: =SUM(G63:I63) -> 0 | K63: 0 | L63: 0 | M63: 0 | N63: =SUM(K63:M63) -> 0 | O63: 0 | P63: 0 | Q63: 0 | R63: =SUM(O63:Q63) -> 0 | S63: 164919 | T63: 0 | U63: 0 | V63: =SUM(S63:U63) -> 164919
A64: Működési célú garancia- és kezességvállalásból származó kifizetés államháztartáson belülre | B64: K503 | C64: 0 | D64: 0 | E64: 0 | F64: =SUM(C64:E64) -> 0 | G64: 0 | H64: 0 | I64: 0 | J64: =SUM(G64:I64) -> 0 | K64: 0 | L64: 0 | M64: 0 | N64: =SUM(K64:M64) -> 0 | O64: 0 | P64: 0 | Q64: 0 | R64: =SUM(O64:Q64) -> 0 | S64: 0 | T64: 0 | U64: 0 | V64: =SUM(S64:U64) -> 0
A65: Működési célú visszatérítendő támogatások, kölcsönök nyújtása államháztartáson belülre | B65: K504 | C65: 0 | D65: 0 | E65: 0 | F65: =SUM(C65:E65) -> 0 | G65: 0 | H65: 0 | I65: 0 | J65: =SUM(G65:I65) -> 0 | K65: 0 | L65: 0 | M65: 0 | N65: =SUM(K65:M65) -> 0 | O65: 0 | P65: 0 | Q65: 0 | R65: =SUM(O65:Q65) -> 0 | S65: 0 | T65: 0 | U65: 0 | V65: =SUM(S65:U65) -> 0
A66: Működési célú visszatérítendő támogatások, kölcsönök törlesztése államháztartáson belülre | B66: K505 | C66: 0 | D66: 0 | E66: 0 | F66: =SUM(C66:E66) -> 0 | G66: 0 | H66: 0 | I66: 0 | J66: =SUM(G66:I66) -> 0 | K66: 0 | L66: 0 | M66: 0 | N66: =SUM(K66:M66) -> 0 | O66: 0 | P66: 0 | Q66: 0 | R66: =SUM(O66:Q66) -> 0 | S66: 0 | T66: 0 | U66: 0 | V66: =SUM(S66:U66) -> 0
A67: Egyéb működési célú támogatások államháztartáson belülre | B67: K506 | C67: 1888000 | D67: 0 | E67: 0 | F67: =SUM(C67:E67) -> 1888000 | G67: 1888000 | H67: 0 | I67: 0 | J67: =SUM(G67:I67) -> 1888000 | K67: 1888000 | L67: 0 | M67: 0 | N67: =SUM(K67:M67) -> 1888000 | O67: 1888000 | P67: 0 | Q67: 0 | R67: =SUM(O67:Q67) -> 1888000 | S67: 1888000 | T67: 0 | U67: 0 | V67: =SUM(S67:U67) -> 1888000
A68: Működési célú garancia- és kezességvállalásból származó kifizetés államháztartáson kívülre | B68: K507 | C68: 0 | D68: 0 | E68: 0 | F68: =SUM(C68:E68) -> 0 | G68: 0 | H68: 0 | I68: 0 | J68: =SUM(G68:I68) -> 0 | K68: 0 | L68: 0 | M68: 0 | N68: =SUM(K68:M68) -> 0 | O68: 0 | P68: 0 | Q68: 0 | R68: =SUM(O68:Q68) -> 0 | S68: 0 | T68: 0 | U68: 0 | V68: =SUM(S68:U68) -> 0
A69: Működési célú visszatérítendő támogatások, kölcsönök nyújtása államháztartáson kívülre | B69: K508 | C69: 0 | D69: 0 | E69: 0 | F69: =SUM(C69:E69) -> 0 | G69: 0 | H69: 0 | I69: 0 | J69: =SUM(G69:I69) -> 0 | K69: 0 | L69: 0 | M69: 0 | N69: =SUM(K69:M69) -> 0 | O69: 0 | P69: 0 | Q69: 0 | R69: =SUM(O69:Q69) -> 0 | S69: 0 | T69: 0 | U69: 0 | V69: =SUM(S69:U69) -> 0
A70: Árkiegészítések, ártámogatások | B70: K509 | C70: 0 | D70: 0 | E70: 0 | F70: =SUM(C70:E70) -> 0 | G70: 0 | H70: 0 | I70: 0 | J70: =SUM(G70:I70) -> 0 | K70: 0 | L70: 0 | M70: 0 | N70: =SUM(K70:M70) -> 0 | O70: 0 | P70: 0 | Q70: 0 | R70: =SUM(O70:Q70) -> 0 | S70: 0 | T70: 0 | U70: 0 | V70: =SUM(S70:U70) -> 0
A71: Kamattámogatások | B71: K510 | C71: 0 | D71: 0 | E71: 0 | F71: =SUM(C71:E71) -> 0 | G71: 0 | H71: 0 | I71: 0 | J71: =SUM(G71:I71) -> 0 | K71: 0 | L71: 0 | M71: 0 | N71: =SUM(K71:M71) -> 0 | O71: 0 | P71: 0 | Q71: 0 | R71: =SUM(O71:Q71) -> 0 | S71: 0 | T71: 0 | U71: 0 | V71: =SUM(S71:U71) -> 0
A72: Működési célú támogatások az Európai Uniónak | B72: K511 | C72: 0 | D72: 0 | E72: 0 | F72: =SUM(C72:E72) -> 0 | G72: 0 | H72: 0 | I72: 0 | J72: =SUM(G72:I72) -> 0 | K72: 0 | L72: 0 | M72: 0 | N72: =SUM(K72:M72) -> 0 | O72: 0 | P72: 0 | Q72: 0 | R72: =SUM(O72:Q72) -> 0 | S72: 0 | T72: 0 | U72: 0 | V72: =SUM(S72:U72) -> 0
A73: Egyéb működési célú támogatások államháztartáson kívülre | B73: K512 | C73: 0 | D73: 0 | E73: 0 | F73: 0 | G73: 0 | H73: 0 | I73: 0 | J73: 0 | K73: 640000 | L73: 0 | M73: 0 | N73: =SUM(K73:M73) -> 640000 | O73: 1240000 | P73: 0 | Q73: 0 | R73: =SUM(O73:Q73) -> 1240000 | S73: 1240000 | T73: 0 | U73: 0 | V73: =SUM(S73:U73) -> 1240000
A74: Tartalékok | B74: K513 | C74: 5552877 | D74: 0 | E74: 0 | F74: =SUM(C74:E74) -> 5552877 | G74: 5549877 | H74: 0 | I74: 0 | J74: =SUM(G74:I74) -> 5549877 | K74: 6437818 | L74: 0 | M74: 0 | N74: =SUM(K74:M74) -> 6437818 | O74: 7247394 | P74: 0 | Q74: 0 | R74: =SUM(O74:Q74) -> 7247394 | S74: 8147712 | T74: 0 | U74: 0 | V74: =SUM(S74:U74) -> 8147712
A75: Egyéb működési célú kiadások | B75: K5 | C75: =SUM(C62:C74) -> 7440877 | D75: =SUM(D62:D74) -> 0 | E75: =SUM(E62:E74) -> 0 | F75: =SUM(C75:E75) -> 7440877 | G75: =SUM(G62:G74) -> 7437877 | H75: =SUM(H62:H74) -> 0 | I75: =SUM(I62:I74) -> 0 | J75: =SUM(G75:I75) -> 7437877 | K75: =SUM(K62:K74) -> 8965818 | L75: =SUM(L62:L74) -> 0 | M75: =SUM(M62:M74) -> 0 | N75: =SUM(K75:M75) -> 8965818 | O75: =SUM(O62:O74) -> 10375394 | P75: =SUM(P62:P74) -> 0 | Q75: =SUM(Q62:Q74) -> 0 | R75: =SUM(O75:Q75) -> 10375394 | S75: =SUM(S62:S74) -> 11440631 | T75: =SUM(T62:T74) -> 0 | U75: =SUM(U62:U74) -> 0 | V75: =SUM(S75:U75) -> 11440631
A76: Működési kiadások összesen | C76: =SUM(C26+C27+C52+C61+C75) -> 46363029 | D76: =SUM(D26+D27+D52+D61+D75) -> 0 | E76: =SUM(E26+E27+E52+E61+E75) -> 13000 | F76: =SUM(F26+F27+F52+F61+F75) -> 46376029 | G76: =SUM(G26+G27+G52+G61+G75) -> 46360295 | H76: =SUM(H26+H27+H52+H61+H75) -> 0 | I76: =SUM(I26+I27+I52+I61+I75) -> 13000 | J76: =SUM(J26+J27+J52+J61+J75) -> 46373295 | ... V76: =SUM(V26+V27+V52+V61+V75) -> 56080182
A77: Immateriális javak beszerzése, létesítése | B77: K61 | C77: 0 | D77: 0 | E77: 0 | F77: =SUM(C77:E77) -> 0 | G77: 0 | H77: 0 | I77: 0 | J77: =SUM(G77:I77) -> 0 | K77: 0 | L77: 0 | M77: 0 | N77: =SUM(K77:M77) -> 0 | O77: 0 | P77: 0 | Q77: 0 | R77: =SUM(O77:Q77) -> 0 | S77: 0 | T77: 0 | U77: 0 | V77: =SUM(S77:U77) -> 0
A78: Ingatlanok beszerzése, létesítése | B78: K62 | C78: 3335000 | D78: 0 | E78: 0 | F78: =SUM(C78:E78) -> 3335000 | G78: 3335000 | H78: 0 | I78: 0 | J78: =SUM(G78:I78) -> 3335000 | K78: 3335000 | L78: 0 | M78: 0 | N78: =SUM(K78:M78) -> 3335000 | O78: 3335000 | P78: 0 | Q78: 0 | R78: =SUM(O78:Q78) -> 3335000 | S78: 3335000 | T78: 0 | U78: 0 | V78: =SUM(S78:U78) -> 3335000
A79: Informatikai eszközök beszerzése, létesítése | B79: K63 | C79: 0 | D79: 0 | E79: 0 | F79: =SUM(C79:E79) -> 0 | G79: 0 | H79: 0 | I79: 0 | J79: =SUM(G79:I79) -> 0 | K79: 0 | L79: 0 | M79: 0 | N79: =SUM(K79:M79) -> 0 | O79: 0 | P79: 0 | Q79: 0 | R79: =SUM(O79:Q79) -> 0 | S79: 0 | T79: 0 | U79: 0 | V79: =SUM(S79:U79) -> 0
A80: Egyéb tárgyi eszközök beszerzése, létesítése | B80: K64 | C80: 1669000 | D80: 0 | E80: 0 | F80: =SUM(C80:E80) -> 1669000 | G80: 1669000 | H80: 0 | I80: 0 | J80: =SUM(G80:I80) -> 1669000 | K80: 1669000 | L80: 0 | M80: 0 | N80: =SUM(K80:M80) -> 1669000 | O80: 1669000 | P80: 0 | Q80: 0 | R80: =SUM(O80:Q80) -> 1669000 | S80: 1669000 | T80: 0 | U80: 0 | V80: =SUM(S80:U80) -> 1669000
A81: Részesedések beszerzése | B81: K65 | C81: 0 | D81: 0 | E81: 0 | F81: =SUM(C81:E81) -> 0 | G81: 0 | H81: 0 | I81: 0 | J81: =SUM(G81:I81) -> 0 | K81: 0 | L81: 0 | M81: 0 | N81: =SUM(K81:M81) -> 0 | O81: 0 | P81: 0 | Q81: 0 | R81: =SUM(O81:Q81) -> 0 | S81: 0 | T81: 0 | U81: 0 | V81: =SUM(S81:U81) -> 0
A82: Meglévő részesedések növeléséhez kapcsolódó kiadások | B82: K66 | C82: 0 | D82: 0 | E82: 0 | F82: =SUM(C82:E82) -> 0 | G82: 0 | H82: 0 | I82: 0 | J82: =SUM(G82:I82) -> 0 | K82: 0 | L82: 0 | M82: 0 | N82: =SUM(K82:M82) -> 0 | O82: 0 | P82: 0 | Q82: 0 | R82: =SUM(O82:Q82) -> 0 | S82: 0 | T82: 0 | U82: 0 | V82: =SUM(S82:U82) -> 0
A83: Beruházási célú előzetesen felszámított általános forgalmi adó | B83: K67 | C83: 1349800 | D83: 0 | E83: 0 | F83: =SUM(C83:E83) -> 1349800 | G83: 1349800 | H83: 0 | I83: 0 | J83: =SUM(G83:I83) -> 1349800 | K83: 1349800 | L83: 0 | M83: 0 | N83: =SUM(K83:M83) -> 1349800 | O83: 1349800 | P83: 0 | Q83: 0 | R83: =SUM(O83:Q83) -> 1349800 | S83: 1349800 | T83: 0 | U83: 0 | V83: =SUM(S83:U83) -> 1349800
A84: Beruházások | B84: K6 | C84: =SUM(C77:C83) -> 6353800 | D84: =SUM(D77:D83) -> 0 | E84: =SUM(E77:E83) -> 0 | F84: =SUM(F77:F83) -> 6353800 | G84: =SUM(G77:G83) -> 6353800 | H84: =SUM(H77:H83) -> 0 | I84: =SUM(I77:I83) -> 0 | J84: =SUM(J77:J83) -> 6353800 | ... V84: =SUM(V77:V83) -> 6353800
A85: Ingatlanok felújítása | B85: K71 | C85: 20219000 | D85: 0 | E85: 0 | F85: =SUM(C85:E85) -> 20219000 | G85: 20219000 | H85: 0 | I85: 0 | J85: =SUM(G85:I85) -> 20219000 | K85: 18102600 | L85: 0 | M85: 0 | N85: =SUM(K85:M85) -> 18102600 | O85: 18102600 | P85: 0 | Q85: 0 | R85: =SUM(O85:Q85) -> 18102600 | S85: 18102600 | T85: 0 | U85: 0 | V85: =SUM(S85:U85) -> 18102600
A86: Informatikai eszközök felújítása | B86: K72 | C86: 0 | D86: 0 | E86: 0 | F86: =SUM(C86:E86) -> 0 | G86: 0 | H86: 0 | I86: 0 | J86: =SUM(G86:I86) -> 0 | K86: 0 | L86: 0 | M86: 0 | N86: =SUM(K86:M86) -> 0 | O86: 0 | P86: 0 | Q86: 0 | R86: =SUM(O86:Q86) -> 0 | S86: 0 | T86: 0 | U86: 0 | V86: =SUM(S86:U86) -> 0
A87: Egyéb tárgyi eszközök felújítása | B87: K73 | C87: 1500000 | D87: 0 | E87: 0 | F87: =SUM(C87:E87) -> 1500000 | G87: 1500000 | H87: 0 | I87: 0 | J87: =SUM(G87:I87) -> 1500000 | K87: 1500000 | L87: 0 | M87: 0 | N87: =SUM(K87:M87) -> 1500000 | O87: 1500000 | P87: 0 | Q87: 0 | R87: =SUM(O87:Q87) -> 1500000 | S87: 1500000 | T87: 0 | U87: 0 | V87: =SUM(S87:U87) -> 1500000
A88: Felújítási célú előzetesen felszámított általános forgalmi adó | B88: K74 | C88: 8199554 | D88: 0 | E88: 0 | F88: =SUM(C88:E88) -> 8199554 | G88: 8199554 | H88: 0 | I88: 0 | J88: =SUM(G88:I88) -> 8199554 | K88: 8199554 | L88: 0 | M88: 0 | N88: =SUM(K88:M88) -> 8199554 | O88: 8199554 | P88: 0 | Q88: 0 | R88: =SUM(O88:Q88) -> 8199554 | S88: 8199554 | T88: 0 | U88: 0 | V88: =SUM(S88:U88) -> 8199554
A89: Felújítások | B89: K7 | C89: =SUM(C85:C88) -> 29918554 | D89: =SUM(D85:D88) -> 0 | E89: =SUM(E85:E88) -> 0 | F89: =SUM(C89:E89) -> 29918554 | G89: =SUM(G85:G88) -> 29918554 | H89: =SUM(H85:H88) -> 0 | I89: =SUM(I85:I88) -> 0 | J89: =SUM(G89:I89) -> 29918554 | K89: =SUM(K85:K88) -> 27802154 | L89: =SUM(L85:L88) -> 0 | M89: =SUM(M85:M88) -> 0 | N89: =SUM(K89:M89) -> 27802154 | O89: =SUM(O85:O88) -> 27802154 | P89: =SUM(P85:P88) -> 0 | Q89: =SUM(Q85:Q88) -> 0 | R89: =SUM(O89:Q89) -> 27802154 | S89: =SUM(S85:S88) -> 27802154 | T89: =SUM(T85:T88) -> 0 | U89: =SUM(U85:U88) -> 0 | V89: =SUM(S89:U89) -> 27802154
A90: Felhalmozási célú garancia- és kezességvállalásból származó kifizetés államháztartáson belülre | B90: K81 | C90: 0 | D90: 0 | E90: 0 | F90: =SUM(C90:E90) -> 0 | G90: 0 | H90: 0 | I90: 0 | J90: =SUM(G90:I90) -> 0 | K90: 0 | L90: 0 | M90: 0 | N90: =SUM(K90:M90) -> 0 | O90: 0 | P90: 0 | Q90: 0 | R90: =SUM(O90:Q90) -> 0 | S90: 0 | T90: 0 | U90: 0 | V90: =SUM(S90:U90) -> 0
A91: Felhalmozási célú visszatérítendő támogatások, kölcsönök nyújtása államháztartáson belülre | B91: K82 | C91: 0 | D91: 0 | E91: 0 | F91: =SUM(C91:E91) -> 0 | G91: 0 | H91: 0 | I91: 0 | J91: =SUM(G91:I91) -> 0 | K91: 0 | L91: 0 | M91: 0 | N91: =SUM(K91:M91) -> 0 | O91: 0 | P91: 0 | Q91: 0 | R91: =SUM(O91:Q91) -> 0 | S91: 0 | T91: 0 | U91: 0 | V91: =SUM(S91:U91) -> 0
A92: Felhalmozási célú visszatérítendő támogatások, kölcsönök törlesztése államháztartáson belülre | B92: K83 | C92: 0 | D92: 0 | E92: 0 | F92: =SUM(C92:E92) -> 0 | G92: 0 | H92: 0 | I92: 0 | J92: =SUM(G92:I92) -> 0 | K92: 0 | L92: 0 | M92: 0 | N92: =SUM(K92:M92) -> 0 | O92: 0 | P92: 0 | Q92: 0 | R92: =SUM(O92:Q92) -> 0 | S92: 0 | T92: 0 | U92: 0 | V92: =SUM(S92:U92) -> 0
A93: Egyéb felhalmozási célú támogatások államháztartáson belülre | B93: K84 | C93: 0 | D93: 0 | E93: 0 | F93: =SUM(C93:E93) -> 0 | G93: 0 | H93: 0 | I93: 0 | J93: =SUM(G93:I93) -> 0 | K93: 0 | L93: 0 | M93: 0 | N93: =SUM(K93:M93) -> 0 | O93: 0 | P93: 0 | Q93: 0 | R93: =SUM(O93:Q93) -> 0 | S93: 0 | T93: 0 | U93: 0 | V93: =SUM(S93:U93) -> 0
A94: Felhalmozási célú garancia- és kezességvállalásból származó kifizetés államháztartáson kívülre | B94: K85 | C94: 0 | D94: 0 | E94: 0 | F94: =SUM(C94:E94) -> 0 | G94: 0 | H94: 0 | I94: 0 | J94: =SUM(G94:I94) -> 0 | K94: 0 | L94: 0 | M94: 0 | N94: =SUM(K94:M94) -> 0 | O94: 0 | P94: 0 | Q94: 0 | R94: =SUM(O94:Q94) -> 0 | S94: 0 | T94: 0 | U94: 0 | V94: =SUM(S94:U94) -> 0
A95: Felhalmozási célú visszatérítendő támogatások, kölcsönök nyújtása államháztartáson kívülre | B95: K86 | C95: 0 | D95: 0 | E95: 0 | F95: =SUM(C95:E95) -> 0 | G95: 0 | H95: 0 | I95: 0 | J95: =SUM(G95:I95) -> 0 | K95: 0 | L95: 0 | M95: 0 | N95: =SUM(K95:M95) -> 0 | O95: 0 | P95: 0 | Q95: 0 | R95: =SUM(O95:Q95) -> 0 | S95: 0 | T95: 0 | U95: 0 | V95: =SUM(S95:U95) -> 0
A96: Lakástámogatás | B96: K87 | C96: 0 | D96: 0 | E96: 0 | F96: =SUM(C96:E96) -> 0 | G96: 0 | H96: 0 | I96: 0 | J96: =SUM(G96:I96) -> 0 | K96: 0 | L96: 0 | M96: 0 | N96: =SUM(K96:M96) -> 0 | O96: 0 | P96: 0 | Q96: 0 | R96: =SUM(O96:Q96) -> 0 | S96: 0 | T96: 0 | U96: 0 | V96: =SUM(S96:U96) -> 0
A97: Felhalmozási célú támogatások az Európai Uniónak | B97: K88 | C97: 0 | D97: 0 | E97: 0 | F97: =SUM(C97:E97) -> 0 | G97: 0 | H97: 0 | I97: 0 | J97: =SUM(G97:I97) -> 0 | K97: 0 | L97: 0 | M97: 0 | N97: =SUM(K97:M97) -> 0 | O97: 0 | P97: 0 | Q97: 0 | R97: =SUM(O97:Q97) -> 0 | S97: 0 | T97: 0 | U97: 0 | V97: =SUM(S97:U97) -> 0
A98: Egyéb felhalmozási célú támogatások államháztartáson kívülre | B98: K89 | C98: 0 | D98: 0 | E98: 0 | F98: =SUM(C98:E98) -> 0 | G98: 0 | H98: 0 | I98: 0 | J98: =SUM(G98:I98) -> 0 | K98: 0 | L98: 0 | M98: 0 | N98: =SUM(K98:M98) -> 0 | O98: 0 | P98: 0 | Q98: 0 | R98: =SUM(O98:Q98) -> 0 | S98: 0 | T98: 0 | U98: 0 | V98: =SUM(S98:U98) -> 0
A99: Egyéb felhalmozási célú kiadások | B99: K8 | C99: =SUM(C90:C98) -> 0 | D99: =SUM(D90:D98) -> 0 | E99: =SUM(E90:E98) -> 0 | F99: =SUM(C99:E99) -> 0 | G99: =SUM(G90:G98) -> 0 | H99: =SUM(H90:H98) -> 0 | I99: =SUM(I90:I98) -> 0 | J99: =SUM(G99:I99) -> 0 | K99: =SUM(K90:K98) -> 0 | L99: =SUM(L90:L98) -> 0 | M99: =SUM(M90:M98) -> 0 | N99: =SUM(K99:M99) -> 0 | O99: =SUM(O90:O98) -> 0 | P99: =SUM(P90:P98) -> 0 | Q99: =SUM(Q90:Q98) -> 0 | R99: =SUM(O99:Q99) -> 0 | S99: =SUM(S90:S98) -> 0 | T99: =SUM(T90:T98) -> 0 | U99: =SUM(U90:U98) -> 0 | V99: =SUM(S99:U99) -> 0
A100: Felhalmozási kiadások összesen | C100: =C99+C89+C84 -> 36272354 | F100: =SUM(C100:E100) -> 36272354 | G100: =G99+G89+G84 -> 36272354 | J100: =SUM(G100:I100) -> 36272354 | K100: =K99+K89+K84 -> 34155954 | N100: =SUM(K100:M100) -> 34155954 | O100: =O99+O89+O84 -> 34155954 | R100: =SUM(O100:Q100) -> 34155954 | S100: =S99+S89+S84 -> 34155954 | V100: =SUM(S100:U100) -> 34155954
A101: Költségvetési kiadások | B101: K1-K8 | C101: =C26+C27+C52+C61+C75+C84+C89+C99 -> 82635383 | D101: =D26+D27+D52+D61+D75+D84+D89+D99 -> 0 | E101: =E26+E27+E52+E61+E75+E84+E89+E99 -> 13000 | F101: =SUM(C101:E101) -> 82648383 | G101: =G26+G27+G52+G61+G75+G84+G89+G99 -> 82632649 | H101: =H26+H27+H52+H61+H75+H84+H89+H99 -> 0 | I101: =I26+I27+I52+I61+I75+I84+I89+I99 -> 13000 | J101: =SUM(G101:I101) -> 82645649 | K101: =K26+K27+K52+K61+K75+K84+K89+K99 -> 86002212 | L101: =L26+L27+L52+L61+L75+L84+L89+L99 -> 0 | M101: =M26+M27+M52+M61+M75+M84+M89+M99 -> 13000 | N101: =SUM(K101:M101) -> 86015212 | O101: =O26+O27+O52+O61+O75+O84+O89+O99 -> 87988788 | P101: =P26+P27+P52+P61+P75+P84+P89+P99 -> 0 | Q101: =Q26+Q27+Q52+Q61+Q75+Q84+Q89+Q99 -> 13000 | R101: =SUM(O101:Q101) -> 88001788 | S101: =S26+S27+S52+S61+S75+S84+S89+S99 -> 90223136 | T101: =T26+T27+T52+T61+T75+T84+T89+T99 -> 0 | U101: =U26+U27+U52+U61+U75+U84+U89+U99 -> 13000 | V101: =SUM(S101:U101) -> 90236136
A102: Hosszú lejáratú hitelek, kölcsönök törlesztése pénzügyi vállalkozásnak | B102: K9111 | C102: 0 | D102: 0 | E102: 0 | F102: =SUM(C102:E102) -> 0 | G102: 0 | H102: 0 | I102: 0 | J102: =SUM(G102:I102) -> 0 | K102: 0 | L102: 0 | M102: 0 | N102: =SUM(K102:M102) -> 0 | O102: 0 | P102: 0 | Q102: 0 | R102: =SUM(O102:Q102) -> 0 | S102: 0 | T102: 0 | U102: 0 | V102: =SUM(S102:U102) -> 0
...

Sheet 3. melléklet
C1: 3. melléklet 1/2018. (I.23.) önkormányzati rendelethez
A3: SOROKPOLÁNY Önkormányzat 2018. évi költségvetése
A4: Kiadások (Ft)
A6: BÓBITA ÓVODA ELŐIRÁNYZATOK | C6: EREDETI ELŐIRÁNYZAT | G6: I n.év módossított ELŐIRÁNYZAT | K6: II n.év módossított ELŐIRÁNYZAT | O6: III n.év módossított ELŐIRÁNYZAT | S6: IV n.év módossított ELŐIRÁNYZAT
A7: Rovat megnevezése | B7: Rovat-szám | C7: kötelező feladatok | D7: önként vállalt feladatok | E7: államigazgatási feladatok | F7: ÖSSZESEN | G7: kötelező feladatok | H7: önként vállalt feladatok | I7: államigazgatási feladatok | J7: ÖSSZESEN | K7: kötelező feladatok | L7: önként vállalt feladatok | M7: államigazgatási feladatok | N7: ÖSSZESEN | O7: kötelező feladatok | P7: önként vállalt feladatok | Q7: államigazgatási feladatok | R7: ÖSSZESEN | S7: kötelező feladatok | T7: önként vállalt feladatok | U7: államigazgatási feladatok | V7: ÖSSZESEN
A8: Törvény szerinti illetmények, munkabérek | B8: K1101 | C8: 12022461 | D8: 0 | E8: 0 | F8: =SUM(C8:E8) -> 12022461 | G8: 12022461 | H8: 0 | I8: 0 | J8: =SUM(G8:I8) -> 12022461 | K8: 10229982 | L8: 0 | M8: 0 | N8: =SUM(K8:M8) -> 10229982 | O8: 10229982 | P8: 0 | Q8: 0 | R8: =SUM(O8:Q8) -> 10229982 | S8: 10191982 | T8: 0 | U8: 0 | V8: =SUM(S8:U8) -> 10191982
A9: Normatív jutalmak | B9: K1102 | C9: 0 | D9: 0 | E9: 0 | F9: =SUM(C9:E9) -> 0 | G9: 0 | H9: 0 | I9: 0 | J9: =SUM(G9:I9) -> 0 | K9: 0 | L9: 0 | M9: 0 | N9: =SUM(K9:M9) -> 0 | O9: 0 | P9: 0 | Q9: 0 | R9: =SUM(O9:Q9) -> 0 | S9: 0 | T9: 0 | U9: 0 | V9: =SUM(S9:U9) -> 0
A10: Céljuttatás, projektprémium | B10: K1103 | C10: 0 | D10: 0 | E10: 0 | F10: =SUM(C10:E10) -> 0 | G10: 0 | H10: 0 | I10: 0 | J10: =SUM(G10:I10) -> 0 | K10: 0 | L10: 0 | M10: 0 | N10: =SUM(K10:M10) -> 0 | O10: 0 | P10: 0 | Q10: 0 | R10: =SUM(O10:Q10) -> 0 | S10: 89246 | T10: 0 | U10: 0 | V10: =SUM(S10:U10) -> 89246
A11: Készenléti, ügyeleti, helyettesítési díj, túlóra, túlszolgálat | B11: K1104 | C11: 0 | D11: 0 | E11: 0 | F11: =SUM(C11:E11) -> 0 | G11: 0 | H11: 0 | I11: 0 | J11: =SUM(G11:I11) -> 0 | K11: 0 | L11: 0 | M11: 0 | N11: =SUM(K11:M11) -> 0 | O11: 0 | P11: 0 | Q11: 0 | R11: =SUM(O11:Q11) -> 0 | S11: 0 | T11: 0 | U11: 0 | V11: =SUM(S11:U11) -> 0
A12: Végkielégítés | B12: K1105 | C12: 0 | D12: 0 | E12: 0 | F12: =SUM(C12:E12) -> 0 | G12: 0 | H12: 0 | I12: 0 | J12: =SUM(G12:I12) -> 0 | K12: 0 | L12: 0 | M12: 0 | N12: =SUM(K12:M12) -> 0 | O12: 0 | P12: 0 | Q12: 0 | R12: =SUM(O12:Q12) -> 0 | S12: 0 | T12: 0 | U12: 0 | V12: =SUM(S12:U12) -> 0
A13: Jubileumi jutalom | B13: K1106 | C13: 0 | D13: 0 | E13: 0 | F13: =SUM(C13:E13) -> 0 | G13: 0 | H13: 0 | I13: 0 | J13: =SUM(G13:I13) -> 0 | K13: 0 | L13: 0 | M13: 0 | N13: =SUM(K13:M13) -> 0 | O13: 0 | P13: 0 | Q13: 0 | R13: =SUM(O13:Q13) -> 0 | S13: 0 | T13: 0 | U13: 0 | V13: =SUM(S13:U13) -> 0
A14: Béren kívüli juttatások | B14: K1107 | C14: 308000 | D14: 0 | E14: 0 | F14: =SUM(C14:E14) -> 308000 | G14: 308000 | H14: 0 | I14: 0 | J14: =SUM(G14:I14) -> 308000 | K14: 283000 | L14: 0 | M14: 0 | N14: =SUM(K14:M14) -> 283000 | O14: 283000 | P14: 0 | Q14: 0 | R14: =SUM(O14:Q14) -> 283000 | S14: 283000 | T14: 0 | U14: 0 | V14: =SUM(S14:U14) -> 283000
A15: Ruházati költségtérítés | B15: K1108 | C15: 0 | D15: 0 | E15: 0 | F15: =SUM(C15:E15) -> 0 | G15: 0 | H15: 0 | I15: 0 | J15: =SUM(G15:I15) -> 0 | K15: 0 | L15: 0 | M15: 0 | N15: =SUM(K15:M15) -> 0 | O15: 0 | P15: 0 | Q15: 0 | R15: =SUM(O15:Q15) -> 0 | S15: 0 | T15: 0 | U15: 0 | V15: =SUM(S15:U15) -> 0
A16: Közlekedési költségtérítés | B16: K1109 | C16: 87300 | D16: 0 | E16: 0 | F16: =SUM(C16:E16) -> 87300 | G16: 87300 | H16: 0 | I16: 0 | J16: =SUM(G16:I16) -> 87300 | K16: 87300 | L16: 0 | M16: 0 | N16: =SUM(K16:M16) -> 87300 | O16: 87300 | P16: 0 | Q16: 0 | R16: =SUM(O16:Q16) -> 87300 | S16: 87300 | T16: 0 | U16: 0 | V16: =SUM(S16:U16) -> 87300
A17: Egyéb költségtérítések | B17: K1110 | C17: 0 | D17: 0 | E17: 0 | F17: =SUM(C17:E17) -> 0 | G17: 0 | H17: 0 | I17: 0 | J17: =SUM(G17:I17) -> 0 | K17: 0 | L17: 0 | M17: 0 | N17: =SUM(K17:M17) -> 0 | O17: 0 | P17: 0 | Q17: 0 | R17: =SUM(O17:Q17) -> 0 | S17: 0 | T17: 0 | U17: 0 | V17: =SUM(S17:U17) -> 0
A18: Lakhatási támogatások | B18: K1111 | C18: 0 | D18: 0 | E18: 0 | F18: =SUM(C18:E18) -> 0 | G18: 0 | H18: 0 | I18: 0 | J18: =SUM(G18:I18) -> 0 | K18: 0 | L18: 0 | M18: 0 | N18: =SUM(K18:M18) -> 0 | O18: 0 | P18: 0 | Q18: 0 | R18: =SUM(O18:Q18) -> 0 | S18: 0 | T18: 0 | U18: 0 | V18: =SUM(S18:U18) -> 0
A19: Szociális támogatások | B19: K1112 | C19: 0 | D19: 0 | E19: 0 | F19: =SUM(C19:E19) -> 0 | G19: 0 | H19: 0 | I19: 0 | J19: =SUM(G19:I19) -> 0 | K19: 0 | L19: 0 | M19: 0 | N19: =SUM(K19:M19) -> 0 | O19: 0 | P19: 0 | Q19: 0 | R19: =SUM(O19:Q19) -> 0 | S19: 0 | T19: 0 | U19: 0 | V19: =SUM(S19:U19) -> 0
A20: Foglalkoztatottak egyéb személyi juttatásai | B20: K1113 | C20: 0 | D20: 0 | E20: 0 | F20: =SUM(C20:E20) -> 0 | G20: 0 | H20: 0 | I20: 0 | J20: =SUM(G20:I20) -> 0 | K20: 0 | L20: 0 | M20: 0 | N20: =SUM(K20:M20) -> 0 | O20: 0 | P20: 0 | Q20: 0 | R20: =SUM(O20:Q20) -> 0 | S20: 52960 | T20: 0 | U20: 0 | V20: =SUM(S20:U20) -> 52960
A21: Foglalkoztatottak személyi juttatásai | B21: K11 | C21: =SUM(C8:C20) -> 12417761 | D21: =SUM(D8:D20) -> 0 | E21: =SUM(E8:E20) -> 0 | F21: =SUM(C21:E21) -> 12417761 | G21: =SUM(G8:G20) -> 12417761 | H21: =SUM(H8:H20) -> 0 | I21: =SUM(I8:I20) -> 0 | J21: =SUM(G21:I21) -> 12417761 | K21: =SUM(K8:K20) -> 10600282 | L21: =SUM(L8:L20) -> 0 | M21: =SUM(M8:M20) -> 0 | N21: =SUM(K21:M21) -> 10600282 | O21: =SUM(O8:O20) -> 10600282 | P21: =SUM(P8:P20) -> 0 | Q21: =SUM(Q8:Q20) -> 0 | R21: =SUM(O21:Q21) -> 10600282 | S21: =SUM(S8:S20) -> 10704488 | T21: =SUM(T8:T20) -> 0 | U21: =SUM(U8:U20) -> 0 | V21: =SUM(S21:U21) -> 10704488
A22: Választott tisztségviselők juttatásai | B22: K121 | C22: 0 | D22: 0 | E22: 0 | F22: =SUM(C22:E22) -> 0 | G22: 0 | H22: 0 | I22: 0 | J22: =SUM(G22:I22) -> 0 | K22: 0 | L22: 0 | M22: 0 | N22: =SUM(K22:M22) -> 0 | O22: 0 | P22: 0 | Q22: 0 | R22: =SUM(O22:Q22) -> 0 | S22: 0 | T22: 0 | U22: 0 | V22: =SUM(S22:U22) -> 0
A23: Munkavégzésre irányuló egyéb jogviszonyban nem saját foglalkoztatottnak fizetett juttatások | B23: K122 | C23: 0 | D23: 0 | E23: 0 | F23: =SUM(C23:E23) -> 0 | G23: 0 | H23: 0 | I23: 0 | J23: =SUM(G23:I23) -> 0 | K23: 0 | L23: 0 | M23: 0 | N23: =SUM(K23:M23) -> 0 | O23: 0 | P23: 0 | Q23: 0 | R23: =SUM(O23:Q23) -> 0 | S23: 0 | T23: 0 | U23: 0 | V23: =SUM(S23:U23) -> 0
A24: Egyéb külső személyi juttatások | B24: K123 | C24: 0 | D24: 0 | E24: 0 | F24: =SUM(C24:E24) -> 0 | G24: 0 | H24: 0 | I24: 0 | J24: =SUM(G24:I24) -> 0 | K24: 0 | L24: 0 | M24: 0 | N24: =SUM(K24:M24) -> 0 | O24: 0 | P24: 0 | Q24: 0 | R24: =SUM(O24:Q24) -> 0 | S24: 0 | T24: 0 | U24: 0 | V24: =SUM(S24:U24) -> 0
A25: Külső személyi juttatások | B25: K12 | C25: =SUM(C22:C24) -> 0 | D25: =SUM(D22:D24) -> 0 | E25: =SUM(E22:E24) -> 0 | F25: =SUM(C25:E25) -> 0 | G25: =SUM(G22:G24) -> 0 | H25: =SUM(H22:H24) -> 0 | I25: =SUM(I22:I24) -> 0 | J25: =SUM(G25:I25) -> 0 | K25: =SUM(K22:K24) -> 0 | L25: =SUM(L22:L24) -> 0 | M25: =SUM(M22:M24) -> 0 | N25: =SUM(K25:M25) -> 0 | O25: =SUM(O22:O24) -> 0 | P25: =SUM(P22:P24) -> 0 | Q25: =SUM(Q22:Q24) -> 0 | R25: =SUM(O25:Q25) -> 0 | S25: =SUM(S22:S24) -> 0 | T25: =SUM(T22:T24) -> 0 | U25: =SUM(U22:U24) -> 0 | V25: =SUM(S25:U25) -> 0
A26: Személyi juttatások | B26: K1 | C26: =C21+C25 -> 12417761 | D26: =D21+D25 -> 0 | E26: =E21+E25 -> 0 | F26: =SUM(C26:E26) -> 12417761 | G26: =G21+G25 -> 12417761 | H26: =H21+H25 -> 0 | I26: =I21+I25 -> 0 | J26: =SUM(G26:I26) -> 12417761 | K26: =K21+K25 -> 10600282 | L26: =L21+L25 -> 0 | M26: =M21+M25 -> 0 | N26: =SUM(K26:M26) -> 10600282 | O26: =O21+O25 -> 10600282 | P26: =P21+P25 -> 0 | Q26: =Q21+Q25 -> 0 | R26: =SUM(O26:Q26) -> 10600282 | S26: =S21+S25 -> 10704488 | T26: =T21+T25 -> 0 | U26: =U21+U25 -> 0 | V26: =SUM(S26:U26) -> 10704488
A27: Munkaadókat terhelő járulékok és szociális hozzájárulási adó | B27: K2 | C27: 2344816 | D27: 0 | E27: 0 | F27: =SUM(C27:E27) -> 2344816 | G27: 2344816 | H27: 0 | I27: 0 | J27: =SUM(G27:I27) -> 2344816 | K27: 1981161 | L27: 0 | M27: 0 | N27: =SUM(K27:M27) -> 1981161 | O27: 1981161 | P27: 0 | Q27: 0 | R27: =SUM(O27:Q27) -> 1981161 | S27: 2052177 | T27: 0 | U27: 0 | V27: =SUM(S27:U27) -> 2052177
A28: Szakmai anyagok beszerzése | B28: K311 | C28: 10000 | D28: 0 | E28: 0 | F28: =SUM(C28:E28) -> 10000 | G28: 10000 | H28: 0 | I28: 0 | J28: =SUM(G28:I28) -> 10000 | K28: 65000 | L28: 0 | M28: 0 | N28: =SUM(K28:M28) -> 65000 | O28: 65000 | P28: 0 | Q28: 0 | R28: =SUM(O28:Q28) -> 65000 | S28: 65000 | T28: 0 | U28: 0 | V28: =SUM(S28:U28) -> 65000
A29: Üzemeltetési anyagok beszerzése | B29: K312 | C29: 520000 | D29: 0 | E29: 0 | F29: =SUM(C29:E29) -> 520000 | G29: 520000 | H29: 0 | I29: 0 | J29: =SUM(G29:I29) -> 520000 | K29: 479000 | L29: 0 | M29: 0 | N29: =SUM(K29:M29) -> 479000 | O29: 479000 | P29: 0 | Q29: 0 | R29: =SUM(O29:Q29) -> 479000 | S29: 303778 | T29: 0 | U29: 0 | V29: =SUM(S29:U29) -> 303778
A30: Árubeszerzés | B30: K313 | C30: 0 | D30: 0 | E30: 0 | F30: =SUM(C30:E30) -> 0 | G30: 0 | H30: 0 | I30: 0 | J30: =SUM(G30:I30) -> 0 | K30: 0 | L30: 0 | M30: 0 | N30: =SUM(K30:M30) -> 0 | O30: 0 | P30: 0 | Q30: 0 | R30: =SUM(O30:Q30) -> 0 | S30: 0 | T30: 0 | U30: 0 | V30: =SUM(S30:U30) -> 0
A31: Készletbeszerzés | B31: K31 | C31: =SUM(C28:C30) -> 530000 | D31: =SUM(D28:D30) -> 0 | E31: =SUM(E28:E30) -> 0 | F31: =SUM(C31:E31) -> 530000 | G31: =SUM(G28:G30) -> 530000 | H31: =SUM(H28:H30) -> 0 | I31: =SUM(I28:I30) -> 0 | J31: =SUM(G31:I31) -> 530000 | K31: =SUM(K28:K30) -> 544000 | L31: =SUM(L28:L30) -> 0 | M31: =SUM(M28:M30) -> 0 | N31: =SUM(K31:M31) -> 544000 | O31: =SUM(O28:O30) -> 544000 | P31: =SUM(P28:P30) -> 0 | Q31: =SUM(Q28:Q30) -> 0 | R31: =SUM(O31:Q31) -> 544000 | S31: =SUM(S28:S30) -> 368778 | T31: =SUM(T28:T30) -> 0 | U31: =SUM(U28:U30) -> 0 | V31: =SUM(S31:U31) -> 368778
A32: Informatikai szolgáltatások igénybevétele | B32: K321 | C32: 0 | D32: 0 | E32: 0 | F32: =SUM(C32:E32) -> 0 | G32: 0 | H32: 0 | I32: 0 | J32: =SUM(G32:I32) -> 0 | K32: 47148 | L32: 0 | M32: 0 | N32: =SUM(K32:M32) -> 47148 | O32: 47148 | P32: 0 | Q32: 0 | R32: =SUM(O32:Q32) -> 47148 | S32: 47148 | T32: 0 | U32: 0 | V32: =SUM(S32:U32) -> 47148
A33: Egyéb kommunikációs szolgáltatások | B33: K322 | C33: 80000 | D33: 0 | E33: 0 | F33: =SUM(C33:E33) -> 80000 | G33: 80000 | H33: 0 | I33: 0 | J33: =SUM(G33:I33) -> 80000 | K33: 70000 | L33: 0 | M33: 0 | N33: =SUM(K33:M33) -> 70000 | O33: 70000 | P33: 0 | Q33: 0 | R33: =SUM(O33:Q33) -> 70000 | S33: 70000 | T33: 0 | U33: 0 | V33: =SUM(S33:U33) -> 70000
A34: Kommunikációs szolgáltatások | B34: K32 | C34: =SUM(C32:C33) -> 80000 | D34: =SUM(D32:D33) -> 0 | E34: =SUM(E32:E33) -> 0 | F34: =SUM(C34:E34) -> 80000 | G34: =SUM(G32:G33) -> 80000 | H34: =SUM(H32:H33) -> 0 | I34: =SUM(I32:I33) -> 0 | J34: =SUM(G34:I34) -> 80000 | K34: =SUM(K32:K33) -> 117148 | L34: =SUM(L32:L33) -> 0 | M34: =SUM(M32:M33) -> 0 | N34: =SUM(K34:M34) -> 117148 | O34: =SUM(O32:O33) -> 117148 | P34: =SUM(P32:P33) -> 0 | Q34: =SUM(Q32:Q33) -> 0 | R34: =SUM(O34:Q34) -> 117148 | S34: =SUM(S32:S33) -> 117148 | T34: =SUM(T32:T33) -> 0 | U34: =SUM(U32:U33) -> 0 | V34: =SUM(S34:U34) -> 117148
A35: Közüzemi díjak | B35: K331 | C35: 1200000 | D35: 0 | E35: 0 | F35: =SUM(C35:E35) -> 1200000 | G35: 1200000 | H35: 0 | I35: 0 | J35: =SUM(G35:I35) -> 1200000 | K35: 1200000 | L35: 0 | M35: 0 | N35: =SUM(K35:M35) -> 1200000 | O35: 1200000 | P35: 0 | Q35: 0 | R35: =SUM(O35:Q35) -> 1200000 | S35: 1200000 | T35: 0 | U35: 0 | V35: =SUM(S35:U35) -> 1200000
A36: Vásárolt élelmezés | B36: K332 | C36: 0 | D36: 0 | E36: 0 | F36: =SUM(C36:E36) -> 0 | G36: 0 | H36: 0 | I36: 0 | J36: =SUM(G36:I36) -> 0 | K36: 0 | L36: 0 | M36: 0 | N36: =SUM(K36:M36) -> 0 | O36: 0 | P36: 0 | Q36: 0 | R36: =SUM(O36:Q36) -> 0 | S36: 0 | T36: 0 | U36: 0 | V36: =SUM(S36:U36) -> 0
A37: Bérleti és lízing díjak | B37: K333 | C37: 0 | D37: 0 | E37: 0 | F37: =SUM(C37:E37) -> 0 | G37: 0 | H37: 0 | I37: 0 | J37: =SUM(G37:I37) -> 0 | K37: 0 | L37: 0 | M37: 0 | N37: =SUM(K37:M37) -> 0 | O37: 0 | P37: 0 | Q37: 0 | R37: =SUM(O37:Q37) -> 0 | S37: 0 | T37: 0 | U37: 0 | V37: =SUM(S37:U37) -> 0
A38: Karbantartási, kisjavítási szolgáltatások | B38: K334 | C38: 250000 | D38: 0 | E38: 0 | F38: =SUM(C38:E38) -> 250000 | G38: 250000 | H38: 0 | I38: 0 | J38: =SUM(G38:I38) -> 250000 | K38: 250000 | L38: 0 | M38: 0 | N38: =SUM(K38:M38) -> 250000 | O38: 250000 | P38: 0 | Q38: 0 | R38: =SUM(O38:Q38) -> 250000 | S38: 250000 | T38: 0 | U38: 0 | V38: =SUM(S38:U38) -> 250000
A39: Közvetített szolgáltatások | B39: K335 | C39: 0 | D39: 0 | E39: 0 | F39: =SUM(C39:E39) -> 0 | G39: 0 | H39: 0 | I39: 0 | J39: =SUM(G39:I39) -> 0 | K39: 0 | L39: 0 | M39: 0 | N39: =SUM(K39:M39) -> 0 | O39: 0 | P39: 0 | Q39: 0 | R39: =SUM(O39:Q39) -> 0 | S39: 0 | T39: 0 | U39: 0 | V39: =SUM(S39:U39) -> 0
A40: Szakmai tevékenységet segítő szolgáltatások | B40: K336 | C40: 0 | D40: 0 | E40: 0 | F40: =SUM(C40:E40) -> 0 | G40: 0 | H40: 0 | I40: 0 | J40: =SUM(G40:I40) -> 0 | K40: 252400 | L40: 0 | M40: 0 | N40: =SUM(K40:M40) -> 252400 | O40: 252400 | P40: 0 | Q40: 0 | R40: =SUM(O40:Q40) -> 252400 | S40: 262000 | T40: 0 | U40: 0 | V40: =SUM(S40:U40) -> 262000
A41: Egyéb szolgáltatások | B41: K337 | C41: 335000 | D41: 0 | E41: 0 | F41: =SUM(C41:E41) -> 335000 | G41: 335000 | H41: 0 | I41: 0 | J41: =SUM(G41:I41) -> 335000 | K41: 335000 | L41: 0 | M41: 0 | N41: =SUM(K41:M41) -> 335000 | O41: 335000 | P41: 0 | Q41: 0 | R41: =SUM(O41:Q41) -> 335000 | S41: 335000 | T41: 0 | U41: 0 | V41: =SUM(S41:U41) -> 335000
A42: Szolgáltatási kiadások | B42: K33 | C42: =SUM(C35:C41) -> 1785000 | D42: =SUM(D35:D41) -> 0 | E42: =SUM(E35:E41) -> 0 | F42: =SUM(C42:E42) -> 1785000 | G42: =SUM(G35:G41) -> 1785000 | H42: =SUM(H35:H41) -> 0 | I42: =SUM(I35:I41) -> 0 | J42: =SUM(G42:I42) -> 1785000 | K42: =SUM(K35:K41) -> 2037400 | L42: =SUM(L35:L41) -> 0 | M42: =SUM(M35:M41) -> 0 | N42: =SUM(K42:M42) -> 2037400 | O42: =SUM(O35:O41) -> 2037400 | P42: =SUM(P35:P41) -> 0 | Q42: =SUM(Q35:Q41) -> 0 | R42: =SUM(O42:Q42) -> 2037400 | S42: =SUM(S35:S41) -> 2047000 | T42: =SUM(T35:T41) -> 0 | U42: =SUM(U35:U41) -> 0 | V42: =SUM(S42:U42) -> 2047000
A43: Kiküldetések kiadásai | B43: K341 | C43: 0 | D43: 0 | E43: 0 | F43: =SUM(C43:E43) -> 0 | G43: 0 | H43: 0 | I43: 0 | J43: =SUM(G43:I43) -> 0 | K43: 0 | L43: 0 | M43: 0 | N43: =SUM(K43:M43) -> 0 | O43: 0 | P43: 0 | Q43: 0 | R43: =SUM(O43:Q43) -> 0 | S43: 0 | T43: 0 | U43: 0 | V43: =SUM(S43:U43) -> 0
A44: Reklám- és propagandakiadások | B44: K342 | C44: 0 | D44: 0 | E44: 0 | F44: =SUM(C44:E44) -> 0 | G44: 0 | H44: 0 | I44: 0 | J44: =SUM(G44:I44) -> 0 | K44: 0 | L44: 0 | M44: 0 | N44: =SUM(K44:M44) -> 0 | O44: 0 | P44: 0 | Q44: 0 | R44: =SUM(O44:Q44) -> 0 | S44: 0 | T44: 0 | U44: 0 | V44: =SUM(S44:U44) -> 0
A45: Kiküldetések, reklám- és propagandakiadások | B45: K34 | C45: =SUM(C43:C44) -> 0 | D45: =SUM(D43:D44) -> 0 | E45: =SUM(E43:E44) -> 0 | F45: =SUM(C45:E45) -> 0 | G45: =SUM(G43:G44) -> 0 | H45: =SUM(H43:H44) -> 0 | I45: =SUM(I43:I44) -> 0 | J45: =SUM(G45:I45) -> 0 | K45: =SUM(K43:K44) -> 0 | L45: =SUM(L43:L44) -> 0 | M45: =SUM(M43:M44) -> 0 | N45: =SUM(K45:M45) -> 0 | O45: =SUM(O43:O44) -> 0 | P45: =SUM(P43:P44) -> 0 | Q45: =SUM(Q43:Q44) -> 0 | R45: =SUM(O45:Q45) -> 0 | S45: =SUM(S43:S44) -> 0 | T45: =SUM(T43:T44) -> 0 | U45: =SUM(U43:U44) -> 0 | V45: =SUM(S45:U45) -> 0
A46: Működési célú előzetesen felszámított általános forgalmi adó | B46: K351 | C46: 0 | D46: 0 | E46: 0 | F46: =SUM(C46:E46) -> 0 | G46: 649650 | H46: 0 | I46: 0 | J46: =SUM(G46:I46) -> 649650 | K46: 646650 | L46: 0 | M46: 0 | N46: =SUM(K46:M46) -> 646650 | O46: 646650 | P46: 0 | Q46: 0 | R46: =SUM(O46:Q46) -> 646650 | S46: 637050 | T46: 0 | U46: 0 | V46: =SUM(S46:U46) -> 637050
A47: Fizetendő általános forgalmi adó | B47: K352 | C47: 646650 | D47: 0 | E47: 0 | F47: =SUM(C47:E47) -> 646650 | G47: 0 | H47: 0 | I47: 0 | J47: =SUM(G47:I47) -> 0 | K47: 0 | L47: 0 | M47: 0 | N47: =SUM(K47:M47) -> 0 | O47: 0 | P47: 0 | Q47: 0 | R47: =SUM(O47:Q47) -> 0 | S47: 0 | T47: 0 | U47: 0 | V47: =SUM(S47:U47) -> 0
A48: Kamatkiadások | B48: K353 | C48: 0 | D48: 0 | E48: 0 | F48: =SUM(C48:E48) -> 0 | G48: 0 | H48: 0 | I48: 0 | J48: =SUM(G48:I48) -> 0 | K48: 0 | L48: 0 | M48: 0 | N48: =SUM(K48:M48) -> 0 | O48: 0 | P48: 0 | Q48: 0 | R48: =SUM(O48:Q48) -> 0 | S48: 0 | T48: 0 | U48: 0 | V48: =SUM(S48:U48) -> 0
A49: Egyéb pénzügyi műveletek kiadásai | B49: K354 | C49: 0 | D49: 0 | E49: 0 | F49: =SUM(C49:E49) -> 0 | G49: 0 | H49: 0 | I49: 0 | J49: =SUM(G49:I49) -> 0 | K49: 0 | L49: 0 | M49: 0 | N49: =SUM(K49:M49) -> 0 | O49: 0 | P49: 0 | Q49: 0 | R49: =SUM(O49:Q49) -> 0 | S49: 0 | T49: 0 | U49: 0 | V49: =SUM(S49:U49) -> 0
A50: Egyéb dologi kiadások | B50: K355 | C50: 0 | D50: 0 | E50: 0 | F50: =SUM(C50:E50) -> 0 | G50: 0 | H50: 0 | I50: 0 | J50: =SUM(G50:I50) -> 0 | K50: 1000 | L50: 0 | M50: 0 | N50: =SUM(K50:M50) -> 1000 | O50: 1000 | P50: 0 | Q50: 0 | R50: =SUM(O50:Q50) -> 1000 | S50: 1000 | T50: 0 | U50: 0 | V50: =SUM(S50:U50) -> 1000
A51: Különféle befizetések és egyéb dologi kiadások | B51: K35 | C51: =SUM(C46:C50) -> 646650 | D51: =SUM(D46:D50) -> 0 | E51: 0 | F51: =SUM(C51:E51) -> 646650 | G51: =SUM(G46:G50) -> 649650 | H51: =SUM(H46:H50) -> 0 | I51: 0 | J51: =SUM(G51:I51) -> 649650 | K51: =SUM(K46:K50) -> 647650 | L51: =SUM(L46:L50) -> 0 | M51: 0 | N51: =SUM(K51:M51) -> 647650 | O51: =SUM(O46:O50) -> 647650 | P51: =SUM(P46:P50) -> 0 | Q51: 0 | R51: =SUM(O51:Q51) -> 647650 | S51: =SUM(S46:S50) -> 638050 | T51: =SUM(T46:T50) -> 0 | U51: 0 | V51: =SUM(S51:U51) -> 638050
A52: Dologi kiadások | B52: K3 | C52: =C31+C34+C42+C45+C51 -> 3041650 | D52: =D31+D34+D42+D45+D51 -> 0 | E52: =E31+E34+E42+E45+E51 -> 0 | F52: =SUM(C52:E52) -> 3041650 | G52: =G31+G34+G42+G45+G51 -> 3044650 | H52: =H31+H34+H42+H45+H51 -> 0 | I52: =I31+I34+I42+I45+I51 -> 0 | J52: =SUM(G52:I52) -> 3044650 | K52: =K31+K34+K42+K45+K51 -> 3346198 | L52: =L31+L34+L42+L45+L51 -> 0 | M52: =M31+M34+M42+M45+M51 -> 0 | N52: =SUM(K52:M52) -> 3346198 | O52: =O31+O34+O42+O45+O51 -> 3346198 | P52: =P31+P34+P42+P45+P51 -> 0 | Q52: =Q31+Q34+Q42+Q45+Q51 -> 0 | R52: =SUM(O52:Q52) -> 3346198 | S52: =S31+S34+S42+S45+S51 -> 3170976 | T52: =T31+T34+T42+T45+T51 -> 0 | U52: =U31+U34+U42+U45+U51 -> 0 | V52: =SUM(S52:U52) -> 3170976
A53: Társadalombiztosítási ellátások | B53: K41 | C53: 0 | D53: 0 | E53: 0 | F53: =SUM(C53:E53) -> 0 | G53: 0 | H53: 0 | I53: 0 | J53: =SUM(G53:I53) -> 0 | K53: 0 | L53: 0 | M53: 0 | N53: =SUM(K53:M53) -> 0 | O53: 0 | P53: 0 | Q53: 0 | R53: =SUM(O53:Q53) -> 0 | S53: 0 | T53: 0 | U53: 0 | V53: =SUM(S53:U53) -> 0
A54: Családi támogatások | B54: K42 | C54: 0 | D54: 0 | E54: 0 | F54: =SUM(C54:E54) -> 0 | G54: 0 | H54: 0 | I54: 0 | J54: =SUM(G54:I54) -> 0 | K54: 0 | L54: 0 | M54: 0 | N54: =SUM(K54:M54) -> 0 | O54: 0 | P54: 0 | Q54: 0 | R54: =SUM(O54:Q54) -> 0 | S54: 0 | T54: 0 | U54: 0 | V54: =SUM(S54:U54) -> 0
A55: Pénzbeli kárpótlások, kártérítések | B55: K43 | C55: 0 | D55: 0 | E55: 0 | F55: =SUM(C55:E55) -> 0 | G55: 0 | H55: 0 | I55: 0 | J55: =SUM(G55:I55) -> 0 | K55: 0 | L55: 0 | M55: 0 | N55: =SUM(K55:M55) -> 0 | O55: 0 | P55: 0 | Q55: 0 | R55: =SUM(O55:Q55) -> 0 | S55: 0 | T55: 0 | U55: 0 | V55: =SUM(S55:U55) -> 0
A56: Betegséggel kapcsolatos (nem társadalombiztosítási) ellátások | B56: K44 | C56: 0 | D56: 0 | E56: 0 | F56: =SUM(C56:E56) -> 0 | G56: 0 | H56: 0 | I56: 0 | J56: =SUM(G56:I56) -> 0 | K56: 0 | L56: 0 | M56: 0 | N56: =SUM(K56:M56) -> 0 | O56: 0 | P56: 0 | Q56: 0 | R56: =SUM(O56:Q56) -> 0 | S56: 0 | T56: 0 | U56: 0 | V56: =SUM(S56:U56) -> 0
A57: Foglalkoztatással, munkanélküliséggel kapcsolatos ellátások | B57: K45 | C57: 0 | D57: 0 | E57: 0 | F57: =SUM(C57:E57) -> 0 | G57: 0 | H57: 0 | I57: 0 | J57: =SUM(G57:I57) -> 0 | K57: 0 | L57: 0 | M57: 0 | N57: =SUM(K57:M57) -> 0 | O57: 0 | P57: 0 | Q57: 0 | R57: =SUM(O57:Q57) -> 0 | S57: 0 | T57: 0 | U57: 0 | V57: =SUM(S57:U57) -> 0
A58: Lakhatással kapcsolatos ellátások | B58: K46 | C58: 0 | D58: 0 | E58: 0 | F58: =SUM(C58:E58) -> 0 | G58: 0 | H58: 0 | I58: 0 | J58: =SUM(G58:I58) -> 0 | K58: 0 | L58: 0 | M58: 0 | N58: =SUM(K58:M58) -> 0 | O58: 0 | P58: 0 | Q58: 0 | R58: =SUM(O58:Q58) -> 0 | S58: 0 | T58: 0 | U58: 0 | V58: =SUM(S58:U58) -> 0
A59: Intézményi ellátottak pénzbeli juttatásai | B59: K47 | C59: 0 | D59: 0 | E59: 0 | F59: =SUM(C59:E59) -> 0 | G59: 0 | H59: 0 | I59: 0 | J59: =SUM(G59:I59) -> 0 | K59: 0 | L59: 0 | M59: 0 | N59: =SUM(K59:M59) -> 0 | O59: 0 | P59: 0 | Q59: 0 | R59: =SUM(O59:Q59) -> 0 | S59: 0 | T59: 0 | U59: 0 | V59: =SUM(S59:U59) -> 0
A60: Egyéb nem intézményi ellátások | B60: K48 | C60: 0 | D60: 0 | E60: 0 | F60: =SUM(C60:E60) -> 0 | G60: 0 | H60: 0 | I60: 0 | J60: =SUM(G60:I60) -> 0 | K60: 0 | L60: 0 | M60: 0 | N60: =SUM(K60:M60) -> 0 | O60: 0 | P60: 0 | Q60: 0 | R60: =SUM(O60:Q60) -> 0 | S60: 0 | T60: 0 | U60: 0 | V60: =SUM(S60:U60) -> 0
A61: Ellátottak pénzbeli juttatásai | B61: K4 | C61: =SUM(C53:C60) -> 0 | D61: =SUM(D53:D60) -> 0 | E61: =SUM(E53:E60) -> 0 | F61: =SUM(C61:E61) -> 0 | G61: =SUM(G53:G60) -> 0 | H61: =SUM(H53:H60) -> 0 | I61: =SUM(I53:I60) -> 0 | J61: =SUM(G61:I61) -> 0 | K61: =SUM(K53:K60) -> 0 | L61: =SUM(L53:L60) -> 0 | M61: =SUM(M53:M60) -> 0 | N61: =SUM(K61:M61) -> 0 | O61: =SUM(O53:O60) -> 0 | P61: =SUM(P53:P60) -> 0 | Q61: =SUM(Q53:Q60) -> 0 | R61: =SUM(O61:Q61) -> 0 | S61: =SUM(S53:S60) -> 0 | T61: =SUM(T53:T60) -> 0 | U61: =SUM(U53:U60) -> 0 | V61: =SUM(S61:U61) -> 0
A62: Nemzetközi kötelezettségek | B62: K501 | C62: 0 | D62: 0 | E62: 0 | F62: =SUM(C62:E62) -> 0 | G62: 0 | H62: 0 | I62: 0 | J62: =SUM(G62:I62) -> 0 | K62: 0 | L62: 0 | M62: 0 | N62: =SUM(K62:M62) -> 0 | O62: 0 | P62: 0 | Q62: 0 | R62: =SUM(O62:Q62) -> 0 | S62: 0 | T62: 0 | U62: 0 | V62: =SUM(S62:U62) -> 0
A63: Elvonások és befizetések | B63: K502 | C63: 0 | D63: 0 | E63: 0 | F63: =SUM(C63:E63) -> 0 | G63: 0 | H63: 0 | I63: 0 | J63: =SUM(G63:I63) -> 0 | K63: 0 | L63: 0 | M63: 0 | N63: =SUM(K63:M63) -> 0 | O63: 0 | P63: 0 | Q63: 0 | R63: =SUM(O63:Q63) -> 0 | S63: 0 | T63: 0 | U63: 0 | V63: =SUM(S63:U63) -> 0
A64: Működési célú garancia- és kezességvállalásból származó kifizetés államháztartáson belülre | B64: K503 | C64: 0 | D64: 0 | E64: 0 | F64: =SUM(C64:E64) -> 0 | G64: 0 | H64: 0 | I64: 0 | J64: =SUM(G64:I64) -> 0 | K64: 0 | L64: 0 | M64: 0 | N64: =SUM(K64:M64) -> 0 | O64: 0 | P64: 0 | Q64: 0 | R64: =SUM(O64:Q64) -> 0 | S64: 0 | T64: 0 | U64: 0 | V64: =SUM(S64:U64) -> 0
A65: Működési célú visszatérítendő támogatások, kölcsönök nyújtása államháztartáson belülre | B65: K504 | C65: 0 | D65: 0 | E65: 0 | F65: =SUM(C65:E65) -> 0 | G65: 0 | H65: 0 | I65: 0 | J65: =SUM(G65:I65) -> 0 | K65: 0 | L65: 0 | M65: 0 | N65: =SUM(K65:M65) -> 0 | O65: 0 | P65: 0 | Q65: 0 | R65: =SUM(O65:Q65) -> 0 | S65: 0 | T65: 0 | U65: 0 | V65: =SUM(S65:U65) -> 0
A66: Működési célú visszatérítendő támogatások, kölcsönök törlesztése államháztartáson belülre | B66: K505 | C66: 0 | D66: 0 | E66: 0 | F66: =SUM(C66:E66) -> 0 | G66: 0 | H66: 0 | I66: 0 | J66: =SUM(G66:I66) -> 0 | K66: 0 | L66: 0 | M66: 0 | N66: =SUM(K66:M66) -> 0 | O66: 0 | P66: 0 | Q66: 0 | R66: =SUM(O66:Q66) -> 0 | S66: 0 | T66: 0 | U66: 0 | V66: =SUM(S66:U66) -> 0
A67: Egyéb működési célú támogatások államháztartáson belülre | B67: K506 | C67: 0 | D67: 0 | E67: 0 | F67: =SUM(C67:E67) -> 0 | G67: 0 | H67: 0 | I67: 0 | J67: =SUM(G67:I67) -> 0 | K67: 0 | L67: 0 | M67: 0 | N67: =SUM(K67:M67) -> 0 | O67: 0 | P67: 0 | Q67: 0 | R67: =SUM(O67:Q67) -> 0 | S67: 0 | T67: 0 | U67: 0 | V67: =SUM(S67:U67) -> 0
A68: Működési célú garancia- és kezességvállalásból származó kifizetés államháztartáson kívülre | B68: K507 | C68: 0 | D68: 0 | E68: 0 | F68: =SUM(C68:E68) -> 0 | G68: 0 | H68: 0 | I68: 0 | J68: =SUM(G68:I68) -> 0 | K68: 0 | L68: 0 | M68: 0 | N68: =SUM(K68:M68) -> 0 | O68: 0 | P68: 0 | Q68: 0 | R68: =SUM(O68:Q68) -> 0 | S68: 0 | T68: 0 | U68: 0 | V68: =SUM(S68:U68) -> 0
A69: Működési célú visszatérítendő támogatások, kölcsönök nyújtása államháztartáson kívülre | B69: K508 | C69: 0 | D69: 0 | E69: 0 | F69: =SUM(C69:E69) -> 0 | G69: 0 | H69: 0 | I69: 0 | J69: =SUM(G69:I69) -> 0 | K69: 0 | L69: 0 | M69: 0 | N69: =SUM(K69:M69) -> 0 | O69: 0 | P69: 0 | Q69: 0 | R69: =SUM(O69:Q69) -> 0 | S69: 0 | T69: 0 | U69: 0 | V69: =SUM(S69:U69) -> 0
A70: Árkiegészítések, ártámogatások | B70: K509 | C70: 0 | D70: 0 | E70: 0 | F70: =SUM(C70:E70) -> 0 | G70: 0 | H70: 0 | I70: 0 | J70: =SUM(G70:I70) -> 0 | K70: 0 | L70: 0 | M70: 0 | N70: =SUM(K70:M70) -> 0 | O70: 0 | P70: 0 | Q70: 0 | R70: =SUM(O70:Q70) -> 0 | S70: 0 | T70: 0 | U70: 0 | V70: =SUM(S70:U70) -> 0
A71: Kamattámogatások | B71: K510 | C71: 0 | D71: 0 | E71: 0 | F71: =SUM(C71:E71) -> 0 | G71: 0 | H71: 0 | I71: 0 | J71: =SUM(G71:I71) -> 0 | K71: 0 | L71: 0 | M71: 0 | N71: =SUM(K71:M71) -> 0 | O71: 0 | P71: 0 | Q71: 0 | R71: =SUM(O71:Q71) -> 0 | S71: 0 | T71: 0 | U71: 0 | V71: =SUM(S71:U71) -> 0
A72: Működési célú támogatások az Európai Uniónak | B72: K511 | C72: 0 | D72: 0 | E72: 0 | F72: =SUM(C72:E72) -> 0 | G72: 0 | H72: 0 | I72: 0 | J72: =SUM(G72:I72) -> 0 | K72: 0 | L72: 0 | M72: 0 | N72: =SUM(K72:M72) -> 0 | O72: 0 | P72: 0 | Q72: 0 | R72: =SUM(O72:Q72) -> 0 | S72: 0 | T72: 0 | U72: 0 | V72: =SUM(S72:U72) -> 0
A73: Egyéb működési célú támogatások államháztartáson kívülre | B73: K512 | C73: 0 | D73: 0 | E73: 0 | F73: =SUM(C73:E73) -> 0 | G73: 0 | H73: 0 | I73: 0 | J73: =SUM(G73:I73) -> 0 | K73: 0 | L73: 0 | M73: 0 | N73: =SUM(K73:M73) -> 0 | O73: 0 | P73: 0 | Q73: 0 | R73: =SUM(O73:Q73) -> 0 | S73: 0 | T73: 0 | U73: 0 | V73: =SUM(S73:U73) -> 0
A74: Tartalékok | B74: K513 | C74: 0 | D74: 0 | E74: 0 | F74: =SUM(C74:E74) -> 0 | G74: 0 | H74: 0 | I74: 0 | J74: =SUM(G74:I74) -> 0 | K74: 0 | L74: 0 | M74: 0 | N74: =SUM(K74:M74) -> 0 | O74: 0 | P74: 0 | Q74: 0 | R74: =SUM(O74:Q74) -> 0 | S74: 0 | T74: 0 | U74: 0 | V74: =SUM(S74:U74) -> 0
A75: Egyéb működési célú kiadások | B75: K5 | C75: =SUM(C62:C74) -> 0 | D75: =SUM(D62:D74) -> 0 | E75: =SUM(E62:E74) -> 0 | F75: =SUM(C75:E75) -> 0 | G75: =SUM(G62:G74) -> 0 | H75: =SUM(H62:H74) -> 0 | I75: =SUM(I62:I74) -> 0 | J75: =SUM(G75:I75) -> 0 | K75: =SUM(K62:K74) -> 0 | L75: =SUM(L62:L74) -> 0 | M75: =SUM(M62:M74) -> 0 | N75: =SUM(K75:M75) -> 0 | O75: =SUM(O62:O74) -> 0 | P75: =SUM(P62:P74) -> 0 | Q75: =SUM(Q62:Q74) -> 0 | R75: =SUM(O75:Q75) -> 0 | S75: =SUM(S62:S74) -> 0 | T75: =SUM(T62:T74) -> 0 | U75: =SUM(U62:U74) -> 0 | V75: =SUM(S75:U75) -> 0
A76: Működési kiadások összesen | C76: =SUM(C26+C27+C52+C61+C75) -> 17804227 | D76: =SUM(D26+D27+D52+D61+D75) -> 0 | E76: =SUM(E26+E27+E52+E61+E75) -> 0 | F76: =SUM(F26+F27+F52+F61+F75) -> 17804227 | G76: =SUM(G26+G27+G52+G61+G75) -> 17807227 | H76: =SUM(H26+H27+H52+H61+H75) -> 0 | I76: =SUM(I26+I27+I52+I61+I75) -> 0 | J76: =SUM(J26+J27+J52+J61+J75) -> 17807227 | ... V76: =SUM(V26+V27+V52+V61+V75) -> 15927641
A77: Immateriális javak beszerzése, létesítése | B77: K61 | C77: 0 | D77: 0 | E77: 0 | F77: =SUM(C77:E77) -> 0 | G77: 0 | H77: 0 | I77: 0 | J77: =SUM(G77:I77) -> 0 | K77: 0 | L77: 0 | M77: 0 | N77: =SUM(K77:M77) -> 0 | O77: 0 | P77: 0 | Q77: 0 | R77: =SUM(O77:Q77) -> 0 | S77: 0 | T77: 0 | U77: 0 | V77: =SUM(S77:U77) -> 0
A78: Ingatlanok beszerzése, létesítése | B78: K62 | C78: 0 | D78: 0 | E78: 0 | F78: =SUM(C78:E78) -> 0 | G78: 0 | H78: 0 | I78: 0 | J78: =SUM(G78:I78) -> 0 | K78: 0 | L78: 0 | M78: 0 | N78: =SUM(K78:M78) -> 0 | O78: 0 | P78: 0 | Q78: 0 | R78: =SUM(O78:Q78) -> 0 | S78: 0 | T78: 0 | U78: 0 | V78: =SUM(S78:U78) -> 0
A79: Informatikai eszközök beszerzése, létesítése | B79: K63 | C79: 0 | D79: 0 | E79: 0 | F79: =SUM(C79:E79) -> 0 | G79: 0 | H79: 0 | I79: 0 | J79: =SUM(G79:I79) -> 0 | K79: 0 | L79: 0 | M79: 0 | N79: =SUM(K79:M79) -> 0 | O79: 0 | P79: 0 | Q79: 0 | R79: =SUM(O79:Q79) -> 0 | S79: 0 | T79: 0 | U79: 0 | V79: =SUM(S79:U79) -> 0
A80: Egyéb tárgyi eszközök beszerzése, létesítése | B80: K64 | C80: 0 | D80: 0 | E80: 0 | F80: =SUM(C80:E80) -> 0 | G80: 0 | H80: 0 | I80: 0 | J80: =SUM(G80:I80) -> 0 | K80: 50000 | L80: 0 | M80: 0 | N80: =SUM(K80:M80) -> 50000 | O80: 50000 | P80: 0 | Q80: 0 | R80: =SUM(O80:Q80) -> 50000 | S80: 50000 | T80: 0 | U80: 0 | V80: =SUM(S80:U80) -> 50000
A81: Részesedések beszerzése | B81: K65 | C81: 0 | D81: 0 | E81: 0 | F81: =SUM(C81:E81) -> 0 | G81: 0 | H81: 0 | I81: 0 | J81: =SUM(G81:I81) -> 0 | K81: 0 | L81: 0 | M81: 0 | N81: =SUM(K81:M81) -> 0 | O81: 0 | P81: 0 | Q81: 0 | R81: =SUM(O81:Q81) -> 0 | S81: 0 | T81: 0 | U81: 0 | V81: =SUM(S81:U81) -> 0
A82: Meglévő részesedések növeléséhez kapcsolódó kiadások | B82: K66 | C82: 0 | D82: 0 | E82: 0 | F82: =SUM(C82:E82) -> 0 | G82: 0 | H82: 0 | I82: 0 | J82: =SUM(G82:I82) -> 0 | K82: 0 | L82: 0 | M82: 0 | N82: =SUM(K82:M82) -> 0 | O82: 0 | P82: 0 | Q82: 0 | R82: =SUM(O82:Q82) -> 0 | S82: 0 | T82: 0 | U82: 0 | V82: =SUM(S82:U82) -> 0
A83: Beruházási célú előzetesen felszámított általános forgalmi adó | B83: K67 | C83: 0 | D83: 0 | E83: 0 | F83: =SUM(C83:E83) -> 0 | G83: 0 | H83: 0 | I83: 0 | J83: =SUM(G83:I83) -> 0 | K83: 15000 | L83: 0 | M83: 0 | N83: =SUM(K83:M83) -> 15000 | O83: 15000 | P83: 0 | Q83: 0 | R83: =SUM(O83:Q83) -> 15000 | S83: 15000 | T83: 0 | U83: 0 | V83: =SUM(S83:U83) -> 15000
A84: Beruházások | B84: K6 | C84: =SUM(C77:C83) -> 0 | D84: =SUM(D77:D83) -> 0 | E84: =SUM(E77:E83) -> 0 | F84: =SUM(C84:E84) -> 0 | G84: =SUM(G77:G83) -> 0 | H84: =SUM(H77:H83) -> 0 | I84: =SUM(I77:I83) -> 0 | J84: =SUM(G84:I84) -> 0 | K84: =SUM(K77:K83) -> 65000 | L84: =SUM(L77:L83) -> 0 | M84: =SUM(M77:M83) -> 0 | N84: =SUM(K84:M84) -> 65000 | O84: =SUM(O77:O83) -> 65000 | P84: =SUM(P77:P83) -> 0 | Q84: =SUM(Q77:Q83) -> 0 | R84: =SUM(O84:Q84) -> 65000 | S84: =SUM(S77:S83) -> 65000 | T84: =SUM(T77:T83) -> 0 | U84: =SUM(U77:U83) -> 0 | V84: =SUM(S84:U84) -> 65000
A85: Ingatlanok felújítása | B85: K71 | C85: 0 | D85: 0 | E85: 0 | F85: =SUM(C85:E85) -> 0 | G85: 0 | H85: 0 | I85: 0 | J85: =SUM(G85:I85) -> 0 | K85: 0 | L85: 0 | M85: 0 | N85: =SUM(K85:M85) -> 0 | O85: 0 | P85: 0 | Q85: 0 | R85: =SUM(O85:Q85) -> 0 | S85: 0 | T85: 0 | U85: 0 | V85: =SUM(S85:U85) -> 0
A86: Informatikai eszközök felújítása | B86: K72 | C86: 0 | D86: 0 | E86: 0 | F86: =SUM(C86:E86) -> 0 | G86: 0 | H86: 0 | I86: 0 | J86: =SUM(G86:I86) -> 0 | K86: 0 | L86: 0 | M86: 0 | N86: =SUM(K86:M86) -> 0 | O86: 0 | P86: 0 | Q86: 0 | R86: =SUM(O86:Q86) -> 0 | S86: 0 | T86: 0 | U86: 0 | V86: =SUM(S86:U86) -> 0
A87: Egyéb tárgyi eszközök felújítása | B87: K73 | C87: 0 | D87: 0 | E87: 0 | F87: =SUM(C87:E87) -> 0 | G87: 0 | H87: 0 | I87: 0 | J87: =SUM(G87:I87) -> 0 | K87: 0 | L87: 0 | M87: 0 | N87: =SUM(K87:M87) -> 0 | O87: 0 | P87: 0 | Q87: 0 | R87: =SUM(O87:Q87) -> 0 | S87: 0 | T87: 0 | U87: 0 | V87: =SUM(S87:U87) -> 0
A88: Felújítási célú előzetesen felszámított általános forgalmi adó | B88: K74 | C88: 0 | D88: 0 | E88: 0 | F88: =SUM(C88:E88) -> 0 | G88: 0 | H88: 0 | I88: 0 | J88: =SUM(G88:I88) -> 0 | K88: 0 | L88: 0 | M88: 0 | N88: =SUM(K88:M88) -> 0 | O88: 0 | P88: 0 | Q88: 0 | R88: =SUM(O88:Q88) -> 0 | S88: 0 | T88: 0 | U88: 0 | V88: =SUM(S88:U88) -> 0
A89: Felújítások | B89: K7 | C89: =SUM(C85:C88) -> 0 | D89: =SUM(D85:D88) -> 0 | E89: =SUM(E85:E88) -> 0 | F89: =SUM(C89:E89) -> 0 | G89: =SUM(G85:G88) -> 0 | H89: =SUM(H85:H88) -> 0 | I89: =SUM(I85:I88) -> 0 | J89: =SUM(G89:I89) -> 0 | K89: =SUM(K85:K88) -> 0 | L89: =SUM(L85:L88) -> 0 | M89: =SUM(M85:M88) -> 0 | N89: =SUM(K89:M89) -> 0 | O89: =SUM(O85:O88) -> 0 | P89: =SUM(P85:P88) -> 0 | Q89: =SUM(Q85:Q88) -> 0 | R89: =SUM(O89:Q89) -> 0 | S89: =SUM(S85:S88) -> 0 | T89: =SUM(T85:T88) -> 0 | U89: =SUM(U85:U88) -> 0 | V89: =SUM(S89:U89) -> 0
A90: Felhalmozási célú garancia- és kezességvállalásból származó kifizetés államháztartáson belülre | B90: K81 | C90: 0 | D90: 0 | E90: 0 | F90: =SUM(C90:E90) -> 0 | G90: 0 | H90: 0 | I90: 0 | J90: =SUM(G90:I90) -> 0 | K90: 0 | L90: 0 | M90: 0 | N90: =SUM(K90:M90) -> 0 | O90: 0 | P90: 0 | Q90: 0 | R90: =SUM(O90:Q90) -> 0 | S90: 0 | T90: 0 | U90: 0 | V90: =SUM(S90:U90) -> 0
A91: Felhalmozási célú visszatérítendő támogatások, kölcsönök nyújtása államháztartáson belülre | B91: K82 | C91: 0 | D91: 0 | E91: 0 | F91: =SUM(C91:E91) -> 0 | G91: 0 | H91: 0 | I91: 0 | J91: =SUM(G91:I91) -> 0 | K91: 0 | L91: 0 | M91: 0 | N91: =SUM(K91:M91) -> 0 | O91: 0 | P91: 0 | Q91: 0 | R91: =SUM(O91:Q91) -> 0 | S91: 0 | T91: 0 | U91: 0 | V91: =SUM(S91:U91) -> 0
A92: Felhalmozási célú visszatérítendő támogatások, kölcsönök törlesztése államháztartáson belülre | B92: K83 | C92: 0 | D92: 0 | E92: 0 | F92: =SUM(C92:E92) -> 0 | G92: 0 | H92: 0 | I92: 0 | J92: =SUM(G92:I92) -> 0 | K92: 0 | L92: 0 | M92: 0 | N92: =SUM(K92:M92) -> 0 | O92: 0 | P92: 0 | Q92: 0 | R92: =SUM(O92:Q92) -> 0 | S92: 0 | T92: 0 | U92: 0 | V92: =SUM(S92:U92) -> 0
A93: Egyéb felhalmozási célú támogatások államháztartáson belülre | B93: K84 | C93: 0 | D93: 0 | E93: 0 | F93: =SUM(C93:E93) -> 0 | G93: 0 | H93: 0 | I93: 0 | J93: =SUM(G93:I93) -> 0 | K93: 0 | L93: 0 | M93: 0 | N93: =SUM(K93:M93) -> 0 | O93: 0 | P93: 0 | Q93: 0 | R93: =SUM(O93:Q93) -> 0 | S93: 0 | T93: 0 | U93: 0 | V93: =SUM(S93:U93) -> 0
A94: Felhalmozási célú garancia- és kezességvállalásból származó kifizetés államháztartáson kívülre | B94: K85 | C94: 0 | D94: 0 | E94: 0 | F94: =SUM(C94:E94) -> 0 | G94: 0 | H94: 0 | I94: 0 | J94: =SUM(G94:I94) -> 0 | K94: 0 | L94: 0 | M94: 0 | N94: =SUM(K94:M94) -> 0 | O94: 0 | P94: 0 | Q94: 0 | R94: =SUM(O94:Q94) -> 0 | S94: 0 | T94: 0 | U94: 0 | V94: =SUM(S94:U94) -> 0
A95: Felhalmozási célú visszatérítendő támogatások, kölcsönök nyújtása államháztartáson kívülre | B95: K86 | C95: 0 | D95: 0 | E95: 0 | F95: =SUM(C95:E95) -> 0 | G95: 0 | H95: 0 | I95: 0 | J95: =SUM(G95:I95) -> 0 | K95: 0 | L95: 0 | M95: 0 | N95: =SUM(K95:M95) -> 0 | O95: 0 | P95: 0 | Q95: 0 | R95: =SUM(O95:Q95) -> 0 | S95: 0 | T95: 0 | U95: 0 | V95: =SUM(S95:U95) -> 0
A96: Lakástámogatás | B96: K87 | C96: 0 | D96: 0 | E96: 0 | F96: =SUM(C96:E96) -> 0 | G96: 0 | H96: 0 | I96: 0 | J96: =SUM(G96:I96) -> 0 | K96: 0 | L96: 0 | M96: 0 | N96: =SUM(K96:M96) -> 0 | O96: 0 | P96: 0 | Q96: 0 | R96: =SUM(O96:Q96) -> 0 | S96: 0 | T96: 0 | U96: 0 | V96: =SUM(S96:U96) -> 0
A97: Felhalmozási célú támogatások az Európai Uniónak | B97: K88 | C97: 0 | D97: 0 | E97: 0 | F97: =SUM(C97:E97) -> 0 | G97: 0 | H97: 0 | I97: 0 | J97: =SUM(G97:I97) -> 0 | K97: 0 | L97: 0 | M97: 0 | N97: =SUM(K97:M97) -> 0 | O97: 0 | P97: 0 | Q97: 0 | R97: =SUM(O97:Q97) -> 0 | S97: 0 | T97: 0 | U97: 0 | V97: =SUM(S97:U97) -> 0
A98: Egyéb felhalmozási célú támogatások államháztartáson kívülre | B98: K89 | C98: 0 | D98: 0 | E98: 0 | F98: =SUM(C98:E98) -> 0 | G98: 0 | H98: 0 | I98: 0 | J98: =SUM(G98:I98) -> 0 | K98: 0 | L98: 0 | M98: 0 | N98: =SUM(K98:M98) -> 0 | O98: 0 | P98: 0 | Q98: 0 | R98: =SUM(O98:Q98) -> 0 | S98: 0 | T98: 0 | U98: 0 | V98: =SUM(S98:U98) -> 0
A99: Egyéb felhalmozási célú kiadások | B99: K8 | C99: =SUM(C90:C98) -> 0 | D99: =SUM(D90:D98) -> 0 | E99: =SUM(E90:E98) -> 0 | F99: =SUM(C99:E99) -> 0 | G99: =SUM(G90:G98) -> 0 | H99: =SUM(H90:H98) -> 0 | I99: =SUM(I90:I98) -> 0 | J99: =SUM(G99:I99) -> 0 | K99: =SUM(K90:K98) -> 0 | L99: =SUM(L90:L98) -> 0 | M99: =SUM(M90:M98) -> 0 | N99: =SUM(K99:M99) -> 0 | O99: =SUM(O90:O98) -> 0 | P99: =SUM(P90:P98) -> 0 | Q99: =SUM(Q90:Q98) -> 0 | R99: =SUM(O99:Q99) -> 0 | S99: =SUM(S90:S98) -> 0 | T99: =SUM(T90:T98) -> 0 | U99: =SUM(U90:U98) -> 0 | V99: =SUM(S99:U99) -> 0
A100: Felhalmozási kiadások összesen | C100: =SUM(C84+C89+C99) -> 0 | D100: =SUM(D84+D89+D99) -> 0 | E100: =SUM(E84+E89+E99) -> 0 | F100: =SUM(F84+F89+F99) -> 0 | G100: =SUM(G84+G89+G99) -> 0 | H100: =SUM(H84+H89+H99) -> 0 | I100: =SUM(I84+I89+I99) -> 0 | J100: =SUM(J84+J89+J99) -> 0 | ... V100: =SUM(V84+V89+V99) -> 65000
A101: Költségvetési kiadások | B101: K1-K8 | C101: =C26+C27+C52+C61+C75+C84+C89+C99 -> 17804227 | D101: =D26+D27+D52+D61+D75+D84+D89+D99 -> 0 | E101: =E26+E27+E52+E61+E75+E84+E89+E99 -> 0 | F101: =SUM(C101:E101) -> 17804227 | G101: =G26+G27+G52+G61+G75+G84+G89+G99 -> 17807227 | H101: =H26+H27+H52+H61+H75+H84+H89+H99 -> 0 | I101: =I26+I27+I52+I61+I75+I84+I89+I99 -> 0 | J101: =SUM(G101:I101) -> 17807227 | K101: =K26+K27+K52+K61+K75+K84+K89+K99 -> 15992641 | L101: =L26+L27+L52+L61+L75+L84+L89+L99 -> 0 | M101: =M26+M27+M52+M61+M75+M84+M89+M99 -> 0 | N101: =SUM(K101:M101) -> 15992641 | O101: =O26+O27+O52+O61+O75+O84+O89+O99 -> 15992641 | P101: =P26+P27+P52+P61+P75+P84+P89+P99 -> 0 | Q101: =Q26+Q27+Q52+Q61+Q75+Q84+Q89+Q99 -> 0 | R101: =SUM(O101:Q101) -> 15992641 | S101: =S26+S27+S52+S61+S75+S84+S89+S99 -> 15992641 | T101: =T26+T27+T52+T61+T75+T84+T89+T99 -> 0 | U101: =U26+U27+U52+U61+U75+U84+U89+U99 -> 0 | V101: =SUM(S101:U101) -> 15992641
A102: Hosszú lejáratú hitelek, kölcsönök törlesztése pénzügyi vállalkozásnak | B102: K9111 | C102: 0 | D102: 0 | E102: 0 | F102: =SUM(C102:E102) -> 0 | G102: 0 | H102: 0 | I102: 0 | J102: =SUM(G102:I102) -> 0 | K102: 0 | L102: 0 | M102: 0 | N102: =SUM(K102:M102) -> 0 | O102: 0 | P102: 0 | Q102: 0 | R102: =SUM(O102:Q102) -> 0 | S102: 0 | T102: 0 | U102: 0 | V102: =SUM(S102:U102) -> 0
...

Sheet 4. melléklet
C1: 4. melléklet 1/2018. (I.23.) önkormányzati rendelethez
A3: SOROKPOLÁNY Önkormányzat 2018. évi költségvetése
A4: Kiadások (Ft)
A6: Sorokpolány Önkormányzat és költségvetési szervei előirányzat | C6: EREDETI ELŐIRÁNYZAT | G6: I n.év módossított ELŐIRÁNYZAT | K6: II n.év módossított ELŐIRÁNYZAT | O6: III n.év módossított ELŐIRÁNYZAT | S6: IV n.év módossított ELŐIRÁNYZAT
A7: Rovat megnevezése | B7: Rovat-szám | C7: kötelező feladatok | D7: önként vállalt feladatok | E7: államigazgatási feladatok | F7: ÖSSZESEN | G7: kötelező feladatok | H7: önként vállalt feladatok | I7: államigazgatási feladatok | J7: ÖSSZESEN | K7: kötelező feladatok | L7: önként vállalt feladatok | M7: államigazgatási feladatok | N7: ÖSSZESEN | O7: kötelező feladatok | P7: önként vállalt feladatok | Q7: államigazgatási feladatok | R7: ÖSSZESEN | S7: kötelező feladatok | T7: önként vállalt feladatok | U7: államigazgatási feladatok | V7: ÖSSZESEN
A8: Törvény szerinti illetmények, munkabérek | B8: K1101 | C8: ='[1]1. melléklet'!C8+'[1]2. melléklet'!C8 -> 15844461 | D8: ='[1]1. melléklet'!D8+'[1]2. melléklet'!D8 -> 0 | E8: ='[1]1. melléklet'!E8+'[1]2. melléklet'!E8 -> 0 | F8: =SUM(C8:E8) -> 15844461 | G8: =SUM('2. melléklet'!G8+'3. melléklet'!G8) -> 15844727 | H8: =SUM('2. melléklet'!H8+'3. melléklet'!H8) -> 0 | I8: =SUM('2. melléklet'!I8+'3. melléklet'!I8) -> 0 | J8: =SUM('2. melléklet'!J8+'3. melléklet'!J8) -> 15844727 | K8: =SUM('2. melléklet'!K8+'3. melléklet'!K8) -> 15819191 | L8: =SUM('2. melléklet'!L8+'3. melléklet'!L8) -> 0 | M8: =SUM('2. melléklet'!M8+'3. melléklet'!M8) -> 0 | N8: =SUM('2. melléklet'!N8+'3. melléklet'!N8) -> 15819191 | ... V8: =SUM('2. melléklet'!V8+'3. melléklet'!V8) -> 15628170
A9: Normatív jutalmak | B9: K1102 | C9: ='[1]1. melléklet'!C9+'[1]2. melléklet'!C9 -> 0 | D9: ='[1]1. melléklet'!D9+'[1]2. melléklet'!D9 -> 0 | E9: ='[1]1. melléklet'!E9+'[1]2. melléklet'!E9 -> 0 | F9: =SUM(C9:E9) -> 0 | G9: =SUM('2. melléklet'!G9+'3. melléklet'!G9) -> 0 | H9: =SUM('2. melléklet'!H9+'3. melléklet'!H9) -> 0 | I9: =SUM('2. melléklet'!I9+'3. melléklet'!I9) -> 0 | J9: =SUM('2. melléklet'!J9+'3. melléklet'!J9) -> 0 | K9: =SUM('2. melléklet'!K9+'3. melléklet'!K9) -> 0 | L9: =SUM('2. melléklet'!L9+'3. melléklet'!L9) -> 0 | M9: =SUM('2. melléklet'!M9+'3. melléklet'!M9) -> 0 | N9: =SUM('2. melléklet'!N9+'3. melléklet'!N9) -> 0 | ... V9: =SUM('2. melléklet'!V9+'3. melléklet'!V9) -> 0
A10: Céljuttatás, projektprémium | B10: K1103 | C10: ='[1]1. melléklet'!C10+'[1]2. melléklet'!C10 -> 0 | D10: ='[1]1. melléklet'!D10+'[1]2. melléklet'!D10 -> 0 | E10: ='[1]1. melléklet'!E10+'[1]2. melléklet'!E10 -> 0 | F10: =SUM(C10:E10) -> 0 | G10: =SUM('2. melléklet'!G10+'3. melléklet'!G10) -> 0 | H10: =SUM('2. melléklet'!H10+'3. melléklet'!H10) -> 0 | I10: =SUM('2. melléklet'!I10+'3. melléklet'!I10) -> 0 | J10: =SUM('2. melléklet'!J10+'3. melléklet'!J10) -> 0 | K10: =SUM('2. melléklet'!K10+'3. melléklet'!K10) -> 300000 | L10: =SUM('2. melléklet'!L10+'3. melléklet'!L10) -> 0 | M10: =SUM('2. melléklet'!M10+'3. melléklet'!M10) -> 0 | N10: =SUM('2. melléklet'!N10+'3. melléklet'!N10) -> 300000 | ... V10: =SUM('2. melléklet'!V10+'3. melléklet'!V10) -> 479472
A11: Készenléti, ügyeleti, helyettesítési díj, túlóra, túlszolgálat | B11: K1104 | C11: ='[1]1. melléklet'!C11+'[1]2. melléklet'!C11 -> 0 | D11: ='[1]1. melléklet'!D11+'[1]2. melléklet'!D11 -> 0 | E11: ='[1]1. melléklet'!E11+'[1]2. melléklet'!E11 -> 0 | F11: =SUM(C11:E11) -> 0 | G11: =SUM('2. melléklet'!G11+'3. melléklet'!G11) -> 0 | H11: =SUM('2. melléklet'!H11+'3. melléklet'!H11) -> 0 | I11: =SUM('2. melléklet'!I11+'3. melléklet'!I11) -> 0 | J11: =SUM('2. melléklet'!J11+'3. melléklet'!J11) -> 0 | K11: =SUM('2. melléklet'!K11+'3. melléklet'!K11) -> 0 | L11: =SUM('2. melléklet'!L11+'3. melléklet'!L11) -> 0 | M11: =SUM('2. melléklet'!M11+'3. melléklet'!M11) -> 0 | N11: =SUM('2. melléklet'!N11+'3. melléklet'!N11) -> 0 | ... V11: =SUM('2. melléklet'!V11+'3. melléklet'!V11) -> 0
A12: Végkielégítés | B12: K1105 | C12: ='[1]1. melléklet'!C12+'[1]2. melléklet'!C12 -> 0 | D12: ='[1]1. melléklet'!D12+'[1]2. melléklet'!D12 -> 0 | E12: ='[1]1. melléklet'!E12+'[1]2. melléklet'!E12 -> 0 | F12: =SUM(C12:E12) -> 0 | G12: =SUM('2. melléklet'!G12+'3. melléklet'!G12) -> 0 | H12: =SUM('2. melléklet'!H12+'3. melléklet'!H12) -> 0 | I12: =SUM('2. melléklet'!I12+'3. melléklet'!I12) -> 0 | J12: =SUM('2. melléklet'!J12+'3. melléklet'!J12) -> 0 | K12: =SUM('2. melléklet'!K12+'3. melléklet'!K12) -> 0 | L12: =SUM('2. melléklet'!L12+'3. melléklet'!L12) -> 0 | M12: =SUM('2. melléklet'!M12+'3. melléklet'!M12) -> 0 | N12: =SUM('2. melléklet'!N12+'3. melléklet'!N12) -> 0 | ... V12: =SUM('2. melléklet'!V12+'3. melléklet'!V12) -> 0
A13: Jubileumi jutalom | B13: K1106 | C13: ='[1]1. melléklet'!C13+'[1]2. melléklet'!C13 -> 361000 | D13: ='[1]1. melléklet'!D13+'[1]2. melléklet'!D13 -> 0 | E13: ='[1]1. melléklet'!E13+'[1]2. melléklet'!E13 -> 0 | F13: =SUM(C13:E13) -> 361000 | G13: =SUM('2. melléklet'!G13+'3. melléklet'!G13) -> 361000 | H13: =SUM('2. melléklet'!H13+'3. melléklet'!H13) -> 0 | I13: =SUM('2. melléklet'!I13+'3. melléklet'!I13) -> 0 | J13: =SUM('2. melléklet'!J13+'3. melléklet'!J13) -> 361000 | K13: =SUM('2. melléklet'!K13+'3. melléklet'!K13) -> 361000 | L13: =SUM('2. melléklet'!L13+'3. melléklet'!L13) -> 0 | M13: =SUM('2. melléklet'!M13+'3. melléklet'!M13) -> 0 | N13: =SUM('2. melléklet'!N13+'3. melléklet'!N13) -> 361000 | ... V13: =SUM('2. melléklet'!V13+'3. melléklet'!V13) -> 361000
A14: Béren kívüli juttatások | B14: K1107 | C14: ='[1]1. melléklet'!C14+'[1]2. melléklet'!C14 -> 483000 | D14: ='[1]1. melléklet'!D14+'[1]2. melléklet'!D14 -> 0 | E14: ='[1]1. melléklet'!E14+'[1]2. melléklet'!E14 -> 0 | F14: =SUM(C14:E14) -> 483000 | G14: =SUM('2. melléklet'!G14+'3. melléklet'!G14) -> 483000 | H14: =SUM('2. melléklet'!H14+'3. melléklet'!H14) -> 0 | I14: =SUM('2. melléklet'!I14+'3. melléklet'!I14) -> 0 | J14: =SUM('2. melléklet'!J14+'3. melléklet'!J14) -> 483000 | K14: =SUM('2. melléklet'!K14+'3. melléklet'!K14) -> 483000 | L14: =SUM('2. melléklet'!L14+'3. melléklet'!L14) -> 0 | M14: =SUM('2. melléklet'!M14+'3. melléklet'!M14) -> 0 | N14: =SUM('2. melléklet'!N14+'3. melléklet'!N14) -> 483000 | ... V14: =SUM('2. melléklet'!V14+'3. melléklet'!V14) -> 483000
A15: Ruházati költségtérítés | B15: K1108 | C15: ='[1]1. melléklet'!C15+'[1]2. melléklet'!C15 -> 0 | D15: ='[1]1. melléklet'!D15+'[1]2. melléklet'!D15 -> 0 | E15: ='[1]1. melléklet'!E15+'[1]2. melléklet'!E15 -> 0 | F15: =SUM(C15:E15) -> 0 | G15: =SUM('2. melléklet'!G15+'3. melléklet'!G15) -> 0 | H15: =SUM('2. melléklet'!H15+'3. melléklet'!H15) -> 0 | I15: =SUM('2. melléklet'!I15+'3. melléklet'!I15) -> 0 | J15: =SUM('2. melléklet'!J15+'3. melléklet'!J15) -> 0 | K15: =SUM('2. melléklet'!K15+'3. melléklet'!K15) -> 0 | L15: =SUM('2. melléklet'!L15+'3. melléklet'!L15) -> 0 | M15: =SUM('2. melléklet'!M15+'3. melléklet'!M15) -> 0 | N15: =SUM('2. melléklet'!N15+'3. melléklet'!N15) -> 0 | ... V15: =SUM('2. melléklet'!V15+'3. melléklet'!V15) -> 0
A16: Közlekedési költségtérítés | B16: K1109 | C16: ='[1]1. melléklet'!C16+'[1]2. melléklet'!C16 -> 87300 | D16: ='[1]1. melléklet'!D16+'[1]2. melléklet'!D16 -> 0 | E16: ='[1]1. melléklet'!E16+'[1]2. melléklet'!E16 -> 0 | F16: =SUM(C16:E16) -> 87300 | G16: =SUM('2. melléklet'!G16+'3. melléklet'!G16) -> 87300 | H16: =SUM('2. melléklet'!H16+'3. melléklet'!H16) -> 0 | I16: =SUM('2. melléklet'!I16+'3. melléklet'!I16) -> 0 | J16: =SUM('2. melléklet'!J16+'3. melléklet'!J16) -> 87300 | K16: =SUM('2. melléklet'!K16+'3. melléklet'!K16) -> 127300 | L16: =SUM('2. melléklet'!L16+'3. melléklet'!L16) -> 0 | M16: =SUM('2. melléklet'!M16+'3. melléklet'!M16) -> 0 | N16: =SUM('2. melléklet'!N16+'3. melléklet'!N16) -> 127300 | ... V16: =SUM('2. melléklet'!V16+'3. melléklet'!V16) -> 127300
A17: Egyéb költségtérítések | B17: K1110 | C17: ='[1]1. melléklet'!C17+'[1]2. melléklet'!C17 -> 0 | D17: ='[1]1. melléklet'!D17+'[1]2. melléklet'!D17 -> 0 | E17: ='[1]1. melléklet'!E17+'[1]2. melléklet'!E17 -> 0 | F17: =SUM(C17:E17) -> 0 | G17: =SUM('2. melléklet'!G17+'3. melléklet'!G17) -> 0 | H17: =SUM('2. melléklet'!H17+'3. melléklet'!H17) -> 0 | I17: =SUM('2. melléklet'!I17+'3. melléklet'!I17) -> 0 | J17: =SUM('2. melléklet'!J17+'3. melléklet'!J17) -> 0 | K17: =SUM('2. melléklet'!K17+'3. melléklet'!K17) -> 0 | L17: =SUM('2. melléklet'!L17+'3. melléklet'!L17) -> 0 | M17: =SUM('2. melléklet'!M17+'3. melléklet'!M17) -> 0 | N17: =SUM('2. melléklet'!N17+'3. melléklet'!N17) -> 0 | ... V17: =SUM('2. melléklet'!V17+'3. melléklet'!V17) -> 0
A18: Lakhatási támogatások | B18: K1111 | C18: ='[1]1. melléklet'!C18+'[1]2. melléklet'!C18 -> 0 | D18: ='[1]1. melléklet'!D18+'[1]2. melléklet'!D18 -> 0 | E18: ='[1]1. melléklet'!E18+'[1]2. melléklet'!E18 -> 0 | F18: =SUM(C18:E18) -> 0 | G18: =SUM('2. melléklet'!G18+'3. melléklet'!G18) -> 0 | H18: =SUM('2. melléklet'!H18+'3. melléklet'!H18) -> 0 | I18: =SUM('2. melléklet'!I18+'3. melléklet'!I18) -> 0 | J18: =SUM('2. melléklet'!J18+'3. melléklet'!J18) -> 0 | K18: =SUM('2. melléklet'!K18+'3. melléklet'!K18) -> 0 | L18: =SUM('2. melléklet'!L18+'3. melléklet'!L18) -> 0 | M18: =SUM('2. melléklet'!M18+'3. melléklet'!M18) -> 0 | N18: =SUM('2. melléklet'!N18+'3. melléklet'!N18) -> 0 | ... V18: =SUM('2. melléklet'!V18+'3. melléklet'!V18) -> 0
A19: Szociális támogatások | B19: K1112 | C19: ='[1]1. melléklet'!C19+'[1]2. melléklet'!C19 -> 0 | D19: ='[1]1. melléklet'!D19+'[1]2. melléklet'!D19 -> 0 | E19: ='[1]1. melléklet'!E19+'[1]2. melléklet'!E19 -> 0 | F19: =SUM(C19:E19) -> 0 | G19: =SUM('2. melléklet'!G19+'3. melléklet'!G19) -> 0 | H19: =SUM('2. melléklet'!H19+'3. melléklet'!H19) -> 0 | I19: =SUM('2. melléklet'!I19+'3. melléklet'!I19) -> 0 | J19: =SUM('2. melléklet'!J19+'3. melléklet'!J19) -> 0 | K19: =SUM('2. melléklet'!K19+'3. melléklet'!K19) -> 0 | L19: =SUM('2. melléklet'!L19+'3. melléklet'!L19) -> 0 | M19: =SUM('2. melléklet'!M19+'3. melléklet'!M19) -> 0 | N19: =SUM('2. melléklet'!N19+'3. melléklet'!N19) -> 0 | ... V19: =SUM('2. melléklet'!V19+'3. melléklet'!V19) -> 0
... A75: Egyéb működési célú kiadások | B75: K5 | C75: ='[1]1. melléklet'!C75+'[1]2. melléklet'!C75 -> 7440877 | D75: ='[1]1. melléklet'!D75+'[1]2. melléklet'!D75 -> 0 | E75: ='[1]1. melléklet'!E75+'[1]2. melléklet'!E75 -> 0 | F75: =SUM(C75:E75) -> 7440877 | G75: =SUM('2. melléklet'!G75+'3. melléklet'!G75) -> 7437877 | H75: =SUM('2. melléklet'!H75+'3. melléklet'!H75) -> 0 | I75: =SUM('2. melléklet'!I75+'3. melléklet'!I75) -> 0 | J75: =SUM('2. melléklet'!J75+'3. melléklet'!J75) -> 7437877 | K75: =SUM('2. melléklet'!K75+'3. melléklet'!K75) -> 8965818 | L75: =SUM('2. melléklet'!L75+'3. melléklet'!L75) -> 0 | M75: =SUM('2. melléklet'!M75+'3. melléklet'!M75) -> 0 | N75: =SUM('2. melléklet'!N75+'3. melléklet'!N75) -> 8965818 | ... V75: =SUM('2. melléklet'!V75+'3. melléklet'!V75) -> 11440631
A76: Működési kiadások összesen | C76: ='[1]1. melléklet'!C76+'[1]2. melléklet'!C76 -> 0 | D76: ='[1]1. melléklet'!D76+'[1]2. melléklet'!D76 -> 0 | E76: ='[1]1. melléklet'!E76+'[1]2. melléklet'!E76 -> 0 | F76: =SUM(C76:E76) -> 0 | G76: =SUM('2. melléklet'!G76+'3. melléklet'!G76) -> 64167522 | H76: =SUM('2. melléklet'!H76+'3. melléklet'!H76) -> 0 | I76: =SUM('2. melléklet'!I76+'3. melléklet'!I76) -> 13000 | J76: =SUM('2. melléklet'!J76+'3. melléklet'!J76) -> 64180522 | K76: =SUM('2. melléklet'!K76+'3. melléklet'!K76) -> 67773899 | L76: =SUM('2. melléklet'!L76+'3. melléklet'!L76) -> 0 | M76: =SUM('2. melléklet'!M76+'3. melléklet'!M76) -> 13000 | N76: =SUM('2. melléklet'!N76+'3. melléklet'!N76) -> 67786899 | ... V76: =SUM('2. melléklet'!V76+'3. melléklet'!V76) -> 72007823
A77: Immateriális javak beszerzése, létesítése | B77: K61 | C77: ='[1]1. melléklet'!C77+'[1]2. melléklet'!C77 -> 0 | D77: ='[1]1. melléklet'!D77+'[1]2. melléklet'!D77 -> 0 | E77: ='[1]1. melléklet'!E77+'[1]2. melléklet'!E77 -> 0 | F77: =SUM(C77:E77) -> 0 | G77: =SUM('2. melléklet'!G77+'3. melléklet'!G77) -> 0 | H77: =SUM('2. melléklet'!H77+'3. melléklet'!H77) -> 0 | I77: =SUM('2. melléklet'!I77+'3. melléklet'!I77) -> 0 | J77: =SUM('2. melléklet'!J77+'3. melléklet'!J77) -> 0 | K77: =SUM('2. melléklet'!K77+'3. melléklet'!K77) -> 0 | L77: =SUM('2. melléklet'!L77+'3. melléklet'!L77) -> 0 | M77: =SUM('2. melléklet'!M77+'3. melléklet'!M77) -> 0 | N77: =SUM('2. melléklet'!N77+'3. melléklet'!N77) -> 0 | ... V77: =SUM('2. melléklet'!V77+'3. melléklet'!V77) -> 0
A78: Ingatlanok beszerzése, létesítése | B78: K62 | C78: ='[1]1. melléklet'!C78+'[1]2. melléklet'!C78 -> 3335000 | D78: ='[1]1. melléklet'!D78+'[1]2. melléklet'!D78 -> 0 | E78: ='[1]1. melléklet'!E78+'[1]2. melléklet'!E78 -> 0 | F78: =SUM(C78:E78) -> 3335000 | G78: =SUM('2. melléklet'!G78+'3. melléklet'!G78) -> 3335000 | H78: =SUM('2. melléklet'!H78+'3. melléklet'!H78) -> 0 | I78: =SUM('2. melléklet'!I78+'3. melléklet'!I78) -> 0 | J78: =SUM('2. melléklet'!J78+'3. melléklet'!J78) -> 3335000 | K78: =SUM('2. melléklet'!K78+'3. melléklet'!K78) -> 3335000 | L78: =SUM('2. melléklet'!L78+'3. melléklet'!L78) -> 0 | M78: =SUM('2. melléklet'!M78+'3. melléklet'!M78) -> 0 | N78: =SUM('2. melléklet'!N78+'3. melléklet'!N78) -> 3335000 | ... V78: =SUM('2. melléklet'!V78+'3. melléklet'!V78) -> 3335000
A79: Informatikai eszközök beszerzése, létesítése | B79: K63 | C79: ='[1]1. melléklet'!C79+'[1]2. melléklet'!C79 -> 0 | D79: ='[1]1. melléklet'!D79+'[1]2. melléklet'!D79 -> 0 | E79: ='[1]1. melléklet'!E79+'[1]2. melléklet'!E79 -> 0 | F79: =SUM(C79:E79) -> 0 | G79: =SUM('2. melléklet'!G79+'3. melléklet'!G79) -> 0 | H79: =SUM('2. melléklet'!H79+'3. melléklet'!H79) -> 0 | I79: =SUM('2. melléklet'!I79+'3. melléklet'!I79) -> 0 | J79: =SUM('2. melléklet'!J79+'3. melléklet'!J79) -> 0 | K79: =SUM('2. melléklet'!K79+'3. melléklet'!K79) -> 0 | L79: =SUM('2. melléklet'!L79+'3. melléklet'!L79) -> 0 | M79: =SUM('2. melléklet'!M79+'3. melléklet'!M79) -> 0 | N79: =SUM('2. melléklet'!N79+'3. melléklet'!N79) -> 0 | ... V79: =SUM('2. melléklet'!V79+'3. melléklet'!V79) -> 0
A80: Egyéb tárgyi eszközök beszerzése, létesítése | B80: K64 | C80: ='[1]1. melléklet'!C80+'[1]2. melléklet'!C80 -> 1669000 | D80: ='[1]1. melléklet'!D80+'[1]2. melléklet'!D80 -> 0 | E80: ='[1]1. melléklet'!E80+'[1]2. melléklet'!E80 -> 0 | F80: =SUM(C80:E80) -> 1669000 | G80: =SUM('2. melléklet'!G80+'3. melléklet'!G80) -> 1669000 | H80: =SUM('2. melléklet'!H80+'3. melléklet'!H80) -> 0 | I80: =SUM('2. melléklet'!I80+'3. melléklet'!I80) -> 0 | J80: =SUM('2. melléklet'!J80+'3. melléklet'!J80) -> 1669000 | K80: =SUM('2. melléklet'!K80+'3. melléklet'!K80) -> 1719000 | L80: =SUM('2. melléklet'!L80+'3. melléklet'!L80) -> 0 | M80: =SUM('2. melléklet'!M80+'3. melléklet'!M80) -> 0 | N80: =SUM('2. melléklet'!N80+'3. melléklet'!N80) -> 1719000 | ... V80: =SUM('2. melléklet'!V80+'3. melléklet'!V80) -> 1719000
A81: Részesedések beszerzése | B81: K65 | C81: ='[1]1. melléklet'!C81+'[1]2. melléklet'!C81 -> 0 | D81: ='[1]1. melléklet'!D81+'[1]2. melléklet'!D81 -> 0 | E81: ='[1]1. melléklet'!E81+'[1]2. melléklet'!E81 -> 0 | F81: =SUM(C81:E81) -> 0 | G81: =SUM('2. melléklet'!G81+'3. melléklet'!G81) -> 0 | H81: =SUM('2. melléklet'!H81+'3. melléklet'!H81) -> 0 | I81: =SUM('2. melléklet'!I81+'3. melléklet'!I81) -> 0 | J81: =SUM('2. melléklet'!J81+'3. melléklet'!J81) -> 0 | K81: =SUM('2. melléklet'!K81+'3. melléklet'!K81) -> 0 | L81: =SUM('2. melléklet'!L81+'3. melléklet'!L81) -> 0 | M81: =SUM('2. melléklet'!M81+'3. melléklet'!M81) -> 0 | N81: =SUM('2. melléklet'!N81+'3. melléklet'!N81) -> 0 | ... V81: =SUM('2. melléklet'!V81+'3. melléklet'!V81) -> 0
A82: Meglévő részesedések növeléséhez kapcsolódó kiadások | B82: K66 | C82: ='[1]1. melléklet'!C82+'[1]2. melléklet'!C82 -> 0 | D82: ='[1]1. melléklet'!D82+'[1]2. melléklet'!D82 -> 0 | E82: ='[1]1. melléklet'!E82+'[1]2. melléklet'!E82 -> 0 | F82: =SUM(C82:E82) -> 0 | G82: =SUM('2. melléklet'!G82+'3. melléklet'!G82) -> 0 | H82: =SUM('2. melléklet'!H82+'3. melléklet'!H82) -> 0 | I82: =SUM('2. melléklet'!I82+'3. melléklet'!I82) -> 0 | J82: =SUM('2. melléklet'!J82+'3. melléklet'!J82) -> 0 | K82: =SUM('2. melléklet'!K82+'3. melléklet'!K82) -> 0 | L82: =SUM('2. melléklet'!L82+'3. melléklet'!L82) -> 0 | M82: =SUM('2. melléklet'!M82+'3. melléklet'!M82) -> 0 | N82: =SUM('2. melléklet'!N82+'3. melléklet'!N82) -> 0 | ... V82: =SUM('2. melléklet'!V82+'3. melléklet'!V82) -> 0
A83: Beruházási célú előzetesen felszámított általános forgalmi adó | B83: K67 | C83: ='[1]1. melléklet'!C83+'[1]2. melléklet'!C83 -> 1349800 | D83: ='[1]1. melléklet'!D83+'[1]2. melléklet'!D83 -> 0 | E83: ='[1]1. melléklet'!E83+'[1]2. melléklet'!E83 -> 0 | F83: =SUM(C83:E83) -> 1349800 | G83: =SUM('2. melléklet'!G83+'3. melléklet'!G83) -> 1349800 | H83: =SUM('2. melléklet'!H83+'3. melléklet'!H83) -> 0 | I83: =SUM('2. melléklet'!I83+'3. melléklet'!I83) -> 0 | J83: =SUM('2. melléklet'!J83+'3. melléklet'!J83) -> 1349800 | K83: =SUM('2. melléklet'!K83+'3. melléklet'!K83) -> 1364800 | L83: =SUM('2. melléklet'!L83+'3. melléklet'!L83) -> 0 | M83: =SUM('2. melléklet'!M83+'3. melléklet'!M83) -> 0 | N83: =SUM('2. melléklet'!N83+'3. melléklet'!N83) -> 1364800 | ... V83: =SUM('2. melléklet'!V83+'3. melléklet'!V83) -> 1364800
A84: Beruházások | B84: K6 | C84: ='[1]1. melléklet'!C84+'[1]2. melléklet'!C84 -> 6353800 | D84: ='[1]1. melléklet'!D84+'[1]2. melléklet'!D84 -> 0 | E84: ='[1]1. melléklet'!E84+'[1]2. melléklet'!E84 -> 0 | F84: =SUM(C84:E84) -> 6353800 | G84: =SUM('2. melléklet'!G84+'3. melléklet'!G84) -> 6353800 | H84: =SUM('2. melléklet'!H84+'3. melléklet'!H84) -> 0 | I84: =SUM('2. melléklet'!I84+'3. melléklet'!I84) -> 0 | J84: =SUM('2. melléklet'!J84+'3. melléklet'!J84) -> 6353800 | K84: =SUM('2. melléklet'!K84+'3. melléklet'!K84) -> 6418800 | L84: =SUM('2. melléklet'!L84+'3. melléklet'!L84) -> 0 | M84: =SUM('2. melléklet'!M84+'3. melléklet'!M84) -> 0 | N84: =SUM('2. melléklet'!N84+'3. melléklet'!N84) -> 6418800 | ... V84: =SUM('2. melléklet'!V84+'3. melléklet'!V84) -> 6418800
A85: Ingatlanok felújítása | B85: K71 | C85: ='[1]1. melléklet'!C85+'[1]2. melléklet'!C85 -> 20219000 | D85: ='[1]1. melléklet'!D85+'[1]2. melléklet'!D85 -> 0 | E85: ='[1]1. melléklet'!E85+'[1]2. melléklet'!E85 -> 0 | F85: =SUM(C85:E85) -> 20219000 | G85: =SUM('2. melléklet'!G85+'3. melléklet'!G85) -> 20219000 | H85: =SUM('2. melléklet'!H85+'3. melléklet'!H85) -> 0 | I85: =SUM('2. melléklet'!I85+'3. melléklet'!I85) -> 0 | J85: =SUM('2. melléklet'!J85+'3. melléklet'!J85) -> 20219000 | K85: =SUM('2. melléklet'!K85+'3. melléklet'!K85) -> 18102600 | L85: =SUM('2. melléklet'!L85+'3. melléklet'!L85) -> 0 | M85: =SUM('2. melléklet'!M85+'3. melléklet'!M85) -> 0 | N85: =SUM('2. melléklet'!N85+'3. melléklet'!N85) -> 18102600 | ... V85: =SUM('2. melléklet'!V85+'3. melléklet'!V85) -> 18102600
A86: Informatikai eszközök felújítása | B86: K72 | C86: ='[1]1. melléklet'!C86+'[1]2. melléklet'!C86 -> 0 | D86: ='[1]1. melléklet'!D86+'[1]2. melléklet'!D86 -> 0 | E86: ='[1]1. melléklet'!E86+'[1]2. melléklet'!E86 -> 0 | F86: =SUM(C86:E86) -> 0 | G86: =SUM('2. melléklet'!G86+'3. melléklet'!G86) -> 0 | H86: =SUM('2. melléklet'!H86+'3. melléklet'!H86) -> 0 | I86: =SUM('2. melléklet'!I86+'3. melléklet'!I86) -> 0 | J86: =SUM('2. melléklet'!J86+'3. melléklet'!J86) -> 0 | K86: =SUM('2. melléklet'!K86+'3. melléklet'!K86) -> 0 | L86: =SUM('2. melléklet'!L86+'3. melléklet'!L86) -> 0 | M86: =SUM('2. melléklet'!M86+'3. melléklet'!M86) -> 0 | N86: =SUM('2. melléklet'!N86+'3. melléklet'!N86) -> 0 | ... V86: =SUM('2. melléklet'!V86+'3. melléklet'!V86) -> 0
A87: Egyéb tárgyi eszközök felújítása | B87: K73 | C87: ='[1]1. melléklet'!C87+'[1]2. melléklet'!C87 -> 1500000 | D87: ='[1]1. melléklet'!D87+'[1]2. melléklet'!D87 -> 0 | E87: ='[1]1. melléklet'!E87+'[1]2. melléklet'!E87 -> 0 | F87: =SUM(C87:E87) -> 1500000 | G87: =SUM('2. melléklet'!G87+'3. melléklet'!G87) -> 1500000 | H87: =SUM('2. melléklet'!H87+'3. melléklet'!H87) -> 0 | I87: =SUM('2. melléklet'!I87+'3. melléklet'!I87) -> 0 | J87: =SUM('2. melléklet'!J87+'3. melléklet'!J87) -> 1500000 | K87: =SUM('2. melléklet'!K87+'3. melléklet'!K87) -> 1500000 | L87: =SUM('2. melléklet'!L87+'3. melléklet'!L87) -> 0 | M87: =SUM('2. melléklet'!M87+'3. melléklet'!M87) -> 0 | N87: =SUM('2. melléklet'!N87+'3. melléklet'!N87) -> 1500000 | ... V87: =SUM('2. melléklet'!V87+'3. melléklet'!V87) -> 1500000
A88: Felújítási célú előzetesen felszámított általános forgalmi adó | B88: K74 | C88: ='[1]1. melléklet'!C88+'[1]2. melléklet'!C88 -> 8199554 | D88: ='[1]1. melléklet'!D88+'[1]2. melléklet'!D88 -> 0 | E88: ='[1]1. melléklet'!E88+'[1]2. melléklet'!E88 -> 0 | F88: =SUM(C88:E88) -> 8199554 | G88: =SUM('2. melléklet'!G88+'3. melléklet'!G88) -> 8199554 | H88: =SUM('2. melléklet'!H88+'3. melléklet'!H88) -> 0 | I88: =SUM('2. melléklet'!I88+'3. melléklet'!I88) -> 0 | J88: =SUM('2. melléklet'!J88+'3. melléklet'!J88) -> 8199554 | K88: =SUM('2. melléklet'!K88+'3. melléklet'!K88) -> 8199554 | L88: =SUM('2. melléklet'!L88+'3. melléklet'!L88) -> 0 | M88: =SUM('2. melléklet'!M88+'3. melléklet'!M88) -> 0 | N88: =SUM('2. melléklet'!N88+'3. melléklet'!N88) -> 8199554 | ... V88: =SUM('2. melléklet'!V88+'3. melléklet'!V88) -> 8199554
... A99: Egyéb felhalmozási célú kiadások | B99: K8 | C99: ='[1]1. melléklet'!C99+'[1]2. melléklet'!C99 -> 0 | D99: ='[1]1. melléklet'!D99+'[1]2. melléklet'!D99 -> 0 | E99: ='[1]1. melléklet'!E99+'[1]2. melléklet'!E99 -> 0 | F99: =SUM(C99:E99) -> 0 | G99: =SUM('2. melléklet'!G99+'3. melléklet'!G99) -> 0 | H99: =SUM('2. melléklet'!H99+'3. melléklet'!H99) -> 0 | I99: =SUM('2. melléklet'!I99+'3. melléklet'!I99) -> 0 | J99: =SUM('2. melléklet'!J99+'3. melléklet'!J99) -> 0 | K99: =SUM('2. melléklet'!K99+'3. melléklet'!K99) -> 0 | L99: =SUM('2. melléklet'!L99+'3. melléklet'!L99) -> 0 | M99: =SUM('2. melléklet'!M99+'3. melléklet'!M99) -> 0 | N99: =SUM('2. melléklet'!N99+'3. melléklet'!N99) -> 0 | ... V99: =SUM('2. melléklet'!V99+'3. melléklet'!V99) -> 0
A100: Felhalmozási kiadások összesen | C100: ='[1]1. melléklet'!C100+'[1]2. melléklet'!C100 -> 36272354 | D100: ='[1]1. melléklet'!D100+'[1]2. melléklet'!D100 -> 0 | E100: ='[1]1. melléklet'!E100+'[1]2. melléklet'!E100 -> 0 | F100: =SUM(C100:E100) -> 36272354 | G100: =SUM('2. melléklet'!G100+'3. melléklet'!G100) -> 36272354 | H100: =SUM('2. melléklet'!H100+'3. melléklet'!H100) -> 0 | I100: =SUM('2. melléklet'!I100+'3. melléklet'!I100) -> 0 | J100: =SUM('2. melléklet'!J100+'3. melléklet'!J100) -> 36272354 | K100: =SUM('2. melléklet'!K100+'3. melléklet'!K100) -> 34220954 | L100: =SUM('2. melléklet'!L100+'3. melléklet'!L100) -> 0 | M100: =SUM('2. melléklet'!M100+'3. melléklet'!M100) -> 0 | N100: =SUM('2. melléklet'!N100+'3. melléklet'!N100) -> 34220954 | ... V100: =SUM('2. melléklet'!V100+'3. melléklet'!V100) -> 34220954
A101: Költségvetési kiadások | B101: K1-K8 | C101: ='[1]1. melléklet'!C101+'[1]2. melléklet'!C101 -> 100439610 | D101: ='[1]1. melléklet'!D101+'[1]2. melléklet'!D101 -> 0 | E101: ='[1]1. melléklet'!E101+'[1]2. melléklet'!E101 -> 13000 | F101: =SUM(C101:E101) -> 100452610 | G101: =SUM('2. melléklet'!G101+'3. melléklet'!G101) -> 100439876 | H101: =SUM('2. melléklet'!H101+'3. melléklet'!H101) -> 0 | I101: =SUM('2. melléklet'!I101+'3. melléklet'!I101) -> 13000 | J101: =SUM('2. melléklet'!J101+'3. melléklet'!J101) -> 100452876 | K101: =SUM('2. melléklet'!K101+'3. melléklet'!K101) -> 101994853 | L101: =SUM('2. melléklet'!L101+'3. melléklet'!L101) -> 0 | M101: =SUM('2. melléklet'!M101+'3. melléklet'!M101) -> 13000 | N101: =SUM('2. melléklet'!N101+'3. melléklet'!N101) -> 102007853 | ... V101: =SUM('2. melléklet'!V101+'3. melléklet'!V101) -> 106228777
A102: Hosszú lejáratú hitelek, kölcsönök törlesztése pénzügyi vállalkozásnak | B102: K9111 | C102: ='[1]1. melléklet'!C102+'[1]2. melléklet'!C102 -> 0 | D102: ='[1]1. melléklet'!D102+'[1]2. melléklet'!D102 -> 0 | E102: ='[1]1. melléklet'!E102+'[1]2. melléklet'!E102 -> 0 | F102: =SUM(C102:E102) -> 0 | G102: =SUM('2. melléklet'!G102+'3. melléklet'!G102) -> 0 | H102: =SUM('2. melléklet'!H102+'3. melléklet'!H102) -> 0 | I102: =SUM('2. melléklet'!I102+'3. melléklet'!I102) -> 0 | J102: =SUM('2. melléklet'!J102+'3. melléklet'!J102) -> 0 | K102: =SUM('2. melléklet'!K102+'3. melléklet'!K102) -> 0 | L102: =SUM('2. melléklet'!L102+'3. melléklet'!L102) -> 0 | M102: =SUM('2. melléklet'!M102+'3. melléklet'!M102) -> 0 | N102: =SUM('2. melléklet'!N102+'3. melléklet'!N102) -> 0 | ... V102: =SUM('2. melléklet'!V102+'3. melléklet'!V102) -> 0
A103: Likviditási célú hitelek, kölcsönök törlesztése pénzügyi vállalkozásnak | B103: K9112 | C103: ='[1]1. melléklet'!C103+'[1]2. melléklet'!C103 -> 0 | D103: ='[1]1. melléklet'!D103+'[1]2. melléklet'!D103 -> 0 | E103: ='[1]1. melléklet'!E103+'[1]2. melléklet'!E103 -> 0 | F103: =SUM(C103:E103) -> 0 | G103: =SUM('2. melléklet'!G103+'3. melléklet'!G103) -> 0 | H103: =SUM('2. melléklet'!H103+'3. melléklet'!H103) -> 0 | I103: =SUM('2. melléklet'!I103+'3. melléklet'!I103) -> 0 | J103: =SUM('2. melléklet'!J103+'3. melléklet'!J103) -> 0 | K103: =SUM('2. melléklet'!K103+'3. melléklet'!K103) -> 0 | L103: =SUM('2. melléklet'!L103+'3. melléklet'!L103) -> 0 | M103: =SUM('2. melléklet'!M103+'3. melléklet'!M103) -> 0 | N103: =SUM('2. melléklet'!N103+'3. melléklet'!N103) -> 0 | ... V103: =SUM('2. melléklet'!V103+'3. melléklet'!V103) -> 0
A104: Rövid lejáratú hitelek, kölcsönök törlesztése | B104: K9113 | C104: ='[1]1. melléklet'!C104+'[1]2. melléklet'!C104 -> 0 | D104: ='[1]1. melléklet'!D104+'[1]2. melléklet'!D104 -> 0 | E104: ='[1]1. melléklet'!E104+'[1]2. melléklet'!E104 -> 0 | F104: =SUM(C104:E104) -> 0 | G104: =SUM('2. melléklet'!G104+'3. melléklet'!G104) -> 0 | H104: =SUM('2. melléklet'!H104+'3. melléklet'!H104) -> 0 | I104: =SUM('2. melléklet'!I104+'3. melléklet'!I104) -> 0 | J104: =SUM('2. melléklet'!J104+'3. melléklet'!J104) -> 0 | K104: =SUM('2. melléklet'!K104+'3. melléklet'!K104) -> 0 | L104: =SUM('2. melléklet'!L104+'3. melléklet'!L104) -> 0 | M104: =SUM('2. melléklet'!M104+'3. melléklet'!M104) -> 0 | N104: =SUM('2. melléklet'!N104+'3. melléklet'!N104) -> 0 | ... V104: =SUM('2. melléklet'!V104+'3. melléklet'!V104) -> 0
A105: Hitel-, kölcsöntörlesztés államháztartáson kívülre | B105: K911 | C105: ='[1]1. melléklet'!C105+'[1]2. melléklet'!C105 -> 0 | D105: ='[1]1. melléklet'!D105+'[1]2. melléklet'!D105 -> 0 | E105: ='[1]1. melléklet'!E105+'[1]2. melléklet'!E105 -> 0 | F105: =SUM(C105:E105) -> 0 | G105: =SUM('2. melléklet'!G105+'3. melléklet'!G105) -> 0 | H105: =SUM('2. melléklet'!H105+'3. melléklet'!H105) -> 0 | I105: =SUM('2. melléklet'!I105+'3. melléklet'!I105) -> 0 | J105: =SUM('2. melléklet'!J105+'3. melléklet'!J105) -> 0 | K105: =SUM('2. melléklet'!K105+'3. melléklet'!K105) -> 0 | L105: =SUM('2. melléklet'!L105+'3. melléklet'!L105) -> 0 | M105: =SUM('2. melléklet'!M105+'3. melléklet'!M105) -> 0 | N105: =SUM('2. melléklet'!N105+'3. melléklet'!N105) -> 0 | ... V105: =SUM('2. melléklet'!V105+'3. melléklet'!V105) -> 0
A106: Forgatási célú belföldi értékpapírok vásárlása | B106: K9121 | C106: ='[1]1. melléklet'!C106+'[1]2. melléklet'!C106 -> 0 | D106: ='[1]1. melléklet'!D106+'[1]2. melléklet'!D106 -> 0 | E106: ='[1]1. melléklet'!E106+'[1]2. melléklet'!E106 -> 0 | F106: =SUM(C106:E106) -> 0 | G106: =SUM('2. melléklet'!G106+'3. melléklet'!G106) -> 0 | H106: =SUM('2. melléklet'!H106+'3. melléklet'!H106) -> 0 | I106: =SUM('2. melléklet'!I106+'3. melléklet'!I106) -> 0 | J106: =SUM('2. melléklet'!J106+'3. melléklet'!J106) -> 0 | K106: =SUM('2. melléklet'!K106+'3. melléklet'!K106) -> 0 | L106: =SUM('2. melléklet'!L106+'3. melléklet'!L106) -> 0 | M106: =SUM('2. melléklet'!M106+'3. melléklet'!M106) -> 0 | N106: =SUM('2. melléklet'!N106+'3. melléklet'!N106) -> 0 | ... V106: =SUM('2. melléklet'!V106+'3. melléklet'!V106) -> 0
A107: Forgatási célú belföldi értékpapírok beváltása | B107: K9122 | C107: ='[1]1. melléklet'!C107+'[1]2. melléklet'!C107 -> 0 | D107: ='[1]1. melléklet'!D107+'[1]2. melléklet'!D107 -> 0 | E107: ='[1]1. melléklet'!E107+'[1]2. melléklet'!E107 -> 0 | F107: =SUM(C107:E107) -> 0 | G107: =SUM('2. melléklet'!G107+'3. melléklet'!G107) -> 0 | H107: =SUM('2. melléklet'!H107+'3. melléklet'!H107) -> 0 | I107: =SUM('2. melléklet'!I107+'3. melléklet'!I107) -> 0 | J107: =SUM('2. melléklet'!J107+'3. melléklet'!J107) -> 0 | K107: =SUM('2. melléklet'!K107+'3. melléklet'!K107) -> 0 | L107: =SUM('2. melléklet'!L107+'3. melléklet'!L107) -> 0 | M107: =SUM('2. melléklet'!M107+'3. melléklet'!M107) -> 0 | N107: =SUM('2. melléklet'!N107+'3. melléklet'!N107) -> 0 | ... V107: =SUM('2. melléklet'!V107+'3. melléklet'!V107) -> 0
A108: Befektetési célú belföldi értékpapírok vásárlása | B108: K9123 | C108: ='[1]1. melléklet'!C108+'[1]2. melléklet'!C108 -> 0 | D108: ='[1]1. melléklet'!D108+'[1]2. melléklet'!D108 -> 0 | E108: ='[1]1. melléklet'!E108+'[1]2. melléklet'!E108 -> 0 | F108: =SUM(C108:E108) -> 0 | G108: =SUM('2. melléklet'!G108+'3. melléklet'!G108) -> 0 | H108: =SUM('2. melléklet'!H108+'3. melléklet'!H108) -> 0 | I108: =SUM('2. melléklet'!I108+'3. melléklet'!I108) -> 0 | J108: =SUM('2. melléklet'!J108+'3. melléklet'!J108) -> 0 | K108: =SUM('2. melléklet'!K108+'3. melléklet'!K108) -> 0 | L108: =SUM('2. melléklet'!L108+'3. melléklet'!L108) -> 0 | M108: =SUM('2. melléklet'!M108+'3. melléklet'!M108) -> 0 | N108: =SUM('2. melléklet'!N108+'3. melléklet'!N108) -> 0 | ... V108: =SUM('2. melléklet'!V108+'3. melléklet'!V108) -> 0
A109: Befektetési célú belföldi értékpapírok beváltása | B109: K9124 | C109: ='[1]1. melléklet'!C109+'[1]2. melléklet'!C109 -> 0 | D109: ='[1]1. melléklet'!D109+'[1]2. melléklet'!D109 -> 0 | E109: ='[1]1. melléklet'!E109+'[1]2. melléklet'!E109 -> 0 | F109: =SUM(C109:E109) -> 0 | G109: =SUM('2. melléklet'!G109+'3. melléklet'!G109) -> 0 | H109: =SUM('2. melléklet'!H109+'3. melléklet'!H109) -> 0 | I109: =SUM('2. melléklet'!I109+'3. melléklet'!I109) -> 0 | J109: =SUM('2. melléklet'!J109+'3. melléklet'!J109) -> 0 | K109: =SUM('2. melléklet'!K109+'3. melléklet'!K109) -> 0 | L109: =SUM('2. melléklet'!L109+'3. melléklet'!L109) -> 0 | M109: =SUM('2. melléklet'!M109+'3. melléklet'!M109) -> 0 | N109: =SUM('2. melléklet'!N109+'3. melléklet'!N109) -> 0 | ... V109: =SUM('2. melléklet'!V109+'3. melléklet'!V109) -> 0
A110: Belföldi értékpapírok kiadásai | B110: K912 | C110: ='[1]1. melléklet'!C110+'[1]2. melléklet'!C110 -> 0 | D110: ='[1]1. melléklet'!D110+'[1]2. melléklet'!D110 -> 0 | E110: ='[1]1. melléklet'!E110+'[1]2. melléklet'!E110 -> 0 | F110: =SUM(C110:E110) -> 0 | G110: =SUM('2. melléklet'!G110+'3. melléklet'!G110) -> 0 | H110: =SUM('2. melléklet'!H110+'3. melléklet'!H110) -> 0 | I110: =SUM('2. melléklet'!I110+'3. melléklet'!I110) -> 0 | J110: =SUM('2. melléklet'!J110+'3. melléklet'!J110) -> 0 | K110: =SUM('2. melléklet'!K110+'3. melléklet'!K110) -> 0 | L110: =SUM('2. melléklet'!L110+'3. melléklet'!L110) -> 0 | M110: =SUM('2. melléklet'!M110+'3. melléklet'!M110) -> 0 | N110: =SUM('2. melléklet'!N110+'3. melléklet'!N110) -> 0 | ... V110: =SUM('2. melléklet'!V110+'3. melléklet'!V110) -> 0
A111: Államháztartáson belüli megelőlegezések folyósítása | B111: K913 | C111: ='[1]1. melléklet'!C111+'[1]2. melléklet'!C111 -> 0 | D111: ='[1]1. melléklet'!D111+'[1]2. melléklet'!D111 -> 0 | E111: ='[1]1. melléklet'!E111+'[1]2. melléklet'!E111 -> 0 | F111: =SUM(C111:E111) -> 0 | G111: =SUM('2. melléklet'!G111+'3. melléklet'!G111) -> 0 | H111: =SUM('2. melléklet'!H111+'3. melléklet'!H111) -> 0 | I111: =SUM('2. melléklet'!I111+'3. melléklet'!I111) -> 0 | J111: =SUM('2. melléklet'!J111+'3. melléklet'!J111) -> 0 | K111: =SUM('2. melléklet'!K111+'3. melléklet'!K111) -> 0 | L111: =SUM('2. melléklet'!L111+'3. melléklet'!L111) -> 0 | M111: =SUM('2. melléklet'!M111+'3. melléklet'!M111) -> 0 | N111: =SUM('2. melléklet'!N111+'3. melléklet'!N111) -> 0 | ... V111: =SUM('2. melléklet'!V111+'3. melléklet'!V111) -> 0
A112: Államháztartáson belüli megelőlegezések visszafizetése | B112: K914 | C112: ='[1]1. melléklet'!C112+'[1]2. melléklet'!C112 -> 1252636 | D112: ='[1]1. melléklet'!D112+'[1]2. melléklet'!D112 -> 0 | E112: ='[1]1. melléklet'!E112+'[1]2. melléklet'!E112 -> 0 | F112: =SUM(C112:E112) -> 1252636 | G112: =SUM('2. melléklet'!G112+'3. melléklet'!G112) -> 1252636 | H112: =SUM('2. melléklet'!H112+'3. melléklet'!H112) -> 0 | I112: =SUM('2. melléklet'!I112+'3. melléklet'!I112) -> 0 | J112: =SUM('2. melléklet'!J112+'3. melléklet'!J112) -> 1252636 | K112: =SUM('2. melléklet'!K112+'3. melléklet'!K112) -> 1252636 | L112: =SUM('2. melléklet'!L112+'3. melléklet'!L112) -> 0 | M112: =SUM('2. melléklet'!M112+'3. melléklet'!M112) -> 0 | N112: =SUM('2. melléklet'!N112+'3. melléklet'!N112) -> 1252636 | ... V112: =SUM('2. melléklet'!V112+'3. melléklet'!V112) -> 1252636
A113: Központi, irányító szervi támogatások folyósítása | B113: K915 | C113: 0 | D113: ='[1]1. melléklet'!D113+'[1]2. melléklet'!D113 -> 0 | E113: ='[1]1. melléklet'!E113+'[1]2. melléklet'!E113 -> 0 | F113: =SUM(C113:E113) -> 0 | G113: 0 | H113: =SUM('2. melléklet'!H113+'3. melléklet'!H113) -> 0 | I113: =SUM('2. melléklet'!I113+'3. melléklet'!I113) -> 0 | J113: 0 | K113: 0 | L113: =SUM('2. melléklet'!L113+'3. melléklet'!L113) -> 0 | M113: =SUM('2. melléklet'!M113+'3. melléklet'!M113) -> 0 | N113: 0 | O113: 0 | P113: =SUM('2. melléklet'!P113+'3. melléklet'!P113) -> 0 | Q113: =SUM('2. melléklet'!Q113+'3. melléklet'!Q113) -> 0 | R113: 0 | S113: 0 | T113: =SUM('2. melléklet'!T113+'3. melléklet'!T113) -> 0 | U113: =SUM('2. melléklet'!U113+'3. melléklet'!U113) -> 0 | V113: 0
A114: Pénzeszközök betétként elhelyezése | B114: K916 | C114: ='[1]1. melléklet'!C114+'[1]2. melléklet'!C114 -> 0 | D114: ='[1]1. melléklet'!D114+'[1]2. melléklet'!D114 -> 0 | E114: ='[1]1. melléklet'!E114+'[1]2. melléklet'!E114 -> 0 | F114: =SUM(C114:E114) -> 0 | G114: =SUM('2. melléklet'!G114+'3. melléklet'!G114) -> 0 | H114: =SUM('2. melléklet'!H114+'3. melléklet'!H114) -> 0 | I114: =SUM('2. melléklet'!I114+'3. melléklet'!I114) -> 0 | J114: =SUM('2. melléklet'!J114+'3. melléklet'!J114) -> 0 | K114: =SUM('2. melléklet'!K114+'3. melléklet'!K114) -> 0 | L114: =SUM('2. melléklet'!L114+'3. melléklet'!L114) -> 0 | M114: =SUM('2. melléklet'!M114+'3. melléklet'!M114) -> 0 | N114: =SUM('2. melléklet'!N114+'3. melléklet'!N114) -> 0 | ... V114: =SUM('2. melléklet'!V114+'3. melléklet'!V114) -> 0
A115: Pénzügyi lízing kiadásai | B115: K917 | C115: ='[1]1. melléklet'!C115+'[1]2. melléklet'!C115 -> 0 | D115: ='[1]1. melléklet'!D115+'[1]2. melléklet'!D115 -> 0 | E115: ='[1]1. melléklet'!E115+'[1]2. melléklet'!E115 -> 0 | F115: =SUM(C115:E115) -> 0 | G115: =SUM('2. melléklet'!G115+'3. melléklet'!G115) -> 0 | H115: =SUM('2. melléklet'!H115+'3. melléklet'!H115) -> 0 | I115: =SUM('2. melléklet'!I115+'3. melléklet'!I115) -> 0 | J115: =SUM('2. melléklet'!J115+'3. melléklet'!J115) -> 0 | K115: =SUM('2. melléklet'!K115+'3. melléklet'!K115) -> 0 | L115: =SUM('2. melléklet'!L115+'3. melléklet'!L115) -> 0 | M115: =SUM('2. melléklet'!M115+'3. melléklet'!M115) -> 0 | N115: =SUM('2. melléklet'!N115+'3. melléklet'!N115) -> 0 | ... V115: =SUM('2. melléklet'!V115+'3. melléklet'!V115) -> 0
A116: Központi költségvetés sajátos finanszírozási kiadásai | B116: K918 | C116: ='[1]1. melléklet'!C116+'[1]2. melléklet'!C116 -> 0 | D116: ='[1]1. melléklet'!D116+'[1]2. melléklet'!D116 -> 0 | E116: ='[1]1. melléklet'!E116+'[1]2. melléklet'!E116 -> 0 | F116: =SUM(C116:E116) -> 0 | G116: =SUM('2. melléklet'!G116+'3. melléklet'!G116) -> 0 | H116: =SUM('2. melléklet'!H116+'3. melléklet'!H116) -> 0 | I116: =SUM('2. melléklet'!I116+'3. melléklet'!I116) -> 0 | J116: =SUM('2. melléklet'!J116+'3. melléklet'!J116) -> 0 | K116: =SUM('2. melléklet'!K116+'3. melléklet'!K116) -> 0 | L116: =SUM('2. melléklet'!L116+'3. melléklet'!L116) -> 0 | M116: =SUM('2. melléklet'!M116+'3. melléklet'!M116) -> 0 | N116: =SUM('2. melléklet'!N116+'3. melléklet'!N116) -> 0 | ... V116: =SUM('2. melléklet'!V116+'3. melléklet'!V116) -> 0
A117: Belföldi finanszírozás kiadásai | B117: K91 | C117: =SUM(C105+C110+C111+C112+C113+C114+C115+C116) -> 1252636 | D117: =SUM(D105+D110+D111+D112+D113+D114+D115+D116) -> 0 | E117: =SUM(E105+E110+E111+E112+E113+E114+E115+E116) -> 0 | F117: =SUM(F105+F110+F111+F112+F113+F114+F115+F116) -> 1252636 | G117: 1252636 | H117: =SUM('2. melléklet'!H117+'3. melléklet'!H117) -> 0 | I117: =SUM('2. melléklet'!I117+'3. melléklet'!I117) -> 0 | J117: 1252636 | K117: 1252636 | L117: =SUM('2. melléklet'!L117+'3. melléklet'!L117) -> 0 | M117: =SUM('2. melléklet'!M117+'3. melléklet'!M117) -> 0 | N117: 1252636 | O117: 1252636 | P117: =SUM('2. melléklet'!P117+'3. melléklet'!P117) -> 0 | Q117: =SUM('2. melléklet'!Q117+'3. melléklet'!Q117) -> 0 | R117: 1252636 | S117: 1252636 | T117: =SUM('2. melléklet'!T117+'3. melléklet'!T117) -> 0 | U117: =SUM('2. melléklet'!U117+'3. melléklet'!U117) -> 0 | V117: 1252636
A118: Forgatási célú külföldi értékpapírok vásárlása | B118: K921 | C118: ='[1]1. melléklet'!C118+'[1]2. melléklet'!C118 -> 0 | D118: ='[1]1. melléklet'!D118+'[1]2. melléklet'!D118 -> 0 | E118: ='[1]1. melléklet'!E118+'[1]2. melléklet'!E118 -> 0 | F118: =SUM(C118:E118) -> 0 | G118: =SUM('2. melléklet'!G118+'3. melléklet'!G118) -> 0 | H118: =SUM('2. melléklet'!H118+'3. melléklet'!H118) -> 0 | I118: =SUM('2. melléklet'!I118+'3. melléklet'!I118) -> 0 | J118: =SUM('2. melléklet'!J118+'3. melléklet'!J118) -> 0 | K118: =SUM('2. melléklet'!K118+'3. melléklet'!K118) -> 0 | L118: =SUM('2. melléklet'!L118+'3. melléklet'!L118) -> 0 | M118: =SUM('2. melléklet'!M118+'3. melléklet'!M118) -> 0 | N118: =SUM('2. melléklet'!N118+'3. melléklet'!N118) -> 0 | ... V118: =SUM('2. melléklet'!V118+'3. melléklet'!V118) -> 0
A119: Befektetési célú külföldi értékpapírok vásárlása | B119: K922 | C119: ='[1]1. melléklet'!C119+'[1]2. melléklet'!C119 -> 0 | D119: ='[1]1. melléklet'!D119+'[1]2. melléklet'!D119 -> 0 | E119: ='[1]1. melléklet'!E119+'[1]2. melléklet'!E119 -> 0 | F119: =SUM(C119:E119) -> 0 | G119: =SUM('2. melléklet'!G119+'3. melléklet'!G119) -> 0 | H119: =SUM('2. melléklet'!H119+'3. melléklet'!H119) -> 0 | I119: =SUM('2. melléklet'!I119+'3. melléklet'!I119) -> 0 | J119: =SUM('2. melléklet'!J119+'3. melléklet'!J119) -> 0 | K119: =SUM('2. melléklet'!K119+'3. melléklet'!K119) -> 0 | L119: =SUM('2. melléklet'!L119+'3. melléklet'!L119) -> 0 | M119: =SUM('2. melléklet'!M119+'3. melléklet'!M119) -> 0 | N119: =SUM('2. melléklet'!N119+'3. melléklet'!N119) -> 0 | ... V119: =SUM('2. melléklet'!V119+'3. melléklet'!V119) -> 0
A120: Külföldi értékpapírok beváltása | B120: K923 | C120: ='[1]1. melléklet'!C120+'[1]2. melléklet'!C120 -> 0 | D120: ='[1]1. melléklet'!D120+'[1]2. melléklet'!D120 -> 0 | E120: ='[1]1. melléklet'!E120+'[1]2. melléklet'!E120 -> 0 | F120: =SUM(C120:E120) -> 0 | G120: =SUM('2. melléklet'!G120+'3. melléklet'!G120) -> 0 | H120: =SUM('2. melléklet'!H120+'3. melléklet'!H120) -> 0 | I120: =SUM('2. melléklet'!I120+'3. melléklet'!I120) -> 0 | J120: =SUM('2. melléklet'!J120+'3. melléklet'!J120) -> 0 | K120: =SUM('2. melléklet'!K120+'3. melléklet'!K120) -> 0 | L120: =SUM('2. melléklet'!L120+'3. melléklet'!L120) -> 0 | M120: =SUM('2. melléklet'!M120+'3. melléklet'!M120) -> 0 | N120: =SUM('2. melléklet'!N120+'3. melléklet'!N120) -> 0 | ... V120: =SUM('2. melléklet'!V120+'3. melléklet'!V120) -> 0
A121: Külföldi hitelek, kölcsönök törlesztése | B121: K924 | C121: ='[1]1. melléklet'!C121+'[1]2. melléklet'!C121 -> 0 | D121: ='[1]1. melléklet'!D121+'[1]2. melléklet'!D121 -> 0 | E121: ='[1]1. melléklet'!E121+'[1]2. melléklet'!E121 -> 0 | F121: =SUM(C121:E121) -> 0 | G121: =SUM('2. melléklet'!G121+'3. melléklet'!G121) -> 0 | H121: =SUM('2. melléklet'!H121+'3. melléklet'!H121) -> 0 | I121: =SUM('2. melléklet'!I121+'3. melléklet'!I121) -> 0 | J121: =SUM('2. melléklet'!J121+'3. melléklet'!J121) -> 0 | K121: =SUM('2. melléklet'!K121+'3. melléklet'!K121) -> 0 | L121: =SUM('2. melléklet'!L121+'3. melléklet'!L121) -> 0 | M121: =SUM('2. melléklet'!M121+'3. melléklet'!M121) -> 0 | N121: =SUM('2. melléklet'!N121+'3. melléklet'!N121) -> 0 | ... V121: =SUM('2. melléklet'!V121+'3. melléklet'!V121) -> 0
A122: Külföldi finanszírozás kiadásai | B122: K92 | C122: ='[1]1. melléklet'!C122+'[1]2. melléklet'!C122 -> 0 | D122: ='[1]1. melléklet'!D122+'[1]2. melléklet'!D122 -> 0 | E122: ='[1]1. melléklet'!E122+'[1]2. melléklet'!E122 -> 0 | F122: =SUM(C122:E122) -> 0 | G122: =SUM('2. melléklet'!G122+'3. melléklet'!G122) -> 0 | H122: =SUM('2. melléklet'!H122+'3. melléklet'!H122) -> 0 | I122: =SUM('2. melléklet'!I122+'3. melléklet'!I122) -> 0 | J122: =SUM('2. melléklet'!J122+'3. melléklet'!J122) -> 0 | K122: =SUM('2. melléklet'!K122+'3. melléklet'!K122) -> 0 | L122: =SUM('2. melléklet'!L122+'3. melléklet'!L122) -> 0 | M122: =SUM('2. melléklet'!M122+'3. melléklet'!M122) -> 0 | N122: =SUM('2. melléklet'!N122+'3. melléklet'!N122) -> 0 | ... V122: =SUM('2. melléklet'!V122+'3. melléklet'!V122) -> 0
A123: Adóssághoz nem kapcsolódó származékos ügyletek kiadásai | B123: K93 | C123: ='[1]1. melléklet'!C123+'[1]2. melléklet'!C123 -> 0 | D123: ='[1]1. melléklet'!D123+'[1]2. melléklet'!D123 -> 0 | E123: ='[1]1. melléklet'!E123+'[1]2. melléklet'!E123 -> 0 | F123: =SUM(C123:E123) -> 0 | G123: =SUM('2. melléklet'!G123+'3. melléklet'!G123) -> 0 | H123: =SUM('2. melléklet'!H123+'3. melléklet'!H123) -> 0 | I123: =SUM('2. melléklet'!I123+'3. melléklet'!I123) -> 0 | J123: =SUM('2. melléklet'!J123+'3. melléklet'!J123) -> 0 | K123: =SUM('2. melléklet'!K123+'3. melléklet'!K123) -> 0 | L123: =SUM('2. melléklet'!L123+'3. melléklet'!L123) -> 0 | M123: =SUM('2. melléklet'!M123+'3. melléklet'!M123) -> 0 | N123: =SUM('2. melléklet'!N123+'3. melléklet'!N123) -> 0 | ... V123: =SUM('2. melléklet'!V123+'3. melléklet'!V123) -> 0
A124: Finanszírozási kiadások | B124: K9 | C124: =SUM(C117+C122+C123) -> 1252636 | D124: ='[1]1. melléklet'!D124+'[1]2. melléklet'!D124 -> 0 | E124: ='[1]1. melléklet'!E124+'[1]2. melléklet'!E124 -> 0 | F124: =SUM(C124:E124) -> 1252636 | G124: 1252636 | H124: =SUM('2. melléklet'!H124+'3. melléklet'!H124) -> 0 | I124: =SUM('2. melléklet'!I124+'3. melléklet'!I124) -> 0 | J124: 1252636 | K124: 1252636 | L124: =SUM('2. melléklet'!L124+'3. melléklet'!L124) -> 0 | M124: =SUM('2. melléklet'!M124+'3. melléklet'!M124) -> 0 | N124: 1252636 | O124: 1252636 | P124: =SUM('2. melléklet'!P124+'3. melléklet'!P124) -> 0 | Q124: =SUM('2. melléklet'!Q124+'3. melléklet'!Q124) -> 0 | R124: 1252636 | S124: 1252636 | T124: =SUM('2. melléklet'!T124+'3. melléklet'!T124) -> 0 | U124: =SUM('2. melléklet'!U124+'3. melléklet'!U124) -> 0 | V124: 1252636
A125: KIADÁSOK ÖSSZESEN (K1-9) | C125: =SUM(C101+C124) -> 101692246 | D125: =SUM(D101+D124) -> 0 | E125: =SUM(E101+E124) -> 13000 | F125: =SUM(F101+F124) -> 101705246 | G125: =G101+G124 -> 101692512 | H125: =H101+H124 -> 0 | I125: =I101+I124 -> 13000 | J125: =SUM(G125:I125) -> 101705512 | K125: =K101+K124 -> 103247489 | L125: =L101+L124 -> 0 | M125: =M101+M124 -> 13000 | N125: =SUM(K125:M125) -> 103260489 | O125: =O101+O124 -> 105234065 | P125: =P101+P124 -> 0 | Q125: =Q101+Q124 -> 13000 | R125: =SUM(O125:Q125) -> 105247065 | S125: =S101+S124 -> 107468413 | T125: =T101+T124 -> 0 | U125: =U101+U124 -> 13000 | V125: =SUM(S125:U125) -> 107481413

Sheet 5. melléklet
B1: 5. melléklet 1/2018. (I.23.) önkormányzati rendelethez
A3: SOROKPOLÁNY Önkormányzat 2018. évi költségvetése
A4: Bevételek (Ft)
A6: SOROKPOLÁNY ÖNKORMÁNYZATI ELŐIRÁNYZATOK | C6: EREDETI ELŐIRÁNYZAT | G6: I. n.év módosított ELŐIRÁNYZAT | K6: II. n.év módosított ELŐIRÁNYZAT | O6: III. n.év módosított ELŐIRÁNYZAT | S6: IV. n.év módosított ELŐIRÁNYZAT
A7: Rovat megnevezése | B7: Rovat- szám | C7: kötelező feladatok | D7: önként vállalt feladatok | E7: államigazgatási feladatok | F7: ÖSSZESEN | G7: kötelező feladatok | H7: önként vállalt feladatok | I7: államigazgatási feladatok | J7: ÖSSZESEN | K7: kötelező feladatok | L7: önként vállalt feladatok | M7: államigazgatási feladatok | N7: ÖSSZESEN | O7: kötelező feladatok | P7: önként vállalt feladatok | Q7: államigazgatási feladatok | R7: ÖSSZESEN | S7: kötelező feladatok | T7: önként vállalt feladatok | U7: államigazgatási feladatok | V7: ÖSSZESEN
A8: Helyi önkormányzatok működésének általános támogatása | B8: B111 | C8: 12568964 | D8: 0 | E8: 0 | F8: =SUM(C8:E8) -> 12568964 | G8: 12568964 | H8: 0 | I8: 0 | J8: =SUM(G8:I8) -> 12568964 | K8: 12568964 | L8: 0 | M8: 0 | N8: =SUM(K8:M8) -> 12568964 | O8: 12568964 | P8: 0 | Q8: 0 | R8: =SUM(O8:Q8) -> 12568964 | S8: 12569452 | T8: 0 | U8: 0 | V8: =SUM(S8:U8) -> 12569452
A9: Települési önkormányzatok egyes köznevelési feladatainak támogatása | B9: B112 | C9: 13130034 | D9: 0 | E9: 0 | F9: =SUM(C9:E9) -> 13130034 | G9: 13130034 | H9: 0 | I9: 0 | J9: =SUM(G9:I9) -> 13130034 | K9: 13130034 | L9: 0 | M9: 0 | N9: =SUM(K9:M9) -> 13130034 | O9: 14133647 | P9: 0 | Q9: 0 | R9: =SUM(O9:Q9) -> 14133647 | S9: 13497618 | T9: 0 | U9: 0 | V9: =SUM(S9:U9) -> 13497618
A10: Települési önkormányzatok szociális és gyermekjóléti feladatainak támogatása | B10: B113 | C10: 7960850 | D10: 0 | E10: 0 | F10: =SUM(C10:E10) -> 7960850 | G10: 7960850 | H10: 0 | I10: 0 | J10: =SUM(G10:I10) -> 7960850 | K10: 7960850 | L10: 0 | M10: 0 | N10: =SUM(K10:M10) -> 7960850 | O10: 7960850 | P10: 0 | Q10: 0 | R10: =SUM(O10:Q10) -> 7960850 | S10: 8545540 | T10: 0 | U10: 0 | V10: =SUM(S10:U10) -> 8545540
A11: Települési önkormányzatok kulturális feladatainak támogatása | B11: B114 | C11: 1800000 | D11: 0 | E11: 0 | F11: =SUM(C11:E11) -> 1800000 | G11: 1800000 | H11: 0 | I11: 0 | J11: =SUM(G11:I11) -> 1800000 | K11: 1800000 | L11: 0 | M11: 0 | N11: =SUM(K11:M11) -> 1800000 | O11: 1800000 | P11: 0 | Q11: 0 | R11: =SUM(O11:Q11) -> 1800000 | S11: 1800000 | T11: 0 | U11: 0 | V11: =SUM(S11:U11) -> 1800000
A12: Működési célú központosított előirányzatok | B12: B115 | C12: 0 | D12: 0 | E12: 0 | F12: =SUM(C12:E12) -> 0 | G12: 266 | H12: 0 | I12: 0 | J12: 266 | K12: 754 | L12: 0 | M12: 0 | N12: 754 | O12: 754 | P12: 0 | Q12: 0 | R12: 754 | S12: 1020000 | T12: 0 | U12: 0 | V12: 754
A13: Elszámolásból származó bevételek | B13: B116 | C13: 0 | D13: 0 | E13: 0 | F13: =SUM(C13:E13) -> 0 | G13: 0 | H13: 0 | I13: 0 | J13: =SUM(G13:I13) -> 0 | K13: 193206 | L13: 0 | M13: 0 | N13: =SUM(K13:M13) -> 193206 | O13: 368169 | P13: 0 | Q13: 0 | R13: =SUM(O13:Q13) -> 368169 | S13: 368169 | T13: 0 | U13: 0 | V13: =SUM(S13:U13) -> 368169
A14: Önkormányzatok működési támogatásai | B14: B11 | C14: =SUM(C8:C13) -> 35459848 | D14: =SUM(D8:D13) -> 0 | E14: =SUM(E8:E13) -> 0 | F14: =SUM(C14:E14) -> 35459848 | G14: =SUM(G8:G13) -> 35460114 | H14: =SUM(H8:H13) -> 0 | I14: =SUM(I8:I13) -> 0 | J14: =SUM(J8:J13) -> 35460114 | K14: =SUM(K8:K13) -> 35653808 | L14: =SUM(L8:L13) -> 0 | M14: =SUM(M8:M13) -> 0 | N14: =SUM(N8:N13) -> 35653808 | ... V14: =SUM(V8:V13) -> 36781533
A15: Elvonások és befizetések bevételei | B15: B12 | C15: 0 | D15: 0 | E15: 0 | F15: =SUM(C15:E15) -> 0 | G15: 0 | H15: 0 | I15: 0 | J15: =SUM(G15:I15) -> 0 | K15: 0 | L15: 0 | M15: 0 | N15: =SUM(K15:M15) -> 0 | O15: 0 | P15: 0 | Q15: 0 | R15: =SUM(O15:Q15) -> 0 | S15: 0 | T15: 0 | U15: 0 | V15: =SUM(S15:U15) -> 0
A16: Működési célú garancia- és kezességvállalásból származó megtérülések államháztartáson belülről | B16: B13 | C16: 0 | D16: 0 | E16: 0 | F16: =SUM(C16:E16) -> 0 | G16: 0 | H16: 0 | I16: 0 | J16: =SUM(G16:I16) -> 0 | K16: 0 | L16: 0 | M16: 0 | N16: =SUM(K16:M16) -> 0 | O16: 0 | P16: 0 | Q16: 0 | R16: =SUM(O16:Q16) -> 0 | S16: 0 | T16: 0 | U16: 0 | V16: =SUM(S16:U16) -> 0
A17: Működési célú visszatérítendő támogatások, kölcsönök visszatérülése államháztartáson belülről | B17: B14 | C17: 0 | D17: 0 | E17: 0 | F17: =SUM(C17:E17) -> 0 | G17: 0 | H17: 0 | I17: 0 | J17: =SUM(G17:I17) -> 0 | K17: 0 | L17: 0 | M17: 0 | N17: =SUM(K17:M17) -> 0 | O17: 0 | P17: 0 | Q17: 0 | R17: =SUM(O17:Q17) -> 0 | S17: 0 | T17: 0 | U17: 0 | V17: =SUM(S17:U17) -> 0
A18: Működési célú visszatérítendő támogatások, kölcsönök igénybevétele államháztartáson belülről | B18: B15 | C18: 0 | D18: 0 | E18: 0 | F18: =SUM(C18:E18) -> 0 | G18: 0 | H18: 0 | I18: 0 | J18: =SUM(G18:I18) -> 0 | K18: 0 | L18: 0 | M18: 0 | N18: =SUM(K18:M18) -> 0 | O18: 0 | P18: 0 | Q18: 0 | R18: =SUM(O18:Q18) -> 0 | S18: 0 | T18: 0 | U18: 0 | V18: =SUM(S18:U18) -> 0
A19: Egyéb működési célú támogatások bevételei államháztartáson belülről | B19: B16 | C19: 0 | D19: 0 | E19: 0 | F19: =SUM(C19:E19) -> 0 | G19: 0 | H19: 0 | I19: 0 | J19: =SUM(G19:I19) -> 0 | K19: 19255072 | L19: 0 | M19: 0 | N19: =SUM(K19:M19) -> 19255072 | O19: 19255072 | P19: 0 | Q19: 0 | R19: =SUM(O19:Q19) -> 19255072 | S19: 19255072 | T19: 0 | U19: 0 | V19: =SUM(S19:U19) -> 19255072
A20: Működési célú támogatások államháztartáson belülről | B20: B1 | C20: =SUM(C14:C19) -> 35459848 | D20: =SUM(D14:D19) -> 0 | E20: =SUM(E14:E19) -> 0 | F20: =SUM(C20:E20) -> 35459848 | G20: =SUM(G14:G19) -> 35460114 | H20: =SUM(H14:H19) -> 0 | I20: =SUM(I14:I19) -> 0 | J20: =SUM(G20:I20) -> 35460114 | K20: =SUM(K14:K19) -> 54908880 | L20: =SUM(L14:L19) -> 0 | M20: =SUM(M14:M19) -> 0 | N20: =SUM(K20:M20) -> 54908880 | O20: =SUM(O14:O19) -> 56087456 | P20: =SUM(P14:P19) -> 0 | Q20: =SUM(Q14:Q19) -> 0 | R20: =SUM(O20:Q20) -> 56087456 | S20: =SUM(S14:S19) -> 57055851 | T20: =SUM(T14:T19) -> 0 | U20: =SUM(U14:U19) -> 0 | V20: =SUM(S20:U20) -> 57055851
A21: Magánszemélyek jövedelemadói | B21: B311 | C21: 0 | D21: 0 | E21: 0 | F21: =SUM(C21:E21) -> 0 | G21: 0 | H21: 0 | I21: 0 | J21: =SUM(G21:I21) -> 0 | K21: 0 | L21: 0 | M21: 0 | N21: =SUM(K21:M21) -> 0 | O21: 0 | P21: 0 | Q21: 0 | R21: =SUM(O21:Q21) -> 0 | S21: 0 | T21: 0 | U21: 0 | V21: =SUM(S21:U21) -> 0
A22: Társaságok jövedelemadói | B22: B312 | C22: 0 | D22: 0 | E22: 0 | F22: =SUM(C22:E22) -> 0 | G22: 0 | H22: 0 | I22: 0 | J22: =SUM(G22:I22) -> 0 | K22: 0 | L22: 0 | M22: 0 | N22: =SUM(K22:M22) -> 0 | O22: 0 | P22: 0 | Q22: 0 | R22: =SUM(O22:Q22) -> 0 | S22: 0 | T22: 0 | U22: 0 | V22: =SUM(S22:U22) -> 0
A23: Jövedelemadók | B23: B31 | C23: =SUM(C21:C22) -> 0 | D23: =SUM(D21:D22) -> 0 | E23: =SUM(E21:E22) -> 0 | F23: =SUM(C23:E23) -> 0 | G23: =SUM(G21:G22) -> 0 | H23: =SUM(H21:H22) -> 0 | I23: =SUM(I21:I22) -> 0 | J23: =SUM(G23:I23) -> 0 | K23: =SUM(K21:K22) -> 0 | L23: =SUM(L21:L22) -> 0 | M23: =SUM(M21:M22) -> 0 | N23: =SUM(K23:M23) -> 0 | O23: =SUM(O21:O22) -> 0 | P23: =SUM(P21:P22) -> 0 | Q23: =SUM(Q21:Q22) -> 0 | R23: =SUM(O23:Q23) -> 0 | S23: =SUM(S21:S22) -> 0 | T23: =SUM(T21:T22) -> 0 | U23: =SUM(U21:U22) -> 0 | V23: =SUM(S23:U23) -> 0
A24: Szociális hozzájárulási adó és járulékok | B24: B32 | C24: 0 | D24: 0 | E24: 0 | F24: =SUM(C24:E24) -> 0 | G24: 0 | H24: 0 | I24: 0 | J24: =SUM(G24:I24) -> 0 | K24: 0 | L24: 0 | M24: 0 | N24: =SUM(K24:M24) -> 0 | O24: 0 | P24: 0 | Q24: 0 | R24: =SUM(O24:Q24) -> 0 | S24: 0 | T24: 0 | U24: 0 | V24: =SUM(S24:U24) -> 0
A25: Bérhez és foglalkoztatáshoz kapcsolódó adók | B25: B33 | C25: 0 | D25: 0 | E25: 0 | F25: =SUM(C25:E25) -> 0 | G25: 0 | H25: 0 | I25: 0 | J25: =SUM(G25:I25) -> 0 | K25: 0 | L25: 0 | M25: 0 | N25: =SUM(K25:M25) -> 0 | O25: 0 | P25: 0 | Q25: 0 | R25: =SUM(O25:Q25) -> 0 | S25: 0 | T25: 0 | U25: 0 | V25: =SUM(S25:U25) -> 0
A26: Vagyoni tipusú adók | B26: B34 | C26: 1190000 | D26: 0 | E26: 0 | F26: =SUM(C26:E26) -> 1190000 | G26: 1190000 | H26: 0 | I26: 0 | J26: =SUM(G26:I26) -> 1190000 | K26: 1190000 | L26: 0 | M26: 0 | N26: =SUM(K26:M26) -> 1190000 | O26: 1190000 | P26: 0 | Q26: 0 | R26: =SUM(O26:Q26) -> 1190000 | S26: 1190000 | T26: 0 | U26: 0 | V26: =SUM(S26:U26) -> 1190000
A27: Értékesítési és forgalmi adók | B27: B351 | C27: 11000000 | D27: 0 | E27: 0 | F27: =SUM(C27:E27) -> 11000000 | G27: 11000000 | H27: 0 | I27: 0 | J27: =SUM(G27:I27) -> 11000000 | K27: 11000000 | L27: 0 | M27: 0 | N27: =SUM(K27:M27) -> 11000000 | O27: 11000000 | P27: 0 | Q27: 0 | R27: =SUM(O27:Q27) -> 11000000 | S27: 11000000 | T27: 0 | U27: 0 | V27: =SUM(S27:U27) -> 11000000
A28: Fogyasztási adók | B28: B352 | C28: 0 | D28: 0 | E28: 0 | F28: =SUM(C28:E28) -> 0 | G28: 0 | H28: 0 | I28: 0 | J28: =SUM(G28:I28) -> 0 | K28: 0 | L28: 0 | M28: 0 | N28: =SUM(K28:M28) -> 0 | O28: 0 | P28: 0 | Q28: 0 | R28: =SUM(O28:Q28) -> 0 | S28: 0 | T28: 0 | U28: 0 | V28: =SUM(S28:U28) -> 0
A29: Pénzügyi monopóliumok nyereségét terhelő adók | B29: B353 | C29: 0 | D29: 0 | E29: 0 | F29: =SUM(C29:E29) -> 0 | G29: 0 | H29: 0 | I29: 0 | J29: =SUM(G29:I29) -> 0 | K29: 0 | L29: 0 | M29: 0 | N29: =SUM(K29:M29) -> 0 | O29: 0 | P29: 0 | Q29: 0 | R29: =SUM(O29:Q29) -> 0 | S29: 0 | T29: 0 | U29: 0 | V29: =SUM(S29:U29) -> 0
A30: Gépjárműadók | B30: B354 | C30: 1900000 | D30: 0 | E30: 0 | F30: =SUM(C30:E30) -> 1900000 | G30: 1900000 | H30: 0 | I30: 0 | J30: =SUM(G30:I30) -> 1900000 | K30: 1900000 | L30: 0 | M30: 0 | N30: =SUM(K30:M30) -> 1900000 | O30: 1900000 | P30: 0 | Q30: 0 | R30: =SUM(O30:Q30) -> 1900000 | S30: 1900000 | T30: 0 | U30: 0 | V30: =SUM(S30:U30) -> 1900000
A31: Egyéb áruhasználati és szolgáltatási adók | B31: B355 | C31: 0 | D31: 0 | E31: 0 | F31: =SUM(C31:E31) -> 0 | G31: 0 | H31: 0 | I31: 0 | J31: =SUM(G31:I31) -> 0 | K31: 0 | L31: 0 | M31: 0 | N31: =SUM(K31:M31) -> 0 | O31: 0 | P31: 0 | Q31: 0 | R31: =SUM(O31:Q31) -> 0 | S31: 0 | T31: 0 | U31: 0 | V31: =SUM(S31:U31) -> 0
A32: Termékek és szolgáltatások adói | B32: B35 | C32: =SUM(C27:C31) -> 12900000 | D32: =SUM(D27:D31) -> 0 | E32: =SUM(E27:E31) -> 0 | F32: =SUM(F27:F31) -> 12900000 | G32: =SUM(G27:G31) -> 12900000 | H32: =SUM(H27:H31) -> 0 | I32: =SUM(I27:I31) -> 0 | J32: =SUM(J27:J31) -> 12900000 | ... V32: =SUM(V27:V31) -> 12900000
A33: Egyéb közhatalmi bevételek | B33: B36 | C33: 40000 | D33: 0 | E33: 20000 | F33: =SUM(C33:E33) -> 60000 | G33: 40000 | H33: 0 | I33: 20000 | J33: =SUM(G33:I33) -> 60000 | K33: 40000 | L33: 0 | M33: 20000 | N33: =SUM(K33:M33) -> 60000 | O33: 40000 | P33: 0 | Q33: 20000 | R33: =SUM(O33:Q33) -> 60000 | S33: 40000 | T33: 0 | U33: 20000 | V33: =SUM(S33:U33) -> 60000
A34: Közhatalmi bevételek | B34: B3 | C34: =SUM(C33+C32+C26+C25+C24+C23) -> 14130000 | D34: =SUM(D33+D32+D26+D25+D24+D23) -> 0 | E34: =SUM(E33+E32+E26+E25+E24+E23) -> 20000 | F34: =SUM(F33+F32+F26+F25+F24+F23) -> 14150000 | G34: =SUM(G33+G32+G26+G25+G24+G23) -> 14130000 | H34: =SUM(H33+H32+H26+H25+H24+H23) -> 0 | I34: =SUM(I33+I32+I26+I25+I24+I23) -> 20000 | J34: =SUM(J33+J32+J26+J25+J24+J23) -> 14150000 | ... V34: =SUM(V33+V32+V26+V25+V24+V23) -> 14150000
A35: Áru- és készletértékesítés ellenértéke | B35: B401 | C35: 0 | D35: 0 | E35: 0 | F35: =SUM(C35:E35) -> 0 | G35: 0 | H35: 0 | I35: 0 | J35: =SUM(G35:I35) -> 0 | K35: 0 | L35: 0 | M35: 0 | N35: =SUM(K35:M35) -> 0 | O35: 0 | P35: 0 | Q35: 0 | R35: =SUM(O35:Q35) -> 0 | S35: 0 | T35: 0 | U35: 0 | V35: =SUM(S35:U35) -> 0
A36: Szolgáltatások ellenértéke | B36: B402 | C36: 0 | D36: 0 | E36: 0 | F36: =SUM(C36:E36) -> 0 | G36: 0 | H36: 0 | I36: 0 | J36: =SUM(G36:I36) -> 0 | K36: 0 | L36: 0 | M36: 0 | N36: =SUM(K36:M36) -> 0 | O36: 0 | P36: 0 | Q36: 0 | R36: =SUM(O36:Q36) -> 0 | S36: 0 | T36: 0 | U36: 0 | V36: =SUM(S36:U36) -> 0
A37: Közvetített szolgáltatások értéke | B37: B403 | C37: 597200 | D37: 0 | E37: 0 | F37: =SUM(C37:E37) -> 597200 | G37: 597200 | H37: 0 | I37: 0 | J37: =SUM(G37:I37) -> 597200 | K37: 597200 | L37: 0 | M37: 0 | N37: =SUM(K37:M37) -> 597200 | O37: 597200 | P37: 0 | Q37: 0 | R37: =SUM(O37:Q37) -> 597200 | S37: 597200 | T37: 0 | U37: 0 | V37: =SUM(S37:U37) -> 597200
A38: Tulajdonosi bevételek | B38: B404 | C38: 0 | D38: 0 | E38: 0 | F38: =SUM(C38:E38) -> 0 | G38: 0 | H38: 0 | I38: 0 | J38: =SUM(G38:I38) -> 0 | K38: 0 | L38: 0 | M38: 0 | N38: =SUM(K38:M38) -> 0 | O38: 0 | P38: 0 | Q38: 0 | R38: =SUM(O38:Q38) -> 0 | S38: 0 | T38: 0 | U38: 0 | V38: =SUM(S38:U38) -> 0
A39: Ellátási díjak | B39: B405 | C39: 1000000 | D39: 0 | E39: 0 | F39: =SUM(C39:E39) -> 1000000 | G39: 1000000 | H39: 0 | I39: 0 | J39: =SUM(G39:I39) -> 1000000 | K39: 1000000 | L39: 0 | M39: 0 | N39: =SUM(K39:M39) -> 1000000 | O39: 1000000 | P39: 0 | Q39: 0 | R39: =SUM(O39:Q39) -> 1000000 | S39: 1000000 | T39: 0 | U39: 0 | V39: =SUM(S39:U39) -> 1000000
A40: Kiszámlázott általános forgalmi adó | B40: B406 | C40: 0 | D40: 0 | E40: 0 | F40: =SUM(C40:E40) -> 0 | G40: 0 | H40: 0 | I40: 0 | J40: =SUM(G40:I40) -> 0 | K40: 0 | L40: 0 | M40: 0 | N40: =SUM(K40:M40) -> 0 | O40: 0 | P40: 0 | Q40: 0 | R40: =SUM(O40:Q40) -> 0 | S40: 0 | T40: 0 | U40: 0 | V40: =SUM(S40:U40) -> 0
A41: Általános forgalmi adó visszatérítése | B41: B407 | C41: 0 | D41: 0 | E41: 0 | F41: =SUM(C41:E41) -> 0 | G41: 0 | H41: 0 | I41: 0 | J41: =SUM(G41:I41) -> 0 | K41: 0 | L41: 0 | M41: 0 | N41: =SUM(K41:M41) -> 0 | O41: 0 | P41: 0 | Q41: 0 | R41: =SUM(O41:Q41) -> 0 | S41: 0 | T41: 0 | U41: 0 | V41: =SUM(S41:U41) -> 0
A42: Kamatbevételek | B42: B408 | C42: 0 | D42: 0 | E42: 0 | F42: =SUM(C42:E42) -> 0 | G42: 0 | H42: 0 | I42: 0 | J42: =SUM(G42:I42) -> 0 | K42: 0 | L42: 0 | M42: 0 | N42: =SUM(K42:M42) -> 0 | O42: 0 | P42: 0 | Q42: 0 | R42: =SUM(O42:Q42) -> 0 | S42: 0 | T42: 0 | U42: 0 | V42: =SUM(S42:U42) -> 0
A43: Egyéb pénzügyi műveletek bevételei | B43: B409 | C43: 0 | D43: 0 | E43: 0 | F43: =SUM(C43:E43) -> 0 | G43: 0 | H43: 0 | I43: 0 | J43: =SUM(G43:I43) -> 0 | K43: 0 | L43: 0 | M43: 0 | N43: =SUM(K43:M43) -> 0 | O43: 0 | P43: 0 | Q43: 0 | R43: =SUM(O43:Q43) -> 0 | S43: 0 | T43: 0 | U43: 0 | V43: =SUM(S43:U43) -> 0
A44: Egyéb működési bevételek | B44: B410 | C44: 1575000 | D44: 300000 | E44: 0 | F44: =SUM(C44:E44) -> 1875000 | G44: 1575000 | H44: 300000 | I44: 0 | J44: =SUM(G44:I44) -> 1875000 | K44: 1575000 | L44: 300000 | M44: 0 | N44: =SUM(K44:M44) -> 1875000 | O44: 1575000 | P44: 300000 | Q44: 0 | R44: =SUM(O44:Q44) -> 1875000 | S44: 1575000 | T44: 300000 | U44: 0 | V44: =SUM(S44:U44) -> 1875000
A45: Működési bevételek | B45: B4 | C45: =SUM(C35:C44) -> 3172200 | D45: =SUM(D35:D44) -> 300000 | E45: =SUM(E35:E44) -> 0 | F45: =SUM(C45:E45) -> 3472200 | G45: =SUM(G35:G44) -> 3172200 | H45: =SUM(H35:H44) -> 300000 | I45: =SUM(I35:I44) -> 0 | J45: =SUM(G45:I45) -> 3472200 | K45: =SUM(K35:K44) -> 3172200 | L45: =SUM(L35:L44) -> 300000 | M45: =SUM(M35:M44) -> 0 | N45: =SUM(K45:M45) -> 3472200 | O45: =SUM(O35:O44) -> 3172200 | P45: =SUM(P35:P44) -> 300000 | Q45: =SUM(Q35:Q44) -> 0 | R45: =SUM(O45:Q45) -> 3472200 | S45: =SUM(S35:S44) -> 3172200 | T45: =SUM(T35:T44) -> 300000 | U45: =SUM(U35:U44) -> 0 | V45: =SUM(S45:U45) -> 3472200
A46: Működési célú garancia- és kezességvállalásból származó megtérülések államháztartáson kívülről | B46: B61 | C46: 0 | D46: 0 | E46: 0 | F46: =SUM(C46:E46) -> 0 | G46: 0 | H46: 0 | I46: 0 | J46: =SUM(G46:I46) -> 0 | K46: 0 | L46: 0 | M46: 0 | N46: =SUM(K46:M46) -> 0 | O46: 0 | P46: 0 | Q46: 0 | R46: =SUM(O46:Q46) -> 0 | S46: 0 | T46: 0 | U46: 0 | V46: =SUM(S46:U46) -> 0
A47: Működési célú visszatérítendő támogatások, kölcsönök visszatérülése államháztartáson kívülről | B47: B62 | C47: 0 | D47: 0 | E47: 0 | F47: =SUM(C47:E47) -> 0 | G47: 0 | H47: 0 | I47: 0 | J47: =SUM(G47:I47) -> 0 | K47: 0 | L47: 0 | M47: 0 | N47: =SUM(K47:M47) -> 0 | O47: 0 | P47: 0 | Q47: 0 | R47: =SUM(O47:Q47) -> 0 | S47: 0 | T47: 0 | U47: 0 | V47: =SUM(S47:U47) -> 0
A48: Egyéb működési célú átvett pénzeszközök | B48: B63 | C48: 883776 | D48: 0 | E48: 0 | F48: =SUM(C48:E48) -> 883776 | G48: 883776 | H48: 0 | I48: 0 | J48: =SUM(G48:I48) -> 883776 | K48: 883776 | L48: 0 | M48: 0 | N48: =SUM(K48:M48) -> 883776 | O48: 883776 | P48: 0 | Q48: 0 | R48: =SUM(O48:Q48) -> 883776 | S48: 883776 | T48: 0 | U48: 0 | V48: =SUM(S48:U48) -> 883776
A49: Működési célú átvett pénzeszközök | B49: B6 | C49: =SUM(C46:C48) -> 883776 | D49: =SUM(D46:D48) -> 0 | E49: =SUM(E46:E48) -> 0 | F49: =SUM(C49:E49) -> 883776 | G49: =SUM(G46:G48) -> 883776 | H49: =SUM(H46:H48) -> 0 | I49: =SUM(I46:I48) -> 0 | J49: =SUM(G49:I49) -> 883776 | K49: =SUM(K46:K48) -> 883776 | L49: =SUM(L46:L48) -> 0 | M49: =SUM(M46:M48) -> 0 | N49: =SUM(K49:M49) -> 883776 | O49: =SUM(O46:O48) -> 883776 | P49: =SUM(P46:P48) -> 0 | Q49: =SUM(Q46:Q48) -> 0 | R49: =SUM(O49:Q49) -> 883776 | S49: =SUM(S46:S48) -> 883776 | T49: =SUM(T46:T48) -> 0 | U49: =SUM(U46:U48) -> 0 | V49: =SUM(S49:U49) -> 883776
A50: Működési bevételek összesen | C50: =C20+C34+C45+C49 -> 53645824 | D50: =D20+D34+D45+D49 -> 300000 | E50: =E20+E34+E45+E49 -> 20000 | F50: =F20+F34+F45+F49 -> 53965824 | G50: =G20+G34+G45+G49 -> 53646090 | H50: =H20+H34+H45+H49 -> 300000 | I50: =I20+I34+I45+I49 -> 20000 | J50: =J20+J34+J45+J49 -> 53966090 | ... V50: =V20+V34+V45+V49 -> 75561827
A51: Felhalmozási célú önkormányzati támogatások | B51: B21 | C51: 29011989 | D51: 0 | E51: 0 | F51: =SUM(C51:E51) -> 29011989 | G51: 29011989 | H51: 0 | I51: 0 | J51: =SUM(G51:I51) -> 29011989 | K51: 10981254 | L51: 0 | M51: 0 | N51: =SUM(K51:M51) -> 10981254 | O51: 11789254 | P51: 0 | Q51: 0 | R51: =SUM(O51:Q51) -> 11789254 | S51: 11789254 | T51: 0 | U51: 0 | V51: =SUM(S51:U51) -> 11789254
A52: Felhalmozási célú garancia- és kezességvállalásból származó megtérülések államháztartáson belülről | B52: B22 | C52: 0 | D52: 0 | E52: 0 | F52: =SUM(C52:E52) -> 0 | G52: 0 | H52: 0 | I52: 0 | J52: =SUM(G52:I52) -> 0 | K52: 0 | L52: 0 | M52: 0 | N52: =SUM(K52:M52) -> 0 | O52: 0 | P52: 0 | Q52: 0 | R52: =SUM(O52:Q52) -> 0 | S52: 0 | T52: 0 | U52: 0 | V52: =SUM(S52:U52) -> 0
A53: Felhalmozási célú visszatérítendő támogatások, kölcsönök visszatérülése államháztartáson belülről | B53: B23 | C53: 0 | D53: 0 | E53: 0 | F53: =SUM(C53:E53) -> 0 | G53: 0 | H53: 0 | I53: 0 | J53: =SUM(G53:I53) -> 0 | K53: 0 | L53: 0 | M53: 0 | N53: =SUM(K53:M53) -> 0 | O53: 0 | P53: 0 | Q53: 0 | R53: =SUM(O53:Q53) -> 0 | S53: 0 | T53: 0 | U53: 0 | V53: =SUM(S53:U53) -> 0
A54: Felhalmozási célú visszatérítendő támogatások, kölcsönök igénybevétele államháztartáson belülről | B54: B24 | C54: 0 | D54: 0 | E54: 0 | F54: =SUM(C54:E54) -> 0 | G54: 0 | H54: 0 | I54: 0 | J54: =SUM(G54:I54) -> 0 | K54: 0 | L54: 0 | M54: 0 | N54: =SUM(K54:M54) -> 0 | O54: 0 | P54: 0 | Q54: 0 | R54: =SUM(O54:Q54) -> 0 | S54: 0 | T54: 0 | U54: 0 | V54: =SUM(S54:U54) -> 0
A55: Egyéb felhalmozási célú támogatások bevételei államháztartáson belülről | B55: B25 | C55: 0 | D55: 0 | E55: 0 | F55: =SUM(C55:E55) -> 0 | G55: 0 | H55: 0 | I55: 0 | J55: =SUM(G55:I55) -> 0 | K55: 0 | L55: 0 | M55: 0 | N55: =SUM(K55:M55) -> 0 | O55: 0 | P55: 0 | Q55: 0 | R55: =SUM(O55:Q55) -> 0 | S55: 0 | T55: 0 | U55: 0 | V55: =SUM(S55:U55) -> 0
A56: Felhalmozási célú támogatások államháztartáson belülről | B56: B2 | C56: =SUM(C51:C55) -> 29011989 | D56: =SUM(D51:D55) -> 0 | E56: =SUM(E51:E55) -> 0 | F56: =SUM(C56:E56) -> 29011989 | G56: =SUM(G51:G55) -> 29011989 | H56: =SUM(H51:H55) -> 0 | I56: =SUM(I51:I55) -> 0 | J56: =SUM(G56:I56) -> 29011989 | K56: =SUM(K51:K55) -> 10981254 | L56: =SUM(L51:L55) -> 0 | M56: =SUM(M51:M55) -> 0 | N56: =SUM(K56:M56) -> 10981254 | O56: =SUM(O51:O55) -> 11789254 | P56: =SUM(P51:P55) -> 0 | Q56: =SUM(Q51:Q55) -> 0 | R56: =SUM(O56:Q56) -> 11789254 | S56: =SUM(S51:S55) -> 11789254 | T56: =SUM(T51:T55) -> 0 | U56: =SUM(U51:U55) -> 0 | V56: =SUM(S56:U56) -> 11789254
A57: Immateriális javak értékesítése | B57: B51 | C57: 0 | D57: 0 | E57: 0 | F57: =SUM(C57:E57) -> 0 | G57: 0 | H57: 0 | I57: 0 | J57: =SUM(G57:I57) -> 0 | K57: 0 | L57: 0 | M57: 0 | N57: =SUM(K57:M57) -> 0 | O57: 0 | P57: 0 | Q57: 0 | R57: =SUM(O57:Q57) -> 0 | S57: 0 | T57: 0 | U57: 0 | V57: =SUM(S57:U57) -> 0
A58: Ingatlanok értékesítése | B58: B52 | C58: 0 | D58: 0 | E58: 0 | F58: =SUM(C58:E58) -> 0 | G58: 0 | H58: 0 | I58: 0 | J58: =SUM(G58:I58) -> 0 | K58: 0 | L58: 0 | M58: 0 | N58: =SUM(K58:M58) -> 0 | O58: 0 | P58: 0 | Q58: 0 | R58: =SUM(O58:Q58) -> 0 | S58: 0 | T58: 0 | U58: 0 | V58: =SUM(S58:U58) -> 0
A59: Egyéb tárgyi eszközök értékesítése | B59: B53 | C59: 0 | D59: 0 | E59: 0 | F59: =SUM(C59:E59) -> 0 | G59: 0 | H59: 0 | I59: 0 | J59: =SUM(G59:I59) -> 0 | K59: 0 | L59: 0 | M59: 0 | N59: =SUM(K59:M59) -> 0 | O59: 0 | P59: 0 | Q59: 0 | R59: =SUM(O59:Q59) -> 0 | S59: 0 | T59: 0 | U59: 0 | V59: =SUM(S59:U59) -> 0
A60: Részesedések értékesítése | B60: B54 | C60: 0 | D60: 0 | E60: 0 | F60: =SUM(C60:E60) -> 0 | G60: 0 | H60: 0 | I60: 0 | J60: =SUM(G60:I60) -> 0 | K60: 0 | L60: 0 | M60: 0 | N60: =SUM(K60:M60) -> 0 | O60: 0 | P60: 0 | Q60: 0 | R60: =SUM(O60:Q60) -> 0 | S60: 0 | T60: 0 | U60: 0 | V60: =SUM(S60:U60) -> 0
A61: Részesedések megszűnéséhez kapcsolódó bevételek | B61: B55 | C61: 0 | D61: 0 | E61: 0 | F61: =SUM(C61:E61) -> 0 | G61: 0 | H61: 0 | I61: 0 | J61: =SUM(G61:I61) -> 0 | K61: 0 | L61: 0 | M61: 0 | N61: =SUM(K61:M61) -> 0 | O61: 0 | P61: 0 | Q61: 0 | R61: =SUM(O61:Q61) -> 0 | S61: 0 | T61: 0 | U61: 0 | V61: =SUM(S61:U61) -> 0
A62: Felhalmozási bevételek | B62: B5 | C62: =SUM(C57:C61) -> 0 | D62: =SUM(D57:D61) -> 0 | E62: =SUM(E57:E61) -> 0 | F62: =SUM(C62:E62) -> 0 | G62: =SUM(G57:G61) -> 0 | H62: =SUM(H57:H61) -> 0 | I62: =SUM(I57:I61) -> 0 | J62: =SUM(G62:I62) -> 0 | K62: =SUM(K57:K61) -> 0 | L62: =SUM(L57:L61) -> 0 | M62: =SUM(M57:M61) -> 0 | N62: =SUM(K62:M62) -> 0 | O62: =SUM(O57:O61) -> 0 | P62: =SUM(P57:P61) -> 0 | Q62: =SUM(Q57:Q61) -> 0 | R62: =SUM(O62:Q62) -> 0 | S62: =SUM(S57:S61) -> 0 | T62: =SUM(T57:T61) -> 0 | U62: =SUM(U57:U61) -> 0 | V62: =SUM(S62:U62) -> 0
A63: Felhalmozási célú garancia- és kezességvállalásból származó megtérülések államháztartáson kívülről | B63: B71 | C63: 0 | D63: 0 | E63: 0 | F63: =SUM(C63:E63) -> 0 | G63: 0 | H63: 0 | I63: 0 | J63: =SUM(G63:I63) -> 0 | K63: 0 | L63: 0 | M63: 0 | N63: =SUM(K63:M63) -> 0 | O63: 0 | P63: 0 | Q63: 0 | R63: =SUM(O63:Q63) -> 0 | S63: 0 | T63: 0 | U63: 0 | V63: =SUM(S63:U63) -> 0
A64: Felhalmozási célú visszatérítendő támogatások, kölcsönök visszatérülése államháztartáson kívülről | B64: B72 | C64: 0 | D64: 0 | E64: 0 | F64: =SUM(C64:E64) -> 0 | G64: 0 | H64: 0 | I64: 0 | J64: =SUM(G64:I64) -> 0 | K64: 0 | L64: 0 | M64: 0 | N64: =SUM(K64:M64) -> 0 | O64: 0 | P64: 0 | Q64: 0 | R64: =SUM(O64:Q64) -> 0 | S64: 0 | T64: 0 | U64: 0 | V64: =SUM(S64:U64) -> 0
A65: Egyéb felhalmozási célú átvett pénzeszközök | B65: B73 | C65: 0 | D65: 0 | E65: 0 | F65: =SUM(C65:E65) -> 0 | G65: 0 | H65: 0 | I65: 0 | J65: =SUM(G65:I65) -> 0 | K65: 0 | L65: 0 | M65: 0 | N65: =SUM(K65:M65) -> 0 | O65: 0 | P65: 0 | Q65: 0 | R65: =SUM(O65:Q65) -> 0 | S65: 0 | T65: 0 | U65: 0 | V65: =SUM(S65:U65) -> 0
A66: Felhalmozási célú átvett pénzeszközök | B66: B7 | C66: =SUM(C63:C65) -> 0 | D66: =SUM(D63:D65) -> 0 | E66: =SUM(E63:E65) -> 0 | F66: =SUM(C66:E66) -> 0 | G66: =SUM(G63:G65) -> 0 | H66: =SUM(H63:H65) -> 0 | I66: =SUM(I63:I65) -> 0 | J66: =SUM(G66:I66) -> 0 | K66: =SUM(K63:K65) -> 0 | L66: =SUM(L63:L65) -> 0 | M66: =SUM(M63:M65) -> 0 | N66: =SUM(K66:M66) -> 0 | O66: =SUM(O63:O65) -> 0 | P66: =SUM(P63:P65) -> 0 | Q66: =SUM(Q63:Q65) -> 0 | R66: =SUM(O66:Q66) -> 0 | S66: =SUM(S63:S65) -> 0 | T66: =SUM(T63:T65) -> 0 | U66: =SUM(U63:U65) -> 0 | V66: =SUM(S66:U66) -> 0
A67: Felhalmozási bevételek összesen | C67: =C56+C62+C66 -> 29011989 | D67: =D56+D62+D66 -> 0 | E67: =E56+E62+E66 -> 0 | F67: =F56+F62+F66 -> 29011989 | G67: =G56+G62+G66 -> 29011989 | H67: =H56+H62+H66 -> 0 | I67: =I56+I62+I66 -> 0 | J67: =J56+J62+J66 -> 29011989 | ... V67: =V56+V62+V66 -> 11789254
A68: Költségvetési bevételek | B68: B1-B7 | C68: =C20+C34+C45+C49+C56+C62+C66 -> 82657813 | D68: =D20+D34+D45+D49+D56+D62+D66 -> 300000 | E68: =E20+E34+E45+E49+E56+E62+E66 -> 20000 | F68: =SUM(C68:E68) -> 82977813 | G68: =G20+G34+G45+G49+G56+G62+G66 -> 82658079 | H68: =H20+H34+H45+H49+H56+H62+H66 -> 300000 | I68: =I20+I34+I45+I49+I56+I62+I66 -> 20000 | J68: =SUM(G68:I68) -> 82978079 | K68: =K20+K34+K45+K49+K56+K62+K66 -> 84076110 | L68: =L20+L34+L45+L49+L56+L62+L66 -> 300000 | M68: =M20+M34+M45+M49+M56+M62+M66 -> 20000 | N68: =SUM(K68:M68) -> 84396110 | O68: =O20+O34+O45+O49+O56+O62+O66 -> 86062686 | P68: =P20+P34+P45+P49+P56+P62+P66 -> 300000 | Q68: =Q20+Q34+Q45+Q49+Q56+Q62+Q66 -> 20000 | R68: =SUM(O68:Q68) -> 86382686 | S68: =S20+S34+S45+S49+S56+S62+S66 -> 87031081 | T68: =T20+T34+T45+T49+T56+T62+T66 -> 300000 | U68: =U20+U34+U45+U49+U56+U62+U66 -> 20000 | V68: =SUM(S68:U68) -> 87351081
A69: Működési bevételek és működési kiadások egyenlege | C69: =C50-'2. melléklet'!C76 -> 7282795 | D69: =D50-'2. melléklet'!D76 -> 300000 | E69: =E50-'2. melléklet'!E76 -> 7000 | F69: =F50-'2. melléklet'!F76 -> 7589795 | G69: =G50-'2. melléklet'!G76 -> 7285795 | H69: =H50-'2. melléklet'!H76 -> 300000 | I69: =I50-'2. melléklet'!I76 -> 7000 | J69: =J50-'2. melléklet'!J76 -> 7592795 | ... V69: =V50-'2. melléklet'!V76 -> 19481645
A70: Felhalmozási bevételek és a felhalmozási kiadások egyenlege | C70: =C67-'2. melléklet'!C100 -> -7260365 | D70: =D67-'2. melléklet'!D100 -> 0 | E70: =E67-'2. melléklet'!E100 -> 0 | F70: =F67-'2. melléklet'!F100 -> -7260365 | G70: =G67-'2. melléklet'!G100 -> -7260365 | H70: =H67-'2. melléklet'!H100 -> 0 | I70: =I67-'2. melléklet'!I100 -> 0 | J70: =J67-'2. melléklet'!J100 -> -7260365 | ... V70: =V67-'2. melléklet'!V100 -> -22366700
A71: Hosszú lejáratú hitelek, kölcsönök felvétele | B71: B8111 | C71: 0 | D71: 0 | E71: 0 | F71: =SUM(C71:E71) -> 0 | G71: 0 | H71: 0 | I71: 0 | J71: =SUM(G71:I71) -> 0 | K71: 0 | L71: 0 | M71: 0 | N71: =SUM(K71:M71) -> 0 | O71: 0 | P71: 0 | Q71: 0 | R71: =SUM(O71:Q71) -> 0 | S71: 0 | T71: 0 | U71: 0 | V71: =SUM(S71:U71) -> 0
A72: Likviditási célú hitelek, kölcsönök felvétele pénzügyi vállalkozástól | B72: B8112 | C72: 0 | D72: 0 | E72: 0 | F72: =SUM(C72:E72) -> 0 | G72: 0 | H72: 0 | I72: 0 | J72: =SUM(G72:I72) -> 0 | K72: 0 | L72: 0 | M72: 0 | N72: =SUM(K72:M72) -> 0 | O72: 0 | P72: 0 | Q72: 0 | R72: =SUM(O72:Q72) -> 0 | S72: 0 | T72: 0 | U72: 0 | V72: =SUM(S72:U72) -> 0
A73: Rövid lejáratú hitelek, kölcsönök felvétele | B73: B8113 | C73: 0 | D73: 0 | E73: 0 | F73: =SUM(C73:E73) -> 0 | G73: 0 | H73: 0 | I73: 0 | J73: =SUM(G73:I73) -> 0 | K73: 0 | L73: 0 | M73: 0 | N73: =SUM(K73:M73) -> 0 | O73: 0 | P73: 0 | Q73: 0 | R73: =SUM(O73:Q73) -> 0 | S73: 0 | T73: 0 | U73: 0 | V73: =SUM(S73:U73) -> 0
A74: Hitel-, kölcsönfelvétel államháztartáson kívülről | B74: B811 | C74: =SUM(C71:C73) -> 0 | D74: =SUM(D71:D73) -> 0 | E74: =SUM(E71:E73) -> 0 | F74: =SUM(C74:E74) -> 0 | G74: =SUM(G71:G73) -> 0 | H74: =SUM(H71:H73) -> 0 | I74: =SUM(I71:I73) -> 0 | J74: =SUM(G74:I74) -> 0 | K74: =SUM(K71:K73) -> 0 | L74: =SUM(L71:L73) -> 0 | M74: =SUM(M71:M73) -> 0 | N74: =SUM(K74:M74) -> 0 | O74: =SUM(O71:O73) -> 0 | P74: =SUM(P71:P73) -> 0 | Q74: =SUM(Q71:Q73) -> 0 | R74: =SUM(O74:Q74) -> 0 | S74: =SUM(S71:S73) -> 0 | T74: =SUM(T71:T73) -> 0 | U74: =SUM(U71:U73) -> 0 | V74: =SUM(S74:U74) -> 0
A75: Forgatási célú belföldi értékpapírok beváltása, értékesítése | B75: B8121 | C75: 0 | D75: 0 | E75: 0 | F75: =SUM(C75:E75) -> 0 | G75: 0 | H75: 0 | I75: 0 | J75: =SUM(G75:I75) -> 0 | K75: 0 | L75: 0 | M75: 0 | N75: =SUM(K75:M75) -> 0 | O75: 0 | P75: 0 | Q75: 0 | R75: =SUM(O75:Q75) -> 0 | S75: 0 | T75: 0 | U75: 0 | V75: =SUM(S75:U75) -> 0
A76: Forgatási célú belföldi értékpapírok kibocsátása | B76: B8122 | C76: 0 | D76: 0 | E76: 0 | F76: =SUM(C76:E76) -> 0 | G76: 0 | H76: 0 | I76: 0 | J76: =SUM(G76:I76) -> 0 | K76: 0 | L76: 0 | M76: 0 | N76: =SUM(K76:M76) -> 0 | O76: 0 | P76: 0 | Q76: 0 | R76: =SUM(O76:Q76) -> 0 | S76: 0 | T76: 0 | U76: 0 | V76: =SUM(S76:U76) -> 0
A77: Befektetési célú belföldi értékpapírok beváltása, értékesítése | B77: B8123 | C77: 0 | D77: 0 | E77: 0 | F77: =SUM(C77:E77) -> 0 | G77: 0 | H77: 0 | I77: 0 | J77: =SUM(G77:I77) -> 0 | K77: 0 | L77: 0 | M77: 0 | N77: =SUM(K77:M77) -> 0 | O77: 0 | P77: 0 | Q77: 0 | R77: =SUM(O77:Q77) -> 0 | S77: 0 | T77: 0 | U77: 0 | V77: =SUM(S77:U77) -> 0
A78: Befektetési célú belföldi értékpapírok kibocsátása | B78: B8124 | C78: 0 | D78: 0 | E78: 0 | F78: =SUM(C78:E78) -> 0 | G78: 0 | H78: 0 | I78: 0 | J78: =SUM(G78:I78) -> 0 | K78: 0 | L78: 0 | M78: 0 | N78: =SUM(K78:M78) -> 0 | O78: 0 | P78: 0 | Q78: 0 | R78: =SUM(O78:Q78) -> 0 | S78: 0 | T78: 0 | U78: 0 | V78: =SUM(S78:U78) -> 0
A79: Belföldi értékpapírok bevételei | B79: B812 | C79: =SUM(C75:C78) -> 0 | D79: =SUM(D75:D78) -> 0 | E79: =SUM(E75:E78) -> 0 | F79: =SUM(C79:E79) -> 0 | G79: =SUM(G75:G78) -> 0 | H79: =SUM(H75:H78) -> 0 | I79: =SUM(I75:I78) -> 0 | J79: =SUM(G79:I79) -> 0 | K79: =SUM(K75:K78) -> 0 | L79: =SUM(L75:L78) -> 0 | M79: =SUM(M75:M78) -> 0 | N79: =SUM(K79:M79) -> 0 | O79: =SUM(O75:O78) -> 0 | P79: =SUM(P75:P78) -> 0 | Q79: =SUM(Q75:Q78) -> 0 | R79: =SUM(O79:Q79) -> 0 | S79: =SUM(S75:S78) -> 0 | T79: =SUM(T75:T78) -> 0 | U79: =SUM(U75:U78) -> 0 | V79: =SUM(S79:U79) -> 0
A80: Előző év költségvetési maradványának igénybevétele MŰKÖDÉSRE | B80: B8131 | C80: 18727433 | D80: 0 | E80: 0 | F80: =SUM(C80:E80) -> 18727433 | G80: 18727433 | H80: 0 | I80: 0 | J80: =SUM(G80:I80) -> 18727433 | K80: 18847231 | L80: 0 | M80: 0 | N80: =SUM(K80:M80) -> 18847231 | O80: 18847231 | P80: 0 | Q80: 0 | R80: =SUM(O80:Q80) -> 18847231 | S80: 18847231 | T80: 0 | U80: 0 | V80: =SUM(S80:U80) -> 18847231
A81: Előző év költségvetési maradványának igénybevétele FELHALMOZÁSRA | B81: B8131 | C81: 0 | D81: 0 | E81: 0 | F81: =SUM(C81:E81) -> 0 | G81: 0 | H81: 0 | I81: 0 | J81: =SUM(G81:I81) -> 0 | K81: 0 | L81: 0 | M81: 0 | N81: =SUM(K81:M81) -> 0 | O81: 0 | P81: 0 | Q81: 0 | R81: =SUM(O81:Q81) -> 0 | S81: 0 | T81: 0 | U81: 0 | V81: =SUM(S81:U81) -> 0
A82: Előző év vállalkozási maradványának igénybevétele MŰKÖDÉSRE | B82: B8132 | C82: 0 | D82: 0 | E82: 0 | F82: =SUM(C82:E82) -> 0 | G82: 0 | H82: 0 | I82: 0 | J82: =SUM(G82:I82) -> 0 | K82: 0 | L82: 0 | M82: 0 | N82: =SUM(K82:M82) -> 0 | O82: 0 | P82: 0 | Q82: 0 | R82: =SUM(O82:Q82) -> 0 | S82: 0 | T82: 0 | U82: 0 | V82: =SUM(S82:U82) -> 0
A83: Előző év vállalkozási maradványának igénybevétele FELHALMOZÁSRA | B83: B8132 | C83: 0 | D83: 0 | E83: 0 | F83: =SUM(C83:E83) -> 0 | G83: 0 | H83: 0 | I83: 0 | J83: =SUM(G83:I83) -> 0 | K83: 0 | L83: 0 | M83: 0 | N83: =SUM(K83:M83) -> 0 | O83: 0 | P83: 0 | Q83: 0 | R83: =SUM(O83:Q83) -> 0 | S83: 0 | T83: 0 | U83: 0 | V83: =SUM(S83:U83) -> 0
A84: Maradvány igénybevétele | B84: B813 | C84: =SUM(C80:C83) -> 18727433 | D84: =SUM(D80:D83) -> 0 | E84: =SUM(E80:E83) -> 0 | F84: =SUM(C84:E84) -> 18727433 | G84: =SUM(G80:G83) -> 18727433 | H84: =SUM(H80:H83) -> 0 | I84: =SUM(I80:I83) -> 0 | J84: =SUM(G84:I84) -> 18727433 | K84: =SUM(K80:K83) -> 18847231 | L84: =SUM(L80:L83) -> 0 | M84: =SUM(M80:M83) -> 0 | N84: =SUM(K84:M84) -> 18847231 | O84: =SUM(O80:O83) -> 18847231 | P84: =SUM(P80:P83) -> 0 | Q84: =SUM(Q80:Q83) -> 0 | R84: =SUM(O84:Q84) -> 18847231 | S84: =SUM(S80:S83) -> 18847231 | T84: =SUM(T80:T83) -> 0 | U84: =SUM(U80:U83) -> 0 | V84: =SUM(S84:U84) -> 18847231
A85: Államháztartáson belüli megelőlegezések | B85: B814 | C85: 0 | D85: 0 | E85: 0 | F85: =SUM(C85:E85) -> 0 | G85: 0 | H85: 0 | I85: 0 | J85: =SUM(G85:I85) -> 0 | K85: 0 | L85: 0 | M85: 0 | N85: =SUM(K85:M85) -> 0 | O85: 0 | P85: 0 | Q85: 0 | R85: =SUM(O85:Q85) -> 0 | S85: 1265953 | T85: 0 | U85: 0 | V85: =SUM(S85:U85) -> 1265953
A86: Államháztartáson belüli megelőlegezések törlesztése | B86: B815 | C86: 0 | D86: 0 | E86: 0 | F86: =SUM(C86:E86) -> 0 | G86: 0 | H86: 0 | I86: 0 | J86: =SUM(G86:I86) -> 0 | K86: 0 | L86: 0 | M86: 0 | N86: =SUM(K86:M86) -> 0 | O86: 0 | P86: 0 | Q86: 0 | R86: =SUM(O86:Q86) -> 0 | S86: 0 | T86: 0 | U86: 0 | V86: =SUM(S86:U86) -> 0
A87: Központi, irányító szervi támogatás | B87: B816 | C87: 0 | D87: 0 | E87: 0 | F87: =SUM(C87:E87) -> 0 | G87: 0 | H87: 0 | I87: 0 | J87: =SUM(G87:I87) -> 0 | K87: 0 | L87: 0 | M87: 0 | N87: =SUM(K87:M87) -> 0 | O87: 0 | P87: 0 | Q87: 0 | R87: =SUM(O87:Q87) -> 0 | S87: 0 | T87: 0 | U87: 0 | V87: =SUM(S87:U87) -> 0
A88: Betétek megszüntetése | B88: B817 | C88: 0 | D88: 0 | E88: 0 | F88: =SUM(C88:E88) -> 0 | G88: 0 | H88: 0 | I88: 0 | J88: =SUM(G88:I88) -> 0 | K88: 0 | L88: 0 | M88: 0 | N88: =SUM(K88:M88) -> 0 | O88: 0 | P88: 0 | Q88: 0 | R88: =SUM(O88:Q88) -> 0 | S88: 0 | T88: 0 | U88: 0 | V88: =SUM(S88:U88) -> 0
A89: Központi költségvetés sajátos finanszírozási bevételei | B89: B818 | C89: 0 | D89: 0 | E89: 0 | F89: =SUM(C89:E89) -> 0 | G89: 0 | H89: 0 | I89: 0 | J89: =SUM(G89:I89) -> 0 | K89: 0 | L89: 0 | M89: 0 | N89: =SUM(K89:M89) -> 0 | O89: 0 | P89: 0 | Q89: 0 | R89: =SUM(O89:Q89) -> 0 | S89: 0 | T89: 0 | U89: 0 | V89: =SUM(S89:U89) -> 0
A90: Belföldi finanszírozás bevételei | B90: B81 | C90: =C74+C79+C84+C85+C87+C86+C88+C89 -> 18727433 | D90: =D74+D79+D84+D85+D87+D86+D88+D89 -> 0 | E90: =E74+E79+E84+E85+E87+E86+E88+E89 -> 0 | F90: =SUM(C90:E90) -> 18727433 | G90: =G74+G79+G84+G85+G87+G86+G88+G89 -> 18727433 | H90: =H74+H79+H84+H85+H87+H86+H88+H89 -> 0 | I90: =I74+I79+I84+I85+I87+I86+I88+I89 -> 0 | J90: =SUM(G90:I90) -> 18727433 | K90: =K74+K79+K84+K85+K87+K86+K88+K89 -> 18847231 | L90: =L74+L79+L84+L85+L87+L86+L88+L89 -> 0 | M90: =M74+M79+M84+M85+M87+M86+M88+M89 -> 0 | N90: =SUM(K90:M90) -> 18847231 | O90: =O74+O79+O84+O85+O87+O86+O88+O89 -> 18847231 | P90: =P74+P79+P84+P85+P87+P86+P88+P89 -> 0 | Q90: =Q74+Q79+Q84+Q85+Q87+Q86+Q88+Q89 -> 0 | R90: =SUM(O90:Q90) -> 18847231 | S90: =S74+S79+S84+S85+S87+S86+S88+S89 -> 20113184 | T90: =T74+T79+T84+T85+T87+T86+T88+T89 -> 0 | U90: =U74+U79+U84+U85+U87+U86+U88+U89 -> 0 | V90: =SUM(S90:U90) -> 20113184
A91: Forgatási célú külföldi értékpapírok beváltása, értékesítése | B91: B821 | C91: 0 | D91: 0 | E91: 0 | F91: =SUM(C91:E91) -> 0 | G91: 0 | H91: 0 | I91: 0 | J91: =SUM(G91:I91) -> 0 | K91: 0 | L91: 0 | M91: 0 | N91: =SUM(K91:M91) -> 0 | O91: 0 | P91: 0 | Q91: 0 | R91: =SUM(O91:Q91) -> 0 | S91: 0 | T91: 0 | U91: 0 | V91: =SUM(S91:U91) -> 0
A92: Befektetési célú külföldi értékpapírok beváltása, értékesítése | B92: B822 | C92: 0 | D92: 0 | E92: 0 | F92: =SUM(C92:E92) -> 0 | G92: 0 | H92: 0 | I92: 0 | J92: =SUM(G92:I92) -> 0 | K92: 0 | L92: 0 | M92: 0 | N92: =SUM(K92:M92) -> 0 | O92: 0 | P92: 0 | Q92: 0 | R92: =SUM(O92:Q92) -> 0 | S92: 0 | T92: 0 | U92: 0 | V92: =SUM(S92:U92) -> 0
A93: Külföldi értékpapírok kibocsátása | B93: B823 | C93: 0 | D93: 0 | E93: 0 | F93: =SUM(C93:E93) -> 0 | G93: 0 | H93: 0 | I93: 0 | J93: =SUM(G93:I93) -> 0 | K93: 0 | L93: 0 | M93: 0 | N93: =SUM(K93:M93) -> 0 | O93: 0 | P93: 0 | Q93: 0 | R93: =SUM(O93:Q93) -> 0 | S93: 0 | T93: 0 | U93: 0 | V93: =SUM(S93:U93) -> 0
A94: Külföldi hitelek, kölcsönök felvétele | B94: B824 | C94: 0 | D94: 0 | E94: 0 | F94: =SUM(C94:E94) -> 0 | G94: 0 | H94: 0 | I94: 0 | J94: =SUM(G94:I94) -> 0 | K94: 0 | L94: 0 | M94: 0 | N94: =SUM(K94:M94) -> 0 | O94: 0 | P94: 0 | Q94: 0 | R94: =SUM(O94:Q94) -> 0 | S94: 0 | T94: 0 | U94: 0 | V94: =SUM(S94:U94) -> 0
A95: Külföldi finanszírozás bevételei | B95: B82 | C95: 0 | D95: 0 | E95: 0 | F95: =SUM(C95:E95) -> 0 | G95: 0 | H95: 0 | I95: 0 | J95: =SUM(G95:I95) -> 0 | K95: 0 | L95: 0 | M95: 0 | N95: =SUM(K95:M95) -> 0 | O95: 0 | P95: 0 | Q95: 0 | R95: =SUM(O95:Q95) -> 0 | S95: 0 | T95: 0 | U95: 0 | V95: =SUM(S95:U95) -> 0
A96: Adóssághoz nem kapcsolódó származékos ügyletek bevételei | B96: B83 | C96: 0 | D96: 0 | E96: 0 | F96: =SUM(C96:E96) -> 0 | G96: 0 | H96: 0 | I96: 0 | J96: =SUM(G96:I96) -> 0 | K96: 0 | L96: 0 | M96: 0 | N96: =SUM(K96:M96) -> 0 | O96: 0 | P96: 0 | Q96: 0 | R96: =SUM(O96:Q96) -> 0 | S96: 0 | T96: 0 | U96: 0 | V96: =SUM(S96:U96) -> 0
A97: Finanszírozási bevételek | B97: B8 | C97: =C90+C95+C96 -> 18727433 | D97: =D90+D95+D96 -> 0 | E97: =E90+E95+E96 -> 0 | F97: =SUM(C97:E97) -> 18727433 | G97: =G90+G95+G96 -> 18727433 | H97: =H90+H95+H96 -> 0 | I97: =I90+I95+I96 -> 0 | J97: =SUM(G97:I97) -> 18727433 | K97: =K90+K95+K96 -> 18847231 | L97: =L90+L95+L96 -> 0 | M97: =M90+M95+M96 -> 0 | N97: =SUM(K97:M97) -> 18847231 | O97: =O90+O95+O96 -> 18847231 | P97: =P90+P95+P96 -> 0 | Q97: =Q90+Q95+Q96 -> 0 | R97: =SUM(O97:Q97) -> 18847231 | S97: =S90+S95+S96 -> 20113184 | T97: =T90+T95+T96 -> 0 | U97: =U90+U95+U96 -> 0 | V97: =SUM(S97:U97) -> 20113184
A98: BEVÉTELEK ÖSSZESEN (B1-8) | C98: =C68+C97 -> 101385246 | D98: =D68+D97 -> 300000 | E98: =E68+E97 -> 20000 | F98: =SUM(C98:E98) -> 101705246 | G98: =G68+G97 -> 101385512 | H98: =H68+H97 -> 300000 | I98: =I68+I97 -> 20000 | J98: =SUM(G98:I98) -> 101705512 | K98: =K68+K97 -> 102923341 | L98: =L68+L97 -> 300000 | M98: =M68+M97 -> 20000 | N98: =SUM(K98:M98) -> 103243341 | O98: =O68+O97 -> 104909917 | P98: =P68+P97 -> 300000 | Q98: =Q68+Q97 -> 20000 | R98: =SUM(O98:Q98) -> 105229917 | S98: =S68+S97 -> 107144265 | T98: =T68+T97 -> 300000 | U98: =U68+U97 -> 20000 | V98: =SUM(S98:U98) -> 107464265

Sheet 6. melléklet 
B1: 6. melléklet 1/2018. (I.23.) önkormányzati rendelethez
A3: SOROKPOLÁNY Önkormányzat 2018. évi költségvetése
A4: Bevételek (Ft)
A6: BÓBITA ÓVODA ELŐIRÁNYZATOK | C6: EREDETI ELŐIRÁNYZAT | G6: I n.év módossított ELŐIRÁNYZAT | K6: II n.év módossított ELŐIRÁNYZAT | O6: III n.év módossított ELŐIRÁNYZAT | S6: IV n.év módossított ELŐIRÁNYZAT
A7: Rovat megnevezése | B7: Rovat- szám | C7: kötelező feladatok | D7: önként vállalt feladatok | E7: államigazgatási feladatok | F7: ÖSSZESEN | G7: kötelező feladatok | H7: önként vállalt feladatok | I7: államigazgatási feladatok | J7: ÖSSZESEN | K7: kötelező feladatok | L7: önként vállalt feladatok | M7: államigazgatási feladatok | N7: ÖSSZESEN | O7: kötelező feladatok | P7: önként vállalt feladatok | Q7: államigazgatási feladatok | R7: ÖSSZESEN | S7: kötelező feladatok | T7: önként vállalt feladatok | U7: államigazgatási feladatok | V7: ÖSSZESEN
A8: Helyi önkormányzatok működésének általános támogatása | B8: B111 | C8: 0 | D8: 0 | E8: 0 | F8: =SUM(C8:E8) -> 0 | G8: 0 | H8: 0 | I8: 0 | J8: =SUM(G8:I8) -> 0 | K8: 0 | L8: 0 | M8: 0 | N8: =SUM(K8:M8) -> 0 | O8: 0 | P8: 0 | Q8: 0 | R8: =SUM(O8:Q8) -> 0 | S8: 0 | T8: 0 | U8: 0 | V8: =SUM(S8:U8) -> 0
A9: Települési önkormányzatok egyes köznevelési feladatainak támogatása | B9: B112 | C9: 0 | D9: 0 | E9: 0 | F9: =SUM(C9:E9) -> 0 | G9: 0 | H9: 0 | I9: 0 | J9: =SUM(G9:I9) -> 0 | K9: 0 | L9: 0 | M9: 0 | N9: =SUM(K9:M9) -> 0 | O9: 0 | P9: 0 | Q9: 0 | R9: =SUM(O9:Q9) -> 0 | S9: 0 | T9: 0 | U9: 0 | V9: =SUM(S9:U9) -> 0
A10: Települési önkormányzatok szociális és gyermekjóléti feladatainak támogatása | B10: B113 | C10: 0 | D10: 0 | E10: 0 | F10: =SUM(C10:E10) -> 0 | G10: 0 | H10: 0 | I10: 0 | J10: =SUM(G10:I10) -> 0 | K10: 0 | L10: 0 | M10: 0 | N10: =SUM(K10:M10) -> 0 | O10: 0 | P10: 0 | Q10: 0 | R10: =SUM(O10:Q10) -> 0 | S10: 0 | T10: 0 | U10: 0 | V10: =SUM(S10:U10) -> 0
A11: Települési önkormányzatok kulturális feladatainak támogatása | B11: B114 | C11: 0 | D11: 0 | E11: 0 | F11: =SUM(C11:E11) -> 0 | G11: 0 | H11: 0 | I11: 0 | J11: =SUM(G11:I11) -> 0 | K11: 0 | L11: 0 | M11: 0 | N11: =SUM(K11:M11) -> 0 | O11: 0 | P11: 0 | Q11: 0 | R11: =SUM(O11:Q11) -> 0 | S11: 0 | T11: 0 | U11: 0 | V11: =SUM(S11:U11) -> 0
A12: Működési célú központosított előirányzatok | B12: B115 | C12: 0 | D12: 0 | E12: 0 | F12: =SUM(C12:E12) -> 0 | G12: 0 | H12: 0 | I12: 0 | J12: =SUM(G12:I12) -> 0 | K12: 0 | L12: 0 | M12: 0 | N12: =SUM(K12:M12) -> 0 | O12: 0 | P12: 0 | Q12: 0 | R12: =SUM(O12:Q12) -> 0 | S12: 0 | T12: 0 | U12: 0 | V12: =SUM(S12:U12) -> 0
A13: Elszámolásból származó bevételek | B13: B116 | C13: 0 | D13: 0 | E13: 0 | F13: =SUM(C13:E13) -> 0 | G13: 0 | H13: 0 | I13: 0 | J13: =SUM(G13:I13) -> 0 | K13: 0 | L13: 0 | M13: 0 | N13: =SUM(K13:M13) -> 0 | O13: 0 | P13: 0 | Q13: 0 | R13: =SUM(O13:Q13) -> 0 | S13: 0 | T13: 0 | U13: 0 | V13: =SUM(S13:U13) -> 0
A14: Önkormányzatok működési támogatásai | B14: B11 | C14: =SUM(C8:C13) -> 0 | D14: =SUM(D8:D13) -> 0 | E14: =SUM(E8:E13) -> 0 | F14: =SUM(C14:E14) -> 0 | G14: =SUM(G8:G13) -> 0 | H14: =SUM(H8:H13) -> 0 | I14: =SUM(I8:I13) -> 0 | J14: =SUM(G14:I14) -> 0 | K14: =SUM(K8:K13) -> 0 | L14: =SUM(L8:L13) -> 0 | M14: =SUM(M8:M13) -> 0 | N14: =SUM(K14:M14) -> 0 | O14: =SUM(O8:O13) -> 0 | P14: =SUM(P8:P13) -> 0 | Q14: =SUM(Q8:Q13) -> 0 | R14: =SUM(O14:Q14) -> 0 | S14: =SUM(S8:S13) -> 0 | T14: =SUM(T8:T13) -> 0 | U14: =SUM(U8:U13) -> 0 | V14: =SUM(S14:U14) -> 0
A15: Elvonások és befizetések bevételei | B15: B12 | C15: 0 | D15: 0 | E15: 0 | F15: =SUM(C15:E15) -> 0 | G15: 0 | H15: 0 | I15: 0 | J15: =SUM(G15:I15) -> 0 | K15: 0 | L15: 0 | M15: 0 | N15: =SUM(K15:M15) -> 0 | O15: 0 | P15: 0 | Q15: 0 | R15: =SUM(O15:Q15) -> 0 | S15: 0 | T15: 0 | U15: 0 | V15: =SUM(S15:U15) -> 0
A16: Működési célú garancia- és kezességvállalásból származó megtérülések államháztartáson belülről | B16: B13 | C16: 0 | D16: 0 | E16: 0 | F16: =SUM(C16:E16) -> 0 | G16: 0 | H16: 0 | I16: 0 | J16: =SUM(G16:I16) -> 0 | K16: 0 | L16: 0 | M16: 0 | N16: =SUM(K16:M16) -> 0 | O16: 0 | P16: 0 | Q16: 0 | R16: =SUM(O16:Q16) -> 0 | S16: 0 | T16: 0 | U16: 0 | V16: =SUM(S16:U16) -> 0
A17: Működési célú visszatérítendő támogatások, kölcsönök visszatérülése államháztartáson belülről | B17: B14 | C17: 0 | D17: 0 | E17: 0 | F17: =SUM(C17:E17) -> 0 | G17: 0 | H17: 0 | I17: 0 | J17: =SUM(G17:I17) -> 0 | K17: 0 | L17: 0 | M17: 0 | N17: =SUM(K17:M17) -> 0 | O17: 0 | P17: 0 | Q17: 0 | R17: =SUM(O17:Q17) -> 0 | S17: 0 | T17: 0 | U17: 0 | V17: =SUM(S17:U17) -> 0
A18: Működési célú visszatérítendő támogatások, kölcsönök igénybevétele államháztartáson belülről | B18: B15 | C18: 0 | D18: 0 | E18: 0 | F18: =SUM(C18:E18) -> 0 | G18: 0 | H18: 0 | I18: 0 | J18: =SUM(G18:I18) -> 0 | K18: 0 | L18: 0 | M18: 0 | N18: =SUM(K18:M18) -> 0 | O18: 0 | P18: 0 | Q18: 0 | R18: =SUM(O18:Q18) -> 0 | S18: 0 | T18: 0 | U18: 0 | V18: =SUM(S18:U18) -> 0
A19: Egyéb működési célú támogatások bevételei államháztartáson belülről | B19: B16 | C19: 0 | D19: 0 | E19: 0 | F19: =SUM(C19:E19) -> 0 | G19: 0 | H19: 0 | I19: 0 | J19: =SUM(G19:I19) -> 0 | K19: 0 | L19: 0 | M19: 0 | N19: =SUM(K19:M19) -> 0 | O19: 0 | P19: 0 | Q19: 0 | R19: =SUM(O19:Q19) -> 0 | S19: 0 | T19: 0 | U19: 0 | V19: =SUM(S19:U19) -> 0
A20: Működési célú támogatások államháztartáson belülről | B20: B1 | C20: =SUM(C14:C19) -> 0 | D20: =SUM(D14:D19) -> 0 | E20: =SUM(E14:E19) -> 0 | F20: =SUM(C20:E20) -> 0 | G20: =SUM(G14:G19) -> 0 | H20: =SUM(H14:H19) -> 0 | I20: =SUM(I14:I19) -> 0 | J20: =SUM(G20:I20) -> 0 | K20: =SUM(K14:K19) -> 0 | L20: =SUM(L14:L19) -> 0 | M20: =SUM(M14:M19) -> 0 | N20: =SUM(K20:M20) -> 0 | O20: =SUM(O14:O19) -> 0 | P20: =SUM(P14:P19) -> 0 | Q20: =SUM(Q14:Q19) -> 0 | R20: =SUM(O20:Q20) -> 0 | S20: =SUM(S14:S19) -> 0 | T20: =SUM(T14:T19) -> 0 | U20: =SUM(U14:U19) -> 0 | V20: =SUM(S20:U20) -> 0
A21: Magánszemélyek jövedelemadói | B21: B311 | C21: 0 | D21: 0 | E21: 0 | F21: =SUM(C21:E21) -> 0 | G21: 0 | H21: 0 | I21: 0 | J21: =SUM(G21:I21) -> 0 | K21: 0 | L21: 0 | M21: 0 | N21: =SUM(K21:M21) -> 0 | O21: 0 | P21: 0 | Q21: 0 | R21: =SUM(O21:Q21) -> 0 | S21: 0 | T21: 0 | U21: 0 | V21: =SUM(S21:U21) -> 0
A22: Társaságok jövedelemadói | B22: B312 | C22: 0 | D22: 0 | E22: 0 | F22: =SUM(C22:E22) -> 0 | G22: 0 | H22: 0 | I22: 0 | J22: =SUM(G22:I22) -> 0 | K22: 0 | L22: 0 | M22: 0 | N22: =SUM(K22:M22) -> 0 | O22: 0 | P22: 0 | Q22: 0 | R22: =SUM(O22:Q22) -> 0 | S22: 0 | T22: 0 | U22: 0 | V22: =SUM(S22:U22) -> 0
A23: Jövedelemadók | B23: B31 | C23: =SUM(C21:C22) -> 0 | D23: =SUM(D21:D22) -> 0 | E23: =SUM(E21:E22) -> 0 | F23: =SUM(C23:E23) -> 0 | G23: =SUM(G21:G22) -> 0 | H23: =SUM(H21:H22) -> 0 | I23: =SUM(I21:I22) -> 0 | J23: =SUM(G23:I23) -> 0 | K23: =SUM(K21:K22) -> 0 | L23: =SUM(L21:L22) -> 0 | M23: =SUM(M21:M22) -> 0 | N23: =SUM(K23:M23) -> 0 | O23: =SUM(O21:O22) -> 0 | P23: =SUM(P21:P22) -> 0 | Q23: =SUM(Q21:Q22) -> 0 | R23: =SUM(O23:Q23) -> 0 | S23: =SUM(S21:S22) -> 0 | T23: =SUM(T21:T22) -> 0 | U23: =SUM(U21:U22) -> 0 | V23: =SUM(S23:U23) -> 0
A24: Szociális hozzájárulási adó és járulékok | B24: B32 | C24: 0 | D24: 0 | E24: 0 | F24: =SUM(C24:E24) -> 0 | G24: 0 | H24: 0 | I24: 0 | J24: =SUM(G24:I24) -> 0 | K24: 0 | L24: 0 | M24: 0 | N24: =SUM(K24:M24) -> 0 | O24: 0 | P24: 0 | Q24: 0 | R24: =SUM(O24:Q24) -> 0 | S24: 0 | T24: 0 | U24: 0 | V24: =SUM(S24:U24) -> 0
A25: Bérhez és foglalkoztatáshoz kapcsolódó adók | B25: B33 | C25: 0 | D25: 0 | E25: 0 | F25: =SUM(C25:E25) -> 0 | G25: 0 | H25: 0 | I25: 0 | J25: =SUM(G25:I25) -> 0 | K25: 0 | L25: 0 | M25: 0 | N25: =SUM(K25:M25) -> 0 | O25: 0 | P25: 0 | Q25: 0 | R25: =SUM(O25:Q25) -> 0 | S25: 0 | T25: 0 | U25: 0 | V25: =SUM(S25:U25) -> 0
A26: Vagyoni tipusú adók | B26: B34 | C26: 0 | D26: 0 | E26: 0 | F26: =SUM(C26:E26) -> 0 | G26: 0 | H26: 0 | I26: 0 | J26: =SUM(G26:I26) -> 0 | K26: 0 | L26: 0 | M26: 0 | N26: =SUM(K26:M26) -> 0 | O26: 0 | P26: 0 | Q26: 0 | R26: =SUM(O26:Q26) -> 0 | S26: 0 | T26: 0 | U26: 0 | V26: =SUM(S26:U26) -> 0
A27: Értékesítési és forgalmi adók | B27: B351 | C27: 0 | D27: 0 | E27: 0 | F27: =SUM(C27:E27) -> 0 | G27: 0 | H27: 0 | I27: 0 | J27: =SUM(G27:I27) -> 0 | K27: 0 | L27: 0 | M27: 0 | N27: =SUM(K27:M27) -> 0 | O27: 0 | P27: 0 | Q27: 0 | R27: =SUM(O27:Q27) -> 0 | S27: 0 | T27: 0 | U27: 0 | V27: =SUM(S27:U27) -> 0
A28: Fogyasztási adók | B28: B352 | C28: 0 | D28: 0 | E28: 0 | F28: =SUM(C28:E28) -> 0 | G28: 0 | H28: 0 | I28: 0 | J28: =SUM(G28:I28) -> 0 | K28: 0 | L28: 0 | M28: 0 | N28: =SUM(K28:M28) -> 0 | O28: 0 | P28: 0 | Q28: 0 | R28: =SUM(O28:Q28) -> 0 | S28: 0 | T28: 0 | U28: 0 | V28: =SUM(S28:U28) -> 0
A29: Pénzügyi monopóliumok nyereségét terhelő adók | B29: B353 | C29: 0 | D29: 0 | E29: 0 | F29: =SUM(C29:E29) -> 0 | G29: 0 | H29: 0 | I29: 0 | J29: =SUM(G29:I29) -> 0 | K29: 0 | L29: 0 | M29: 0 | N29: =SUM(K29:M29) -> 0 | O29: 0 | P29: 0 | Q29: 0 | R29: =SUM(O29:Q29) -> 0 | S29: 0 | T29: 0 | U29: 0 | V29: =SUM(S29:U29) -> 0
A30: Gépjárműadók | B30: B354 | C30: 0 | D30: 0 | E30: 0 | F30: =SUM(C30:E30) -> 0 | G30: 0 | H30: 0 | I30: 0 | J30: =SUM(G30:I30) -> 0 | K30: 0 | L30: 0 | M30: 0 | N30: =SUM(K30:M30) -> 0 | O30: 0 | P30: 0 | Q30: 0 | R30: =SUM(O30:Q30) -> 0 | S30: 0 | T30: 0 | U30: 0 | V30: =SUM(S30:U30) -> 0
A31: Egyéb áruhasználati és szolgáltatási adók | B31: B355 | C31: 0 | D31: 0 | E31: 0 | F31: =SUM(C31:E31) -> 0 | G31: 0 | H31: 0 | I31: 0 | J31: =SUM(G31:I31) -> 0 | K31: 0 | L31: 0 | M31: 0 | N31: =SUM(K31:M31) -> 0 | O31: 0 | P31: 0 | Q31: 0 | R31: =SUM(O31:Q31) -> 0 | S31: 0 | T31: 0 | U31: 0 | V31: =SUM(S31:U31) -> 0
A32: Termékek és szolgáltatások adói | B32: B35 | C32: =SUM(C27:C31) -> 0 | D32: =SUM(D27:D31) -> 0 | E32: =SUM(E27:E31) -> 0 | F32: =SUM(C32:E32) -> 0 | G32: =SUM(G27:G31) -> 0 | H32: =SUM(H27:H31) -> 0 | I32: =SUM(I27:I31) -> 0 | J32: =SUM(G32:I32) -> 0 | K32: =SUM(K27:K31) -> 0 | L32: =SUM(L27:L31) -> 0 | M32: =SUM(M27:M31) -> 0 | N32: =SUM(K32:M32) -> 0 | O32: =SUM(O27:O31) -> 0 | P32: =SUM(P27:P31) -> 0 | Q32: =SUM(Q27:Q31) -> 0 | R32: =SUM(O32:Q32) -> 0 | S32: =SUM(S27:S31) -> 0 | T32: =SUM(T27:T31) -> 0 | U32: =SUM(U27:U31) -> 0 | V32: =SUM(S32:U32) -> 0
A33: Egyéb közhatalmi bevételek | B33: B36 | C33: 0 | D33: 0 | E33: 0 | F33: =SUM(C33:E33) -> 0 | G33: 0 | H33: 0 | I33: 0 | J33: =SUM(G33:I33) -> 0 | K33: 0 | L33: 0 | M33: 0 | N33: =SUM(K33:M33) -> 0 | O33: 0 | P33: 0 | Q33: 0 | R33: =SUM(O33:Q33) -> 0 | S33: 0 | T33: 0 | U33: 0 | V33: =SUM(S33:U33) -> 0
A34: Közhatalmi bevételek | B34: B3 | C34: =C23+C24+C25+C26+C32+C33 -> 0 | D34: =D23+D24+D25+D26+D32+D33 -> 0 | E34: =E23+E24+E25+E26+E32+E33 -> 0 | F34: =SUM(C34:E34) -> 0 | G34: =G23+G24+G25+G26+G32+G33 -> 0 | H34: =H23+H24+H25+H26+H32+H33 -> 0 | I34: =I23+I24+I25+I26+I32+I33 -> 0 | J34: =SUM(G34:I34) -> 0 | K34: =K23+K24+K25+K26+K32+K33 -> 0 | L34: =L23+L24+L25+L26+L32+L33 -> 0 | M34: =M23+M24+M25+M26+M32+M33 -> 0 | N34: =SUM(K34:M34) -> 0 | O34: =O23+O24+O25+O26+O32+O33 -> 0 | P34: =P23+P24+P25+P26+P32+P33 -> 0 | Q34: =Q23+Q24+Q25+Q26+Q32+Q33 -> 0 | R34: =SUM(O34:Q34) -> 0 | S34: =S23+S24+S25+S26+S32+S33 -> 0 | T34: =T23+T24+T25+T26+T32+T33 -> 0 | U34: =U23+U24+U25+U26+U32+U33 -> 0 | V34: =SUM(S34:U34) -> 0
A35: Áru- és készletértékesítés ellenértéke | B35: B401 | C35: 0 | D35: 0 | E35: 0 | F35: =SUM(C35:E35) -> 0 | G35: 0 | H35: 0 | I35: 0 | J35: =SUM(G35:I35) -> 0 | K35: 0 | L35: 0 | M35: 0 | N35: =SUM(K35:M35) -> 0 | O35: 0 | P35: 0 | Q35: 0 | R35: =SUM(O35:Q35) -> 0 | S35: 0 | T35: 0 | U35: 0 | V35: =SUM(S35:U35) -> 0
A36: Szolgáltatások ellenértéke | B36: B402 | C36: 0 | D36: 0 | E36: 0 | F36: =SUM(C36:E36) -> 0 | G36: 0 | H36: 0 | I36: 0 | J36: =SUM(G36:I36) -> 0 | K36: 0 | L36: 0 | M36: 0 | N36: =SUM(K36:M36) -> 0 | O36: 0 | P36: 0 | Q36: 0 | R36: =SUM(O36:Q36) -> 0 | S36: 0 | T36: 0 | U36: 0 | V36: =SUM(S36:U36) -> 0
A37: Közvetített szolgáltatások értéke | B37: B403 | C37: 0 | D37: 0 | E37: 0 | F37: =SUM(C37:E37) -> 0 | G37: 0 | H37: 0 | I37: 0 | J37: =SUM(G37:I37) -> 0 | K37: 0 | L37: 0 | M37: 0 | N37: =SUM(K37:M37) -> 0 | O37: 0 | P37: 0 | Q37: 0 | R37: =SUM(O37:Q37) -> 0 | S37: 0 | T37: 0 | U37: 0 | V37: =SUM(S37:U37) -> 0
A38: Tulajdonosi bevételek | B38: B404 | C38: 0 | D38: 0 | E38: 0 | F38: =SUM(C38:E38) -> 0 | G38: 0 | H38: 0 | I38: 0 | J38: =SUM(G38:I38) -> 0 | K38: 0 | L38: 0 | M38: 0 | N38: =SUM(K38:M38) -> 0 | O38: 0 | P38: 0 | Q38: 0 | R38: =SUM(O38:Q38) -> 0 | S38: 0 | T38: 0 | U38: 0 | V38: =SUM(S38:U38) -> 0
A39: Ellátási díjak | B39: B405 | C39: 0 | D39: 0 | E39: 0 | F39: =SUM(C39:E39) -> 0 | G39: 0 | H39: 0 | I39: 0 | J39: =SUM(G39:I39) -> 0 | K39: 0 | L39: 0 | M39: 0 | N39: =SUM(K39:M39) -> 0 | O39: 0 | P39: 0 | Q39: 0 | R39: =SUM(O39:Q39) -> 0 | S39: 0 | T39: 0 | U39: 0 | V39: =SUM(S39:U39) -> 0
A40: Kiszámlázott általános forgalmi adó | B40: B406 | C40: 0 | D40: 0 | E40: 0 | F40: =SUM(C40:E40) -> 0 | G40: 0 | H40: 0 | I40: 0 | J40: =SUM(G40:I40) -> 0 | K40: 0 | L40: 0 | M40: 0 | N40: =SUM(K40:M40) -> 0 | O40: 0 | P40: 0 | Q40: 0 | R40: =SUM(O40:Q40) -> 0 | S40: 0 | T40: 0 | U40: 0 | V40: =SUM(S40:U40) -> 0
A41: Általános forgalmi adó visszatérítése | B41: B407 | C41: 0 | D41: 0 | E41: 0 | F41: =SUM(C41:E41) -> 0 | G41: 0 | H41: 0 | I41: 0 | J41: =SUM(G41:I41) -> 0 | K41: 0 | L41: 0 | M41: 0 | N41: =SUM(K41:M41) -> 0 | O41: 0 | P41: 0 | Q41: 0 | R41: =SUM(O41:Q41) -> 0 | S41: 0 | T41: 0 | U41: 0 | V41: =SUM(S41:U41) -> 0
A42: Kamatbevételek | B42: B408 | C42: 0 | D42: 0 | E42: 0 | F42: =SUM(C42:E42) -> 0 | G42: 0 | H42: 0 | I42: 0 | J42: =SUM(G42:I42) -> 0 | K42: 0 | L42: 0 | M42: 0 | N42: =SUM(K42:M42) -> 0 | O42: 0 | P42: 0 | Q42: 0 | R42: =SUM(O42:Q42) -> 0 | S42: 0 | T42: 0 | U42: 0 | V42: =SUM(S42:U42) -> 0
A43: Egyéb pénzügyi műveletek bevételei | B43: B409 | C43: 0 | D43: 0 | E43: 0 | F43: =SUM(C43:E43) -> 0 | G43: 0 | H43: 0 | I43: 0 | J43: =SUM(G43:I43) -> 0 | K43: 0 | L43: 0 | M43: 0 | N43: =SUM(K43:M43) -> 0 | O43: 0 | P43: 0 | Q43: 0 | R43: =SUM(O43:Q43) -> 0 | S43: 0 | T43: 0 | U43: 0 | V43: =SUM(S43:U43) -> 0
A44: Egyéb működési bevételek | B44: B410 | C44: 0 | D44: 0 | E44: 0 | F44: =SUM(C44:E44) -> 0 | G44: 0 | H44: 0 | I44: 0 | J44: =SUM(G44:I44) -> 0 | K44: 0 | L44: 0 | M44: 0 | N44: =SUM(K44:M44) -> 0 | O44: 0 | P44: 0 | Q44: 0 | R44: =SUM(O44:Q44) -> 0 | S44: 0 | T44: 0 | U44: 0 | V44: =SUM(S44:U44) -> 0
A45: Működési bevételek | B45: B4 | C45: =SUM(C35:C44) -> 0 | D45: =SUM(D35:D44) -> 0 | E45: =SUM(E35:E44) -> 0 | F45: =SUM(C45:E45) -> 0 | G45: =SUM(G35:G44) -> 0 | H45: =SUM(H35:H44) -> 0 | I45: =SUM(I35:I44) -> 0 | J45: =SUM(G45:I45) -> 0 | K45: =SUM(K35:K44) -> 0 | L45: =SUM(L35:L44) -> 0 | M45: =SUM(M35:M44) -> 0 | N45: =SUM(K45:M45) -> 0 | O45: =SUM(O35:O44) -> 0 | P45: =SUM(P35:P44) -> 0 | Q45: =SUM(Q35:Q44) -> 0 | R45: =SUM(O45:Q45) -> 0 | S45: =SUM(S35:S44) -> 0 | T45: =SUM(T35:T44) -> 0 | U45: =SUM(U35:U44) -> 0 | V45: =SUM(S45:U45) -> 0
A46: Működési célú garancia- és kezességvállalásból származó megtérülések államháztartáson kívülről | B46: B61 | C46: 0 | D46: 0 | E46: 0 | F46: =SUM(C46:E46) -> 0 | G46: 0 | H46: 0 | I46: 0 | J46: =SUM(G46:I46) -> 0 | K46: 0 | L46: 0 | M46: 0 | N46: =SUM(K46:M46) -> 0 | O46: 0 | P46: 0 | Q46: 0 | R46: =SUM(O46:Q46) -> 0 | S46: 0 | T46: 0 | U46: 0 | V46: =SUM(S46:U46) -> 0
A47: Működési célú visszatérítendő támogatások, kölcsönök visszatérülése államháztartáson kívülről | B47: B62 | C47: 0 | D47: 0 | E47: 0 | F47: =SUM(C47:E47) -> 0 | G47: 0 | H47: 0 | I47: 0 | J47: =SUM(G47:I47) -> 0 | K47: 0 | L47: 0 | M47: 0 | N47: =SUM(K47:M47) -> 0 | O47: 0 | P47: 0 | Q47: 0 | R47: =SUM(O47:Q47) -> 0 | S47: 0 | T47: 0 | U47: 0 | V47: =SUM(S47:U47) -> 0
A48: Egyéb működési célú átvett pénzeszközök | B48: B63 | C48: 0 | D48: 0 | E48: 0 | F48: =SUM(C48:E48) -> 0 | G48: 0 | H48: 0 | I48: 0 | J48: =SUM(G48:I48) -> 0 | K48: 0 | L48: 0 | M48: 0 | N48: =SUM(K48:M48) -> 0 | O48: 0 | P48: 0 | Q48: 0 | R48: =SUM(O48:Q48) -> 0 | S48: 0 | T48: 0 | U48: 0 | V48: =SUM(S48:U48) -> 0
A49: Működési célú átvett pénzeszközök | B49: B6 | C49: =SUM(C46:C48) -> 0 | D49: =SUM(D46:D48) -> 0 | E49: =SUM(E46:E48) -> 0 | F49: =SUM(C49:E49) -> 0 | G49: =SUM(G46:G48) -> 0 | H49: =SUM(H46:H48) -> 0 | I49: =SUM(I46:I48) -> 0 | J49: =SUM(G49:I49) -> 0 | K49: =SUM(K46:K48) -> 0 | L49: =SUM(L46:L48) -> 0 | M49: =SUM(M46:M48) -> 0 | N49: =SUM(K49:M49) -> 0 | O49: =SUM(O46:O48) -> 0 | P49: =SUM(P46:P48) -> 0 | Q49: =SUM(Q46:Q48) -> 0 | R49: =SUM(O49:Q49) -> 0 | S49: =SUM(S46:S48) -> 0 | T49: =SUM(T46:T48) -> 0 | U49: =SUM(U46:U48) -> 0 | V49: =SUM(S49:U49) -> 0
A50: Működési bevételek összesen | C50: =C20+C34+C45+C49 -> 0 | D50: =D20+D34+D45+D49 -> 0 | E50: =E20+E34+E45+E49 -> 0 | F50: =F20+F34+F45+F49 -> 0 | G50: =G20+G34+G45+G49 -> 0 | H50: =H20+H34+H45+H49 -> 0 | I50: =I20+I34+I45+I49 -> 0 | J50: =J20+J34+J45+J49 -> 0 | ... V50: =V20+V34+V45+V49 -> 0
A51: Felhalmozási célú önkormányzati támogatások | B51: B21 | C51: 0 | D51: 0 | E51: 0 | F51: =SUM(C51:E51) -> 0 | G51: 0 | H51: 0 | I51: 0 | J51: =SUM(G51:I51) -> 0 | K51: 0 | L51: 0 | M51: 0 | N51: =SUM(K51:M51) -> 0 | O51: 0 | P51: 0 | Q51: 0 | R51: =SUM(O51:Q51) -> 0 | S51: 0 | T51: 0 | U51: 0 | V51: =SUM(S51:U51) -> 0
A52: Felhalmozási célú garancia- és kezességvállalásból származó megtérülések államháztartáson belülről | B52: B22 | C52: 0 | D52: 0 | E52: 0 | F52: =SUM(C52:E52) -> 0 | G52: 0 | H52: 0 | I52: 0 | J52: =SUM(G52:I52) -> 0 | K52: 0 | L52: 0 | M52: 0 | N52: =SUM(K52:M52) -> 0 | O52: 0 | P52: 0 | Q52: 0 | R52: =SUM(O52:Q52) -> 0 | S52: 0 | T52: 0 | U52: 0 | V52: =SUM(S52:U52) -> 0
A53: Felhalmozási célú visszatérítendő támogatások, kölcsönök visszatérülése államháztartáson belülről | B53: B23 | C53: 0 | D53: 0 | E53: 0 | F53: =SUM(C53:E53) -> 0 | G53: 0 | H53: 0 | I53: 0 | J53: =SUM(G53:I53) -> 0 | K53: 0 | L53: 0 | M53: 0 | N53: =SUM(K53:M53) -> 0 | O53: 0 | P53: 0 | Q53: 0 | R53: =SUM(O53:Q53) -> 0 | S53: 0 | T53: 0 | U53: 0 | V53: =SUM(S53:U53) -> 0
A54: Felhalmozási célú visszatérítendő támogatások, kölcsönök igénybevétele államháztartáson belülről | B54: B24 | C54: 0 | D54: 0 | E54: 0 | F54: =SUM(C54:E54) -> 0 | G54: 0 | H54: 0 | I54: 0 | J54: =SUM(G54:I54) -> 0 | K54: 0 | L54: 0 | M54: 0 | N54: =SUM(K54:M54) -> 0 | O54: 0 | P54: 0 | Q54: 0 | R54: =SUM(O54:Q54) -> 0 | S54: 0 | T54: 0 | U54: 0 | V54: =SUM(S54:U54) -> 0
A55: Egyéb felhalmozási célú támogatások bevételei államháztartáson belülről | B55: B25 | C55: 0 | D55: 0 | E55: 0 | F55: =SUM(C55:E55) -> 0 | G55: 0 | H55: 0 | I55: 0 | J55: =SUM(G55:I55) -> 0 | K55: 0 | L55: 0 | M55: 0 | N55: =SUM(K55:M55) -> 0 | O55: 0 | P55: 0 | Q55: 0 | R55: =SUM(O55:Q55) -> 0 | S55: 0 | T55: 0 | U55: 0 | V55: =SUM(S55:U55) -> 0
A56: Felhalmozási célú támogatások államháztartáson belülről | B56: B2 | C56: =SUM(C51:C55) -> 0 | D56: =SUM(D51:D55) -> 0 | E56: =SUM(E51:E55) -> 0 | F56: =SUM(C56:E56) -> 0 | G56: =SUM(G51:G55) -> 0 | H56: =SUM(H51:H55) -> 0 | I56: =SUM(I51:I55) -> 0 | J56: =SUM(G56:I56) -> 0 | K56: =SUM(K51:K55) -> 0 | L56: =SUM(L51:L55) -> 0 | M56: =SUM(M51:M55) -> 0 | N56: =SUM(K56:M56) -> 0 | O56: =SUM(O51:O55) -> 0 | P56: =SUM(P51:P55) -> 0 | Q56: =SUM(Q51:Q55) -> 0 | R56: =SUM(O56:Q56) -> 0 | S56: =SUM(S51:S55) -> 0 | T56: =SUM(T51:T55) -> 0 | U56: =SUM(U51:U55) -> 0 | V56: =SUM(S56:U56) -> 0
A57: Immateriális javak értékesítése | B57: B51 | C57: 0 | D57: 0 | E57: 0 | F57: =SUM(C57:E57) -> 0 | G57: 0 | H57: 0 | I57: 0 | J57: =SUM(G57:I57) -> 0 | K57: 0 | L57: 0 | M57: 0 | N57: =SUM(K57:M57) -> 0 | O57: 0 | P57: 0 | Q57: 0 | R57: =SUM(O57:Q57) -> 0 | S57: 0 | T57: 0 | U57: 0 | V57: =SUM(S57:U57) -> 0
A58: Ingatlanok értékesítése | B58: B52 | C58: 0 | D58: 0 | E58: 0 | F58: =SUM(C58:E58) -> 0 | G58: 0 | H58: 0 | I58: 0 | J58: =SUM(G58:I58) -> 0 | K58: 0 | L58: 0 | M58: 0 | N58: =SUM(K58:M58) -> 0 | O58: 0 | P58: 0 | Q58: 0 | R58: =SUM(O58:Q58) -> 0 | S58: 0 | T58: 0 | U58: 0 | V58: =SUM(S58:U58) -> 0
A59: Egyéb tárgyi eszközök értékesítése | B59: B53 | C59: 0 | D59: 0 | E59: 0 | F59: =SUM(C59:E59) -> 0 | G59: 0 | H59: 0 | I59: 0 | J59: =SUM(G59:I59) -> 0 | K59: 0 | L59: 0 | M59: 0 | N59: =SUM(K59:M59) -> 0 | O59: 0 | P59: 0 | Q59: 0 | R59: =SUM(O59:Q59) -> 0 | S59: 0 | T59: 0 | U59: 0 | V59: =SUM(S59:U59) -> 0
A60: Részesedések értékesítése | B60: B54 | C60: 0 | D60: 0 | E60: 0 | F60: =SUM(C60:E60) -> 0 | G60: 0 | H60: 0 | I60: 0 | J60: =SUM(G60:I60) -> 0 | K60: 0 | L60: 0 | M60: 0 | N60: =SUM(K60:M60) -> 0 | O60: 0 | P60: 0 | Q60: 0 | R60: =SUM(O60:Q60) -> 0 | S60: 0 | T60: 0 | U60: 0 | V60: =SUM(S60:U60) -> 0
A61: Részesedések megszűnéséhez kapcsolódó bevételek | B61: B55 | C61: 0 | D61: 0 | E61: 0 | F61: =SUM(C61:E61) -> 0 | G61: 0 | H61: 0 | I61: 0 | J61: =SUM(G61:I61) -> 0 | K61: 0 | L61: 0 | M61: 0 | N61: =SUM(K61:M61) -> 0 | O61: 0 | P61: 0 | Q61: 0 | R61: =SUM(O61:Q61) -> 0 | S61: 0 | T61: 0 | U61: 0 | V61: =SUM(S61:U61) -> 0
A62: Felhalmozási bevételek | B62: B5 | C62: =SUM(C57:C61) -> 0 | D62: =SUM(D57:D61) -> 0 | E62: =SUM(E57:E61) -> 0 | F62: =SUM(C62:E62) -> 0 | G62: =SUM(G57:G61) -> 0 | H62: =SUM(H57:H61) -> 0 | I62: =SUM(I57:I61) -> 0 | J62: =SUM(G62:I62) -> 0 | K62: =SUM(K57:K61) -> 0 | L62: =SUM(L57:L61) -> 0 | M62: =SUM(M57:M61) -> 0 | N62: =SUM(K62:M62) -> 0 | O62: =SUM(O57:O61) -> 0 | P62: =SUM(P57:P61) -> 0 | Q62: =SUM(Q57:Q61) -> 0 | R62: =SUM(O62:Q62) -> 0 | S62: =SUM(S57:S61) -> 0 | T62: =SUM(T57:T61) -> 0 | U62: =SUM(U57:U61) -> 0 | V62: =SUM(S62:U62) -> 0
A63: Felhalmozási célú garancia- és kezességvállalásból származó megtérülések államháztartáson kívülről | B63: B71 | C63: 0 | D63: 0 | E63: 0 | F63: =SUM(C63:E63) -> 0 | G63: 0 | H63: 0 | I63: 0 | J63: =SUM(G63:I63) -> 0 | K63: 0 | L63: 0 | M63: 0 | N63: =SUM(K63:M63) -> 0 | O63: 0 | P63: 0 | Q63: 0 | R63: =SUM(O63:Q63) -> 0 | S63: 0 | T63: 0 | U63: 0 | V63: =SUM(S63:U63) -> 0
A64: Felhalmozási célú visszatérítendő támogatások, kölcsönök visszatérülése államháztartáson kívülről | B64: B72 | C64: 0 | D64: 0 | E64: 0 | F64: =SUM(C64:E64) -> 0 | G64: 0 | H64: 0 | I64: 0 | J64: =SUM(G64:I64) -> 0 | K64: 0 | L64: 0 | M64: 0 | N64: =SUM(K64:M64) -> 0 | O64: 0 | P64: 0 | Q64: 0 | R64: =SUM(O64:Q64) -> 0 | S64: 0 | T64: 0 | U64: 0 | V64: =SUM(S64:U64) -> 0
A65: Egyéb felhalmozási célú átvett pénzeszközök | B65: B73 | C65: 0 | D65: 0 | E65: 0 | F65: =SUM(C65:E65) -> 0 | G65: 0 | H65: 0 | I65: 0 | J65: =SUM(G65:I65) -> 0 | K65: 0 | L65: 0 | M65: 0 | N65: =SUM(K65:M65) -> 0 | O65: 0 | P65: 0 | Q65: 0 | R65: =SUM(O65:Q65) -> 0 | S65: 0 | T65: 0 | U65: 0 | V65: =SUM(S65:U65) -> 0
A66: Felhalmozási célú átvett pénzeszközök | B66: B7 | C66: =SUM(C63:C65) -> 0 | D66: =SUM(D63:D65) -> 0 | E66: =SUM(E63:E65) -> 0 | F66: =SUM(C66:E66) -> 0 | G66: =SUM(G63:G65) -> 0 | H66: =SUM(H63:H65) -> 0 | I66: =SUM(I63:I65) -> 0 | J66: =SUM(G66:I66) -> 0 | K66: =SUM(K63:K65) -> 0 | L66: =SUM(L63:L65) -> 0 | M66: =SUM(M63:M65) -> 0 | N66: =SUM(K66:M66) -> 0 | O66: =SUM(O63:O65) -> 0 | P66: =SUM(P63:P65) -> 0 | Q66: =SUM(Q63:Q65) -> 0 | R66: =SUM(O66:Q66) -> 0 | S66: =SUM(S63:S65) -> 0 | T66: =SUM(T63:T65) -> 0 | U66: =SUM(U63:U65) -> 0 | V66: =SUM(S66:U66) -> 0
A67: Felhalmozási bevételek összesen | C67: =C56+C62+C66 -> 0 | D67: =D56+D62+D66 -> 0 | E67: =E56+E62+E66 -> 0 | F67: =F56+F62+F66 -> 0 | G67: =G56+G62+G66 -> 0 | H67: =H56+H62+H66 -> 0 | I67: =I56+I62+I66 -> 0 | J67: =J56+J62+J66 -> 0 | ... V67: =V56+V62+V66 -> 0
A68: Költségvetési bevételek | B68: B1-B7 | C68: =C20+C34+C45+C49+C56+C62+C66 -> 0 | D68: =D20+D34+D45+D49+D56+D62+D66 -> 0 | E68: =E20+E34+E45+E49+E56+E62+E66 -> 0 | F68: =SUM(C68:E68) -> 0 | G68: =G20+G34+G45+G49+G56+G62+G66 -> 0 | H68: =H20+H34+H45+H49+H56+H62+H66 -> 0 | I68: =I20+I34+I45+I49+I56+I62+I66 -> 0 | J68: =SUM(G68:I68) -> 0 | K68: =K20+K34+K45+K49+K56+K62+K66 -> 0 | L68: =L20+L34+L45+L49+L56+L62+L66 -> 0 | M68: =M20+M34+M45+M49+M56+M62+M66 -> 0 | N68: =SUM(K68:M68) -> 0 | O68: =O20+O34+O45+O49+O56+O62+O66 -> 0 | P68: =P20+P34+P45+P49+P56+P62+P66 -> 0 | Q68: =Q20+Q34+Q45+Q49+Q56+Q62+Q66 -> 0 | R68: =SUM(O68:Q68) -> 0 | S68: =S20+S34+S45+S49+S56+S62+S66 -> 0 | T68: =T20+T34+T45+T49+T56+T62+T66 -> 0 | U68: =U20+U34+U45+U49+U56+U62+U66 -> 0 | V68: =SUM(S68:U68) -> 0
A69: Működési bevételek és működési kiadások egyenlege | C69: =C50-'3. melléklet'!C76 -> -17804227 | D69: =D50-'3. melléklet'!D76 -> 0 | E69: =E50-'3. melléklet'!E76 -> 0 | F69: =F50-'3. melléklet'!F76 -> -17804227 | G69: =G50-'3. melléklet'!G76 -> -17807227 | H69: =H50-'3. melléklet'!H76 -> 0 | I69: =I50-'3. melléklet'!I76 -> 0 | J69: =J50-'3. melléklet'!J76 -> -17807227 | ... V69: =V50-'3. melléklet'!V76 -> -15927641
A70: Felhalmozási bevételek és a felhalmozási kiadások egyenlege | C70: =C67-'3. melléklet'!C100 -> 0 | D70: =D67-'3. melléklet'!D100 -> 0 | E70: =E67-'3. melléklet'!E100 -> 0 | F70: =F67-'3. melléklet'!F100 -> 0 | G70: =G67-'3. melléklet'!G100 -> 0 | H70: =H67-'3. melléklet'!H100 -> 0 | I70: =I67-'3. melléklet'!I100 -> 0 | J70: =J67-'3. melléklet'!J100 -> 0 | ... V70: =V67-'3. melléklet'!V100 -> -65000
A71: Hosszú lejáratú hitelek, kölcsönök felvétele | B71: B8111 | C71: 0 | D71: 0 | E71: 0 | F71: =SUM(C71:E71) -> 0 | G71: 0 | H71: 0 | I71: 0 | J71: =SUM(G71:I71) -> 0 | K71: 0 | L71: 0 | M71: 0 | N71: =SUM(K71:M71) -> 0 | O71: 0 | P71: 0 | Q71: 0 | R71: =SUM(O71:Q71) -> 0 | S71: 0 | T71: 0 | U71: 0 | V71: =SUM(S71:U71) -> 0
A72: Likviditási célú hitelek, kölcsönök felvétele pénzügyi vállalkozástól | B72: B8112 | C72: 0 | D72: 0 | E72: 0 | F72: =SUM(C72:E72) -> 0 | G72: 0 | H72: 0 | I72: 0 | J72: =SUM(G72:I72) -> 0 | K72: 0 | L72: 0 | M72: 0 | N72: =SUM(K72:M72) -> 0 | O72: 0 | P72: 0 | Q72: 0 | R72: =SUM(O72:Q72) -> 0 | S72: 0 | T72: 0 | U72: 0 | V72: =SUM(S72:U72) -> 0
A73: Rövid lejáratú hitelek, kölcsönök felvétele | B73: B8113 | C73: 0 | D73: 0 | E73: 0 | F73: =SUM(C73:E73) -> 0 | G73: 0 | H73: 0 | I73: 0 | J73: =SUM(G73:I73) -> 0 | K73: 0 | L73: 0 | M73: 0 | N73: =SUM(K73:M73) -> 0 | O73: 0 | P73: 0 | Q73: 0 | R73: =SUM(O73:Q73) -> 0 | S73: 0 | T73: 0 | U73: 0 | V73: =SUM(S73:U73) -> 0
A74: Hitel-, kölcsönfelvétel államháztartáson kívülről | B74: B811 | C74: =SUM(C71:C73) -> 0 | D74: =SUM(D71:D73) -> 0 | E74: =SUM(E71:E73) -> 0 | F74: =SUM(C74:E74) -> 0 | G74: =SUM(G71:G73) -> 0 | H74: =SUM(H71:H73) -> 0 | I74: =SUM(I71:I73) -> 0 | J74: =SUM(G74:I74) -> 0 | K74: =SUM(K71:K73) -> 0 | L74: =SUM(L71:L73) -> 0 | M74: =SUM(M71:M73) -> 0 | N74: =SUM(K74:M74) -> 0 | O74: =SUM(O71:O73) -> 0 | P74: =SUM(P71:P73) -> 0 | Q74: =SUM(Q71:Q73) -> 0 | R74: =SUM(O74:Q74) -> 0 | S74: =SUM(S71:S73) -> 0 | T74: =SUM(T71:T73) -> 0 | U74: =SUM(U71:U73) -> 0 | V74: =SUM(S74:U74) -> 0
A75: Forgatási célú belföldi értékpapírok beváltása, értékesítése | B75: B8121 | C75: 0 | D75: 0 | E75: 0 | F75: =SUM(C75:E75) -> 0 | G75: 0 | H75: 0 | I75: 0 | J75: =SUM(G75:I75) -> 0 | K75: 0 | L75: 0 | M75: 0 | N75: =SUM(K75:M75) -> 0 | O75: 0 | P75: 0 | Q75: 0 | R75: =SUM(O75:Q75) -> 0 | S75: 0 | T75: 0 | U75: 0 | V75: =SUM(S75:U75) -> 0
A76: Forgatási célú belföldi értékpapírok kibocsátása | B76: B8122 | C76: 0 | D76: 0 | E76: 0 | F76: =SUM(C76:E76) -> 0 | G76: 0 | H76: 0 | I76: 0 | J76: =SUM(G76:I76) -> 0 | K76: 0 | L76: 0 | M76: 0 | N76: =SUM(K76:M76) -> 0 | O76: 0 | P76: 0 | Q76: 0 | R76: =SUM(O76:Q76) -> 0 | S76: 0 | T76: 0 | U76: 0 | V76: =SUM(S76:U76) -> 0
A77: Befektetési célú belföldi értékpapírok beváltása, értékesítése | B77: B8123 | C77: 0 | D77: 0 | E77: 0 | F77: =SUM(C77:E77) -> 0 | G77: 0 | H77: 0 | I77: 0 | J77: =SUM(G77:I77) -> 0 | K77: 0 | L77: 0 | M77: 0 | N77: =SUM(K77:M77) -> 0 | O77: 0 | P77: 0 | Q77: 0 | R77: =SUM(O77:Q77) -> 0 | S77: 0 | T77: 0 | U77: 0 | V77: =SUM(S77:U77) -> 0
A78: Befektetési célú belföldi értékpapírok kibocsátása | B78: B8124 | C78: 0 | D78: 0 | E78: 0 | F78: =SUM(C78:E78) -> 0 | G78: 0 | H78: 0 | I78: 0 | J78: =SUM(G78:I78) -> 0 | K78: 0 | L78: 0 | M78: 0 | N78: =SUM(K78:M78) -> 0 | O78: 0 | P78: 0 | Q78: 0 | R78: =SUM(O78:Q78) -> 0 | S78: 0 | T78: 0 | U78: 0 | V78: =SUM(S78:U78) -> 0
A79: Belföldi értékpapírok bevételei | B79: B812 | C79: =SUM(C75:C78) -> 0 | D79: =SUM(D75:D78) -> 0 | E79: =SUM(E75:E78) -> 0 | F79: =SUM(C79:E79) -> 0 | G79: =SUM(G75:G78) -> 0 | H79: =SUM(H75:H78) -> 0 | I79: =SUM(I75:I78) -> 0 | J79: =SUM(G79:I79) -> 0 | K79: =SUM(K75:K78) -> 0 | L79: =SUM(L75:L78) -> 0 | M79: =SUM(M75:M78) -> 0 | N79: =SUM(K79:M79) -> 0 | O79: =SUM(O75:O78) -> 0 | P79: =SUM(P75:P78) -> 0 | Q79: =SUM(Q75:Q78) -> 0 | R79: =SUM(O79:Q79) -> 0 | S79: =SUM(S75:S78) -> 0 | T79: =SUM(T75:T78) -> 0 | U79: =SUM(U75:U78) -> 0 | V79: =SUM(S79:U79) -> 0
A80: Előző év költségvetési maradványának igénybevétele MŰKÖDÉSRE | B80: B8131 | C80: 0 | D80: 0 | E80: 0 | F80: =SUM(C80:E80) -> 0 | G80: 0 | H80: 0 | I80: 0 | J80: =SUM(G80:I80) -> 0 | K80: 17148 | L80: 0 | M80: 0 | N80: =SUM(K80:M80) -> 17148 | O80: 17148 | P80: 0 | Q80: 0 | R80: =SUM(O80:Q80) -> 17148 | S80: 17148 | T80: 0 | U80: 0 | V80: =SUM(S80:U80) -> 17148
A81: Előző év költségvetési maradványának igénybevétele FELHALMOZÁSRA | B81: B8131 | C81: 0 | D81: 0 | E81: 0 | F81: =SUM(C81:E81) -> 0 | G81: 0 | H81: 0 | I81: 0 | J81: =SUM(G81:I81) -> 0 | K81: 0 | L81: 0 | M81: 0 | N81: =SUM(K81:M81) -> 0 | O81: 0 | P81: 0 | Q81: 0 | R81: =SUM(O81:Q81) -> 0 | S81: 0 | T81: 0 | U81: 0 | V81: =SUM(S81:U81) -> 0
A82: Előző év vállalkozási maradványának igénybevétele MŰKÖDÉSRE | B82: B8132 | C82: 0 | D82: 0 | E82: 0 | F82: =SUM(C82:E82) -> 0 | G82: 0 | H82: 0 | I82: 0 | J82: =SUM(G82:I82) -> 0 | K82: 0 | L82: 0 | M82: 0 | N82: =SUM(K82:M82) -> 0 | O82: 0 | P82: 0 | Q82: 0 | R82: =SUM(O82:Q82) -> 0 | S82: 0 | T82: 0 | U82: 0 | V82: =SUM(S82:U82) -> 0
A83: Előző év vállalkozási maradványának igénybevétele FELHALMOZÁSRA | B83: B8132 | C83: 0 | D83: 0 | E83: 0 | F83: =SUM(C83:E83) -> 0 | G83: 0 | H83: 0 | I83: 0 | J83: =SUM(G83:I83) -> 0 | K83: 0 | L83: 0 | M83: 0 | N83: =SUM(K83:M83) -> 0 | O83: 0 | P83: 0 | Q83: 0 | R83: =SUM(O83:Q83) -> 0 | S83: 0 | T83: 0 | U83: 0 | V83: =SUM(S83:U83) -> 0
A84: Maradvány igénybevétele | B84: B813 | C84: =SUM(C80:C83) -> 0 | D84: =SUM(D80:D83) -> 0 | E84: =SUM(E80:E83) -> 0 | F84: =SUM(C84:E84) -> 0 | G84: =SUM(G80:G83) -> 0 | H84: =SUM(H80:H83) -> 0 | I84: =SUM(I80:I83) -> 0 | J84: =SUM(G84:I84) -> 0 | K84: =SUM(K80:K83) -> 17148 | L84: =SUM(L80:L83) -> 0 | M84: =SUM(M80:M83) -> 0 | N84: =SUM(K84:M84) -> 17148 | O84: =SUM(O80:O83) -> 17148 | P84: =SUM(P80:P83) -> 0 | Q84: =SUM(Q80:Q83) -> 0 | R84: =SUM(O84:Q84) -> 17148 | S84: =SUM(S80:S83) -> 17148 | T84: =SUM(T80:T83) -> 0 | U84: =SUM(U80:U83) -> 0 | V84: =SUM(S84:U84) -> 17148
A85: Államháztartáson belüli megelőlegezések | B85: B814 | C85: 0 | D85: 0 | E85: 0 | F85: =SUM(C85:E85) -> 0 | G85: 0 | H85: 0 | I85: 0 | J85: =SUM(G85:I85) -> 0 | K85: 0 | L85: 0 | M85: 0 | N85: =SUM(K85:M85) -> 0 | O85: 0 | P85: 0 | Q85: 0 | R85: =SUM(O85:Q85) -> 0 | S85: 0 | T85: 0 | U85: 0 | V85: =SUM(S85:U85) -> 0
A86: Államháztartáson belüli megelőlegezések törlesztése | B86: B815 | C86: 0 | D86: 0 | E86: 0 | F86: =SUM(C86:E86) -> 0 | G86: 0 | H86: 0 | I86: 0 | J86: =SUM(G86:I86) -> 0 | K86: 0 | L86: 0 | M86: 0 | N86: =SUM(K86:M86) -> 0 | O86: 0 | P86: 0 | Q86: 0 | R86: =SUM(O86:Q86) -> 0 | S86: 0 | T86: 0 | U86: 0 | V86: =SUM(S86:U86) -> 0
A87: Központi, irányító szervi támogatás | B87: B816 | C87: 17804227 | D87: 0 | E87: 0 | F87: =SUM(C87:E87) -> 17804227 | G87: 17807227 | H87: 0 | I87: 0 | J87: =SUM(G87:I87) -> 17807227 | K87: 15975493 | L87: 0 | M87: 0 | N87: =SUM(K87:M87) -> 15975493 | O87: 15975493 | P87: 0 | Q87: 0 | R87: =SUM(O87:Q87) -> 15975493 | S87: 15975493 | T87: 0 | U87: 0 | V87: =SUM(S87:U87) -> 15975493
A88: Betétek megszüntetése | B88: B817 | C88: 0 | D88: 0 | E88: 0 | F88: =SUM(C88:E88) -> 0 | G88: 0 | H88: 0 | I88: 0 | J88: =SUM(G88:I88) -> 0 | K88: 0 | L88: 0 | M88: 0 | N88: =SUM(K88:M88) -> 0 | O88: 0 | P88: 0 | Q88: 0 | R88: =SUM(O88:Q88) -> 0 | S88: 0 | T88: 0 | U88: 0 | V88: =SUM(S88:U88) -> 0
A89: Központi költségvetés sajátos finanszírozási bevételei | B89: B818 | C89: 0 | D89: 0 | E89: 0 | F89: =SUM(C89:E89) -> 0 | G89: 0 | H89: 0 | I89: 0 | J89: =SUM(G89:I89) -> 0 | K89: 0 | L89: 0 | M89: 0 | N89: =SUM(K89:M89) -> 0 | O89: 0 | P89: 0 | Q89: 0 | R89: =SUM(O89:Q89) -> 0 | S89: 0 | T89: 0 | U89: 0 | V89: =SUM(S89:U89) -> 0
A90: Belföldi finanszírozás bevételei | B90: B81 | C90: =C74+C79+C84+C85+C87+C86+C88+C89 -> 17804227 | D90: =D74+D79+D84+D85+D87+D86+D88+D89 -> 0 | E90: =E74+E79+E84+E85+E87+E86+E88+E89 -> 0 | F90: =SUM(C90:E90) -> 17804227 | G90: =G74+G79+G84+G85+G87+G86+G88+G89 -> 17807227 | H90: =H74+H79+H84+H85+H87+H86+H88+H89 -> 0 | I90: =I74+I79+I84+I85+I87+I86+I88+I89 -> 0 | J90: =SUM(G90:I90) -> 17807227 | K90: =K74+K79+K84+K85+K87+K86+K88+K89 -> 15992641 | L90: =L74+L79+L84+L85+L87+L86+L88+L89 -> 0 | M90: =M74+M79+M84+M85+M87+M86+M88+M89 -> 0 | N90: =SUM(K90:M90) -> 15992641 | O90: =O74+O79+O84+O85+O87+O86+O88+O89 -> 15992641 | P90: =P74+P79+P84+P85+P87+P86+P88+P89 -> 0 | Q90: =Q74+Q79+Q84+Q85+Q87+Q86+Q88+Q89 -> 0 | R90: =SUM(O90:Q90) -> 15992641 | S90: =S74+S79+S84+S85+S87+S86+S88+S89 -> 15992641 | T90: =T74+T79+T84+T85+T87+T86+T88+T89 -> 0 | U90: =U74+U79+U84+U85+U87+U86+U88+U89 -> 0 | V90: =SUM(S90:U90) -> 15992641
A91: Forgatási célú külföldi értékpapírok beváltása, értékesítése | B91: B821 | C91: 0 | D91: 0 | E91: 0 | F91: =SUM(C91:E91) -> 0 | G91: 0 | H91: 0 | I91: 0 | J91: =SUM(G91:I91) -> 0 | K91: 0 | L91: 0 | M91: 0 | N91: =SUM(K91:M91) -> 0 | O91: 0 | P91: 0 | Q91: 0 | R91: =SUM(O91:Q91) -> 0 | S91: 0 | T91: 0 | U91: 0 | V91: =SUM(S91:U91) -> 0
A92: Befektetési célú külföldi értékpapírok beváltása, értékesítése | B92: B822 | C92: 0 | D92: 0 | E92: 0 | F92: =SUM(C92:E92) -> 0 | G92: 0 | H92: 0 | I92: 0 | J92: =SUM(G92:I92) -> 0 | K92: 0 | L92: 0 | M92: 0 | N92: =SUM(K92:M92) -> 0 | O92: 0 | P92: 0 | Q92: 0 | R92: =SUM(O92:Q92) -> 0 | S92: 0 | T92: 0 | U92: 0 | V92: =SUM(S92:U92) -> 0
A93: Külföldi értékpapírok kibocsátása | B93: B823 | C93: 0 | D93: 0 | E93: 0 | F93: =SUM(C93:E93) -> 0 | G93: 0 | H93: 0 | I93: 0 | J93: =SUM(G93:I93) -> 0 | K93: 0 | L93: 0 | M93: 0 | N93: =SUM(K93:M93) -> 0 | O93: 0 | P93: 0 | Q93: 0 | R93: =SUM(O93:Q93) -> 0 | S93: 0 | T93: 0 | U93: 0 | V93: =SUM(S93:U93) -> 0
A94: Külföldi hitelek, kölcsönök felvétele | B94: B824 | C94: 0 | D94: 0 | E94: 0 | F94: =SUM(C94:E94) -> 0 | G94: 0 | H94: 0 | I94: 0 | J94: =SUM(G94:I94) -> 0 | K94: 0 | L94: 0 | M94: 0 | N94: =SUM(K94:M94) -> 0 | O94: 0 | P94: 0 | Q94: 0 | R94: =SUM(O94:Q94) -> 0 | S94: 0 | T94: 0 | U94: 0 | V94: =SUM(S94:U94) -> 0
A95: Külföldi finanszírozás bevételei | B95: B82 | C95: 0 | D95: 0 | E95: 0 | F95: =SUM(C95:E95) -> 0 | G95: 0 | H95: 0 | I95: 0 | J95: =SUM(G95:I95) -> 0 | K95: 0 | L95: 0 | M95: 0 | N95: =SUM(K95:M95) -> 0 | O95: 0 | P95: 0 | Q95: 0 | R95: =SUM(O95:Q95) -> 0 | S95: 0 | T95: 0 | U95: 0 | V95: =SUM(S95:U95) -> 0
A96: Adóssághoz nem kapcsolódó származékos ügyletek bevételei | B96: B83 | C96: 0 | D96: 0 | E96: 0 | F96: =SUM(C96:E96) -> 0 | G96: 0 | H96: 0 | I96: 0 | J96: =SUM(G96:I96) -> 0 | K96: 0 | L96: 0 | M96: 0 | N96: =SUM(K96:M96) -> 0 | O96: 0 | P96: 0 | Q96: 0 | R96: =SUM(O96:Q96) -> 0 | S96: 0 | T96: 0 | U96: 0 | V96: =SUM(S96:U96) -> 0
A97: Finanszírozási bevételek | B97: B8 | C97: =C90+C95+C96 -> 17804227 | D97: =D90+D95+D96 -> 0 | E97: =E90+E95+E96 -> 0 | F97: =SUM(C97:E97) -> 17804227 | G97: =G90+G95+G96 -> 17807227 | H97: =H90+H95+H96 -> 0 | I97: =I90+I95+I96 -> 0 | J97: =SUM(G97:I97) -> 17807227 | K97: =K90+K95+K96 -> 15992641 | L97: =L90+L95+L96 -> 0 | M97: =M90+M95+M96 -> 0 | N97: =SUM(K97:M97) -> 15992641 | O97: =O90+O95+O96 -> 15992641 | P97: =P90+P95+P96 -> 0 | Q97: =Q90+Q95+Q96 -> 0 | R97: =SUM(O97:Q97) -> 15992641 | S97: =S90+S95+S96 -> 15992641 | T97: =T90+T95+T96 -> 0 | U97: =U90+U95+U96 -> 0 | V97: =SUM(S97:U97) -> 15992641
A98: BEVÉTELEK ÖSSZESEN (B1-8) | C98: =C68+C97 -> 17804227 | D98: =D68+D97 -> 0 | E98: =E68+E97 -> 0 | F98: =SUM(C98:E98) -> 17804227 | G98: =G68+G97 -> 17807227 | H98: =H68+H97 -> 0 | I98: =I68+I97 -> 0 | J98: =SUM(G98:I98) -> 17807227 | K98: =K68+K97 -> 15992641 | L98: =L68+L97 -> 0 | M98: =M68+M97 -> 0 | N98: =SUM(K98:M98) -> 15992641 | O98: =O68+O97 -> 15992641 | P98: =P68+P97 -> 0 | Q98: =Q68+Q97 -> 0 | R98: =SUM(O98:Q98) -> 15992641 | S98: =S68+S97 -> 15992641 | T98: =T68+T97 -> 0 | U98: =U68+U97 -> 0 | V98: =SUM(S98:U98) -> 15992641

Sheet 7. melléklet 
B1: 7. melléklet 1/2018. (I.23.) önkormányzati rendelethez
A3: SOROKPOLÁNY Önkormányzat 2018. évi költségvetése
A4: Bevételek (Ft)
A6: Sorokpolány Önkormányzat és költségvetési szervei előirányzat | C6: EREDETI ELŐIRÁNYZAT | G6: I n.év módossított ELŐIRÁNYZAT | K6: II n.év módossított ELŐIRÁNYZAT | O6: III n.év módossított ELŐIRÁNYZAT | S6: IV n.év módossított ELŐIRÁNYZAT
A7: Rovat megnevezése | B7: Rovat- szám | C7: kötelező feladatok | D7: önként vállalt feladatok | E7: államigazgatási feladatok | F7: ÖSSZESEN | G7: kötelező feladatok | H7: önként vállalt feladatok | I7: államigazgatási feladatok | J7: ÖSSZESEN | K7: kötelező feladatok | L7: önként vállalt feladatok | M7: államigazgatási feladatok | N7: ÖSSZESEN | O7: kötelező feladatok | P7: önként vállalt feladatok | Q7: államigazgatási feladatok | R7: ÖSSZESEN | S7: kötelező feladatok | T7: önként vállalt feladatok | U7: államigazgatási feladatok | V7: ÖSSZESEN
A8: Helyi önkormányzatok működésének általános támogatása | B8: B111 | C8: ='[1]4. melléklet'!C8+'[1]5. melléklet '!C8 -> 12568964 | D8: ='[1]4. melléklet'!D8+'[1]5. melléklet '!D8 -> 0 | E8: ='[1]4. melléklet'!E8+'[1]5. melléklet '!E8 -> 0 | F8: =SUM(C8:E8) -> 12568964 | G8: =SUM('5. melléklet'!G8+'6. melléklet '!G8) -> 12568964 | H8: =SUM('5. melléklet'!H8+'6. melléklet '!H8) -> 0 | I8: =SUM('5. melléklet'!I8+'6. melléklet '!I8) -> 0 | J8: =SUM('5. melléklet'!J8+'6. melléklet '!J8) -> 12568964 | K8: =SUM('5. melléklet'!K8+'6. melléklet '!K8) -> 12568964 | L8: =SUM('5. melléklet'!L8+'6. melléklet '!L8) -> 0 | M8: =SUM('5. melléklet'!M8+'6. melléklet '!M8) -> 0 | N8: =SUM('5. melléklet'!N8+'6. melléklet '!N8) -> 12568964 | ... V8: =SUM('5. melléklet'!V8+'6. melléklet '!V8) -> 12569452
A9: Települési önkormányzatok egyes köznevelési feladatainak támogatása | B9: B112 | C9: ='[1]4. melléklet'!C9+'[1]5. melléklet '!C9 -> 16371544 | D9: ='[1]4. melléklet'!D9+'[1]5. melléklet '!D9 -> 0 | E9: ='[1]4. melléklet'!E9+'[1]5. melléklet '!E9 -> 0 | F9: =SUM(C9:E9) -> 16371544 | G9: =SUM('5. melléklet'!G9+'6. melléklet '!G9) -> 13130034 | H9: =SUM('5. melléklet'!H9+'6. melléklet '!H9) -> 0 | I9: =SUM('5. melléklet'!I9+'6. melléklet '!I9) -> 0 | J9: =SUM('5. melléklet'!J9+'6. melléklet '!J9) -> 13130034 | K9: =SUM('5. melléklet'!K9+'6. melléklet '!K9) -> 13130034 | L9: =SUM('5. melléklet'!L9+'6. melléklet '!L9) -> 0 | M9: =SUM('5. melléklet'!M9+'6. melléklet '!M9) -> 0 | N9: =SUM('5. melléklet'!N9+'6. melléklet '!N9) -> 13130034 | ... V9: =SUM('5. melléklet'!V9+'6. melléklet '!V9) -> 13497618
A10: Települési önkormányzatok szociális és gyermekjóléti feladatainak támogatása | B10: B113 | C10: ='[1]4. melléklet'!C10+'[1]5. melléklet '!C10 -> 4719340 | D10: ='[1]4. melléklet'!D10+'[1]5. melléklet '!D10 -> 0 | E10: ='[1]4. melléklet'!E10+'[1]5. melléklet '!E10 -> 0 | F10: =SUM(C10:E10) -> 4719340 | G10: =SUM('5. melléklet'!G10+'6. melléklet '!G10) -> 7960850 | H10: =SUM('5. melléklet'!H10+'6. melléklet '!H10) -> 0 | I10: =SUM('5. melléklet'!I10+'6. melléklet '!I10) -> 0 | J10: =SUM('5. melléklet'!J10+'6. melléklet '!J10) -> 7960850 | K10: =SUM('5. melléklet'!K10+'6. melléklet '!K10) -> 7960850 | L10: =SUM('5. melléklet'!L10+'6. melléklet '!L10) -> 0 | M10: =SUM('5. melléklet'!M10+'6. melléklet '!M10) -> 0 | N10: =SUM('5. melléklet'!N10+'6. melléklet '!N10) -> 7960850 | ... V10: =SUM('5. melléklet'!V10+'6. melléklet '!V10) -> 8545540
A11: Települési önkormányzatok kulturális feladatainak támogatása | B11: B114 | C11: ='[1]4. melléklet'!C11+'[1]5. melléklet '!C11 -> 1800000 | D11: ='[1]4. melléklet'!D11+'[1]5. melléklet '!D11 -> 0 | E11: ='[1]4. melléklet'!E11+'[1]5. melléklet '!E11 -> 0 | F11: =SUM(C11:E11) -> 1800000 | G11: =SUM('5. melléklet'!G11+'6. melléklet '!G11) -> 1800000 | H11: =SUM('5. melléklet'!H11+'6. melléklet '!H11) -> 0 | I11: =SUM('5. melléklet'!I11+'6. melléklet '!I11) -> 0 | J11: =SUM('5. melléklet'!J11+'6. melléklet '!J11) -> 1800000 | K11: =SUM('5. melléklet'!K11+'6. melléklet '!K11) -> 1800000 | L11: =SUM('5. melléklet'!L11+'6. melléklet '!L11) -> 0 | M11: =SUM('5. melléklet'!M11+'6. melléklet '!M11) -> 0 | N11: =SUM('5. melléklet'!N11+'6. melléklet '!N11) -> 1800000 | ... V11: =SUM('5. melléklet'!V11+'6. melléklet '!V11) -> 1800000
A12: Működési célú központosított előirányzatok | B12: B115 | C12: ='[1]4. melléklet'!C12+'[1]5. melléklet '!C12 -> 0 | D12: ='[1]4. melléklet'!D12+'[1]5. melléklet '!D12 -> 0 | E12: ='[1]4. melléklet'!E12+'[1]5. melléklet '!E12 -> 0 | F12: =SUM(C12:E12) -> 0 | G12: =SUM('5. melléklet'!G12+'6. melléklet '!G12) -> 266 | H12: =SUM('5. melléklet'!H12+'6. melléklet '!H12) -> 0 | I12: =SUM('5. melléklet'!I12+'6. melléklet '!I12) -> 0 | J12: =SUM('5. melléklet'!J12+'6. melléklet '!J12) -> 266 | K12: =SUM('5. melléklet'!K12+'6. melléklet '!K12) -> 754 | L12: =SUM('5. melléklet'!L12+'6. melléklet '!L12) -> 0 | M12: =SUM('5. melléklet'!M12+'6. melléklet '!M12) -> 0 | N12: =SUM('5. melléklet'!N12+'6. melléklet '!N12) -> 754 | ... V12: =SUM('5. melléklet'!V12+'6. melléklet '!V12) -> 754
A13: Elszámolásból származó bevételek | B13: B116 | C13: ='[1]4. melléklet'!C13+'[1]5. melléklet '!C13 -> 0 | D13: ='[1]4. melléklet'!D13+'[1]5. melléklet '!D13 -> 0 | E13: ='[1]4. melléklet'!E13+'[1]5. melléklet '!E13 -> 0 | F13: =SUM(C13:E13) -> 0 | G13: =SUM('5. melléklet'!G13+'6. melléklet '!G13) -> 0 | H13: =SUM('5. melléklet'!H13+'6. melléklet '!H13) -> 0 | I13: =SUM('5. melléklet'!I13+'6. melléklet '!I13) -> 0 | J13: =SUM('5. melléklet'!J13+'6. melléklet '!J13) -> 0 | K13: =SUM('5. melléklet'!K13+'6. melléklet '!K13) -> 193206 | L13: =SUM('5. melléklet'!L13+'6. melléklet '!L13) -> 0 | M13: =SUM('5. melléklet'!M13+'6. melléklet '!M13) -> 0 | N13: =SUM('5. melléklet'!N13+'6. melléklet '!N13) -> 193206 | ... V13: =SUM('5. melléklet'!V13+'6. melléklet '!V13) -> 368169
A14: Önkormányzatok működési támogatásai | B14: B11 | C14: ='[1]4. melléklet'!C14+'[1]5. melléklet '!C14 -> 35459848 | D14: ='[1]4. melléklet'!D14+'[1]5. melléklet '!D14 -> 0 | E14: ='[1]4. melléklet'!E14+'[1]5. melléklet '!E14 -> 0 | F14: =SUM(C14:E14) -> 35459848 | G14: =SUM('5. melléklet'!G14+'6. melléklet '!G14) -> 35460114 | H14: =SUM('5. melléklet'!H14+'6. melléklet '!H14) -> 0 | I14: =SUM('5. melléklet'!I14+'6. melléklet '!I14) -> 0 | J14: =SUM('5. melléklet'!J14+'6. melléklet '!J14) -> 35460114 | K14: =SUM('5. melléklet'!K14+'6. melléklet '!K14) -> 35653808 | L14: =SUM('5. melléklet'!L14+'6. melléklet '!L14) -> 0 | M14: =SUM('5. melléklet'!M14+'6. melléklet '!M14) -> 0 | N14: =SUM('5. melléklet'!N14+'6. melléklet '!N14) -> 35653808 | ... V14: =SUM('5. melléklet'!V14+'6. melléklet '!V14) -> 36781533
A15: Elvonások és befizetések bevételei | B15: B12 | C15: ='[1]4. melléklet'!C15+'[1]5. melléklet '!C15 -> 0 | D15: ='[1]4. melléklet'!D15+'[1]5. melléklet '!D15 -> 0 | E15: ='[1]4. melléklet'!E15+'[1]5. melléklet '!E15 -> 0 | F15: =SUM(C15:E15) -> 0 | G15: =SUM('5. melléklet'!G15+'6. melléklet '!G15) -> 0 | H15: =SUM('5. melléklet'!H15+'6. melléklet '!H15) -> 0 | I15: =SUM('5. melléklet'!I15+'6. melléklet '!I15) -> 0 | J15: =SUM('5. melléklet'!J15+'6. melléklet '!J15) -> 0 | K15: =SUM('5. melléklet'!K15+'6. melléklet '!K15) -> 0 | L15: =SUM('5. melléklet'!L15+'6. melléklet '!L15) -> 0 | M15: =SUM('5. melléklet'!M15+'6. melléklet '!M15) -> 0 | N15: =SUM('5. melléklet'!N15+'6. melléklet '!N15) -> 0 | ... V15: =SUM('5. melléklet'!V15+'6. melléklet '!V15) -> 0
